{"text_format":"1","workbook":"xlsx","n_sheets":5,"sheets":["Steuerung","Details","Einstellungen","Intern","Files"],"not_rendered":{"charts":0,"images":1,"macros":1,"external_links":0,"defined_names":118,"comments":0,"pivot_tables":0},"unopened":[],"bounds":{"document_bytes":16777216,"sheet_cells":100000,"rows_first":2000,"rows_last":500,"rows_between":2000,"halvings":0,"cell_chars":16384,"cell_head_chars":4096},"cells_cut":0,"cells_raw":0,"read":"whole","date_system":"1900"}

{"sheet":"Steuerung","index":0,"n_rows":69,"n_cols":54,"rows_kept":69,"cut":false,"hidden":false,"merged":[[0,4,0,5],[1,4,1,5],[59,5,61,5],[0,7,0,12]]}
[null,null,null,null,{"$f":"ToolVer","v":"VG-Tool 1.06 "},null,null,{"$f":"HeuteDat","v":"2023-12-09"},null,null,null,null,null,{"$f":"IF(HeuteDat<>TODAY(),\"Testdatum!\",\"\")","v":""}]
[null,null,null,null,"SL-Zeiterfassungskontrolle",null,null,null,null,null,null,null,null,null,null,null,null,null,null,null,null,null,null,null,null,null,null,null,null,null,null,null,null,null,null,null,null,null,null,null,null,null,null,null,"ID","Schule","SL-Name","Pers.Nr.",null,"Stand"]
[null,null,{"$f":"IF(VSATestModus=TRUE(),\"VSA-Modus!\",\"\")","v":""},null,null,null,null,null,null,null,null,null,null,null,null,null,null,null,null,null,null,null,null,null,null,null,null,null,null,null,null,null,null,null,null,null,"SortWahl:",2,null,null,null,null,null,null,"ist sortiert nach..."]
[null,null,"Tool-Jahr:","Kontrolle bis:",null,"Sortieren nach Spalte (Auswahl):",null,null,null,"Eine Zeile auswählen",null,null,null,null,"Bei Bedarf Zelle selektieren",null,null,null,null,null,null,null,null,null,null,null,null,null,null,null,null,null,null,null,null,null,"SortFelder:",{"$f":"IFERROR(VLOOKUP($AL$3,SortKeysSteuerung,2,FALSE),1)","v":2},{"$f":"IFERROR(VLOOKUP($AL$3,SortKeysSteuerung,3,FALSE),1)","v":3},null,null,null,null,"Resultat:",{"$f":"IFERROR(HLOOKUP(1,AS6:AX7,2,FALSE),\"unsortiert\")","v":"unsortiert"}]
[null,null,{"$f":"VG_Jahr","v":2023},{"$f":"IFERROR(VLOOKUP(Y5,ObNrName,2,FALSE),\"\")","v":"November"},null,{"$f":"IFERROR(IF(SortWahl>0,VLOOKUP(SortWahl,SortKeysSteuerung,4,FALSE),\"---\"),\"---\")","v":"Schule"},null,null,null,null,null,null,null,null,null,null,null,null,null,null,null,null,null,{"$f":"MONTH(HeuteDat)","v":12},{"$f":"VLOOKUP(HeuteDat,MonateP,3)","v":11},null,null,null,null,null,null,null,null,null,null,null,null,null,null,null,null,null,null,"Spalten:","B","C, D","D","E",null,"AP, D"]
[null,"Liste der Schulleiter/innen (SL)",null,null,{"$f":"COUNTA(E9:E58)","v":0},null,null,null,0,1,2,3,4,5,6,7,8,9,10,11,12,12,null,"Nicht relevante Monate bekommen -1",null,null,null,null,null,null,null,null,null,null,null,null,2,1,0,-1,null,null,null,null,{"$f":"IF(AnzahlSL=0,0,(ABS(MIN(AS10:AS58)=1)))","v":0},{"$f":"IF(AnzahlSL=0,0,(ABS(MIN(AT10:AT58)=1)))","v":0},{"$f":"IF(AnzahlSL=0,0,(ABS(MIN(AU10:AU58)=1)))","v":0},{"$f":"IF(AnzahlSL=0,0,(ABS(MIN(AV10:AV58)=1)))","v":0},null,{"$f":"IF(AnzahlSL=0,0,(ABS(MIN(AX10:AX58)=1)))","v":0},null,null,null,0]
[null,"ID","Schule","SL-Name","Pers.Nr.","E-Mail-Adresse","Stand","Ordner","Basis","Jan","Feb","Mär","Apr","Mai","Jun","Jul","Aug","Sep","Okt","Nov","Dez","Jahr",null,"Jan","Feb","Mrz","Apr","Mai","Jun","Jul","Aug","Sep","Okt","Nov","Dez","id wenn besetzt",null,null,null,null,null,null,null,null,{"$f":"IF(AS6=1,B7,\"unsortiert\")","v":"unsortiert"},{"$f":"IF(AT6=1,C7,\"unsortiert\")","v":"unsortiert"},"unsortiert","unsortiert",null,{"$f":"IF(AX6=1,G7,\"unsortiert\")","v":"unsortiert"}]
[null,null,null,null,null,null,null,"Objekt-Nr: -->",0,1,2,3,4,5,6,7,8,9,10,11,12,13]
[null,1,null,null,null,null,{"$f":"IFERROR(AP9,\"\")","v":""},{"$f":"IF(E9=\"\",\"\",\"PersNr_\"&E9)","v":""},{"$f":"IF($D9=\"\",\"\",IF(W9=-1,-1,IF(COUNTIFS(STOB,I$8,STSL,$B9,STFC,21)=1,2,IF(COUNTIFS(STOB,I$8,STSL,$B9,STFC,11)=1,1,IF(I$6<KontrolleBisMonat,0,\".\")))))","v":""},{"$f":"IF($D9=\"\",\"\",IF(X9=-1,-1,IF(COUNTIFS(STOB,J$8,STSL,$B9,STFC,21)=1,2,IF(COUNTIFS(STOB,J$8,STSL,$B9,STFC,11)=1,1,IF(J$6<KontrolleBisMonat,0,\".\")))))","v":""},{"$f":"IF($D9=\"\",\"\",IF(Y9=-1,-1,IF(COUNTIFS(STOB,K$8,STSL,$B9,STFC,21)=1,2,IF(COUNTIFS(STOB,K$8,STSL,$B9,STFC,11)=1,1,IF(K$6<KontrolleBisMonat,0,\".\")))))","v":""},{"$f":"IF($D9=\"\",\"\",IF(Z9=-1,-1,IF(COUNTIFS(STOB,L$8,STSL,$B9,STFC,21)=1,2,IF(COUNTIFS(STOB,L$8,STSL,$B9,STFC,11)=1,1,IF(L$6<KontrolleBisMonat,0,\".\")))))","v":""},{"$f":"IF($D9=\"\",\"\",IF(AA9=-1,-1,IF(COUNTIFS(STOB,M$8,STSL,$B9,STFC,21)=1,2,IF(COUNTIFS(STOB,M$8,STSL,$B9,STFC,11)=1,1,IF(M$6<KontrolleBisMonat,0,\".\")))))","v":""},{"$f":"IF($D9=\"\",\"\",IF(AB9=-1,-1,IF(COUNTIFS(STOB,N$8,STSL,$B9,STFC,21)=1,2,IF(COUNTIFS(STOB,N$8,STSL,$B9,STFC,11)=1,1,IF(N$6<KontrolleBisMonat,0,\".\")))))","v":""},{"$f":"IF($D9=\"\",\"\",IF(AC9=-1,-1,IF(COUNTIFS(STOB,O$8,STSL,$B9,STFC,21)=1,2,IF(COUNTIFS(STOB,O$8,STSL,$B9,STFC,11)=1,1,IF(O$6<KontrolleBisMonat,0,\".\")))))","v":""},{"$f":"IF($D9=\"\",\"\",IF(AD9=-1,-1,IF(COUNTIFS(STOB,P$8,STSL,$B9,STFC,21)=1,2,IF(COUNTIFS(STOB,P$8,STSL,$B9,STFC,11)=1,1,IF(P$6<KontrolleBisMonat,0,\".\")))))","v":""},{"$f":"IF($D9=\"\",\"\",IF(AE9=-1,-1,IF(COUNTIFS(STOB,Q$8,STSL,$B9,STFC,21)=1,2,IF(COUNTIFS(STOB,Q$8,STSL,$B9,STFC,11)=1,1,IF(Q$6<KontrolleBisMonat,0,\".\")))))","v":""},{"$f":"IF($D9=\"\",\"\",IF(AF9=-1,-1,IF(COUNTIFS(STOB,R$8,STSL,$B9,STFC,21)=1,2,IF(COUNTIFS(STOB,R$8,STSL,$B9,STFC,11)=1,1,IF(R$6<KontrolleBisMonat,0,\".\")))))","v":""},{"$f":"IF($D9=\"\",\"\",IF(AG9=-1,-1,IF(COUNTIFS(STOB,S$8,STSL,$B9,STFC,21)=1,2,IF(COUNTIFS(STOB,S$8,STSL,$B9,STFC,11)=1,1,IF(S$6<KontrolleBisMonat,0,\".\")))))","v":""},{"$f":"IF($D9=\"\",\"\",IF(AH9=-1,-1,IF(COUNTIFS(STOB,T$8,STSL,$B9,STFC,21)=1,2,IF(COUNTIFS(STOB,T$8,STSL,$B9,STFC,11)=1,1,IF(T$6<KontrolleBisMonat,0,\".\")))))","v":""},{"$f":"IF($D9=\"\",\"\",IF(AI9=-1,-1,IF(COUNTIFS(STOB,U$8,STSL,$B9,STFC,21)=1,2,IF(COUNTIFS(STOB,U$8,STSL,$B9,STFC,11)=1,1,IF(U$6<KontrolleBisMonat,0,\".\")))))","v":""},{"$f":"IF($D9=\"\",\"\",IF(AJ9=-1,-1,IF(COUNTIFS(STOB,V$8,STSL,$B9,STFC,21)=1,2,IF(COUNTIFS(STOB,V$8,STSL,$B9,STFC,11)=1,1,IF(V$6<KontrolleBisMonat,0,\".\")))))","v":""},null,null,null,null,null,null,null,null,null,null,null,null,null,{"$f":"IF(E9>0,B9,\"\")","v":""},{"$f":"COUNTIF(OFFSET($I9:$V9,0,0,1,KontrolleBisMonat+1),AK$6)","v":0},0,0,0,{"$f":"(KontrolleBisMonat+1)-AN9","v":12},{"$f":"IF(AL9>0,AL$6,IF(AM9>0,AM$6,IF(AK9>0,AK$6,\"\")))","v":""},{"$f":"IF(G9<3,G9*10,G9)","v":""},null,null,null,null,null,null,null,null,null,null,{"$f":"ROW()","v":9}]
[null,2,null,null,null,null,"","","","","","","","","","","","","","","","",null,null,null,null,null,null,null,null,null,null,null,null,null,"",0,0,0,0,12,"","",null,{"$f":"OR(AJ10>AJ9,E10=\"\")*1","v":1},{"$f":"IF(E10=\"\",1,IF(C10>C9,1,IF(AND(C10=C9,D10>D9),1,0)))","v":1},{"$f":"OR(D10>D9,E10=\"\")*1","v":1},{"$f":"OR(E10>E9,E10=\"\")*1","v":1},null,{"$f":"IF(E10=\"\",1,IF(AP10>AP9,1,IF(AND(AP10=AP9,D10>D9),1,0)))","v":1},null,null,null,{"$f":"ROW()","v":10}]
[null,3,null,null,null,null,"","","","","","","","","","","","","","","","",null,null,null,null,null,null,null,null,null,null,null,null,null,"",0,0,0,0,12,"","",null,{"$f":"OR(AJ11>AJ10,E11=\"\")*1","v":1},{"$f":"IF(E11=\"\",1,IF(C11>C10,1,IF(AND(C11=C10,D11>D10),1,0)))","v":1},{"$f":"OR(D11>D10,E11=\"\")*1","v":1},{"$f":"OR(E11>E10,E11=\"\")*1","v":1},null,{"$f":"IF(E11=\"\",1,IF(AP11>AP10,1,IF(AND(AP11=AP10,D11>D10),1,0)))","v":1},null,null,null,{"$f":"ROW()","v":11}]
[null,4,null,null,null,null,"","","","","","","","","","","","","","","","",null,null,null,null,null,null,null,null,null,null,null,null,null,"",0,0,0,0,12,"","",null,1,1,1,1,null,1,null,null,null,{"$f":"ROW()","v":12}]
[null,5,null,null,null,null,"","","","","","","","","","","","","","","","",null,null,null,null,null,null,null,null,null,null,null,null,null,"",0,0,0,0,12,"","",null,1,1,1,1,null,1,null,null,null,{"$f":"ROW()","v":13}]
[null,6,null,null,null,null,"","","","","","","","","","","","","","","","",null,null,null,null,null,null,null,null,null,null,null,null,null,"",0,0,0,0,12,"","",null,1,1,1,1,null,1,null,null,null,{"$f":"ROW()","v":14}]
[null,7,null,null,null,null,"","","","","","","","","","","","","","","","",null,null,null,null,null,null,null,null,null,null,null,null,null,"",0,0,0,0,12,"","",null,1,1,1,1,null,1,null,null,null,{"$f":"ROW()","v":15}]
[null,8,null,null,null,null,"","","","","","","","","","","","","","","","",null,null,null,null,null,null,null,null,null,null,null,null,null,"",0,0,0,0,12,"","",null,1,1,1,1,null,1,null,null,null,{"$f":"ROW()","v":16}]
[null,9,null,null,null,null,"","","","","","","","","","","","","","","","",null,null,null,null,null,null,null,null,null,null,null,null,null,"",0,0,0,0,12,"","",null,1,1,1,1,null,1,null,null,null,{"$f":"ROW()","v":17}]
[null,10,null,null,null,null,"","","","","","","","","","","","","","","","",null,null,null,null,null,null,null,null,null,null,null,null,null,"",0,0,0,0,12,"","",null,1,1,1,1,null,1,null,null,null,{"$f":"ROW()","v":18}]
[null,11,null,null,null,null,"","","","","","","","","","","","","","","","",null,null,null,null,null,null,null,null,null,null,null,null,null,"",0,0,0,0,12,"","",null,1,1,1,1,null,1,null,null,null,{"$f":"ROW()","v":19}]
[null,12,null,null,null,null,"","","","","","","","","","","","","","","","",null,null,null,null,null,null,null,null,null,null,null,null,null,"",0,0,0,0,12,"","",null,1,1,1,1,null,1,null,null,null,{"$f":"ROW()","v":20}]
[null,13,null,null,null,null,"","","","","","","","","","","","","","","","",null,null,null,null,null,null,null,null,null,null,null,null,null,"",0,0,0,0,12,"","",null,1,1,1,1,null,1,null,null,null,{"$f":"ROW()","v":21}]
[null,14,null,null,null,null,"","","","","","","","","","","","","","","","",null,null,null,null,null,null,null,null,null,null,null,null,null,"",0,0,0,0,12,"","",null,1,1,1,1,null,1,null,null,null,{"$f":"ROW()","v":22}]
[null,15,null,null,null,null,"","","","","","","","","","","","","","","","",null,null,null,null,null,null,null,null,null,null,null,null,null,"",0,0,0,0,12,"","",null,1,1,1,1,null,1,null,null,null,{"$f":"ROW()","v":23}]
[null,16,null,null,null,null,"","","","","","","","","","","","","","","","",null,null,null,null,null,null,null,null,null,null,null,null,null,"",0,0,0,0,12,"","",null,1,1,1,1,null,1,null,null,null,{"$f":"ROW()","v":24}]
[null,17,null,null,null,null,"","","","","","","","","","","","","","","","",null,null,null,null,null,null,null,null,null,null,null,null,null,"",0,0,0,0,12,"","",null,1,1,1,1,null,1,null,null,null,{"$f":"ROW()","v":25}]
[null,18,null,null,null,null,"","","","","","","","","","","","","","","","",null,null,null,null,null,null,null,null,null,null,null,null,null,"",0,0,0,0,12,"","",null,1,1,1,1,null,1,null,null,null,{"$f":"ROW()","v":26}]
[null,19,null,null,null,null,"","","","","","","","","","","","","","","","",null,null,null,null,null,null,null,null,null,null,null,null,null,"",0,0,0,0,12,"","",null,1,1,1,1,null,1,null,null,null,{"$f":"ROW()","v":27}]
[null,20,null,null,null,null,"","","","","","","","","","","","","","","","",null,null,null,null,null,null,null,null,null,null,null,null,null,"",0,0,0,0,12,"","",null,1,1,1,1,null,1,null,null,null,{"$f":"ROW()","v":28}]
[null,21,null,null,null,null,"","","","","","","","","","","","","","","","",null,null,null,null,null,null,null,null,null,null,null,null,null,"",{"$f":"COUNTIF(OFFSET($I29:$V29,0,0,1,KontrolleBisMonat+1),AK$6)","v":0},0,0,0,12,"","",null,1,1,1,1,null,1,null,null,null,{"$f":"ROW()","v":29}]
[null,22,null,null,null,null,"","","","","","","","","","","","","","","","",null,null,null,null,null,null,null,null,null,null,null,null,null,"",0,0,0,0,12,"","",null,1,1,1,1,null,1,null,null,null,{"$f":"ROW()","v":30}]
[null,23,null,null,null,null,"","","","","","","","","","","","","","","","",null,null,null,null,null,null,null,null,null,null,null,null,null,"",0,0,0,0,12,"","",null,1,1,1,1,null,1,null,null,null,{"$f":"ROW()","v":31}]
[null,24,null,null,null,null,"","","","","","","","","","","","","","","","",null,null,null,null,null,null,null,null,null,null,null,null,null,"",0,0,0,0,12,"","",null,1,1,1,1,null,1,null,null,null,{"$f":"ROW()","v":32}]
[null,25,null,null,null,null,"","","","","","","","","","","","","","","","",null,null,null,null,null,null,null,null,null,null,null,null,null,"",0,0,0,0,12,"","",null,1,1,1,1,null,1,null,null,null,{"$f":"ROW()","v":33}]
[null,26,null,null,null,null,"","","","","","","","","","","","","","","","",null,null,null,null,null,null,null,null,null,null,null,null,null,"",0,0,0,0,12,"","",null,1,1,1,1,null,1,null,null,null,{"$f":"ROW()","v":34}]
[null,27,null,null,null,null,"","","","","","","","","","","","","","","","",null,null,null,null,null,null,null,null,null,null,null,null,null,"",0,0,0,0,12,"","",null,1,1,1,1,null,1,null,null,null,{"$f":"ROW()","v":35}]
[null,28,null,null,null,null,"","","","","","","","","","","","","","","","",null,null,null,null,null,null,null,null,null,null,null,null,null,"",0,0,0,0,12,"","",null,1,1,1,1,null,1,null,null,null,{"$f":"ROW()","v":36}]
[null,29,null,null,null,null,"","","","","","","","","","","","","","","","",null,null,null,null,null,null,null,null,null,null,null,null,null,"",0,0,0,0,12,"","",null,1,1,1,1,null,1,null,null,null,{"$f":"ROW()","v":37}]
[null,30,null,null,null,null,"","","","","","","","","","","","","","","","",null,null,null,null,null,null,null,null,null,null,null,null,null,"",0,0,0,0,12,"","",null,1,1,1,1,null,1,null,null,null,{"$f":"ROW()","v":38}]
[null,31,null,null,null,null,"","","","","","","","","","","","","","","","",null,null,null,null,null,null,null,null,null,null,null,null,null,"",0,0,0,0,12,"","",null,1,1,1,1,null,1,null,null,null,{"$f":"ROW()","v":39}]
[null,32,null,null,null,null,"","","","","","","","","","","","","","","","",null,null,null,null,null,null,null,null,null,null,null,null,null,"",0,0,0,0,12,"","",null,1,1,1,1,null,1,null,null,null,{"$f":"ROW()","v":40}]
[null,33,null,null,null,null,{"$f":"IFERROR(AP41,\"\")","v":""},{"$f":"IF(E41=\"\",\"\",\"PersNr_\"&E41)","v":""},{"$f":"IF($D41=\"\",\"\",IF(W41=-1,-1,IF(COUNTIFS(STOB,I$8,STSL,$B41,STFC,21)=1,2,IF(COUNTIFS(STOB,I$8,STSL,$B41,STFC,11)=1,1,IF(I$6<KontrolleBisMonat,0,\".\")))))","v":""},{"$f":"IF($D41=\"\",\"\",IF(X41=-1,-1,IF(COUNTIFS(STOB,J$8,STSL,$B41,STFC,21)=1,2,IF(COUNTIFS(STOB,J$8,STSL,$B41,STFC,11)=1,1,IF(J$6<KontrolleBisMonat,0,\".\")))))","v":""},{"$f":"IF($D41=\"\",\"\",IF(Y41=-1,-1,IF(COUNTIFS(STOB,K$8,STSL,$B41,STFC,21)=1,2,IF(COUNTIFS(STOB,K$8,STSL,$B41,STFC,11)=1,1,IF(K$6<KontrolleBisMonat,0,\".\")))))","v":""},{"$f":"IF($D41=\"\",\"\",IF(Z41=-1,-1,IF(COUNTIFS(STOB,L$8,STSL,$B41,STFC,21)=1,2,IF(COUNTIFS(STOB,L$8,STSL,$B41,STFC,11)=1,1,IF(L$6<KontrolleBisMonat,0,\".\")))))","v":""},{"$f":"IF($D41=\"\",\"\",IF(AA41=-1,-1,IF(COUNTIFS(STOB,M$8,STSL,$B41,STFC,21)=1,2,IF(COUNTIFS(STOB,M$8,STSL,$B41,STFC,11)=1,1,IF(M$6<KontrolleBisMonat,0,\".\")))))","v":""},{"$f":"IF($D41=\"\",\"\",IF(AB41=-1,-1,IF(COUNTIFS(STOB,N$8,STSL,$B41,STFC,21)=1,2,IF(COUNTIFS(STOB,N$8,STSL,$B41,STFC,11)=1,1,IF(N$6<KontrolleBisMonat,0,\".\")))))","v":""},{"$f":"IF($D41=\"\",\"\",IF(AC41=-1,-1,IF(COUNTIFS(STOB,O$8,STSL,$B41,STFC,21)=1,2,IF(COUNTIFS(STOB,O$8,STSL,$B41,STFC,11)=1,1,IF(O$6<KontrolleBisMonat,0,\".\")))))","v":""},{"$f":"IF($D41=\"\",\"\",IF(AD41=-1,-1,IF(COUNTIFS(STOB,P$8,STSL,$B41,STFC,21)=1,2,IF(COUNTIFS(STOB,P$8,STSL,$B41,STFC,11)=1,1,IF(P$6<KontrolleBisMonat,0,\".\")))))","v":""},{"$f":"IF($D41=\"\",\"\",IF(AE41=-1,-1,IF(COUNTIFS(STOB,Q$8,STSL,$B41,STFC,21)=1,2,IF(COUNTIFS(STOB,Q$8,STSL,$B41,STFC,11)=1,1,IF(Q$6<KontrolleBisMonat,0,\".\")))))","v":""},{"$f":"IF($D41=\"\",\"\",IF(AF41=-1,-1,IF(COUNTIFS(STOB,R$8,STSL,$B41,STFC,21)=1,2,IF(COUNTIFS(STOB,R$8,STSL,$B41,STFC,11)=1,1,IF(R$6<KontrolleBisMonat,0,\".\")))))","v":""},{"$f":"IF($D41=\"\",\"\",IF(AG41=-1,-1,IF(COUNTIFS(STOB,S$8,STSL,$B41,STFC,21)=1,2,IF(COUNTIFS(STOB,S$8,STSL,$B41,STFC,11)=1,1,IF(S$6<KontrolleBisMonat,0,\".\")))))","v":""},{"$f":"IF($D41=\"\",\"\",IF(AH41=-1,-1,IF(COUNTIFS(STOB,T$8,STSL,$B41,STFC,21)=1,2,IF(COUNTIFS(STOB,T$8,STSL,$B41,STFC,11)=1,1,IF(T$6<KontrolleBisMonat,0,\".\")))))","v":""},{"$f":"IF($D41=\"\",\"\",IF(AI41=-1,-1,IF(COUNTIFS(STOB,U$8,STSL,$B41,STFC,21)=1,2,IF(COUNTIFS(STOB,U$8,STSL,$B41,STFC,11)=1,1,IF(U$6<KontrolleBisMonat,0,\".\")))))","v":""},{"$f":"IF($D41=\"\",\"\",IF(AJ41=-1,-1,IF(COUNTIFS(STOB,V$8,STSL,$B41,STFC,21)=1,2,IF(COUNTIFS(STOB,V$8,STSL,$B41,STFC,11)=1,1,IF(V$6<KontrolleBisMonat,0,\".\")))))","v":""},null,null,null,null,null,null,null,null,null,null,null,null,null,{"$f":"IF(E41>0,B41,\"\")","v":""},0,0,0,0,{"$f":"(KontrolleBisMonat+1)-AN41","v":12},{"$f":"IF(AL41>0,AL$6,IF(AM41>0,AM$6,IF(AK41>0,AK$6,\"\")))","v":""},{"$f":"IF(G41<3,G41*10,G41)","v":""},null,1,1,1,1,null,1,null,null,null,{"$f":"ROW()","v":41}]
[null,34,null,null,null,null,"","","","","","","","","","","","","","","","",null,null,null,null,null,null,null,null,null,null,null,null,null,"",0,0,0,0,12,"","",null,1,1,1,1,null,1,null,null,null,{"$f":"ROW()","v":42}]
[null,35,null,null,null,null,"","","","","","","","","","","","","","","","",null,null,null,null,null,null,null,null,null,null,null,null,null,"",0,0,0,0,12,"","",null,1,1,1,1,null,1,null,null,null,{"$f":"ROW()","v":43}]
[null,36,null,null,null,null,"","","","","","","","","","","","","","","","",null,null,null,null,null,null,null,null,null,null,null,null,null,"",0,0,0,0,12,"","",null,1,1,1,1,null,1,null,null,null,{"$f":"ROW()","v":44}]
[null,37,null,null,null,null,"","","","","","","","","","","","","","","","",null,null,null,null,null,null,null,null,null,null,null,null,null,"",0,0,0,0,12,"","",null,1,1,1,1,null,1,null,null,null,{"$f":"ROW()","v":45}]
[null,38,null,null,null,null,"","","","","","","","","","","","","","","","",null,null,null,null,null,null,null,null,null,null,null,null,null,"",0,0,0,0,12,"","",null,1,1,1,1,null,1,null,null,null,{"$f":"ROW()","v":46}]
[null,39,null,null,null,null,"","","","","","","","","","","","","","","","",null,null,null,null,null,null,null,null,null,null,null,null,null,"",0,0,0,0,12,"","",null,1,1,1,1,null,1,null,null,null,{"$f":"ROW()","v":47}]
[null,40,null,null,null,null,"","","","","","","","","","","","","","","","",null,null,null,null,null,null,null,null,null,null,null,null,null,"",0,0,0,0,12,"","",null,1,1,1,1,null,1,null,null,null,{"$f":"ROW()","v":48}]
[null,41,null,null,null,null,"","","","","","","","","","","","","","","","",null,null,null,null,null,null,null,null,null,null,null,null,null,"",{"$f":"COUNTIF(OFFSET($I49:$V49,0,0,1,KontrolleBisMonat+1),AK$6)","v":0},0,0,0,12,"","",null,1,1,1,1,null,1,null,null,null,{"$f":"ROW()","v":49}]
[null,42,null,null,null,null,"","","","","","","","","","","","","","","","",null,null,null,null,null,null,null,null,null,null,null,null,null,"",0,0,0,0,12,"","",null,1,1,1,1,null,1,null,null,null,{"$f":"ROW()","v":50}]
[null,43,null,null,null,null,"","","","","","","","","","","","","","","","",null,null,null,null,null,null,null,null,null,null,null,null,null,"",0,0,0,0,12,"","",null,1,1,1,1,null,1,null,null,null,{"$f":"ROW()","v":51}]
[null,44,null,null,null,null,"","","","","","","","","","","","","","","","",null,null,null,null,null,null,null,null,null,null,null,null,null,"",0,0,0,0,12,"","",null,1,1,1,1,null,1,null,null,null,{"$f":"ROW()","v":52}]
[null,45,null,null,null,null,"","","","","","","","","","","","","","","","",null,null,null,null,null,null,null,null,null,null,null,null,null,"",0,0,0,0,12,"","",null,1,1,1,1,null,1,null,null,null,{"$f":"ROW()","v":53}]
[null,46,null,null,null,null,"","","","","","","","","","","","","","","","",null,null,null,null,null,null,null,null,null,null,null,null,null,"",0,0,0,0,12,"","",null,1,1,1,1,null,1,null,null,null,{"$f":"ROW()","v":54}]
[null,47,null,null,null,null,"","","","","","","","","","","","","","","","",null,null,null,null,null,null,null,null,null,null,null,null,null,"",0,0,0,0,12,"","",null,1,1,1,1,null,1,null,null,null,{"$f":"ROW()","v":55}]
[null,48,null,null,null,null,"","","","","","","","","","","","","","","","",null,null,null,null,null,null,null,null,null,null,null,null,null,"",0,0,0,0,12,"","",null,1,1,1,1,null,1,null,null,null,{"$f":"ROW()","v":56}]
[null,49,null,null,null,null,"","","","","","","","","","","","","","","","",null,null,null,null,null,null,null,null,null,null,null,null,null,"",0,0,0,0,12,"","",null,1,1,1,1,null,1,null,null,null,{"$f":"ROW()","v":57}]
[null,50,null,null,null,null,"","","","","","","","","","","","","","","","",null,null,null,null,null,null,null,null,null,null,null,null,null,"",0,0,0,0,12,"","",null,1,1,1,1,null,1,null,null,null,{"$f":"ROW()","v":58}]
[]
[null,null,null,null,null,"Die E-Mail-Adresse (für Standard-E-Mails) kann auch selber eingetragen werden.",null,"Mindestens ein Dokument ist überfällig"]
[null,null,null,null,null,null,null,"Mindestens ein Dokument blieb bisher abgelehnt"]
[null,null,null,null,null,null,null,"Alle kontrollierten Dokumente wurden genehmigt"]
[]
[]
[]
[]
[]
[null,null,"cSchule","cSLName","cPersNr","cMail","cStand","cOrdner",null,null,null,null,null,null,null,null,null,null,null,null,null,null,null,null,null,null,null,null,null,null,null,null,null,null,null,null,null,null,null,null,null,null,"cStandSort"]
[null,{"$f":"COLUMN()-1","v":1},2,3,4,5,6,7,8,9,10,11,12,13,14,15,16,17,18,19,20,21,22,{"$f":"COLUMN()-1","v":23},24,25,26,27,28,29,30,31,32,33,34,35,{"$f":"COLUMN()-1","v":36},37,38,39,40,41,{"$f":"COLUMN()-1","v":42},null,null,null,null,null,null,null,null,null,null,{"$f":"COLUMN()-1","v":53}]

{"sheet":"Details","index":1,"n_rows":2135,"n_cols":54,"rows_kept":1125,"cut":true,"hidden":false,"merged":[[0,12,1,13],[4,28,5,29],[6,12,6,13],[6,16,6,18]],"bounds":{"rows_first":500,"rows_last":125,"rows_between":500,"halvings":2}}
[null,null,null,null,null,null,null,null,null,null,null,null,"Details\nVisierungseinträge",null,{"$f":"IF(VSATestModus=TRUE(),\"VSA-Modus!\",\"\")","v":""},null,null,null,null,{"$f":"MAX(B9:B2009)","v":0},"Zeilen in Gebrauch",null,null,null,null,null,null,null,null,null,null,"Spalten für das Anzeigen der momentanen Sortierung",null,null,null,null,null,null,null,null,"Spalten für das Anzeigen der momentanen Filterung"]
[]
[null,null,null,null,null,null,null,null,null,null,null,null,null,null,null,null,null,null,null,null,null,null,null,null,null,null,null,null,null,null,null,"ist sortiert nach...",null,null,null,null,null,"Hilfsspalten textverknüfpt",null,null,"ist gefiltern nach..."]
[null,null,null,null,null,null,null,null,null,null,null,null,null,null,null,null,null,null,null,null,null,null,null,null,null,null,null,null,null,null,null,"SL-Name","Dokument","Zeitraum",null,"Visiert VG",null,"Name","Dok & Zeitraum",null,"SL-Name","Dokument","Zeitraum"]
[null,null,null,null,null,null,"Die Spalte AKT wird nicht mehr verwendet, ",null,null,null,null,null,"Filterspalte:"," (Leer : setzt  Filter zurück)",null,null,"Sortierspalte:",null,null,null,null,null,null,null,null,null,null,null,"Matrixformeln",null,null,null,null,null,null,null,null,"T D E","D T E",null,1,2,3]
[null,null,null,null,null,null,"sie wird nur zur Kontrolle befüllt",null,null,null,null,12,null,null,null,null,"SL-Name",null,null,"SortFelder:",{"$f":"IFERROR(VLOOKUP($L6,SortKeys,2,FALSE),0)","v":19},{"$f":"IFERROR(VLOOKUP($L6,SortKeys,3,FALSE),0)","v":3},{"$f":"IFERROR(VLOOKUP($L6,SortKeys,4,FALSE),0)","v":4},null,{"$f":"MAX(15,COUNT($C$9:$C$2009))","v":15},"Min.Anzeigen",null,null,null,null,null,"T,D,E","D,T,E","D,T,E",null,"L (desc)",null,{"$f":"SUBTOTAL(103,AF10:AF2128)+1","v":14},{"$f":"B8","v":0},null,"M","N","O",null,null,null,null,null,null,null,null,null,null,0]
[null,null,null,null,null,null,null,null,null,null,null,null,"Wählen sie aus den Spalten 'Name', 'Dokument' oder 'Zeitraum' eine Zelle aus. Drücken sie dann 'Filtern'",null,null,null,"Bei Auswahl 'Visiert VG' wird der neueste Eintrag nach\noben sortiert, ohne Eintrag wird nicht sortiert.",null,null,null,null,null,null,null,null,null,null,null,null,null,null,null,null,null,null,null,null,"Ungefiltert",{"$f":"ABS(AL6>=AM6)","v":1}]
[null,{"$f":"MaxInput","v":0},"SL","ONr","Pos","Stat","Akt","Erstellt","Visiert","Pdf","Xlsm","Stamp","SL-Name","Dokument","Zeitraum","Erstellt SL","Visiert VG","Status","Pdf-Datei","Dummy Sort","Anz","Sum","Zus","Akt2","Vis","FC","FC2","Dummy","MinPos","MaxPos",null,{"$f":"IF(MaxInput=0,0,(ABS(SUBTOTAL(105,AF10:AF2128))=1)*1)","v":0},{"$f":"IF(MaxInput=0,0,(ABS(SUBTOTAL(105,AG10:AG2128))=1)*1)","v":0},{"$f":"AG8","v":0},null,{"$f":"IF(MaxInput=0,0,(ABS(SUBTOTAL(105,AJ10:AJ2128))=1)*1)","v":0},null,null,null,null,{"$f":"ABS(AND(SUBTOTAL(105,AO9:AO2128)=1,$AM$6>1))","v":0},{"$f":"ABS(AND(SUBTOTAL(105,AP9:AP2128)=1,$AM$6>1))","v":0},{"$f":"ABS(AND(SUBTOTAL(105,AQ9:AQ2128)=1,$AM$6>1))","v":0}]
[1,{"$f":"IF(C9>0,ROW()-8,\"\")","v":""},null,null,null,null,null,null,null,null,null,null,{"$f":"IF(C9=0,\"\",IFERROR(VLOOKUP($C9,SLTabelle,cSLName,FALSE),\"\"))","v":""},{"$f":"IF(C9=0,\"\",INDEX(Objekt_Text,D9+1,2))","v":""},{"$f":"IF(C9=0,\"\",INDEX(Objekt_Text,D9+1,3))","v":""},{"$f":"IF($H9=\"\",\"\",$H9)","v":""},{"$f":"IF($I9=\"\",\"\",$I9)","v":""},{"$f":"INDEX(Visum_Liste,F9+1)&\"\"","v":""},{"$f":"IF($J9=\"\",\"\",$J9)","v":""},{"$f":"IF(M9=\"\",\"ZZ\",M9)","v":"ZZ"},{"$f":"IF(C9>0,COUNTIF($W$9:$W$2128,W9),0)","v":0},{"$f":"SUMIFS($E$9:$E$2128,$W$9:$W$2128,W9)","v":0},{"$f":"C9*100+D9","v":0},{"$f":"AND(C9>0,E9=AD9)*1","v":0},{"$f":"(COUNT(P9:Q9)=2)*1","v":0},{"$f":"F9*10+X9","v":0},{"$f":"IF(X9=0,3,X9*F9)","v":3},{"$f":"IF(OR((C9>0),ROW()<LastRow+8),\"A\",\"\")","v":"A"},{"$f":"MIN(IF(W9=$W$9:$W$2128,$E$9:$E$2128))","v":0},{"$f":"MAX(IF(W9=$W$9:$W$2128,$E$9:$E$2128))","v":0},1,null,null,null,null,null,null,{"$f":"T9&TEXT(D9,\"00\")&TEXT(E9,\"000\")","v":"ZZ00000"},{"$f":"TEXT(D9,\"00\")&T9&TEXT(E9,\"000\")","v":"00ZZ000"},null,{"$f":"ABS(OR(C9=0,AND(MaxInput>1,M9=INDEX(FFilter,AO$5))))","v":1},{"$f":"ABS(OR(C9=0,AND(MaxInput>1,N9=INDEX(FFilter,AP$5))))","v":1},{"$f":"ABS(OR(C9=0,AND(MaxInput>1,O9=INDEX(FFilter,AQ$5))))","v":1},null,null,null,null,null,null,null,null,null,null,{"$f":"ROW()","v":9}]
[2,"",null,null,null,null,null,null,null,null,null,null,"",{"$f":"IF(C10=0,\"\",INDEX(Objekt_Text,D10+1,2))","v":""},{"$f":"IF(C10=0,\"\",INDEX(Objekt_Text,D10+1,3))","v":""},"","",{"$f":"INDEX(Visum_Liste,F10+1)&\"\"","v":""},"","ZZ",0,0,0,0,0,0,3,"A",{"$f":"MIN(IF(W10=$W$9:$W$2128,$E$9:$E$2128))","v":0},{"$f":"MAX(IF(W10=$W$9:$W$2128,$E$9:$E$2128))","v":0},2,{"$f":"OR(AL10>AL9,B10=\"\")*1","v":1},{"$f":"OR(AM10>AM9,B10=\"\")*1","v":1},null,null,{"$f":"OR(L10<=L9,B10=\"\")*1","v":1},null,"ZZ00000","00ZZ000",null,{"$f":"ABS(OR(C10=0,AND(MaxInput>1,M10=INDEX(FFilter,AO$5))))","v":1},{"$f":"ABS(OR(C10=0,AND(MaxInput>1,N10=INDEX(FFilter,AP$5))))","v":1},{"$f":"ABS(OR(C10=0,AND(MaxInput>1,O10=INDEX(FFilter,AQ$5))))","v":1},null,null,null,null,null,null,null,null,null,null,{"$f":"ROW()","v":10}]
[3,"",null,null,null,null,null,null,null,null,null,null,"",{"$f":"IF(C11=0,\"\",INDEX(Objekt_Text,D11+1,2))","v":""},{"$f":"IF(C11=0,\"\",INDEX(Objekt_Text,D11+1,3))","v":""},"","",{"$f":"INDEX(Visum_Liste,F11+1)&\"\"","v":""},"","ZZ",0,0,0,0,0,0,3,"A",{"$f":"MIN(IF(W11=$W$9:$W$2128,$E$9:$E$2128))","v":0},{"$f":"MAX(IF(W11=$W$9:$W$2128,$E$9:$E$2128))","v":0},3,{"$f":"OR(AL11>AL10,B11=\"\")*1","v":1},1,null,null,1,null,"ZZ00000","00ZZ000",null,{"$f":"ABS(OR(C11=0,AND(MaxInput>1,M11=INDEX(FFilter,AO$5))))","v":1},{"$f":"ABS(OR(C11=0,AND(MaxInput>1,N11=INDEX(FFilter,AP$5))))","v":1},{"$f":"ABS(OR(C11=0,AND(MaxInput>1,O11=INDEX(FFilter,AQ$5))))","v":1},null,null,null,null,null,null,null,null,null,null,{"$f":"ROW()","v":11}]
[4,"",null,null,null,null,null,null,null,null,null,null,"",{"$f":"IF(C12=0,\"\",INDEX(Objekt_Text,D12+1,2))","v":""},{"$f":"IF(C12=0,\"\",INDEX(Objekt_Text,D12+1,3))","v":""},"","",{"$f":"INDEX(Visum_Liste,F12+1)&\"\"","v":""},"","ZZ",0,0,0,0,0,0,3,"A",{"$f":"MIN(IF(W12=$W$9:$W$2128,$E$9:$E$2128))","v":0},{"$f":"MAX(IF(W12=$W$9:$W$2128,$E$9:$E$2128))","v":0},4,1,1,null,null,1,null,"ZZ00000","00ZZ000",null,{"$f":"ABS(OR(C12=0,AND(MaxInput>1,M12=INDEX(FFilter,AO$5))))","v":1},{"$f":"ABS(OR(C12=0,AND(MaxInput>1,N12=INDEX(FFilter,AP$5))))","v":1},{"$f":"ABS(OR(C12=0,AND(MaxInput>1,O12=INDEX(FFilter,AQ$5))))","v":1},null,null,null,null,null,null,null,null,null,null,{"$f":"ROW()","v":12}]
[5,"",null,null,null,null,null,null,null,null,null,null,"",{"$f":"IF(C13=0,\"\",INDEX(Objekt_Text,D13+1,2))","v":""},{"$f":"IF(C13=0,\"\",INDEX(Objekt_Text,D13+1,3))","v":""},"","",{"$f":"INDEX(Visum_Liste,F13+1)&\"\"","v":""},"","ZZ",0,0,0,0,0,0,3,"A",{"$f":"MIN(IF(W13=$W$9:$W$2128,$E$9:$E$2128))","v":0},{"$f":"MAX(IF(W13=$W$9:$W$2128,$E$9:$E$2128))","v":0},5,1,1,null,null,1,null,"ZZ00000","00ZZ000",null,{"$f":"ABS(OR(C13=0,AND(MaxInput>1,M13=INDEX(FFilter,AO$5))))","v":1},{"$f":"ABS(OR(C13=0,AND(MaxInput>1,N13=INDEX(FFilter,AP$5))))","v":1},{"$f":"ABS(OR(C13=0,AND(MaxInput>1,O13=INDEX(FFilter,AQ$5))))","v":1},null,null,null,null,null,null,null,null,null,null,{"$f":"ROW()","v":13}]
[6,"",null,null,null,null,null,null,null,null,null,null,"",{"$f":"IF(C14=0,\"\",INDEX(Objekt_Text,D14+1,2))","v":""},{"$f":"IF(C14=0,\"\",INDEX(Objekt_Text,D14+1,3))","v":""},"","",{"$f":"INDEX(Visum_Liste,F14+1)&\"\"","v":""},"","ZZ",0,0,0,0,0,0,3,"A",{"$f":"MIN(IF(W14=$W$9:$W$2128,$E$9:$E$2128))","v":0},{"$f":"MAX(IF(W14=$W$9:$W$2128,$E$9:$E$2128))","v":0},6,1,1,null,null,1,null,"ZZ00000","00ZZ000",null,{"$f":"ABS(OR(C14=0,AND(MaxInput>1,M14=INDEX(FFilter,AO$5))))","v":1},{"$f":"ABS(OR(C14=0,AND(MaxInput>1,N14=INDEX(FFilter,AP$5))))","v":1},{"$f":"ABS(OR(C14=0,AND(MaxInput>1,O14=INDEX(FFilter,AQ$5))))","v":1},null,null,null,null,null,null,null,null,null,null,{"$f":"ROW()","v":14}]
[7,"",null,null,null,null,null,null,null,null,null,null,"",{"$f":"IF(C15=0,\"\",INDEX(Objekt_Text,D15+1,2))","v":""},{"$f":"IF(C15=0,\"\",INDEX(Objekt_Text,D15+1,3))","v":""},"","",{"$f":"INDEX(Visum_Liste,F15+1)&\"\"","v":""},"","ZZ",0,0,0,0,0,0,3,"A",{"$f":"MIN(IF(W15=$W$9:$W$2128,$E$9:$E$2128))","v":0},{"$f":"MAX(IF(W15=$W$9:$W$2128,$E$9:$E$2128))","v":0},7,1,1,null,null,1,null,"ZZ00000","00ZZ000",null,{"$f":"ABS(OR(C15=0,AND(MaxInput>1,M15=INDEX(FFilter,AO$5))))","v":1},{"$f":"ABS(OR(C15=0,AND(MaxInput>1,N15=INDEX(FFilter,AP$5))))","v":1},{"$f":"ABS(OR(C15=0,AND(MaxInput>1,O15=INDEX(FFilter,AQ$5))))","v":1},null,null,null,null,null,null,null,null,null,null,{"$f":"ROW()","v":15}]
[8,"",null,null,null,null,null,null,null,null,null,null,"",{"$f":"IF(C16=0,\"\",INDEX(Objekt_Text,D16+1,2))","v":""},{"$f":"IF(C16=0,\"\",INDEX(Objekt_Text,D16+1,3))","v":""},"","",{"$f":"INDEX(Visum_Liste,F16+1)&\"\"","v":""},"","ZZ",0,0,0,0,0,0,3,"A",{"$f":"MIN(IF(W16=$W$9:$W$2128,$E$9:$E$2128))","v":0},{"$f":"MAX(IF(W16=$W$9:$W$2128,$E$9:$E$2128))","v":0},8,1,1,null,null,1,null,"ZZ00000","00ZZ000",null,{"$f":"ABS(OR(C16=0,AND(MaxInput>1,M16=INDEX(FFilter,AO$5))))","v":1},{"$f":"ABS(OR(C16=0,AND(MaxInput>1,N16=INDEX(FFilter,AP$5))))","v":1},{"$f":"ABS(OR(C16=0,AND(MaxInput>1,O16=INDEX(FFilter,AQ$5))))","v":1},null,null,null,null,null,null,null,null,null,null,{"$f":"ROW()","v":16}]
[9,"",null,null,null,null,null,null,null,null,null,null,"",{"$f":"IF(C17=0,\"\",INDEX(Objekt_Text,D17+1,2))","v":""},{"$f":"IF(C17=0,\"\",INDEX(Objekt_Text,D17+1,3))","v":""},"","",{"$f":"INDEX(Visum_Liste,F17+1)&\"\"","v":""},"","ZZ",0,0,0,0,0,0,3,"A",{"$f":"MIN(IF(W17=$W$9:$W$2128,$E$9:$E$2128))","v":0},{"$f":"MAX(IF(W17=$W$9:$W$2128,$E$9:$E$2128))","v":0},9,1,1,null,null,1,null,"ZZ00000","00ZZ000",null,{"$f":"ABS(OR(C17=0,AND(MaxInput>1,M17=INDEX(FFilter,AO$5))))","v":1},{"$f":"ABS(OR(C17=0,AND(MaxInput>1,N17=INDEX(FFilter,AP$5))))","v":1},{"$f":"ABS(OR(C17=0,AND(MaxInput>1,O17=INDEX(FFilter,AQ$5))))","v":1},null,null,null,null,null,null,null,null,null,null,{"$f":"ROW()","v":17}]
[10,"",null,null,null,null,null,null,null,null,null,null,"",{"$f":"IF(C18=0,\"\",INDEX(Objekt_Text,D18+1,2))","v":""},{"$f":"IF(C18=0,\"\",INDEX(Objekt_Text,D18+1,3))","v":""},"","",{"$f":"INDEX(Visum_Liste,F18+1)&\"\"","v":""},"","ZZ",0,0,0,0,0,0,3,"A",{"$f":"MIN(IF(W18=$W$9:$W$2128,$E$9:$E$2128))","v":0},{"$f":"MAX(IF(W18=$W$9:$W$2128,$E$9:$E$2128))","v":0},10,1,1,null,null,1,null,"ZZ00000","00ZZ000",null,{"$f":"ABS(OR(C18=0,AND(MaxInput>1,M18=INDEX(FFilter,AO$5))))","v":1},{"$f":"ABS(OR(C18=0,AND(MaxInput>1,N18=INDEX(FFilter,AP$5))))","v":1},{"$f":"ABS(OR(C18=0,AND(MaxInput>1,O18=INDEX(FFilter,AQ$5))))","v":1},null,null,null,null,null,null,null,null,null,null,{"$f":"ROW()","v":18}]
[11,"",null,null,null,null,null,null,null,null,null,null,"",{"$f":"IF(C19=0,\"\",INDEX(Objekt_Text,D19+1,2))","v":""},{"$f":"IF(C19=0,\"\",INDEX(Objekt_Text,D19+1,3))","v":""},"","",{"$f":"INDEX(Visum_Liste,F19+1)&\"\"","v":""},"","ZZ",0,0,0,0,0,0,3,"A",{"$f":"MIN(IF(W19=$W$9:$W$2128,$E$9:$E$2128))","v":0},{"$f":"MAX(IF(W19=$W$9:$W$2128,$E$9:$E$2128))","v":0},11,1,1,null,null,1,null,"ZZ00000","00ZZ000",null,{"$f":"ABS(OR(C19=0,AND(MaxInput>1,M19=INDEX(FFilter,AO$5))))","v":1},{"$f":"ABS(OR(C19=0,AND(MaxInput>1,N19=INDEX(FFilter,AP$5))))","v":1},{"$f":"ABS(OR(C19=0,AND(MaxInput>1,O19=INDEX(FFilter,AQ$5))))","v":1},null,null,null,null,null,null,null,null,null,null,{"$f":"ROW()","v":19}]
[12,"",null,null,null,null,null,null,null,null,null,null,"",{"$f":"IF(C20=0,\"\",INDEX(Objekt_Text,D20+1,2))","v":""},{"$f":"IF(C20=0,\"\",INDEX(Objekt_Text,D20+1,3))","v":""},"","",{"$f":"INDEX(Visum_Liste,F20+1)&\"\"","v":""},"","ZZ",0,0,0,0,0,0,3,"A",{"$f":"MIN(IF(W20=$W$9:$W$2128,$E$9:$E$2128))","v":0},{"$f":"MAX(IF(W20=$W$9:$W$2128,$E$9:$E$2128))","v":0},12,1,1,null,null,1,null,"ZZ00000","00ZZ000",null,{"$f":"ABS(OR(C20=0,AND(MaxInput>1,M20=INDEX(FFilter,AO$5))))","v":1},{"$f":"ABS(OR(C20=0,AND(MaxInput>1,N20=INDEX(FFilter,AP$5))))","v":1},{"$f":"ABS(OR(C20=0,AND(MaxInput>1,O20=INDEX(FFilter,AQ$5))))","v":1},null,null,null,null,null,null,null,null,null,null,{"$f":"ROW()","v":20}]
[13,"",null,null,null,null,null,null,null,null,null,null,"",{"$f":"IF(C21=0,\"\",INDEX(Objekt_Text,D21+1,2))","v":""},{"$f":"IF(C21=0,\"\",INDEX(Objekt_Text,D21+1,3))","v":""},"","",{"$f":"INDEX(Visum_Liste,F21+1)&\"\"","v":""},"","ZZ",0,0,0,0,0,0,3,"A",{"$f":"MIN(IF(W21=$W$9:$W$2128,$E$9:$E$2128))","v":0},{"$f":"MAX(IF(W21=$W$9:$W$2128,$E$9:$E$2128))","v":0},13,1,1,null,null,1,null,"ZZ00000","00ZZ000",null,{"$f":"ABS(OR(C21=0,AND(MaxInput>1,M21=INDEX(FFilter,AO$5))))","v":1},{"$f":"ABS(OR(C21=0,AND(MaxInput>1,N21=INDEX(FFilter,AP$5))))","v":1},{"$f":"ABS(OR(C21=0,AND(MaxInput>1,O21=INDEX(FFilter,AQ$5))))","v":1},null,null,null,null,null,null,null,null,null,null,{"$f":"ROW()","v":21}]
[14,"",null,null,null,null,null,null,null,null,null,null,"",{"$f":"IF(C22=0,\"\",INDEX(Objekt_Text,D22+1,2))","v":""},{"$f":"IF(C22=0,\"\",INDEX(Objekt_Text,D22+1,3))","v":""},"","",{"$f":"INDEX(Visum_Liste,F22+1)&\"\"","v":""},"","ZZ",0,0,0,0,0,0,3,"A",{"$f":"MIN(IF(W22=$W$9:$W$2128,$E$9:$E$2128))","v":0},{"$f":"MAX(IF(W22=$W$9:$W$2128,$E$9:$E$2128))","v":0},14,1,1,null,null,1,null,"ZZ00000","00ZZ000",null,{"$f":"ABS(OR(C22=0,AND(MaxInput>1,M22=INDEX(FFilter,AO$5))))","v":1},{"$f":"ABS(OR(C22=0,AND(MaxInput>1,N22=INDEX(FFilter,AP$5))))","v":1},{"$f":"ABS(OR(C22=0,AND(MaxInput>1,O22=INDEX(FFilter,AQ$5))))","v":1},null,null,null,null,null,null,null,null,null,null,{"$f":"ROW()","v":22}]
[15,"",null,null,null,null,null,null,null,null,null,null,"",{"$f":"IF(C23=0,\"\",INDEX(Objekt_Text,D23+1,2))","v":""},{"$f":"IF(C23=0,\"\",INDEX(Objekt_Text,D23+1,3))","v":""},"","",{"$f":"INDEX(Visum_Liste,F23+1)&\"\"","v":""},"","ZZ",0,0,0,0,0,0,3,"",{"$f":"MIN(IF(W23=$W$9:$W$2128,$E$9:$E$2128))","v":0},{"$f":"MAX(IF(W23=$W$9:$W$2128,$E$9:$E$2128))","v":0},15,1,1,null,null,1,null,"ZZ00000","00ZZ000",null,{"$f":"ABS(OR(C23=0,AND(MaxInput>1,M23=INDEX(FFilter,AO$5))))","v":1},{"$f":"ABS(OR(C23=0,AND(MaxInput>1,N23=INDEX(FFilter,AP$5))))","v":1},{"$f":"ABS(OR(C23=0,AND(MaxInput>1,O23=INDEX(FFilter,AQ$5))))","v":1},null,null,null,null,null,null,null,null,null,null,{"$f":"ROW()","v":23}]
[16,"",null,null,null,null,null,null,null,null,null,null,"",{"$f":"IF(C24=0,\"\",INDEX(Objekt_Text,D24+1,2))","v":""},{"$f":"IF(C24=0,\"\",INDEX(Objekt_Text,D24+1,3))","v":""},"","",{"$f":"INDEX(Visum_Liste,F24+1)&\"\"","v":""},"","ZZ",0,0,0,0,0,0,3,"",{"$f":"MIN(IF(W24=$W$9:$W$2128,$E$9:$E$2128))","v":0},{"$f":"MAX(IF(W24=$W$9:$W$2128,$E$9:$E$2128))","v":0},16,1,1,null,null,1,null,"ZZ00000","00ZZ000",null,{"$f":"ABS(OR(C24=0,AND(MaxInput>1,M24=INDEX(FFilter,AO$5))))","v":1},{"$f":"ABS(OR(C24=0,AND(MaxInput>1,N24=INDEX(FFilter,AP$5))))","v":1},{"$f":"ABS(OR(C24=0,AND(MaxInput>1,O24=INDEX(FFilter,AQ$5))))","v":1},null,null,null,null,null,null,null,null,null,null,{"$f":"ROW()","v":24}]
[17,"",null,null,null,null,null,null,null,null,null,null,"",{"$f":"IF(C25=0,\"\",INDEX(Objekt_Text,D25+1,2))","v":""},{"$f":"IF(C25=0,\"\",INDEX(Objekt_Text,D25+1,3))","v":""},"","",{"$f":"INDEX(Visum_Liste,F25+1)&\"\"","v":""},"","ZZ",0,0,0,0,0,0,3,"",{"$f":"MIN(IF(W25=$W$9:$W$2128,$E$9:$E$2128))","v":0},{"$f":"MAX(IF(W25=$W$9:$W$2128,$E$9:$E$2128))","v":0},17,1,1,null,null,1,null,"ZZ00000","00ZZ000",null,{"$f":"ABS(OR(C25=0,AND(MaxInput>1,M25=INDEX(FFilter,AO$5))))","v":1},{"$f":"ABS(OR(C25=0,AND(MaxInput>1,N25=INDEX(FFilter,AP$5))))","v":1},{"$f":"ABS(OR(C25=0,AND(MaxInput>1,O25=INDEX(FFilter,AQ$5))))","v":1},null,null,null,null,null,null,null,null,null,null,{"$f":"ROW()","v":25}]
[18,"",null,null,null,null,null,null,null,null,null,null,"",{"$f":"IF(C26=0,\"\",INDEX(Objekt_Text,D26+1,2))","v":""},{"$f":"IF(C26=0,\"\",INDEX(Objekt_Text,D26+1,3))","v":""},"","",{"$f":"INDEX(Visum_Liste,F26+1)&\"\"","v":""},"","ZZ",0,0,0,0,0,0,3,"",{"$f":"MIN(IF(W26=$W$9:$W$2128,$E$9:$E$2128))","v":0},{"$f":"MAX(IF(W26=$W$9:$W$2128,$E$9:$E$2128))","v":0},18,1,1,null,null,1,null,"ZZ00000","00ZZ000",null,{"$f":"ABS(OR(C26=0,AND(MaxInput>1,M26=INDEX(FFilter,AO$5))))","v":1},{"$f":"ABS(OR(C26=0,AND(MaxInput>1,N26=INDEX(FFilter,AP$5))))","v":1},{"$f":"ABS(OR(C26=0,AND(MaxInput>1,O26=INDEX(FFilter,AQ$5))))","v":1},null,null,null,null,null,null,null,null,null,null,{"$f":"ROW()","v":26}]
[19,"",null,null,null,null,null,null,null,null,null,null,"",{"$f":"IF(C27=0,\"\",INDEX(Objekt_Text,D27+1,2))","v":""},{"$f":"IF(C27=0,\"\",INDEX(Objekt_Text,D27+1,3))","v":""},"","",{"$f":"INDEX(Visum_Liste,F27+1)&\"\"","v":""},"","ZZ",0,0,0,0,0,0,3,"",{"$f":"MIN(IF(W27=$W$9:$W$2128,$E$9:$E$2128))","v":0},{"$f":"MAX(IF(W27=$W$9:$W$2128,$E$9:$E$2128))","v":0},19,1,1,null,null,1,null,"ZZ00000","00ZZ000",null,{"$f":"ABS(OR(C27=0,AND(MaxInput>1,M27=INDEX(FFilter,AO$5))))","v":1},{"$f":"ABS(OR(C27=0,AND(MaxInput>1,N27=INDEX(FFilter,AP$5))))","v":1},{"$f":"ABS(OR(C27=0,AND(MaxInput>1,O27=INDEX(FFilter,AQ$5))))","v":1},null,null,null,null,null,null,null,null,null,null,{"$f":"ROW()","v":27}]
[20,"",null,null,null,null,null,null,null,null,null,null,"",{"$f":"IF(C28=0,\"\",INDEX(Objekt_Text,D28+1,2))","v":""},{"$f":"IF(C28=0,\"\",INDEX(Objekt_Text,D28+1,3))","v":""},"","",{"$f":"INDEX(Visum_Liste,F28+1)&\"\"","v":""},"","ZZ",0,0,0,0,0,0,3,"",{"$f":"MIN(IF(W28=$W$9:$W$2128,$E$9:$E$2128))","v":0},{"$f":"MAX(IF(W28=$W$9:$W$2128,$E$9:$E$2128))","v":0},20,1,1,null,null,1,null,"ZZ00000","00ZZ000",null,{"$f":"ABS(OR(C28=0,AND(MaxInput>1,M28=INDEX(FFilter,AO$5))))","v":1},{"$f":"ABS(OR(C28=0,AND(MaxInput>1,N28=INDEX(FFilter,AP$5))))","v":1},{"$f":"ABS(OR(C28=0,AND(MaxInput>1,O28=INDEX(FFilter,AQ$5))))","v":1},null,null,null,null,null,null,null,null,null,null,{"$f":"ROW()","v":28}]
[21,"",null,null,null,null,null,null,null,null,null,null,"",{"$f":"IF(C29=0,\"\",INDEX(Objekt_Text,D29+1,2))","v":""},{"$f":"IF(C29=0,\"\",INDEX(Objekt_Text,D29+1,3))","v":""},"","",{"$f":"INDEX(Visum_Liste,F29+1)&\"\"","v":""},"","ZZ",0,0,0,0,0,0,3,"",{"$f":"MIN(IF(W29=$W$9:$W$2128,$E$9:$E$2128))","v":0},{"$f":"MAX(IF(W29=$W$9:$W$2128,$E$9:$E$2128))","v":0},21,1,1,null,null,1,null,"ZZ00000","00ZZ000",null,{"$f":"ABS(OR(C29=0,AND(MaxInput>1,M29=INDEX(FFilter,AO$5))))","v":1},{"$f":"ABS(OR(C29=0,AND(MaxInput>1,N29=INDEX(FFilter,AP$5))))","v":1},{"$f":"ABS(OR(C29=0,AND(MaxInput>1,O29=INDEX(FFilter,AQ$5))))","v":1},null,null,null,null,null,null,null,null,null,null,{"$f":"ROW()","v":29}]
[22,"",null,null,null,null,null,null,null,null,null,null,"",{"$f":"IF(C30=0,\"\",INDEX(Objekt_Text,D30+1,2))","v":""},{"$f":"IF(C30=0,\"\",INDEX(Objekt_Text,D30+1,3))","v":""},"","",{"$f":"INDEX(Visum_Liste,F30+1)&\"\"","v":""},"","ZZ",0,0,0,0,0,0,3,"",{"$f":"MIN(IF(W30=$W$9:$W$2128,$E$9:$E$2128))","v":0},{"$f":"MAX(IF(W30=$W$9:$W$2128,$E$9:$E$2128))","v":0},22,1,1,null,null,1,null,"ZZ00000","00ZZ000",null,{"$f":"ABS(OR(C30=0,AND(MaxInput>1,M30=INDEX(FFilter,AO$5))))","v":1},{"$f":"ABS(OR(C30=0,AND(MaxInput>1,N30=INDEX(FFilter,AP$5))))","v":1},{"$f":"ABS(OR(C30=0,AND(MaxInput>1,O30=INDEX(FFilter,AQ$5))))","v":1},null,null,null,null,null,null,null,null,null,null,{"$f":"ROW()","v":30}]
[23,"",null,null,null,null,null,null,null,null,null,null,"",{"$f":"IF(C31=0,\"\",INDEX(Objekt_Text,D31+1,2))","v":""},{"$f":"IF(C31=0,\"\",INDEX(Objekt_Text,D31+1,3))","v":""},"","",{"$f":"INDEX(Visum_Liste,F31+1)&\"\"","v":""},"","ZZ",0,0,0,0,0,0,3,"",{"$f":"MIN(IF(W31=$W$9:$W$2128,$E$9:$E$2128))","v":0},{"$f":"MAX(IF(W31=$W$9:$W$2128,$E$9:$E$2128))","v":0},23,1,1,null,null,1,null,"ZZ00000","00ZZ000",null,{"$f":"ABS(OR(C31=0,AND(MaxInput>1,M31=INDEX(FFilter,AO$5))))","v":1},{"$f":"ABS(OR(C31=0,AND(MaxInput>1,N31=INDEX(FFilter,AP$5))))","v":1},{"$f":"ABS(OR(C31=0,AND(MaxInput>1,O31=INDEX(FFilter,AQ$5))))","v":1},null,null,null,null,null,null,null,null,null,null,{"$f":"ROW()","v":31}]
[24,"",null,null,null,null,null,null,null,null,null,null,"",{"$f":"IF(C32=0,\"\",INDEX(Objekt_Text,D32+1,2))","v":""},{"$f":"IF(C32=0,\"\",INDEX(Objekt_Text,D32+1,3))","v":""},"","",{"$f":"INDEX(Visum_Liste,F32+1)&\"\"","v":""},"","ZZ",0,0,0,0,0,0,3,"",{"$f":"MIN(IF(W32=$W$9:$W$2128,$E$9:$E$2128))","v":0},{"$f":"MAX(IF(W32=$W$9:$W$2128,$E$9:$E$2128))","v":0},24,1,1,null,null,1,null,"ZZ00000","00ZZ000",null,{"$f":"ABS(OR(C32=0,AND(MaxInput>1,M32=INDEX(FFilter,AO$5))))","v":1},{"$f":"ABS(OR(C32=0,AND(MaxInput>1,N32=INDEX(FFilter,AP$5))))","v":1},{"$f":"ABS(OR(C32=0,AND(MaxInput>1,O32=INDEX(FFilter,AQ$5))))","v":1},null,null,null,null,null,null,null,null,null,null,{"$f":"ROW()","v":32}]
[25,"",null,null,null,null,null,null,null,null,null,null,"",{"$f":"IF(C33=0,\"\",INDEX(Objekt_Text,D33+1,2))","v":""},{"$f":"IF(C33=0,\"\",INDEX(Objekt_Text,D33+1,3))","v":""},"","",{"$f":"INDEX(Visum_Liste,F33+1)&\"\"","v":""},"","ZZ",0,0,0,0,0,0,3,"",{"$f":"MIN(IF(W33=$W$9:$W$2128,$E$9:$E$2128))","v":0},{"$f":"MAX(IF(W33=$W$9:$W$2128,$E$9:$E$2128))","v":0},25,1,1,null,null,1,null,"ZZ00000","00ZZ000",null,{"$f":"ABS(OR(C33=0,AND(MaxInput>1,M33=INDEX(FFilter,AO$5))))","v":1},{"$f":"ABS(OR(C33=0,AND(MaxInput>1,N33=INDEX(FFilter,AP$5))))","v":1},{"$f":"ABS(OR(C33=0,AND(MaxInput>1,O33=INDEX(FFilter,AQ$5))))","v":1},null,null,null,null,null,null,null,null,null,null,{"$f":"ROW()","v":33}]
[26,"",null,null,null,null,null,null,null,null,null,null,"",{"$f":"IF(C34=0,\"\",INDEX(Objekt_Text,D34+1,2))","v":""},{"$f":"IF(C34=0,\"\",INDEX(Objekt_Text,D34+1,3))","v":""},"","",{"$f":"INDEX(Visum_Liste,F34+1)&\"\"","v":""},"","ZZ",0,0,0,0,0,0,3,"",{"$f":"MIN(IF(W34=$W$9:$W$2128,$E$9:$E$2128))","v":0},{"$f":"MAX(IF(W34=$W$9:$W$2128,$E$9:$E$2128))","v":0},26,1,1,null,null,1,null,"ZZ00000","00ZZ000",null,{"$f":"ABS(OR(C34=0,AND(MaxInput>1,M34=INDEX(FFilter,AO$5))))","v":1},{"$f":"ABS(OR(C34=0,AND(MaxInput>1,N34=INDEX(FFilter,AP$5))))","v":1},{"$f":"ABS(OR(C34=0,AND(MaxInput>1,O34=INDEX(FFilter,AQ$5))))","v":1},null,null,null,null,null,null,null,null,null,null,{"$f":"ROW()","v":34}]
[27,"",null,null,null,null,null,null,null,null,null,null,"",{"$f":"IF(C35=0,\"\",INDEX(Objekt_Text,D35+1,2))","v":""},{"$f":"IF(C35=0,\"\",INDEX(Objekt_Text,D35+1,3))","v":""},"","",{"$f":"INDEX(Visum_Liste,F35+1)&\"\"","v":""},"","ZZ",0,0,0,0,0,0,3,"",{"$f":"MIN(IF(W35=$W$9:$W$2128,$E$9:$E$2128))","v":0},{"$f":"MAX(IF(W35=$W$9:$W$2128,$E$9:$E$2128))","v":0},27,1,1,null,null,1,null,"ZZ00000","00ZZ000",null,{"$f":"ABS(OR(C35=0,AND(MaxInput>1,M35=INDEX(FFilter,AO$5))))","v":1},{"$f":"ABS(OR(C35=0,AND(MaxInput>1,N35=INDEX(FFilter,AP$5))))","v":1},{"$f":"ABS(OR(C35=0,AND(MaxInput>1,O35=INDEX(FFilter,AQ$5))))","v":1},null,null,null,null,null,null,null,null,null,null,{"$f":"ROW()","v":35}]
[28,"",null,null,null,null,null,null,null,null,null,null,"",{"$f":"IF(C36=0,\"\",INDEX(Objekt_Text,D36+1,2))","v":""},{"$f":"IF(C36=0,\"\",INDEX(Objekt_Text,D36+1,3))","v":""},"","",{"$f":"INDEX(Visum_Liste,F36+1)&\"\"","v":""},"","ZZ",0,0,0,0,0,0,3,"",{"$f":"MIN(IF(W36=$W$9:$W$2128,$E$9:$E$2128))","v":0},{"$f":"MAX(IF(W36=$W$9:$W$2128,$E$9:$E$2128))","v":0},28,1,1,null,null,1,null,"ZZ00000","00ZZ000",null,{"$f":"ABS(OR(C36=0,AND(MaxInput>1,M36=INDEX(FFilter,AO$5))))","v":1},{"$f":"ABS(OR(C36=0,AND(MaxInput>1,N36=INDEX(FFilter,AP$5))))","v":1},{"$f":"ABS(OR(C36=0,AND(MaxInput>1,O36=INDEX(FFilter,AQ$5))))","v":1},null,null,null,null,null,null,null,null,null,null,{"$f":"ROW()","v":36}]
[29,"",null,null,null,null,null,null,null,null,null,null,"",{"$f":"IF(C37=0,\"\",INDEX(Objekt_Text,D37+1,2))","v":""},{"$f":"IF(C37=0,\"\",INDEX(Objekt_Text,D37+1,3))","v":""},"","",{"$f":"INDEX(Visum_Liste,F37+1)&\"\"","v":""},"","ZZ",0,0,0,0,0,0,3,"",{"$f":"MIN(IF(W37=$W$9:$W$2128,$E$9:$E$2128))","v":0},{"$f":"MAX(IF(W37=$W$9:$W$2128,$E$9:$E$2128))","v":0},29,1,1,null,null,1,null,"ZZ00000","00ZZ000",null,{"$f":"ABS(OR(C37=0,AND(MaxInput>1,M37=INDEX(FFilter,AO$5))))","v":1},{"$f":"ABS(OR(C37=0,AND(MaxInput>1,N37=INDEX(FFilter,AP$5))))","v":1},{"$f":"ABS(OR(C37=0,AND(MaxInput>1,O37=INDEX(FFilter,AQ$5))))","v":1},null,null,null,null,null,null,null,null,null,null,{"$f":"ROW()","v":37}]
[30,"",null,null,null,null,null,null,null,null,null,null,"",{"$f":"IF(C38=0,\"\",INDEX(Objekt_Text,D38+1,2))","v":""},{"$f":"IF(C38=0,\"\",INDEX(Objekt_Text,D38+1,3))","v":""},"","",{"$f":"INDEX(Visum_Liste,F38+1)&\"\"","v":""},"","ZZ",0,0,0,0,0,0,3,"",{"$f":"MIN(IF(W38=$W$9:$W$2128,$E$9:$E$2128))","v":0},{"$f":"MAX(IF(W38=$W$9:$W$2128,$E$9:$E$2128))","v":0},30,1,1,null,null,1,null,"ZZ00000","00ZZ000",null,{"$f":"ABS(OR(C38=0,AND(MaxInput>1,M38=INDEX(FFilter,AO$5))))","v":1},{"$f":"ABS(OR(C38=0,AND(MaxInput>1,N38=INDEX(FFilter,AP$5))))","v":1},{"$f":"ABS(OR(C38=0,AND(MaxInput>1,O38=INDEX(FFilter,AQ$5))))","v":1},null,null,null,null,null,null,null,null,null,null,{"$f":"ROW()","v":38}]
[31,"",null,null,null,null,null,null,null,null,null,null,"",{"$f":"IF(C39=0,\"\",INDEX(Objekt_Text,D39+1,2))","v":""},{"$f":"IF(C39=0,\"\",INDEX(Objekt_Text,D39+1,3))","v":""},"","",{"$f":"INDEX(Visum_Liste,F39+1)&\"\"","v":""},"","ZZ",0,0,0,0,0,0,3,"",{"$f":"MIN(IF(W39=$W$9:$W$2128,$E$9:$E$2128))","v":0},{"$f":"MAX(IF(W39=$W$9:$W$2128,$E$9:$E$2128))","v":0},31,1,1,null,null,1,null,"ZZ00000","00ZZ000",null,{"$f":"ABS(OR(C39=0,AND(MaxInput>1,M39=INDEX(FFilter,AO$5))))","v":1},{"$f":"ABS(OR(C39=0,AND(MaxInput>1,N39=INDEX(FFilter,AP$5))))","v":1},{"$f":"ABS(OR(C39=0,AND(MaxInput>1,O39=INDEX(FFilter,AQ$5))))","v":1},null,null,null,null,null,null,null,null,null,null,{"$f":"ROW()","v":39}]
[32,"",null,null,null,null,null,null,null,null,null,null,"",{"$f":"IF(C40=0,\"\",INDEX(Objekt_Text,D40+1,2))","v":""},{"$f":"IF(C40=0,\"\",INDEX(Objekt_Text,D40+1,3))","v":""},"","",{"$f":"INDEX(Visum_Liste,F40+1)&\"\"","v":""},"","ZZ",0,0,0,0,0,0,3,"",{"$f":"MIN(IF(W40=$W$9:$W$2128,$E$9:$E$2128))","v":0},{"$f":"MAX(IF(W40=$W$9:$W$2128,$E$9:$E$2128))","v":0},32,1,1,null,null,1,null,"ZZ00000","00ZZ000",null,{"$f":"ABS(OR(C40=0,AND(MaxInput>1,M40=INDEX(FFilter,AO$5))))","v":1},{"$f":"ABS(OR(C40=0,AND(MaxInput>1,N40=INDEX(FFilter,AP$5))))","v":1},{"$f":"ABS(OR(C40=0,AND(MaxInput>1,O40=INDEX(FFilter,AQ$5))))","v":1},null,null,null,null,null,null,null,null,null,null,{"$f":"ROW()","v":40}]
[33,"",null,null,null,null,null,null,null,null,null,null,"",{"$f":"IF(C41=0,\"\",INDEX(Objekt_Text,D41+1,2))","v":""},{"$f":"IF(C41=0,\"\",INDEX(Objekt_Text,D41+1,3))","v":""},"","",{"$f":"INDEX(Visum_Liste,F41+1)&\"\"","v":""},"","ZZ",0,0,0,0,0,0,3,"",{"$f":"MIN(IF(W41=$W$9:$W$2128,$E$9:$E$2128))","v":0},{"$f":"MAX(IF(W41=$W$9:$W$2128,$E$9:$E$2128))","v":0},33,1,1,null,null,1,null,"ZZ00000","00ZZ000",null,{"$f":"ABS(OR(C41=0,AND(MaxInput>1,M41=INDEX(FFilter,AO$5))))","v":1},{"$f":"ABS(OR(C41=0,AND(MaxInput>1,N41=INDEX(FFilter,AP$5))))","v":1},{"$f":"ABS(OR(C41=0,AND(MaxInput>1,O41=INDEX(FFilter,AQ$5))))","v":1},null,null,null,null,null,null,null,null,null,null,{"$f":"ROW()","v":41}]
[34,"",null,null,null,null,null,null,null,null,null,null,"",{"$f":"IF(C42=0,\"\",INDEX(Objekt_Text,D42+1,2))","v":""},{"$f":"IF(C42=0,\"\",INDEX(Objekt_Text,D42+1,3))","v":""},"","",{"$f":"INDEX(Visum_Liste,F42+1)&\"\"","v":""},"","ZZ",0,0,0,0,0,0,3,"",{"$f":"MIN(IF(W42=$W$9:$W$2128,$E$9:$E$2128))","v":0},{"$f":"MAX(IF(W42=$W$9:$W$2128,$E$9:$E$2128))","v":0},34,{"$f":"OR(AL42>AL41,B42=\"\")*1","v":1},{"$f":"OR(AM42>AM41,B42=\"\")*1","v":1},null,null,1,null,"ZZ00000","00ZZ000",null,{"$f":"ABS(OR(C42=0,AND(MaxInput>1,M42=INDEX(FFilter,AO$5))))","v":1},{"$f":"ABS(OR(C42=0,AND(MaxInput>1,N42=INDEX(FFilter,AP$5))))","v":1},{"$f":"ABS(OR(C42=0,AND(MaxInput>1,O42=INDEX(FFilter,AQ$5))))","v":1},null,null,null,null,null,null,null,null,null,null,{"$f":"ROW()","v":42}]
[35,"",null,null,null,null,null,null,null,null,null,null,"",{"$f":"IF(C43=0,\"\",INDEX(Objekt_Text,D43+1,2))","v":""},{"$f":"IF(C43=0,\"\",INDEX(Objekt_Text,D43+1,3))","v":""},"","",{"$f":"INDEX(Visum_Liste,F43+1)&\"\"","v":""},"","ZZ",0,0,0,0,0,0,3,"",{"$f":"MIN(IF(W43=$W$9:$W$2128,$E$9:$E$2128))","v":0},{"$f":"MAX(IF(W43=$W$9:$W$2128,$E$9:$E$2128))","v":0},35,1,1,null,null,1,null,"ZZ00000","00ZZ000",null,{"$f":"ABS(OR(C43=0,AND(MaxInput>1,M43=INDEX(FFilter,AO$5))))","v":1},{"$f":"ABS(OR(C43=0,AND(MaxInput>1,N43=INDEX(FFilter,AP$5))))","v":1},{"$f":"ABS(OR(C43=0,AND(MaxInput>1,O43=INDEX(FFilter,AQ$5))))","v":1},null,null,null,null,null,null,null,null,null,null,{"$f":"ROW()","v":43}]
[36,"",null,null,null,null,null,null,null,null,null,null,"",{"$f":"IF(C44=0,\"\",INDEX(Objekt_Text,D44+1,2))","v":""},{"$f":"IF(C44=0,\"\",INDEX(Objekt_Text,D44+1,3))","v":""},"","",{"$f":"INDEX(Visum_Liste,F44+1)&\"\"","v":""},"","ZZ",0,0,0,0,0,0,3,"",{"$f":"MIN(IF(W44=$W$9:$W$2128,$E$9:$E$2128))","v":0},{"$f":"MAX(IF(W44=$W$9:$W$2128,$E$9:$E$2128))","v":0},36,1,1,null,null,1,null,"ZZ00000","00ZZ000",null,{"$f":"ABS(OR(C44=0,AND(MaxInput>1,M44=INDEX(FFilter,AO$5))))","v":1},{"$f":"ABS(OR(C44=0,AND(MaxInput>1,N44=INDEX(FFilter,AP$5))))","v":1},{"$f":"ABS(OR(C44=0,AND(MaxInput>1,O44=INDEX(FFilter,AQ$5))))","v":1},null,null,null,null,null,null,null,null,null,null,{"$f":"ROW()","v":44}]
[37,"",null,null,null,null,null,null,null,null,null,null,"",{"$f":"IF(C45=0,\"\",INDEX(Objekt_Text,D45+1,2))","v":""},{"$f":"IF(C45=0,\"\",INDEX(Objekt_Text,D45+1,3))","v":""},"","",{"$f":"INDEX(Visum_Liste,F45+1)&\"\"","v":""},"","ZZ",0,0,0,0,0,0,3,"",{"$f":"MIN(IF(W45=$W$9:$W$2128,$E$9:$E$2128))","v":0},{"$f":"MAX(IF(W45=$W$9:$W$2128,$E$9:$E$2128))","v":0},37,1,1,null,null,1,null,"ZZ00000","00ZZ000",null,{"$f":"ABS(OR(C45=0,AND(MaxInput>1,M45=INDEX(FFilter,AO$5))))","v":1},{"$f":"ABS(OR(C45=0,AND(MaxInput>1,N45=INDEX(FFilter,AP$5))))","v":1},{"$f":"ABS(OR(C45=0,AND(MaxInput>1,O45=INDEX(FFilter,AQ$5))))","v":1},null,null,null,null,null,null,null,null,null,null,{"$f":"ROW()","v":45}]
[38,"",null,null,null,null,null,null,null,null,null,null,"",{"$f":"IF(C46=0,\"\",INDEX(Objekt_Text,D46+1,2))","v":""},{"$f":"IF(C46=0,\"\",INDEX(Objekt_Text,D46+1,3))","v":""},"","",{"$f":"INDEX(Visum_Liste,F46+1)&\"\"","v":""},"","ZZ",0,0,0,0,0,0,3,"",{"$f":"MIN(IF(W46=$W$9:$W$2128,$E$9:$E$2128))","v":0},{"$f":"MAX(IF(W46=$W$9:$W$2128,$E$9:$E$2128))","v":0},38,1,1,null,null,1,null,"ZZ00000","00ZZ000",null,{"$f":"ABS(OR(C46=0,AND(MaxInput>1,M46=INDEX(FFilter,AO$5))))","v":1},{"$f":"ABS(OR(C46=0,AND(MaxInput>1,N46=INDEX(FFilter,AP$5))))","v":1},{"$f":"ABS(OR(C46=0,AND(MaxInput>1,O46=INDEX(FFilter,AQ$5))))","v":1},null,null,null,null,null,null,null,null,null,null,{"$f":"ROW()","v":46}]
[39,"",null,null,null,null,null,null,null,null,null,null,"",{"$f":"IF(C47=0,\"\",INDEX(Objekt_Text,D47+1,2))","v":""},{"$f":"IF(C47=0,\"\",INDEX(Objekt_Text,D47+1,3))","v":""},"","",{"$f":"INDEX(Visum_Liste,F47+1)&\"\"","v":""},"","ZZ",0,0,0,0,0,0,3,"",{"$f":"MIN(IF(W47=$W$9:$W$2128,$E$9:$E$2128))","v":0},{"$f":"MAX(IF(W47=$W$9:$W$2128,$E$9:$E$2128))","v":0},39,1,1,null,null,1,null,"ZZ00000","00ZZ000",null,{"$f":"ABS(OR(C47=0,AND(MaxInput>1,M47=INDEX(FFilter,AO$5))))","v":1},{"$f":"ABS(OR(C47=0,AND(MaxInput>1,N47=INDEX(FFilter,AP$5))))","v":1},{"$f":"ABS(OR(C47=0,AND(MaxInput>1,O47=INDEX(FFilter,AQ$5))))","v":1},null,null,null,null,null,null,null,null,null,null,{"$f":"ROW()","v":47}]
[40,"",null,null,null,null,null,null,null,null,null,null,"",{"$f":"IF(C48=0,\"\",INDEX(Objekt_Text,D48+1,2))","v":""},{"$f":"IF(C48=0,\"\",INDEX(Objekt_Text,D48+1,3))","v":""},"","",{"$f":"INDEX(Visum_Liste,F48+1)&\"\"","v":""},"","ZZ",0,0,0,0,0,0,3,"",{"$f":"MIN(IF(W48=$W$9:$W$2128,$E$9:$E$2128))","v":0},{"$f":"MAX(IF(W48=$W$9:$W$2128,$E$9:$E$2128))","v":0},40,1,1,null,null,1,null,"ZZ00000","00ZZ000",null,{"$f":"ABS(OR(C48=0,AND(MaxInput>1,M48=INDEX(FFilter,AO$5))))","v":1},{"$f":"ABS(OR(C48=0,AND(MaxInput>1,N48=INDEX(FFilter,AP$5))))","v":1},{"$f":"ABS(OR(C48=0,AND(MaxInput>1,O48=INDEX(FFilter,AQ$5))))","v":1},null,null,null,null,null,null,null,null,null,null,{"$f":"ROW()","v":48}]
[41,"",null,null,null,null,null,null,null,null,null,null,"",{"$f":"IF(C49=0,\"\",INDEX(Objekt_Text,D49+1,2))","v":""},{"$f":"IF(C49=0,\"\",INDEX(Objekt_Text,D49+1,3))","v":""},"","",{"$f":"INDEX(Visum_Liste,F49+1)&\"\"","v":""},"","ZZ",0,0,0,0,0,0,3,"",{"$f":"MIN(IF(W49=$W$9:$W$2128,$E$9:$E$2128))","v":0},{"$f":"MAX(IF(W49=$W$9:$W$2128,$E$9:$E$2128))","v":0},41,1,1,null,null,1,null,"ZZ00000","00ZZ000",null,{"$f":"ABS(OR(C49=0,AND(MaxInput>1,M49=INDEX(FFilter,AO$5))))","v":1},{"$f":"ABS(OR(C49=0,AND(MaxInput>1,N49=INDEX(FFilter,AP$5))))","v":1},{"$f":"ABS(OR(C49=0,AND(MaxInput>1,O49=INDEX(FFilter,AQ$5))))","v":1},null,null,null,null,null,null,null,null,null,null,{"$f":"ROW()","v":49}]
[42,"",null,null,null,null,null,null,null,null,null,null,"",{"$f":"IF(C50=0,\"\",INDEX(Objekt_Text,D50+1,2))","v":""},{"$f":"IF(C50=0,\"\",INDEX(Objekt_Text,D50+1,3))","v":""},"","",{"$f":"INDEX(Visum_Liste,F50+1)&\"\"","v":""},"","ZZ",0,0,0,0,0,0,3,"",{"$f":"MIN(IF(W50=$W$9:$W$2128,$E$9:$E$2128))","v":0},{"$f":"MAX(IF(W50=$W$9:$W$2128,$E$9:$E$2128))","v":0},42,1,1,null,null,1,null,"ZZ00000","00ZZ000",null,{"$f":"ABS(OR(C50=0,AND(MaxInput>1,M50=INDEX(FFilter,AO$5))))","v":1},{"$f":"ABS(OR(C50=0,AND(MaxInput>1,N50=INDEX(FFilter,AP$5))))","v":1},{"$f":"ABS(OR(C50=0,AND(MaxInput>1,O50=INDEX(FFilter,AQ$5))))","v":1},null,null,null,null,null,null,null,null,null,null,{"$f":"ROW()","v":50}]
[43,"",null,null,null,null,null,null,null,null,null,null,"",{"$f":"IF(C51=0,\"\",INDEX(Objekt_Text,D51+1,2))","v":""},{"$f":"IF(C51=0,\"\",INDEX(Objekt_Text,D51+1,3))","v":""},"","",{"$f":"INDEX(Visum_Liste,F51+1)&\"\"","v":""},"","ZZ",0,0,0,0,0,0,3,"",{"$f":"MIN(IF(W51=$W$9:$W$2128,$E$9:$E$2128))","v":0},{"$f":"MAX(IF(W51=$W$9:$W$2128,$E$9:$E$2128))","v":0},43,1,1,null,null,1,null,"ZZ00000","00ZZ000",null,{"$f":"ABS(OR(C51=0,AND(MaxInput>1,M51=INDEX(FFilter,AO$5))))","v":1},{"$f":"ABS(OR(C51=0,AND(MaxInput>1,N51=INDEX(FFilter,AP$5))))","v":1},{"$f":"ABS(OR(C51=0,AND(MaxInput>1,O51=INDEX(FFilter,AQ$5))))","v":1},null,null,null,null,null,null,null,null,null,null,{"$f":"ROW()","v":51}]
[44,"",null,null,null,null,null,null,null,null,null,null,"",{"$f":"IF(C52=0,\"\",INDEX(Objekt_Text,D52+1,2))","v":""},{"$f":"IF(C52=0,\"\",INDEX(Objekt_Text,D52+1,3))","v":""},"","",{"$f":"INDEX(Visum_Liste,F52+1)&\"\"","v":""},"","ZZ",0,0,0,0,0,0,3,"",{"$f":"MIN(IF(W52=$W$9:$W$2128,$E$9:$E$2128))","v":0},{"$f":"MAX(IF(W52=$W$9:$W$2128,$E$9:$E$2128))","v":0},44,1,1,null,null,1,null,"ZZ00000","00ZZ000",null,{"$f":"ABS(OR(C52=0,AND(MaxInput>1,M52=INDEX(FFilter,AO$5))))","v":1},{"$f":"ABS(OR(C52=0,AND(MaxInput>1,N52=INDEX(FFilter,AP$5))))","v":1},{"$f":"ABS(OR(C52=0,AND(MaxInput>1,O52=INDEX(FFilter,AQ$5))))","v":1},null,null,null,null,null,null,null,null,null,null,{"$f":"ROW()","v":52}]
[45,"",null,null,null,null,null,null,null,null,null,null,"",{"$f":"IF(C53=0,\"\",INDEX(Objekt_Text,D53+1,2))","v":""},{"$f":"IF(C53=0,\"\",INDEX(Objekt_Text,D53+1,3))","v":""},"","",{"$f":"INDEX(Visum_Liste,F53+1)&\"\"","v":""},"","ZZ",0,0,0,0,0,0,3,"",{"$f":"MIN(IF(W53=$W$9:$W$2128,$E$9:$E$2128))","v":0},{"$f":"MAX(IF(W53=$W$9:$W$2128,$E$9:$E$2128))","v":0},45,1,1,null,null,1,null,"ZZ00000","00ZZ000",null,{"$f":"ABS(OR(C53=0,AND(MaxInput>1,M53=INDEX(FFilter,AO$5))))","v":1},{"$f":"ABS(OR(C53=0,AND(MaxInput>1,N53=INDEX(FFilter,AP$5))))","v":1},{"$f":"ABS(OR(C53=0,AND(MaxInput>1,O53=INDEX(FFilter,AQ$5))))","v":1},null,null,null,null,null,null,null,null,null,null,{"$f":"ROW()","v":53}]
[46,"",null,null,null,null,null,null,null,null,null,null,"",{"$f":"IF(C54=0,\"\",INDEX(Objekt_Text,D54+1,2))","v":""},{"$f":"IF(C54=0,\"\",INDEX(Objekt_Text,D54+1,3))","v":""},"","",{"$f":"INDEX(Visum_Liste,F54+1)&\"\"","v":""},"","ZZ",0,0,0,0,0,0,3,"",{"$f":"MIN(IF(W54=$W$9:$W$2128,$E$9:$E$2128))","v":0},{"$f":"MAX(IF(W54=$W$9:$W$2128,$E$9:$E$2128))","v":0},46,1,1,null,null,1,null,"ZZ00000","00ZZ000",null,{"$f":"ABS(OR(C54=0,AND(MaxInput>1,M54=INDEX(FFilter,AO$5))))","v":1},{"$f":"ABS(OR(C54=0,AND(MaxInput>1,N54=INDEX(FFilter,AP$5))))","v":1},{"$f":"ABS(OR(C54=0,AND(MaxInput>1,O54=INDEX(FFilter,AQ$5))))","v":1},null,null,null,null,null,null,null,null,null,null,{"$f":"ROW()","v":54}]
[47,"",null,null,null,null,null,null,null,null,null,null,"",{"$f":"IF(C55=0,\"\",INDEX(Objekt_Text,D55+1,2))","v":""},{"$f":"IF(C55=0,\"\",INDEX(Objekt_Text,D55+1,3))","v":""},"","",{"$f":"INDEX(Visum_Liste,F55+1)&\"\"","v":""},"","ZZ",0,0,0,0,0,0,3,"",{"$f":"MIN(IF(W55=$W$9:$W$2128,$E$9:$E$2128))","v":0},{"$f":"MAX(IF(W55=$W$9:$W$2128,$E$9:$E$2128))","v":0},47,1,1,null,null,1,null,"ZZ00000","00ZZ000",null,{"$f":"ABS(OR(C55=0,AND(MaxInput>1,M55=INDEX(FFilter,AO$5))))","v":1},{"$f":"ABS(OR(C55=0,AND(MaxInput>1,N55=INDEX(FFilter,AP$5))))","v":1},{"$f":"ABS(OR(C55=0,AND(MaxInput>1,O55=INDEX(FFilter,AQ$5))))","v":1},null,null,null,null,null,null,null,null,null,null,{"$f":"ROW()","v":55}]
[48,"",null,null,null,null,null,null,null,null,null,null,"",{"$f":"IF(C56=0,\"\",INDEX(Objekt_Text,D56+1,2))","v":""},{"$f":"IF(C56=0,\"\",INDEX(Objekt_Text,D56+1,3))","v":""},"","",{"$f":"INDEX(Visum_Liste,F56+1)&\"\"","v":""},"","ZZ",0,0,0,0,0,0,3,"",{"$f":"MIN(IF(W56=$W$9:$W$2128,$E$9:$E$2128))","v":0},{"$f":"MAX(IF(W56=$W$9:$W$2128,$E$9:$E$2128))","v":0},48,1,1,null,null,1,null,"ZZ00000","00ZZ000",null,{"$f":"ABS(OR(C56=0,AND(MaxInput>1,M56=INDEX(FFilter,AO$5))))","v":1},{"$f":"ABS(OR(C56=0,AND(MaxInput>1,N56=INDEX(FFilter,AP$5))))","v":1},{"$f":"ABS(OR(C56=0,AND(MaxInput>1,O56=INDEX(FFilter,AQ$5))))","v":1},null,null,null,null,null,null,null,null,null,null,{"$f":"ROW()","v":56}]
[49,"",null,null,null,null,null,null,null,null,null,null,"",{"$f":"IF(C57=0,\"\",INDEX(Objekt_Text,D57+1,2))","v":""},{"$f":"IF(C57=0,\"\",INDEX(Objekt_Text,D57+1,3))","v":""},"","",{"$f":"INDEX(Visum_Liste,F57+1)&\"\"","v":""},"","ZZ",0,0,0,0,0,0,3,"",{"$f":"MIN(IF(W57=$W$9:$W$2128,$E$9:$E$2128))","v":0},{"$f":"MAX(IF(W57=$W$9:$W$2128,$E$9:$E$2128))","v":0},49,1,1,null,null,1,null,"ZZ00000","00ZZ000",null,{"$f":"ABS(OR(C57=0,AND(MaxInput>1,M57=INDEX(FFilter,AO$5))))","v":1},{"$f":"ABS(OR(C57=0,AND(MaxInput>1,N57=INDEX(FFilter,AP$5))))","v":1},{"$f":"ABS(OR(C57=0,AND(MaxInput>1,O57=INDEX(FFilter,AQ$5))))","v":1},null,null,null,null,null,null,null,null,null,null,{"$f":"ROW()","v":57}]
[50,"",null,null,null,null,null,null,null,null,null,null,"",{"$f":"IF(C58=0,\"\",INDEX(Objekt_Text,D58+1,2))","v":""},{"$f":"IF(C58=0,\"\",INDEX(Objekt_Text,D58+1,3))","v":""},"","",{"$f":"INDEX(Visum_Liste,F58+1)&\"\"","v":""},"","ZZ",0,0,0,0,0,0,3,"",{"$f":"MIN(IF(W58=$W$9:$W$2128,$E$9:$E$2128))","v":0},{"$f":"MAX(IF(W58=$W$9:$W$2128,$E$9:$E$2128))","v":0},50,1,1,null,null,1,null,"ZZ00000","00ZZ000",null,{"$f":"ABS(OR(C58=0,AND(MaxInput>1,M58=INDEX(FFilter,AO$5))))","v":1},{"$f":"ABS(OR(C58=0,AND(MaxInput>1,N58=INDEX(FFilter,AP$5))))","v":1},{"$f":"ABS(OR(C58=0,AND(MaxInput>1,O58=INDEX(FFilter,AQ$5))))","v":1},null,null,null,null,null,null,null,null,null,null,{"$f":"ROW()","v":58}]
[51,"",null,null,null,null,null,null,null,null,null,null,"",{"$f":"IF(C59=0,\"\",INDEX(Objekt_Text,D59+1,2))","v":""},{"$f":"IF(C59=0,\"\",INDEX(Objekt_Text,D59+1,3))","v":""},"","",{"$f":"INDEX(Visum_Liste,F59+1)&\"\"","v":""},"","ZZ",0,0,0,0,0,0,3,"",{"$f":"MIN(IF(W59=$W$9:$W$2128,$E$9:$E$2128))","v":0},{"$f":"MAX(IF(W59=$W$9:$W$2128,$E$9:$E$2128))","v":0},51,1,1,null,null,1,null,"ZZ00000","00ZZ000",null,{"$f":"ABS(OR(C59=0,AND(MaxInput>1,M59=INDEX(FFilter,AO$5))))","v":1},{"$f":"ABS(OR(C59=0,AND(MaxInput>1,N59=INDEX(FFilter,AP$5))))","v":1},{"$f":"ABS(OR(C59=0,AND(MaxInput>1,O59=INDEX(FFilter,AQ$5))))","v":1},null,null,null,null,null,null,null,null,null,null,{"$f":"ROW()","v":59}]
[52,"",null,null,null,null,null,null,null,null,null,null,"",{"$f":"IF(C60=0,\"\",INDEX(Objekt_Text,D60+1,2))","v":""},{"$f":"IF(C60=0,\"\",INDEX(Objekt_Text,D60+1,3))","v":""},"","",{"$f":"INDEX(Visum_Liste,F60+1)&\"\"","v":""},"","ZZ",0,0,0,0,0,0,3,"",{"$f":"MIN(IF(W60=$W$9:$W$2128,$E$9:$E$2128))","v":0},{"$f":"MAX(IF(W60=$W$9:$W$2128,$E$9:$E$2128))","v":0},52,1,1,null,null,1,null,"ZZ00000","00ZZ000",null,{"$f":"ABS(OR(C60=0,AND(MaxInput>1,M60=INDEX(FFilter,AO$5))))","v":1},{"$f":"ABS(OR(C60=0,AND(MaxInput>1,N60=INDEX(FFilter,AP$5))))","v":1},{"$f":"ABS(OR(C60=0,AND(MaxInput>1,O60=INDEX(FFilter,AQ$5))))","v":1},null,null,null,null,null,null,null,null,null,null,{"$f":"ROW()","v":60}]
[53,"",null,null,null,null,null,null,null,null,null,null,"",{"$f":"IF(C61=0,\"\",INDEX(Objekt_Text,D61+1,2))","v":""},{"$f":"IF(C61=0,\"\",INDEX(Objekt_Text,D61+1,3))","v":""},"","",{"$f":"INDEX(Visum_Liste,F61+1)&\"\"","v":""},"","ZZ",0,0,0,0,0,0,3,"",{"$f":"MIN(IF(W61=$W$9:$W$2128,$E$9:$E$2128))","v":0},{"$f":"MAX(IF(W61=$W$9:$W$2128,$E$9:$E$2128))","v":0},53,1,1,null,null,1,null,"ZZ00000","00ZZ000",null,{"$f":"ABS(OR(C61=0,AND(MaxInput>1,M61=INDEX(FFilter,AO$5))))","v":1},{"$f":"ABS(OR(C61=0,AND(MaxInput>1,N61=INDEX(FFilter,AP$5))))","v":1},{"$f":"ABS(OR(C61=0,AND(MaxInput>1,O61=INDEX(FFilter,AQ$5))))","v":1},null,null,null,null,null,null,null,null,null,null,{"$f":"ROW()","v":61}]
[54,"",null,null,null,null,null,null,null,null,null,null,"",{"$f":"IF(C62=0,\"\",INDEX(Objekt_Text,D62+1,2))","v":""},{"$f":"IF(C62=0,\"\",INDEX(Objekt_Text,D62+1,3))","v":""},"","",{"$f":"INDEX(Visum_Liste,F62+1)&\"\"","v":""},"","ZZ",0,0,0,0,0,0,3,"",{"$f":"MIN(IF(W62=$W$9:$W$2128,$E$9:$E$2128))","v":0},{"$f":"MAX(IF(W62=$W$9:$W$2128,$E$9:$E$2128))","v":0},54,1,1,null,null,1,null,"ZZ00000","00ZZ000",null,{"$f":"ABS(OR(C62=0,AND(MaxInput>1,M62=INDEX(FFilter,AO$5))))","v":1},{"$f":"ABS(OR(C62=0,AND(MaxInput>1,N62=INDEX(FFilter,AP$5))))","v":1},{"$f":"ABS(OR(C62=0,AND(MaxInput>1,O62=INDEX(FFilter,AQ$5))))","v":1},null,null,null,null,null,null,null,null,null,null,{"$f":"ROW()","v":62}]
[55,"",null,null,null,null,null,null,null,null,null,null,"",{"$f":"IF(C63=0,\"\",INDEX(Objekt_Text,D63+1,2))","v":""},{"$f":"IF(C63=0,\"\",INDEX(Objekt_Text,D63+1,3))","v":""},"","",{"$f":"INDEX(Visum_Liste,F63+1)&\"\"","v":""},"","ZZ",0,0,0,0,0,0,3,"",{"$f":"MIN(IF(W63=$W$9:$W$2128,$E$9:$E$2128))","v":0},{"$f":"MAX(IF(W63=$W$9:$W$2128,$E$9:$E$2128))","v":0},55,1,1,null,null,1,null,"ZZ00000","00ZZ000",null,{"$f":"ABS(OR(C63=0,AND(MaxInput>1,M63=INDEX(FFilter,AO$5))))","v":1},{"$f":"ABS(OR(C63=0,AND(MaxInput>1,N63=INDEX(FFilter,AP$5))))","v":1},{"$f":"ABS(OR(C63=0,AND(MaxInput>1,O63=INDEX(FFilter,AQ$5))))","v":1},null,null,null,null,null,null,null,null,null,null,{"$f":"ROW()","v":63}]
[56,"",null,null,null,null,null,null,null,null,null,null,"",{"$f":"IF(C64=0,\"\",INDEX(Objekt_Text,D64+1,2))","v":""},{"$f":"IF(C64=0,\"\",INDEX(Objekt_Text,D64+1,3))","v":""},"","",{"$f":"INDEX(Visum_Liste,F64+1)&\"\"","v":""},"","ZZ",0,0,0,0,0,0,3,"",{"$f":"MIN(IF(W64=$W$9:$W$2128,$E$9:$E$2128))","v":0},{"$f":"MAX(IF(W64=$W$9:$W$2128,$E$9:$E$2128))","v":0},56,1,1,null,null,1,null,"ZZ00000","00ZZ000",null,{"$f":"ABS(OR(C64=0,AND(MaxInput>1,M64=INDEX(FFilter,AO$5))))","v":1},{"$f":"ABS(OR(C64=0,AND(MaxInput>1,N64=INDEX(FFilter,AP$5))))","v":1},{"$f":"ABS(OR(C64=0,AND(MaxInput>1,O64=INDEX(FFilter,AQ$5))))","v":1},null,null,null,null,null,null,null,null,null,null,{"$f":"ROW()","v":64}]
[57,"",null,null,null,null,null,null,null,null,null,null,"",{"$f":"IF(C65=0,\"\",INDEX(Objekt_Text,D65+1,2))","v":""},{"$f":"IF(C65=0,\"\",INDEX(Objekt_Text,D65+1,3))","v":""},"","",{"$f":"INDEX(Visum_Liste,F65+1)&\"\"","v":""},"","ZZ",0,0,0,0,0,0,3,"",{"$f":"MIN(IF(W65=$W$9:$W$2128,$E$9:$E$2128))","v":0},{"$f":"MAX(IF(W65=$W$9:$W$2128,$E$9:$E$2128))","v":0},57,1,1,null,null,1,null,"ZZ00000","00ZZ000",null,{"$f":"ABS(OR(C65=0,AND(MaxInput>1,M65=INDEX(FFilter,AO$5))))","v":1},{"$f":"ABS(OR(C65=0,AND(MaxInput>1,N65=INDEX(FFilter,AP$5))))","v":1},{"$f":"ABS(OR(C65=0,AND(MaxInput>1,O65=INDEX(FFilter,AQ$5))))","v":1},null,null,null,null,null,null,null,null,null,null,{"$f":"ROW()","v":65}]
[58,"",null,null,null,null,null,null,null,null,null,null,"",{"$f":"IF(C66=0,\"\",INDEX(Objekt_Text,D66+1,2))","v":""},{"$f":"IF(C66=0,\"\",INDEX(Objekt_Text,D66+1,3))","v":""},"","",{"$f":"INDEX(Visum_Liste,F66+1)&\"\"","v":""},"","ZZ",0,0,0,0,0,0,3,"",{"$f":"MIN(IF(W66=$W$9:$W$2128,$E$9:$E$2128))","v":0},{"$f":"MAX(IF(W66=$W$9:$W$2128,$E$9:$E$2128))","v":0},58,1,1,null,null,1,null,"ZZ00000","00ZZ000",null,{"$f":"ABS(OR(C66=0,AND(MaxInput>1,M66=INDEX(FFilter,AO$5))))","v":1},{"$f":"ABS(OR(C66=0,AND(MaxInput>1,N66=INDEX(FFilter,AP$5))))","v":1},{"$f":"ABS(OR(C66=0,AND(MaxInput>1,O66=INDEX(FFilter,AQ$5))))","v":1},null,null,null,null,null,null,null,null,null,null,{"$f":"ROW()","v":66}]
[59,"",null,null,null,null,null,null,null,null,null,null,"",{"$f":"IF(C67=0,\"\",INDEX(Objekt_Text,D67+1,2))","v":""},{"$f":"IF(C67=0,\"\",INDEX(Objekt_Text,D67+1,3))","v":""},"","",{"$f":"INDEX(Visum_Liste,F67+1)&\"\"","v":""},"","ZZ",0,0,0,0,0,0,3,"",{"$f":"MIN(IF(W67=$W$9:$W$2128,$E$9:$E$2128))","v":0},{"$f":"MAX(IF(W67=$W$9:$W$2128,$E$9:$E$2128))","v":0},59,1,1,null,null,1,null,"ZZ00000","00ZZ000",null,{"$f":"ABS(OR(C67=0,AND(MaxInput>1,M67=INDEX(FFilter,AO$5))))","v":1},{"$f":"ABS(OR(C67=0,AND(MaxInput>1,N67=INDEX(FFilter,AP$5))))","v":1},{"$f":"ABS(OR(C67=0,AND(MaxInput>1,O67=INDEX(FFilter,AQ$5))))","v":1},null,null,null,null,null,null,null,null,null,null,{"$f":"ROW()","v":67}]
[60,"",null,null,null,null,null,null,null,null,null,null,"",{"$f":"IF(C68=0,\"\",INDEX(Objekt_Text,D68+1,2))","v":""},{"$f":"IF(C68=0,\"\",INDEX(Objekt_Text,D68+1,3))","v":""},"","",{"$f":"INDEX(Visum_Liste,F68+1)&\"\"","v":""},"","ZZ",0,0,0,0,0,0,3,"",{"$f":"MIN(IF(W68=$W$9:$W$2128,$E$9:$E$2128))","v":0},{"$f":"MAX(IF(W68=$W$9:$W$2128,$E$9:$E$2128))","v":0},60,1,1,null,null,1,null,"ZZ00000","00ZZ000",null,{"$f":"ABS(OR(C68=0,AND(MaxInput>1,M68=INDEX(FFilter,AO$5))))","v":1},{"$f":"ABS(OR(C68=0,AND(MaxInput>1,N68=INDEX(FFilter,AP$5))))","v":1},{"$f":"ABS(OR(C68=0,AND(MaxInput>1,O68=INDEX(FFilter,AQ$5))))","v":1},null,null,null,null,null,null,null,null,null,null,{"$f":"ROW()","v":68}]
[61,"",null,null,null,null,null,null,null,null,null,null,"",{"$f":"IF(C69=0,\"\",INDEX(Objekt_Text,D69+1,2))","v":""},{"$f":"IF(C69=0,\"\",INDEX(Objekt_Text,D69+1,3))","v":""},"","",{"$f":"INDEX(Visum_Liste,F69+1)&\"\"","v":""},"","ZZ",0,0,0,0,0,0,3,"",{"$f":"MIN(IF(W69=$W$9:$W$2128,$E$9:$E$2128))","v":0},{"$f":"MAX(IF(W69=$W$9:$W$2128,$E$9:$E$2128))","v":0},61,1,1,null,null,1,null,"ZZ00000","00ZZ000",null,{"$f":"ABS(OR(C69=0,AND(MaxInput>1,M69=INDEX(FFilter,AO$5))))","v":1},{"$f":"ABS(OR(C69=0,AND(MaxInput>1,N69=INDEX(FFilter,AP$5))))","v":1},{"$f":"ABS(OR(C69=0,AND(MaxInput>1,O69=INDEX(FFilter,AQ$5))))","v":1},null,null,null,null,null,null,null,null,null,null,{"$f":"ROW()","v":69}]
[62,"",null,null,null,null,null,null,null,null,null,null,"",{"$f":"IF(C70=0,\"\",INDEX(Objekt_Text,D70+1,2))","v":""},{"$f":"IF(C70=0,\"\",INDEX(Objekt_Text,D70+1,3))","v":""},"","",{"$f":"INDEX(Visum_Liste,F70+1)&\"\"","v":""},"","ZZ",0,0,0,0,0,0,3,"",{"$f":"MIN(IF(W70=$W$9:$W$2128,$E$9:$E$2128))","v":0},{"$f":"MAX(IF(W70=$W$9:$W$2128,$E$9:$E$2128))","v":0},62,1,1,null,null,1,null,"ZZ00000","00ZZ000",null,{"$f":"ABS(OR(C70=0,AND(MaxInput>1,M70=INDEX(FFilter,AO$5))))","v":1},{"$f":"ABS(OR(C70=0,AND(MaxInput>1,N70=INDEX(FFilter,AP$5))))","v":1},{"$f":"ABS(OR(C70=0,AND(MaxInput>1,O70=INDEX(FFilter,AQ$5))))","v":1},null,null,null,null,null,null,null,null,null,null,{"$f":"ROW()","v":70}]
[63,"",null,null,null,null,null,null,null,null,null,null,"",{"$f":"IF(C71=0,\"\",INDEX(Objekt_Text,D71+1,2))","v":""},{"$f":"IF(C71=0,\"\",INDEX(Objekt_Text,D71+1,3))","v":""},"","",{"$f":"INDEX(Visum_Liste,F71+1)&\"\"","v":""},"","ZZ",0,0,0,0,0,0,3,"",{"$f":"MIN(IF(W71=$W$9:$W$2128,$E$9:$E$2128))","v":0},{"$f":"MAX(IF(W71=$W$9:$W$2128,$E$9:$E$2128))","v":0},63,1,1,null,null,1,null,"ZZ00000","00ZZ000",null,{"$f":"ABS(OR(C71=0,AND(MaxInput>1,M71=INDEX(FFilter,AO$5))))","v":1},{"$f":"ABS(OR(C71=0,AND(MaxInput>1,N71=INDEX(FFilter,AP$5))))","v":1},{"$f":"ABS(OR(C71=0,AND(MaxInput>1,O71=INDEX(FFilter,AQ$5))))","v":1},null,null,null,null,null,null,null,null,null,null,{"$f":"ROW()","v":71}]
[64,"",null,null,null,null,null,null,null,null,null,null,"",{"$f":"IF(C72=0,\"\",INDEX(Objekt_Text,D72+1,2))","v":""},{"$f":"IF(C72=0,\"\",INDEX(Objekt_Text,D72+1,3))","v":""},"","",{"$f":"INDEX(Visum_Liste,F72+1)&\"\"","v":""},"","ZZ",0,0,0,0,0,0,3,"",{"$f":"MIN(IF(W72=$W$9:$W$2128,$E$9:$E$2128))","v":0},{"$f":"MAX(IF(W72=$W$9:$W$2128,$E$9:$E$2128))","v":0},64,1,1,null,null,1,null,"ZZ00000","00ZZ000",null,{"$f":"ABS(OR(C72=0,AND(MaxInput>1,M72=INDEX(FFilter,AO$5))))","v":1},{"$f":"ABS(OR(C72=0,AND(MaxInput>1,N72=INDEX(FFilter,AP$5))))","v":1},{"$f":"ABS(OR(C72=0,AND(MaxInput>1,O72=INDEX(FFilter,AQ$5))))","v":1},null,null,null,null,null,null,null,null,null,null,{"$f":"ROW()","v":72}]
[65,{"$f":"IF(C73>0,ROW()-8,\"\")","v":""},null,null,null,null,null,null,null,null,null,null,{"$f":"IF(C73=0,\"\",IFERROR(VLOOKUP($C73,SLTabelle,cSLName,FALSE),\"\"))","v":""},{"$f":"IF(C73=0,\"\",INDEX(Objekt_Text,D73+1,2))","v":""},{"$f":"IF(C73=0,\"\",INDEX(Objekt_Text,D73+1,3))","v":""},{"$f":"IF($H73=\"\",\"\",$H73)","v":""},{"$f":"IF($I73=\"\",\"\",$I73)","v":""},{"$f":"INDEX(Visum_Liste,F73+1)&\"\"","v":""},{"$f":"IF($J73=\"\",\"\",$J73)","v":""},{"$f":"IF(M73=\"\",\"ZZ\",M73)","v":"ZZ"},{"$f":"IF(C73>0,COUNTIF($W$9:$W$2128,W73),0)","v":0},{"$f":"SUMIFS($E$9:$E$2128,$W$9:$W$2128,W73)","v":0},{"$f":"C73*100+D73","v":0},{"$f":"AND(C73>0,E73=AD73)*1","v":0},{"$f":"(COUNT(P73:Q73)=2)*1","v":0},{"$f":"F73*10+X73","v":0},{"$f":"IF(X73=0,3,X73*F73)","v":3},{"$f":"IF(OR((C73>0),ROW()<LastRow+8),\"A\",\"\")","v":""},{"$f":"MIN(IF(W73=$W$9:$W$2128,$E$9:$E$2128))","v":0},{"$f":"MAX(IF(W73=$W$9:$W$2128,$E$9:$E$2128))","v":0},65,1,1,null,null,1,null,{"$f":"T73&TEXT(D73,\"00\")&TEXT(E73,\"000\")","v":"ZZ00000"},{"$f":"TEXT(D73,\"00\")&T73&TEXT(E73,\"000\")","v":"00ZZ000"},null,{"$f":"ABS(OR(C73=0,AND(MaxInput>1,M73=INDEX(FFilter,AO$5))))","v":1},{"$f":"ABS(OR(C73=0,AND(MaxInput>1,N73=INDEX(FFilter,AP$5))))","v":1},{"$f":"ABS(OR(C73=0,AND(MaxInput>1,O73=INDEX(FFilter,AQ$5))))","v":1},null,null,null,null,null,null,null,null,null,null,{"$f":"ROW()","v":73}]
[66,"",null,null,null,null,null,null,null,null,null,null,"",{"$f":"IF(C74=0,\"\",INDEX(Objekt_Text,D74+1,2))","v":""},{"$f":"IF(C74=0,\"\",INDEX(Objekt_Text,D74+1,3))","v":""},"","",{"$f":"INDEX(Visum_Liste,F74+1)&\"\"","v":""},"","ZZ",0,0,0,0,0,0,3,"",{"$f":"MIN(IF(W74=$W$9:$W$2128,$E$9:$E$2128))","v":0},{"$f":"MAX(IF(W74=$W$9:$W$2128,$E$9:$E$2128))","v":0},66,{"$f":"OR(AL74>AL73,B74=\"\")*1","v":1},{"$f":"OR(AM74>AM73,B74=\"\")*1","v":1},null,null,{"$f":"OR(L74<=L73,B74=\"\")*1","v":1},null,"ZZ00000","00ZZ000",null,{"$f":"ABS(OR(C74=0,AND(MaxInput>1,M74=INDEX(FFilter,AO$5))))","v":1},{"$f":"ABS(OR(C74=0,AND(MaxInput>1,N74=INDEX(FFilter,AP$5))))","v":1},{"$f":"ABS(OR(C74=0,AND(MaxInput>1,O74=INDEX(FFilter,AQ$5))))","v":1},null,null,null,null,null,null,null,null,null,null,{"$f":"ROW()","v":74}]
[67,"",null,null,null,null,null,null,null,null,null,null,"",{"$f":"IF(C75=0,\"\",INDEX(Objekt_Text,D75+1,2))","v":""},{"$f":"IF(C75=0,\"\",INDEX(Objekt_Text,D75+1,3))","v":""},"","",{"$f":"INDEX(Visum_Liste,F75+1)&\"\"","v":""},"","ZZ",0,0,0,0,0,0,3,"",{"$f":"MIN(IF(W75=$W$9:$W$2128,$E$9:$E$2128))","v":0},{"$f":"MAX(IF(W75=$W$9:$W$2128,$E$9:$E$2128))","v":0},67,1,1,null,null,1,null,"ZZ00000","00ZZ000",null,{"$f":"ABS(OR(C75=0,AND(MaxInput>1,M75=INDEX(FFilter,AO$5))))","v":1},{"$f":"ABS(OR(C75=0,AND(MaxInput>1,N75=INDEX(FFilter,AP$5))))","v":1},{"$f":"ABS(OR(C75=0,AND(MaxInput>1,O75=INDEX(FFilter,AQ$5))))","v":1},null,null,null,null,null,null,null,null,null,null,{"$f":"ROW()","v":75}]
[68,"",null,null,null,null,null,null,null,null,null,null,"",{"$f":"IF(C76=0,\"\",INDEX(Objekt_Text,D76+1,2))","v":""},{"$f":"IF(C76=0,\"\",INDEX(Objekt_Text,D76+1,3))","v":""},"","",{"$f":"INDEX(Visum_Liste,F76+1)&\"\"","v":""},"","ZZ",0,0,0,0,0,0,3,"",{"$f":"MIN(IF(W76=$W$9:$W$2128,$E$9:$E$2128))","v":0},{"$f":"MAX(IF(W76=$W$9:$W$2128,$E$9:$E$2128))","v":0},68,1,1,null,null,1,null,"ZZ00000","00ZZ000",null,{"$f":"ABS(OR(C76=0,AND(MaxInput>1,M76=INDEX(FFilter,AO$5))))","v":1},{"$f":"ABS(OR(C76=0,AND(MaxInput>1,N76=INDEX(FFilter,AP$5))))","v":1},{"$f":"ABS(OR(C76=0,AND(MaxInput>1,O76=INDEX(FFilter,AQ$5))))","v":1},null,null,null,null,null,null,null,null,null,null,{"$f":"ROW()","v":76}]
[69,"",null,null,null,null,null,null,null,null,null,null,"",{"$f":"IF(C77=0,\"\",INDEX(Objekt_Text,D77+1,2))","v":""},{"$f":"IF(C77=0,\"\",INDEX(Objekt_Text,D77+1,3))","v":""},"","",{"$f":"INDEX(Visum_Liste,F77+1)&\"\"","v":""},"","ZZ",0,0,0,0,0,0,3,"",{"$f":"MIN(IF(W77=$W$9:$W$2128,$E$9:$E$2128))","v":0},{"$f":"MAX(IF(W77=$W$9:$W$2128,$E$9:$E$2128))","v":0},69,1,1,null,null,1,null,"ZZ00000","00ZZ000",null,{"$f":"ABS(OR(C77=0,AND(MaxInput>1,M77=INDEX(FFilter,AO$5))))","v":1},{"$f":"ABS(OR(C77=0,AND(MaxInput>1,N77=INDEX(FFilter,AP$5))))","v":1},{"$f":"ABS(OR(C77=0,AND(MaxInput>1,O77=INDEX(FFilter,AQ$5))))","v":1},null,null,null,null,null,null,null,null,null,null,{"$f":"ROW()","v":77}]
[70,"",null,null,null,null,null,null,null,null,null,null,"",{"$f":"IF(C78=0,\"\",INDEX(Objekt_Text,D78+1,2))","v":""},{"$f":"IF(C78=0,\"\",INDEX(Objekt_Text,D78+1,3))","v":""},"","",{"$f":"INDEX(Visum_Liste,F78+1)&\"\"","v":""},"","ZZ",0,0,0,0,0,0,3,"",{"$f":"MIN(IF(W78=$W$9:$W$2128,$E$9:$E$2128))","v":0},{"$f":"MAX(IF(W78=$W$9:$W$2128,$E$9:$E$2128))","v":0},70,1,1,null,null,1,null,"ZZ00000","00ZZ000",null,{"$f":"ABS(OR(C78=0,AND(MaxInput>1,M78=INDEX(FFilter,AO$5))))","v":1},{"$f":"ABS(OR(C78=0,AND(MaxInput>1,N78=INDEX(FFilter,AP$5))))","v":1},{"$f":"ABS(OR(C78=0,AND(MaxInput>1,O78=INDEX(FFilter,AQ$5))))","v":1},null,null,null,null,null,null,null,null,null,null,{"$f":"ROW()","v":78}]
[71,"",null,null,null,null,null,null,null,null,null,null,"",{"$f":"IF(C79=0,\"\",INDEX(Objekt_Text,D79+1,2))","v":""},{"$f":"IF(C79=0,\"\",INDEX(Objekt_Text,D79+1,3))","v":""},"","",{"$f":"INDEX(Visum_Liste,F79+1)&\"\"","v":""},"","ZZ",0,0,0,0,0,0,3,"",{"$f":"MIN(IF(W79=$W$9:$W$2128,$E$9:$E$2128))","v":0},{"$f":"MAX(IF(W79=$W$9:$W$2128,$E$9:$E$2128))","v":0},71,1,1,null,null,1,null,"ZZ00000","00ZZ000",null,{"$f":"ABS(OR(C79=0,AND(MaxInput>1,M79=INDEX(FFilter,AO$5))))","v":1},{"$f":"ABS(OR(C79=0,AND(MaxInput>1,N79=INDEX(FFilter,AP$5))))","v":1},{"$f":"ABS(OR(C79=0,AND(MaxInput>1,O79=INDEX(FFilter,AQ$5))))","v":1},null,null,null,null,null,null,null,null,null,null,{"$f":"ROW()","v":79}]
[72,"",null,null,null,null,null,null,null,null,null,null,"",{"$f":"IF(C80=0,\"\",INDEX(Objekt_Text,D80+1,2))","v":""},{"$f":"IF(C80=0,\"\",INDEX(Objekt_Text,D80+1,3))","v":""},"","",{"$f":"INDEX(Visum_Liste,F80+1)&\"\"","v":""},"","ZZ",0,0,0,0,0,0,3,"",{"$f":"MIN(IF(W80=$W$9:$W$2128,$E$9:$E$2128))","v":0},{"$f":"MAX(IF(W80=$W$9:$W$2128,$E$9:$E$2128))","v":0},72,1,1,null,null,1,null,"ZZ00000","00ZZ000",null,{"$f":"ABS(OR(C80=0,AND(MaxInput>1,M80=INDEX(FFilter,AO$5))))","v":1},{"$f":"ABS(OR(C80=0,AND(MaxInput>1,N80=INDEX(FFilter,AP$5))))","v":1},{"$f":"ABS(OR(C80=0,AND(MaxInput>1,O80=INDEX(FFilter,AQ$5))))","v":1},null,null,null,null,null,null,null,null,null,null,{"$f":"ROW()","v":80}]
[73,"",null,null,null,null,null,null,null,null,null,null,"",{"$f":"IF(C81=0,\"\",INDEX(Objekt_Text,D81+1,2))","v":""},{"$f":"IF(C81=0,\"\",INDEX(Objekt_Text,D81+1,3))","v":""},"","",{"$f":"INDEX(Visum_Liste,F81+1)&\"\"","v":""},"","ZZ",0,0,0,0,0,0,3,"",{"$f":"MIN(IF(W81=$W$9:$W$2128,$E$9:$E$2128))","v":0},{"$f":"MAX(IF(W81=$W$9:$W$2128,$E$9:$E$2128))","v":0},73,1,1,null,null,1,null,"ZZ00000","00ZZ000",null,{"$f":"ABS(OR(C81=0,AND(MaxInput>1,M81=INDEX(FFilter,AO$5))))","v":1},{"$f":"ABS(OR(C81=0,AND(MaxInput>1,N81=INDEX(FFilter,AP$5))))","v":1},{"$f":"ABS(OR(C81=0,AND(MaxInput>1,O81=INDEX(FFilter,AQ$5))))","v":1},null,null,null,null,null,null,null,null,null,null,{"$f":"ROW()","v":81}]
[74,"",null,null,null,null,null,null,null,null,null,null,"",{"$f":"IF(C82=0,\"\",INDEX(Objekt_Text,D82+1,2))","v":""},{"$f":"IF(C82=0,\"\",INDEX(Objekt_Text,D82+1,3))","v":""},"","",{"$f":"INDEX(Visum_Liste,F82+1)&\"\"","v":""},"","ZZ",0,0,0,0,0,0,3,"",{"$f":"MIN(IF(W82=$W$9:$W$2128,$E$9:$E$2128))","v":0},{"$f":"MAX(IF(W82=$W$9:$W$2128,$E$9:$E$2128))","v":0},74,1,1,null,null,1,null,"ZZ00000","00ZZ000",null,{"$f":"ABS(OR(C82=0,AND(MaxInput>1,M82=INDEX(FFilter,AO$5))))","v":1},{"$f":"ABS(OR(C82=0,AND(MaxInput>1,N82=INDEX(FFilter,AP$5))))","v":1},{"$f":"ABS(OR(C82=0,AND(MaxInput>1,O82=INDEX(FFilter,AQ$5))))","v":1},null,null,null,null,null,null,null,null,null,null,{"$f":"ROW()","v":82}]
[75,"",null,null,null,null,null,null,null,null,null,null,"",{"$f":"IF(C83=0,\"\",INDEX(Objekt_Text,D83+1,2))","v":""},{"$f":"IF(C83=0,\"\",INDEX(Objekt_Text,D83+1,3))","v":""},"","",{"$f":"INDEX(Visum_Liste,F83+1)&\"\"","v":""},"","ZZ",0,0,0,0,0,0,3,"",{"$f":"MIN(IF(W83=$W$9:$W$2128,$E$9:$E$2128))","v":0},{"$f":"MAX(IF(W83=$W$9:$W$2128,$E$9:$E$2128))","v":0},75,1,1,null,null,1,null,"ZZ00000","00ZZ000",null,{"$f":"ABS(OR(C83=0,AND(MaxInput>1,M83=INDEX(FFilter,AO$5))))","v":1},{"$f":"ABS(OR(C83=0,AND(MaxInput>1,N83=INDEX(FFilter,AP$5))))","v":1},{"$f":"ABS(OR(C83=0,AND(MaxInput>1,O83=INDEX(FFilter,AQ$5))))","v":1},null,null,null,null,null,null,null,null,null,null,{"$f":"ROW()","v":83}]
[76,"",null,null,null,null,null,null,null,null,null,null,"",{"$f":"IF(C84=0,\"\",INDEX(Objekt_Text,D84+1,2))","v":""},{"$f":"IF(C84=0,\"\",INDEX(Objekt_Text,D84+1,3))","v":""},"","",{"$f":"INDEX(Visum_Liste,F84+1)&\"\"","v":""},"","ZZ",0,0,0,0,0,0,3,"",{"$f":"MIN(IF(W84=$W$9:$W$2128,$E$9:$E$2128))","v":0},{"$f":"MAX(IF(W84=$W$9:$W$2128,$E$9:$E$2128))","v":0},76,1,1,null,null,1,null,"ZZ00000","00ZZ000",null,{"$f":"ABS(OR(C84=0,AND(MaxInput>1,M84=INDEX(FFilter,AO$5))))","v":1},{"$f":"ABS(OR(C84=0,AND(MaxInput>1,N84=INDEX(FFilter,AP$5))))","v":1},{"$f":"ABS(OR(C84=0,AND(MaxInput>1,O84=INDEX(FFilter,AQ$5))))","v":1},null,null,null,null,null,null,null,null,null,null,{"$f":"ROW()","v":84}]
[77,"",null,null,null,null,null,null,null,null,null,null,"",{"$f":"IF(C85=0,\"\",INDEX(Objekt_Text,D85+1,2))","v":""},{"$f":"IF(C85=0,\"\",INDEX(Objekt_Text,D85+1,3))","v":""},"","",{"$f":"INDEX(Visum_Liste,F85+1)&\"\"","v":""},"","ZZ",0,0,0,0,0,0,3,"",{"$f":"MIN(IF(W85=$W$9:$W$2128,$E$9:$E$2128))","v":0},{"$f":"MAX(IF(W85=$W$9:$W$2128,$E$9:$E$2128))","v":0},77,1,1,null,null,1,null,"ZZ00000","00ZZ000",null,{"$f":"ABS(OR(C85=0,AND(MaxInput>1,M85=INDEX(FFilter,AO$5))))","v":1},{"$f":"ABS(OR(C85=0,AND(MaxInput>1,N85=INDEX(FFilter,AP$5))))","v":1},{"$f":"ABS(OR(C85=0,AND(MaxInput>1,O85=INDEX(FFilter,AQ$5))))","v":1},null,null,null,null,null,null,null,null,null,null,{"$f":"ROW()","v":85}]
[78,"",null,null,null,null,null,null,null,null,null,null,"",{"$f":"IF(C86=0,\"\",INDEX(Objekt_Text,D86+1,2))","v":""},{"$f":"IF(C86=0,\"\",INDEX(Objekt_Text,D86+1,3))","v":""},"","",{"$f":"INDEX(Visum_Liste,F86+1)&\"\"","v":""},"","ZZ",0,0,0,0,0,0,3,"",{"$f":"MIN(IF(W86=$W$9:$W$2128,$E$9:$E$2128))","v":0},{"$f":"MAX(IF(W86=$W$9:$W$2128,$E$9:$E$2128))","v":0},78,1,1,null,null,1,null,"ZZ00000","00ZZ000",null,{"$f":"ABS(OR(C86=0,AND(MaxInput>1,M86=INDEX(FFilter,AO$5))))","v":1},{"$f":"ABS(OR(C86=0,AND(MaxInput>1,N86=INDEX(FFilter,AP$5))))","v":1},{"$f":"ABS(OR(C86=0,AND(MaxInput>1,O86=INDEX(FFilter,AQ$5))))","v":1},null,null,null,null,null,null,null,null,null,null,{"$f":"ROW()","v":86}]
[79,"",null,null,null,null,null,null,null,null,null,null,"",{"$f":"IF(C87=0,\"\",INDEX(Objekt_Text,D87+1,2))","v":""},{"$f":"IF(C87=0,\"\",INDEX(Objekt_Text,D87+1,3))","v":""},"","",{"$f":"INDEX(Visum_Liste,F87+1)&\"\"","v":""},"","ZZ",0,0,0,0,0,0,3,"",{"$f":"MIN(IF(W87=$W$9:$W$2128,$E$9:$E$2128))","v":0},{"$f":"MAX(IF(W87=$W$9:$W$2128,$E$9:$E$2128))","v":0},79,1,1,null,null,1,null,"ZZ00000","00ZZ000",null,{"$f":"ABS(OR(C87=0,AND(MaxInput>1,M87=INDEX(FFilter,AO$5))))","v":1},{"$f":"ABS(OR(C87=0,AND(MaxInput>1,N87=INDEX(FFilter,AP$5))))","v":1},{"$f":"ABS(OR(C87=0,AND(MaxInput>1,O87=INDEX(FFilter,AQ$5))))","v":1},null,null,null,null,null,null,null,null,null,null,{"$f":"ROW()","v":87}]
[80,"",null,null,null,null,null,null,null,null,null,null,"",{"$f":"IF(C88=0,\"\",INDEX(Objekt_Text,D88+1,2))","v":""},{"$f":"IF(C88=0,\"\",INDEX(Objekt_Text,D88+1,3))","v":""},"","",{"$f":"INDEX(Visum_Liste,F88+1)&\"\"","v":""},"","ZZ",0,0,0,0,0,0,3,"",{"$f":"MIN(IF(W88=$W$9:$W$2128,$E$9:$E$2128))","v":0},{"$f":"MAX(IF(W88=$W$9:$W$2128,$E$9:$E$2128))","v":0},80,1,1,null,null,1,null,"ZZ00000","00ZZ000",null,{"$f":"ABS(OR(C88=0,AND(MaxInput>1,M88=INDEX(FFilter,AO$5))))","v":1},{"$f":"ABS(OR(C88=0,AND(MaxInput>1,N88=INDEX(FFilter,AP$5))))","v":1},{"$f":"ABS(OR(C88=0,AND(MaxInput>1,O88=INDEX(FFilter,AQ$5))))","v":1},null,null,null,null,null,null,null,null,null,null,{"$f":"ROW()","v":88}]
[81,"",null,null,null,null,null,null,null,null,null,null,"",{"$f":"IF(C89=0,\"\",INDEX(Objekt_Text,D89+1,2))","v":""},{"$f":"IF(C89=0,\"\",INDEX(Objekt_Text,D89+1,3))","v":""},"","",{"$f":"INDEX(Visum_Liste,F89+1)&\"\"","v":""},"","ZZ",0,0,0,0,0,0,3,"",{"$f":"MIN(IF(W89=$W$9:$W$2128,$E$9:$E$2128))","v":0},{"$f":"MAX(IF(W89=$W$9:$W$2128,$E$9:$E$2128))","v":0},81,1,1,null,null,1,null,"ZZ00000","00ZZ000",null,{"$f":"ABS(OR(C89=0,AND(MaxInput>1,M89=INDEX(FFilter,AO$5))))","v":1},{"$f":"ABS(OR(C89=0,AND(MaxInput>1,N89=INDEX(FFilter,AP$5))))","v":1},{"$f":"ABS(OR(C89=0,AND(MaxInput>1,O89=INDEX(FFilter,AQ$5))))","v":1},null,null,null,null,null,null,null,null,null,null,{"$f":"ROW()","v":89}]
[82,"",null,null,null,null,null,null,null,null,null,null,"",{"$f":"IF(C90=0,\"\",INDEX(Objekt_Text,D90+1,2))","v":""},{"$f":"IF(C90=0,\"\",INDEX(Objekt_Text,D90+1,3))","v":""},"","",{"$f":"INDEX(Visum_Liste,F90+1)&\"\"","v":""},"","ZZ",0,0,0,0,0,0,3,"",{"$f":"MIN(IF(W90=$W$9:$W$2128,$E$9:$E$2128))","v":0},{"$f":"MAX(IF(W90=$W$9:$W$2128,$E$9:$E$2128))","v":0},82,1,1,null,null,1,null,"ZZ00000","00ZZ000",null,{"$f":"ABS(OR(C90=0,AND(MaxInput>1,M90=INDEX(FFilter,AO$5))))","v":1},{"$f":"ABS(OR(C90=0,AND(MaxInput>1,N90=INDEX(FFilter,AP$5))))","v":1},{"$f":"ABS(OR(C90=0,AND(MaxInput>1,O90=INDEX(FFilter,AQ$5))))","v":1},null,null,null,null,null,null,null,null,null,null,{"$f":"ROW()","v":90}]
[83,"",null,null,null,null,null,null,null,null,null,null,"",{"$f":"IF(C91=0,\"\",INDEX(Objekt_Text,D91+1,2))","v":""},{"$f":"IF(C91=0,\"\",INDEX(Objekt_Text,D91+1,3))","v":""},"","",{"$f":"INDEX(Visum_Liste,F91+1)&\"\"","v":""},"","ZZ",0,0,0,0,0,0,3,"",{"$f":"MIN(IF(W91=$W$9:$W$2128,$E$9:$E$2128))","v":0},{"$f":"MAX(IF(W91=$W$9:$W$2128,$E$9:$E$2128))","v":0},83,1,1,null,null,1,null,"ZZ00000","00ZZ000",null,{"$f":"ABS(OR(C91=0,AND(MaxInput>1,M91=INDEX(FFilter,AO$5))))","v":1},{"$f":"ABS(OR(C91=0,AND(MaxInput>1,N91=INDEX(FFilter,AP$5))))","v":1},{"$f":"ABS(OR(C91=0,AND(MaxInput>1,O91=INDEX(FFilter,AQ$5))))","v":1},null,null,null,null,null,null,null,null,null,null,{"$f":"ROW()","v":91}]
[84,"",null,null,null,null,null,null,null,null,null,null,"",{"$f":"IF(C92=0,\"\",INDEX(Objekt_Text,D92+1,2))","v":""},{"$f":"IF(C92=0,\"\",INDEX(Objekt_Text,D92+1,3))","v":""},"","",{"$f":"INDEX(Visum_Liste,F92+1)&\"\"","v":""},"","ZZ",0,0,0,0,0,0,3,"",{"$f":"MIN(IF(W92=$W$9:$W$2128,$E$9:$E$2128))","v":0},{"$f":"MAX(IF(W92=$W$9:$W$2128,$E$9:$E$2128))","v":0},84,1,1,null,null,1,null,"ZZ00000","00ZZ000",null,{"$f":"ABS(OR(C92=0,AND(MaxInput>1,M92=INDEX(FFilter,AO$5))))","v":1},{"$f":"ABS(OR(C92=0,AND(MaxInput>1,N92=INDEX(FFilter,AP$5))))","v":1},{"$f":"ABS(OR(C92=0,AND(MaxInput>1,O92=INDEX(FFilter,AQ$5))))","v":1},null,null,null,null,null,null,null,null,null,null,{"$f":"ROW()","v":92}]
[85,"",null,null,null,null,null,null,null,null,null,null,"",{"$f":"IF(C93=0,\"\",INDEX(Objekt_Text,D93+1,2))","v":""},{"$f":"IF(C93=0,\"\",INDEX(Objekt_Text,D93+1,3))","v":""},"","",{"$f":"INDEX(Visum_Liste,F93+1)&\"\"","v":""},"","ZZ",0,0,0,0,0,0,3,"",{"$f":"MIN(IF(W93=$W$9:$W$2128,$E$9:$E$2128))","v":0},{"$f":"MAX(IF(W93=$W$9:$W$2128,$E$9:$E$2128))","v":0},85,1,1,null,null,1,null,"ZZ00000","00ZZ000",null,{"$f":"ABS(OR(C93=0,AND(MaxInput>1,M93=INDEX(FFilter,AO$5))))","v":1},{"$f":"ABS(OR(C93=0,AND(MaxInput>1,N93=INDEX(FFilter,AP$5))))","v":1},{"$f":"ABS(OR(C93=0,AND(MaxInput>1,O93=INDEX(FFilter,AQ$5))))","v":1},null,null,null,null,null,null,null,null,null,null,{"$f":"ROW()","v":93}]
[86,"",null,null,null,null,null,null,null,null,null,null,"",{"$f":"IF(C94=0,\"\",INDEX(Objekt_Text,D94+1,2))","v":""},{"$f":"IF(C94=0,\"\",INDEX(Objekt_Text,D94+1,3))","v":""},"","",{"$f":"INDEX(Visum_Liste,F94+1)&\"\"","v":""},"","ZZ",0,0,0,0,0,0,3,"",{"$f":"MIN(IF(W94=$W$9:$W$2128,$E$9:$E$2128))","v":0},{"$f":"MAX(IF(W94=$W$9:$W$2128,$E$9:$E$2128))","v":0},86,1,1,null,null,1,null,"ZZ00000","00ZZ000",null,{"$f":"ABS(OR(C94=0,AND(MaxInput>1,M94=INDEX(FFilter,AO$5))))","v":1},{"$f":"ABS(OR(C94=0,AND(MaxInput>1,N94=INDEX(FFilter,AP$5))))","v":1},{"$f":"ABS(OR(C94=0,AND(MaxInput>1,O94=INDEX(FFilter,AQ$5))))","v":1},null,null,null,null,null,null,null,null,null,null,{"$f":"ROW()","v":94}]
[87,"",null,null,null,null,null,null,null,null,null,null,"",{"$f":"IF(C95=0,\"\",INDEX(Objekt_Text,D95+1,2))","v":""},{"$f":"IF(C95=0,\"\",INDEX(Objekt_Text,D95+1,3))","v":""},"","",{"$f":"INDEX(Visum_Liste,F95+1)&\"\"","v":""},"","ZZ",0,0,0,0,0,0,3,"",{"$f":"MIN(IF(W95=$W$9:$W$2128,$E$9:$E$2128))","v":0},{"$f":"MAX(IF(W95=$W$9:$W$2128,$E$9:$E$2128))","v":0},87,1,1,null,null,1,null,"ZZ00000","00ZZ000",null,{"$f":"ABS(OR(C95=0,AND(MaxInput>1,M95=INDEX(FFilter,AO$5))))","v":1},{"$f":"ABS(OR(C95=0,AND(MaxInput>1,N95=INDEX(FFilter,AP$5))))","v":1},{"$f":"ABS(OR(C95=0,AND(MaxInput>1,O95=INDEX(FFilter,AQ$5))))","v":1},null,null,null,null,null,null,null,null,null,null,{"$f":"ROW()","v":95}]
[88,"",null,null,null,null,null,null,null,null,null,null,"",{"$f":"IF(C96=0,\"\",INDEX(Objekt_Text,D96+1,2))","v":""},{"$f":"IF(C96=0,\"\",INDEX(Objekt_Text,D96+1,3))","v":""},"","",{"$f":"INDEX(Visum_Liste,F96+1)&\"\"","v":""},"","ZZ",0,0,0,0,0,0,3,"",{"$f":"MIN(IF(W96=$W$9:$W$2128,$E$9:$E$2128))","v":0},{"$f":"MAX(IF(W96=$W$9:$W$2128,$E$9:$E$2128))","v":0},88,1,1,null,null,1,null,"ZZ00000","00ZZ000",null,{"$f":"ABS(OR(C96=0,AND(MaxInput>1,M96=INDEX(FFilter,AO$5))))","v":1},{"$f":"ABS(OR(C96=0,AND(MaxInput>1,N96=INDEX(FFilter,AP$5))))","v":1},{"$f":"ABS(OR(C96=0,AND(MaxInput>1,O96=INDEX(FFilter,AQ$5))))","v":1},null,null,null,null,null,null,null,null,null,null,{"$f":"ROW()","v":96}]
[89,"",null,null,null,null,null,null,null,null,null,null,"",{"$f":"IF(C97=0,\"\",INDEX(Objekt_Text,D97+1,2))","v":""},{"$f":"IF(C97=0,\"\",INDEX(Objekt_Text,D97+1,3))","v":""},"","",{"$f":"INDEX(Visum_Liste,F97+1)&\"\"","v":""},"","ZZ",0,0,0,0,0,0,3,"",{"$f":"MIN(IF(W97=$W$9:$W$2128,$E$9:$E$2128))","v":0},{"$f":"MAX(IF(W97=$W$9:$W$2128,$E$9:$E$2128))","v":0},89,1,1,null,null,1,null,"ZZ00000","00ZZ000",null,{"$f":"ABS(OR(C97=0,AND(MaxInput>1,M97=INDEX(FFilter,AO$5))))","v":1},{"$f":"ABS(OR(C97=0,AND(MaxInput>1,N97=INDEX(FFilter,AP$5))))","v":1},{"$f":"ABS(OR(C97=0,AND(MaxInput>1,O97=INDEX(FFilter,AQ$5))))","v":1},null,null,null,null,null,null,null,null,null,null,{"$f":"ROW()","v":97}]
[90,"",null,null,null,null,null,null,null,null,null,null,"",{"$f":"IF(C98=0,\"\",INDEX(Objekt_Text,D98+1,2))","v":""},{"$f":"IF(C98=0,\"\",INDEX(Objekt_Text,D98+1,3))","v":""},"","",{"$f":"INDEX(Visum_Liste,F98+1)&\"\"","v":""},"","ZZ",0,0,0,0,0,0,3,"",{"$f":"MIN(IF(W98=$W$9:$W$2128,$E$9:$E$2128))","v":0},{"$f":"MAX(IF(W98=$W$9:$W$2128,$E$9:$E$2128))","v":0},90,1,1,null,null,1,null,"ZZ00000","00ZZ000",null,{"$f":"ABS(OR(C98=0,AND(MaxInput>1,M98=INDEX(FFilter,AO$5))))","v":1},{"$f":"ABS(OR(C98=0,AND(MaxInput>1,N98=INDEX(FFilter,AP$5))))","v":1},{"$f":"ABS(OR(C98=0,AND(MaxInput>1,O98=INDEX(FFilter,AQ$5))))","v":1},null,null,null,null,null,null,null,null,null,null,{"$f":"ROW()","v":98}]
[91,"",null,null,null,null,null,null,null,null,null,null,"",{"$f":"IF(C99=0,\"\",INDEX(Objekt_Text,D99+1,2))","v":""},{"$f":"IF(C99=0,\"\",INDEX(Objekt_Text,D99+1,3))","v":""},"","",{"$f":"INDEX(Visum_Liste,F99+1)&\"\"","v":""},"","ZZ",0,0,0,0,0,0,3,"",{"$f":"MIN(IF(W99=$W$9:$W$2128,$E$9:$E$2128))","v":0},{"$f":"MAX(IF(W99=$W$9:$W$2128,$E$9:$E$2128))","v":0},91,1,1,null,null,1,null,"ZZ00000","00ZZ000",null,{"$f":"ABS(OR(C99=0,AND(MaxInput>1,M99=INDEX(FFilter,AO$5))))","v":1},{"$f":"ABS(OR(C99=0,AND(MaxInput>1,N99=INDEX(FFilter,AP$5))))","v":1},{"$f":"ABS(OR(C99=0,AND(MaxInput>1,O99=INDEX(FFilter,AQ$5))))","v":1},null,null,null,null,null,null,null,null,null,null,{"$f":"ROW()","v":99}]
[92,"",null,null,null,null,null,null,null,null,null,null,"",{"$f":"IF(C100=0,\"\",INDEX(Objekt_Text,D100+1,2))","v":""},{"$f":"IF(C100=0,\"\",INDEX(Objekt_Text,D100+1,3))","v":""},"","",{"$f":"INDEX(Visum_Liste,F100+1)&\"\"","v":""},"","ZZ",0,0,0,0,0,0,3,"",{"$f":"MIN(IF(W100=$W$9:$W$2128,$E$9:$E$2128))","v":0},{"$f":"MAX(IF(W100=$W$9:$W$2128,$E$9:$E$2128))","v":0},92,1,1,null,null,1,null,"ZZ00000","00ZZ000",null,{"$f":"ABS(OR(C100=0,AND(MaxInput>1,M100=INDEX(FFilter,AO$5))))","v":1},{"$f":"ABS(OR(C100=0,AND(MaxInput>1,N100=INDEX(FFilter,AP$5))))","v":1},{"$f":"ABS(OR(C100=0,AND(MaxInput>1,O100=INDEX(FFilter,AQ$5))))","v":1},null,null,null,null,null,null,null,null,null,null,{"$f":"ROW()","v":100}]
[93,"",null,null,null,null,null,null,null,null,null,null,"",{"$f":"IF(C101=0,\"\",INDEX(Objekt_Text,D101+1,2))","v":""},{"$f":"IF(C101=0,\"\",INDEX(Objekt_Text,D101+1,3))","v":""},"","",{"$f":"INDEX(Visum_Liste,F101+1)&\"\"","v":""},"","ZZ",0,0,0,0,0,0,3,"",{"$f":"MIN(IF(W101=$W$9:$W$2128,$E$9:$E$2128))","v":0},{"$f":"MAX(IF(W101=$W$9:$W$2128,$E$9:$E$2128))","v":0},93,1,1,null,null,1,null,"ZZ00000","00ZZ000",null,{"$f":"ABS(OR(C101=0,AND(MaxInput>1,M101=INDEX(FFilter,AO$5))))","v":1},{"$f":"ABS(OR(C101=0,AND(MaxInput>1,N101=INDEX(FFilter,AP$5))))","v":1},{"$f":"ABS(OR(C101=0,AND(MaxInput>1,O101=INDEX(FFilter,AQ$5))))","v":1},null,null,null,null,null,null,null,null,null,null,{"$f":"ROW()","v":101}]
[94,"",null,null,null,null,null,null,null,null,null,null,"",{"$f":"IF(C102=0,\"\",INDEX(Objekt_Text,D102+1,2))","v":""},{"$f":"IF(C102=0,\"\",INDEX(Objekt_Text,D102+1,3))","v":""},"","",{"$f":"INDEX(Visum_Liste,F102+1)&\"\"","v":""},"","ZZ",0,0,0,0,0,0,3,"",{"$f":"MIN(IF(W102=$W$9:$W$2128,$E$9:$E$2128))","v":0},{"$f":"MAX(IF(W102=$W$9:$W$2128,$E$9:$E$2128))","v":0},94,1,1,null,null,1,null,"ZZ00000","00ZZ000",null,{"$f":"ABS(OR(C102=0,AND(MaxInput>1,M102=INDEX(FFilter,AO$5))))","v":1},{"$f":"ABS(OR(C102=0,AND(MaxInput>1,N102=INDEX(FFilter,AP$5))))","v":1},{"$f":"ABS(OR(C102=0,AND(MaxInput>1,O102=INDEX(FFilter,AQ$5))))","v":1},null,null,null,null,null,null,null,null,null,null,{"$f":"ROW()","v":102}]
[95,"",null,null,null,null,null,null,null,null,null,null,"",{"$f":"IF(C103=0,\"\",INDEX(Objekt_Text,D103+1,2))","v":""},{"$f":"IF(C103=0,\"\",INDEX(Objekt_Text,D103+1,3))","v":""},"","",{"$f":"INDEX(Visum_Liste,F103+1)&\"\"","v":""},"","ZZ",0,0,0,0,0,0,3,"",{"$f":"MIN(IF(W103=$W$9:$W$2128,$E$9:$E$2128))","v":0},{"$f":"MAX(IF(W103=$W$9:$W$2128,$E$9:$E$2128))","v":0},95,1,1,null,null,1,null,"ZZ00000","00ZZ000",null,{"$f":"ABS(OR(C103=0,AND(MaxInput>1,M103=INDEX(FFilter,AO$5))))","v":1},{"$f":"ABS(OR(C103=0,AND(MaxInput>1,N103=INDEX(FFilter,AP$5))))","v":1},{"$f":"ABS(OR(C103=0,AND(MaxInput>1,O103=INDEX(FFilter,AQ$5))))","v":1},null,null,null,null,null,null,null,null,null,null,{"$f":"ROW()","v":103}]
[96,"",null,null,null,null,null,null,null,null,null,null,"",{"$f":"IF(C104=0,\"\",INDEX(Objekt_Text,D104+1,2))","v":""},{"$f":"IF(C104=0,\"\",INDEX(Objekt_Text,D104+1,3))","v":""},"","",{"$f":"INDEX(Visum_Liste,F104+1)&\"\"","v":""},"","ZZ",0,0,0,0,0,0,3,"",{"$f":"MIN(IF(W104=$W$9:$W$2128,$E$9:$E$2128))","v":0},{"$f":"MAX(IF(W104=$W$9:$W$2128,$E$9:$E$2128))","v":0},96,1,1,null,null,1,null,"ZZ00000","00ZZ000",null,{"$f":"ABS(OR(C104=0,AND(MaxInput>1,M104=INDEX(FFilter,AO$5))))","v":1},{"$f":"ABS(OR(C104=0,AND(MaxInput>1,N104=INDEX(FFilter,AP$5))))","v":1},{"$f":"ABS(OR(C104=0,AND(MaxInput>1,O104=INDEX(FFilter,AQ$5))))","v":1},null,null,null,null,null,null,null,null,null,null,{"$f":"ROW()","v":104}]
[97,"",null,null,null,null,null,null,null,null,null,null,"",{"$f":"IF(C105=0,\"\",INDEX(Objekt_Text,D105+1,2))","v":""},{"$f":"IF(C105=0,\"\",INDEX(Objekt_Text,D105+1,3))","v":""},"","",{"$f":"INDEX(Visum_Liste,F105+1)&\"\"","v":""},"","ZZ",0,0,0,0,0,0,3,"",{"$f":"MIN(IF(W105=$W$9:$W$2128,$E$9:$E$2128))","v":0},{"$f":"MAX(IF(W105=$W$9:$W$2128,$E$9:$E$2128))","v":0},97,1,1,null,null,1,null,"ZZ00000","00ZZ000",null,{"$f":"ABS(OR(C105=0,AND(MaxInput>1,M105=INDEX(FFilter,AO$5))))","v":1},{"$f":"ABS(OR(C105=0,AND(MaxInput>1,N105=INDEX(FFilter,AP$5))))","v":1},{"$f":"ABS(OR(C105=0,AND(MaxInput>1,O105=INDEX(FFilter,AQ$5))))","v":1},null,null,null,null,null,null,null,null,null,null,{"$f":"ROW()","v":105}]
[98,"",null,null,null,null,null,null,null,null,null,null,"",{"$f":"IF(C106=0,\"\",INDEX(Objekt_Text,D106+1,2))","v":""},{"$f":"IF(C106=0,\"\",INDEX(Objekt_Text,D106+1,3))","v":""},"","",{"$f":"INDEX(Visum_Liste,F106+1)&\"\"","v":""},"","ZZ",0,0,0,0,0,0,3,"",{"$f":"MIN(IF(W106=$W$9:$W$2128,$E$9:$E$2128))","v":0},{"$f":"MAX(IF(W106=$W$9:$W$2128,$E$9:$E$2128))","v":0},98,{"$f":"OR(AL106>AL105,B106=\"\")*1","v":1},{"$f":"OR(AM106>AM105,B106=\"\")*1","v":1},null,null,1,null,"ZZ00000","00ZZ000",null,{"$f":"ABS(OR(C106=0,AND(MaxInput>1,M106=INDEX(FFilter,AO$5))))","v":1},{"$f":"ABS(OR(C106=0,AND(MaxInput>1,N106=INDEX(FFilter,AP$5))))","v":1},{"$f":"ABS(OR(C106=0,AND(MaxInput>1,O106=INDEX(FFilter,AQ$5))))","v":1},null,null,null,null,null,null,null,null,null,null,{"$f":"ROW()","v":106}]
[99,"",null,null,null,null,null,null,null,null,null,null,"",{"$f":"IF(C107=0,\"\",INDEX(Objekt_Text,D107+1,2))","v":""},{"$f":"IF(C107=0,\"\",INDEX(Objekt_Text,D107+1,3))","v":""},"","",{"$f":"INDEX(Visum_Liste,F107+1)&\"\"","v":""},"","ZZ",0,0,0,0,0,0,3,"",{"$f":"MIN(IF(W107=$W$9:$W$2128,$E$9:$E$2128))","v":0},{"$f":"MAX(IF(W107=$W$9:$W$2128,$E$9:$E$2128))","v":0},99,1,1,null,null,1,null,"ZZ00000","00ZZ000",null,{"$f":"ABS(OR(C107=0,AND(MaxInput>1,M107=INDEX(FFilter,AO$5))))","v":1},{"$f":"ABS(OR(C107=0,AND(MaxInput>1,N107=INDEX(FFilter,AP$5))))","v":1},{"$f":"ABS(OR(C107=0,AND(MaxInput>1,O107=INDEX(FFilter,AQ$5))))","v":1},null,null,null,null,null,null,null,null,null,null,{"$f":"ROW()","v":107}]
[100,"",null,null,null,null,null,null,null,null,null,null,"",{"$f":"IF(C108=0,\"\",INDEX(Objekt_Text,D108+1,2))","v":""},{"$f":"IF(C108=0,\"\",INDEX(Objekt_Text,D108+1,3))","v":""},"","",{"$f":"INDEX(Visum_Liste,F108+1)&\"\"","v":""},"","ZZ",0,0,0,0,0,0,3,"",{"$f":"MIN(IF(W108=$W$9:$W$2128,$E$9:$E$2128))","v":0},{"$f":"MAX(IF(W108=$W$9:$W$2128,$E$9:$E$2128))","v":0},100,1,1,null,null,1,null,"ZZ00000","00ZZ000",null,{"$f":"ABS(OR(C108=0,AND(MaxInput>1,M108=INDEX(FFilter,AO$5))))","v":1},{"$f":"ABS(OR(C108=0,AND(MaxInput>1,N108=INDEX(FFilter,AP$5))))","v":1},{"$f":"ABS(OR(C108=0,AND(MaxInput>1,O108=INDEX(FFilter,AQ$5))))","v":1},null,null,null,null,null,null,null,null,null,null,{"$f":"ROW()","v":108}]
[101,"",null,null,null,null,null,null,null,null,null,null,"",{"$f":"IF(C109=0,\"\",INDEX(Objekt_Text,D109+1,2))","v":""},{"$f":"IF(C109=0,\"\",INDEX(Objekt_Text,D109+1,3))","v":""},"","",{"$f":"INDEX(Visum_Liste,F109+1)&\"\"","v":""},"","ZZ",0,0,0,0,0,0,3,"",{"$f":"MIN(IF(W109=$W$9:$W$2128,$E$9:$E$2128))","v":0},{"$f":"MAX(IF(W109=$W$9:$W$2128,$E$9:$E$2128))","v":0},101,1,1,null,null,1,null,"ZZ00000","00ZZ000",null,{"$f":"ABS(OR(C109=0,AND(MaxInput>1,M109=INDEX(FFilter,AO$5))))","v":1},{"$f":"ABS(OR(C109=0,AND(MaxInput>1,N109=INDEX(FFilter,AP$5))))","v":1},{"$f":"ABS(OR(C109=0,AND(MaxInput>1,O109=INDEX(FFilter,AQ$5))))","v":1},null,null,null,null,null,null,null,null,null,null,{"$f":"ROW()","v":109}]
[102,"",null,null,null,null,null,null,null,null,null,null,"",{"$f":"IF(C110=0,\"\",INDEX(Objekt_Text,D110+1,2))","v":""},{"$f":"IF(C110=0,\"\",INDEX(Objekt_Text,D110+1,3))","v":""},"","",{"$f":"INDEX(Visum_Liste,F110+1)&\"\"","v":""},"","ZZ",0,0,0,0,0,0,3,"",{"$f":"MIN(IF(W110=$W$9:$W$2128,$E$9:$E$2128))","v":0},{"$f":"MAX(IF(W110=$W$9:$W$2128,$E$9:$E$2128))","v":0},102,1,1,null,null,1,null,"ZZ00000","00ZZ000",null,{"$f":"ABS(OR(C110=0,AND(MaxInput>1,M110=INDEX(FFilter,AO$5))))","v":1},{"$f":"ABS(OR(C110=0,AND(MaxInput>1,N110=INDEX(FFilter,AP$5))))","v":1},{"$f":"ABS(OR(C110=0,AND(MaxInput>1,O110=INDEX(FFilter,AQ$5))))","v":1},null,null,null,null,null,null,null,null,null,null,{"$f":"ROW()","v":110}]
[103,"",null,null,null,null,null,null,null,null,null,null,"",{"$f":"IF(C111=0,\"\",INDEX(Objekt_Text,D111+1,2))","v":""},{"$f":"IF(C111=0,\"\",INDEX(Objekt_Text,D111+1,3))","v":""},"","",{"$f":"INDEX(Visum_Liste,F111+1)&\"\"","v":""},"","ZZ",0,0,0,0,0,0,3,"",{"$f":"MIN(IF(W111=$W$9:$W$2128,$E$9:$E$2128))","v":0},{"$f":"MAX(IF(W111=$W$9:$W$2128,$E$9:$E$2128))","v":0},103,1,1,null,null,1,null,"ZZ00000","00ZZ000",null,{"$f":"ABS(OR(C111=0,AND(MaxInput>1,M111=INDEX(FFilter,AO$5))))","v":1},{"$f":"ABS(OR(C111=0,AND(MaxInput>1,N111=INDEX(FFilter,AP$5))))","v":1},{"$f":"ABS(OR(C111=0,AND(MaxInput>1,O111=INDEX(FFilter,AQ$5))))","v":1},null,null,null,null,null,null,null,null,null,null,{"$f":"ROW()","v":111}]
[104,"",null,null,null,null,null,null,null,null,null,null,"",{"$f":"IF(C112=0,\"\",INDEX(Objekt_Text,D112+1,2))","v":""},{"$f":"IF(C112=0,\"\",INDEX(Objekt_Text,D112+1,3))","v":""},"","",{"$f":"INDEX(Visum_Liste,F112+1)&\"\"","v":""},"","ZZ",0,0,0,0,0,0,3,"",{"$f":"MIN(IF(W112=$W$9:$W$2128,$E$9:$E$2128))","v":0},{"$f":"MAX(IF(W112=$W$9:$W$2128,$E$9:$E$2128))","v":0},104,1,1,null,null,1,null,"ZZ00000","00ZZ000",null,{"$f":"ABS(OR(C112=0,AND(MaxInput>1,M112=INDEX(FFilter,AO$5))))","v":1},{"$f":"ABS(OR(C112=0,AND(MaxInput>1,N112=INDEX(FFilter,AP$5))))","v":1},{"$f":"ABS(OR(C112=0,AND(MaxInput>1,O112=INDEX(FFilter,AQ$5))))","v":1},null,null,null,null,null,null,null,null,null,null,{"$f":"ROW()","v":112}]
[105,"",null,null,null,null,null,null,null,null,null,null,"",{"$f":"IF(C113=0,\"\",INDEX(Objekt_Text,D113+1,2))","v":""},{"$f":"IF(C113=0,\"\",INDEX(Objekt_Text,D113+1,3))","v":""},"","",{"$f":"INDEX(Visum_Liste,F113+1)&\"\"","v":""},"","ZZ",0,0,0,0,0,0,3,"",{"$f":"MIN(IF(W113=$W$9:$W$2128,$E$9:$E$2128))","v":0},{"$f":"MAX(IF(W113=$W$9:$W$2128,$E$9:$E$2128))","v":0},105,1,1,null,null,1,null,"ZZ00000","00ZZ000",null,{"$f":"ABS(OR(C113=0,AND(MaxInput>1,M113=INDEX(FFilter,AO$5))))","v":1},{"$f":"ABS(OR(C113=0,AND(MaxInput>1,N113=INDEX(FFilter,AP$5))))","v":1},{"$f":"ABS(OR(C113=0,AND(MaxInput>1,O113=INDEX(FFilter,AQ$5))))","v":1},null,null,null,null,null,null,null,null,null,null,{"$f":"ROW()","v":113}]
[106,"",null,null,null,null,null,null,null,null,null,null,"",{"$f":"IF(C114=0,\"\",INDEX(Objekt_Text,D114+1,2))","v":""},{"$f":"IF(C114=0,\"\",INDEX(Objekt_Text,D114+1,3))","v":""},"","",{"$f":"INDEX(Visum_Liste,F114+1)&\"\"","v":""},"","ZZ",0,0,0,0,0,0,3,"",{"$f":"MIN(IF(W114=$W$9:$W$2128,$E$9:$E$2128))","v":0},{"$f":"MAX(IF(W114=$W$9:$W$2128,$E$9:$E$2128))","v":0},106,1,1,null,null,1,null,"ZZ00000","00ZZ000",null,{"$f":"ABS(OR(C114=0,AND(MaxInput>1,M114=INDEX(FFilter,AO$5))))","v":1},{"$f":"ABS(OR(C114=0,AND(MaxInput>1,N114=INDEX(FFilter,AP$5))))","v":1},{"$f":"ABS(OR(C114=0,AND(MaxInput>1,O114=INDEX(FFilter,AQ$5))))","v":1},null,null,null,null,null,null,null,null,null,null,{"$f":"ROW()","v":114}]
[107,"",null,null,null,null,null,null,null,null,null,null,"",{"$f":"IF(C115=0,\"\",INDEX(Objekt_Text,D115+1,2))","v":""},{"$f":"IF(C115=0,\"\",INDEX(Objekt_Text,D115+1,3))","v":""},"","",{"$f":"INDEX(Visum_Liste,F115+1)&\"\"","v":""},"","ZZ",0,0,0,0,0,0,3,"",{"$f":"MIN(IF(W115=$W$9:$W$2128,$E$9:$E$2128))","v":0},{"$f":"MAX(IF(W115=$W$9:$W$2128,$E$9:$E$2128))","v":0},107,1,1,null,null,1,null,"ZZ00000","00ZZ000",null,{"$f":"ABS(OR(C115=0,AND(MaxInput>1,M115=INDEX(FFilter,AO$5))))","v":1},{"$f":"ABS(OR(C115=0,AND(MaxInput>1,N115=INDEX(FFilter,AP$5))))","v":1},{"$f":"ABS(OR(C115=0,AND(MaxInput>1,O115=INDEX(FFilter,AQ$5))))","v":1},null,null,null,null,null,null,null,null,null,null,{"$f":"ROW()","v":115}]
[108,"",null,null,null,null,null,null,null,null,null,null,"",{"$f":"IF(C116=0,\"\",INDEX(Objekt_Text,D116+1,2))","v":""},{"$f":"IF(C116=0,\"\",INDEX(Objekt_Text,D116+1,3))","v":""},"","",{"$f":"INDEX(Visum_Liste,F116+1)&\"\"","v":""},"","ZZ",0,0,0,0,0,0,3,"",{"$f":"MIN(IF(W116=$W$9:$W$2128,$E$9:$E$2128))","v":0},{"$f":"MAX(IF(W116=$W$9:$W$2128,$E$9:$E$2128))","v":0},108,1,1,null,null,1,null,"ZZ00000","00ZZ000",null,{"$f":"ABS(OR(C116=0,AND(MaxInput>1,M116=INDEX(FFilter,AO$5))))","v":1},{"$f":"ABS(OR(C116=0,AND(MaxInput>1,N116=INDEX(FFilter,AP$5))))","v":1},{"$f":"ABS(OR(C116=0,AND(MaxInput>1,O116=INDEX(FFilter,AQ$5))))","v":1},null,null,null,null,null,null,null,null,null,null,{"$f":"ROW()","v":116}]
[109,"",null,null,null,null,null,null,null,null,null,null,"",{"$f":"IF(C117=0,\"\",INDEX(Objekt_Text,D117+1,2))","v":""},{"$f":"IF(C117=0,\"\",INDEX(Objekt_Text,D117+1,3))","v":""},"","",{"$f":"INDEX(Visum_Liste,F117+1)&\"\"","v":""},"","ZZ",0,0,0,0,0,0,3,"",{"$f":"MIN(IF(W117=$W$9:$W$2128,$E$9:$E$2128))","v":0},{"$f":"MAX(IF(W117=$W$9:$W$2128,$E$9:$E$2128))","v":0},109,1,1,null,null,1,null,"ZZ00000","00ZZ000",null,{"$f":"ABS(OR(C117=0,AND(MaxInput>1,M117=INDEX(FFilter,AO$5))))","v":1},{"$f":"ABS(OR(C117=0,AND(MaxInput>1,N117=INDEX(FFilter,AP$5))))","v":1},{"$f":"ABS(OR(C117=0,AND(MaxInput>1,O117=INDEX(FFilter,AQ$5))))","v":1},null,null,null,null,null,null,null,null,null,null,{"$f":"ROW()","v":117}]
[110,"",null,null,null,null,null,null,null,null,null,null,"",{"$f":"IF(C118=0,\"\",INDEX(Objekt_Text,D118+1,2))","v":""},{"$f":"IF(C118=0,\"\",INDEX(Objekt_Text,D118+1,3))","v":""},"","",{"$f":"INDEX(Visum_Liste,F118+1)&\"\"","v":""},"","ZZ",0,0,0,0,0,0,3,"",{"$f":"MIN(IF(W118=$W$9:$W$2128,$E$9:$E$2128))","v":0},{"$f":"MAX(IF(W118=$W$9:$W$2128,$E$9:$E$2128))","v":0},110,1,1,null,null,1,null,"ZZ00000","00ZZ000",null,{"$f":"ABS(OR(C118=0,AND(MaxInput>1,M118=INDEX(FFilter,AO$5))))","v":1},{"$f":"ABS(OR(C118=0,AND(MaxInput>1,N118=INDEX(FFilter,AP$5))))","v":1},{"$f":"ABS(OR(C118=0,AND(MaxInput>1,O118=INDEX(FFilter,AQ$5))))","v":1},null,null,null,null,null,null,null,null,null,null,{"$f":"ROW()","v":118}]
[111,"",null,null,null,null,null,null,null,null,null,null,"",{"$f":"IF(C119=0,\"\",INDEX(Objekt_Text,D119+1,2))","v":""},{"$f":"IF(C119=0,\"\",INDEX(Objekt_Text,D119+1,3))","v":""},"","",{"$f":"INDEX(Visum_Liste,F119+1)&\"\"","v":""},"","ZZ",0,0,0,0,0,0,3,"",{"$f":"MIN(IF(W119=$W$9:$W$2128,$E$9:$E$2128))","v":0},{"$f":"MAX(IF(W119=$W$9:$W$2128,$E$9:$E$2128))","v":0},111,1,1,null,null,1,null,"ZZ00000","00ZZ000",null,{"$f":"ABS(OR(C119=0,AND(MaxInput>1,M119=INDEX(FFilter,AO$5))))","v":1},{"$f":"ABS(OR(C119=0,AND(MaxInput>1,N119=INDEX(FFilter,AP$5))))","v":1},{"$f":"ABS(OR(C119=0,AND(MaxInput>1,O119=INDEX(FFilter,AQ$5))))","v":1},null,null,null,null,null,null,null,null,null,null,{"$f":"ROW()","v":119}]
[112,"",null,null,null,null,null,null,null,null,null,null,"",{"$f":"IF(C120=0,\"\",INDEX(Objekt_Text,D120+1,2))","v":""},{"$f":"IF(C120=0,\"\",INDEX(Objekt_Text,D120+1,3))","v":""},"","",{"$f":"INDEX(Visum_Liste,F120+1)&\"\"","v":""},"","ZZ",0,0,0,0,0,0,3,"",{"$f":"MIN(IF(W120=$W$9:$W$2128,$E$9:$E$2128))","v":0},{"$f":"MAX(IF(W120=$W$9:$W$2128,$E$9:$E$2128))","v":0},112,1,1,null,null,1,null,"ZZ00000","00ZZ000",null,{"$f":"ABS(OR(C120=0,AND(MaxInput>1,M120=INDEX(FFilter,AO$5))))","v":1},{"$f":"ABS(OR(C120=0,AND(MaxInput>1,N120=INDEX(FFilter,AP$5))))","v":1},{"$f":"ABS(OR(C120=0,AND(MaxInput>1,O120=INDEX(FFilter,AQ$5))))","v":1},null,null,null,null,null,null,null,null,null,null,{"$f":"ROW()","v":120}]
[113,"",null,null,null,null,null,null,null,null,null,null,"",{"$f":"IF(C121=0,\"\",INDEX(Objekt_Text,D121+1,2))","v":""},{"$f":"IF(C121=0,\"\",INDEX(Objekt_Text,D121+1,3))","v":""},"","",{"$f":"INDEX(Visum_Liste,F121+1)&\"\"","v":""},"","ZZ",0,0,0,0,0,0,3,"",{"$f":"MIN(IF(W121=$W$9:$W$2128,$E$9:$E$2128))","v":0},{"$f":"MAX(IF(W121=$W$9:$W$2128,$E$9:$E$2128))","v":0},113,1,1,null,null,1,null,"ZZ00000","00ZZ000",null,{"$f":"ABS(OR(C121=0,AND(MaxInput>1,M121=INDEX(FFilter,AO$5))))","v":1},{"$f":"ABS(OR(C121=0,AND(MaxInput>1,N121=INDEX(FFilter,AP$5))))","v":1},{"$f":"ABS(OR(C121=0,AND(MaxInput>1,O121=INDEX(FFilter,AQ$5))))","v":1},null,null,null,null,null,null,null,null,null,null,{"$f":"ROW()","v":121}]
[114,"",null,null,null,null,null,null,null,null,null,null,"",{"$f":"IF(C122=0,\"\",INDEX(Objekt_Text,D122+1,2))","v":""},{"$f":"IF(C122=0,\"\",INDEX(Objekt_Text,D122+1,3))","v":""},"","",{"$f":"INDEX(Visum_Liste,F122+1)&\"\"","v":""},"","ZZ",0,0,0,0,0,0,3,"",{"$f":"MIN(IF(W122=$W$9:$W$2128,$E$9:$E$2128))","v":0},{"$f":"MAX(IF(W122=$W$9:$W$2128,$E$9:$E$2128))","v":0},114,1,1,null,null,1,null,"ZZ00000","00ZZ000",null,{"$f":"ABS(OR(C122=0,AND(MaxInput>1,M122=INDEX(FFilter,AO$5))))","v":1},{"$f":"ABS(OR(C122=0,AND(MaxInput>1,N122=INDEX(FFilter,AP$5))))","v":1},{"$f":"ABS(OR(C122=0,AND(MaxInput>1,O122=INDEX(FFilter,AQ$5))))","v":1},null,null,null,null,null,null,null,null,null,null,{"$f":"ROW()","v":122}]
[115,"",null,null,null,null,null,null,null,null,null,null,"",{"$f":"IF(C123=0,\"\",INDEX(Objekt_Text,D123+1,2))","v":""},{"$f":"IF(C123=0,\"\",INDEX(Objekt_Text,D123+1,3))","v":""},"","",{"$f":"INDEX(Visum_Liste,F123+1)&\"\"","v":""},"","ZZ",0,0,0,0,0,0,3,"",{"$f":"MIN(IF(W123=$W$9:$W$2128,$E$9:$E$2128))","v":0},{"$f":"MAX(IF(W123=$W$9:$W$2128,$E$9:$E$2128))","v":0},115,1,1,null,null,1,null,"ZZ00000","00ZZ000",null,{"$f":"ABS(OR(C123=0,AND(MaxInput>1,M123=INDEX(FFilter,AO$5))))","v":1},{"$f":"ABS(OR(C123=0,AND(MaxInput>1,N123=INDEX(FFilter,AP$5))))","v":1},{"$f":"ABS(OR(C123=0,AND(MaxInput>1,O123=INDEX(FFilter,AQ$5))))","v":1},null,null,null,null,null,null,null,null,null,null,{"$f":"ROW()","v":123}]
[116,"",null,null,null,null,null,null,null,null,null,null,"",{"$f":"IF(C124=0,\"\",INDEX(Objekt_Text,D124+1,2))","v":""},{"$f":"IF(C124=0,\"\",INDEX(Objekt_Text,D124+1,3))","v":""},"","",{"$f":"INDEX(Visum_Liste,F124+1)&\"\"","v":""},"","ZZ",0,0,0,0,0,0,3,"",{"$f":"MIN(IF(W124=$W$9:$W$2128,$E$9:$E$2128))","v":0},{"$f":"MAX(IF(W124=$W$9:$W$2128,$E$9:$E$2128))","v":0},116,1,1,null,null,1,null,"ZZ00000","00ZZ000",null,{"$f":"ABS(OR(C124=0,AND(MaxInput>1,M124=INDEX(FFilter,AO$5))))","v":1},{"$f":"ABS(OR(C124=0,AND(MaxInput>1,N124=INDEX(FFilter,AP$5))))","v":1},{"$f":"ABS(OR(C124=0,AND(MaxInput>1,O124=INDEX(FFilter,AQ$5))))","v":1},null,null,null,null,null,null,null,null,null,null,{"$f":"ROW()","v":124}]
[117,"",null,null,null,null,null,null,null,null,null,null,"",{"$f":"IF(C125=0,\"\",INDEX(Objekt_Text,D125+1,2))","v":""},{"$f":"IF(C125=0,\"\",INDEX(Objekt_Text,D125+1,3))","v":""},"","",{"$f":"INDEX(Visum_Liste,F125+1)&\"\"","v":""},"","ZZ",0,0,0,0,0,0,3,"",{"$f":"MIN(IF(W125=$W$9:$W$2128,$E$9:$E$2128))","v":0},{"$f":"MAX(IF(W125=$W$9:$W$2128,$E$9:$E$2128))","v":0},117,1,1,null,null,1,null,"ZZ00000","00ZZ000",null,{"$f":"ABS(OR(C125=0,AND(MaxInput>1,M125=INDEX(FFilter,AO$5))))","v":1},{"$f":"ABS(OR(C125=0,AND(MaxInput>1,N125=INDEX(FFilter,AP$5))))","v":1},{"$f":"ABS(OR(C125=0,AND(MaxInput>1,O125=INDEX(FFilter,AQ$5))))","v":1},null,null,null,null,null,null,null,null,null,null,{"$f":"ROW()","v":125}]
[118,"",null,null,null,null,null,null,null,null,null,null,"",{"$f":"IF(C126=0,\"\",INDEX(Objekt_Text,D126+1,2))","v":""},{"$f":"IF(C126=0,\"\",INDEX(Objekt_Text,D126+1,3))","v":""},"","",{"$f":"INDEX(Visum_Liste,F126+1)&\"\"","v":""},"","ZZ",0,0,0,0,0,0,3,"",{"$f":"MIN(IF(W126=$W$9:$W$2128,$E$9:$E$2128))","v":0},{"$f":"MAX(IF(W126=$W$9:$W$2128,$E$9:$E$2128))","v":0},118,1,1,null,null,1,null,"ZZ00000","00ZZ000",null,{"$f":"ABS(OR(C126=0,AND(MaxInput>1,M126=INDEX(FFilter,AO$5))))","v":1},{"$f":"ABS(OR(C126=0,AND(MaxInput>1,N126=INDEX(FFilter,AP$5))))","v":1},{"$f":"ABS(OR(C126=0,AND(MaxInput>1,O126=INDEX(FFilter,AQ$5))))","v":1},null,null,null,null,null,null,null,null,null,null,{"$f":"ROW()","v":126}]
[119,"",null,null,null,null,null,null,null,null,null,null,"",{"$f":"IF(C127=0,\"\",INDEX(Objekt_Text,D127+1,2))","v":""},{"$f":"IF(C127=0,\"\",INDEX(Objekt_Text,D127+1,3))","v":""},"","",{"$f":"INDEX(Visum_Liste,F127+1)&\"\"","v":""},"","ZZ",0,0,0,0,0,0,3,"",{"$f":"MIN(IF(W127=$W$9:$W$2128,$E$9:$E$2128))","v":0},{"$f":"MAX(IF(W127=$W$9:$W$2128,$E$9:$E$2128))","v":0},119,1,1,null,null,1,null,"ZZ00000","00ZZ000",null,{"$f":"ABS(OR(C127=0,AND(MaxInput>1,M127=INDEX(FFilter,AO$5))))","v":1},{"$f":"ABS(OR(C127=0,AND(MaxInput>1,N127=INDEX(FFilter,AP$5))))","v":1},{"$f":"ABS(OR(C127=0,AND(MaxInput>1,O127=INDEX(FFilter,AQ$5))))","v":1},null,null,null,null,null,null,null,null,null,null,{"$f":"ROW()","v":127}]
[120,"",null,null,null,null,null,null,null,null,null,null,"",{"$f":"IF(C128=0,\"\",INDEX(Objekt_Text,D128+1,2))","v":""},{"$f":"IF(C128=0,\"\",INDEX(Objekt_Text,D128+1,3))","v":""},"","",{"$f":"INDEX(Visum_Liste,F128+1)&\"\"","v":""},"","ZZ",0,0,0,0,0,0,3,"",{"$f":"MIN(IF(W128=$W$9:$W$2128,$E$9:$E$2128))","v":0},{"$f":"MAX(IF(W128=$W$9:$W$2128,$E$9:$E$2128))","v":0},120,1,1,null,null,1,null,"ZZ00000","00ZZ000",null,{"$f":"ABS(OR(C128=0,AND(MaxInput>1,M128=INDEX(FFilter,AO$5))))","v":1},{"$f":"ABS(OR(C128=0,AND(MaxInput>1,N128=INDEX(FFilter,AP$5))))","v":1},{"$f":"ABS(OR(C128=0,AND(MaxInput>1,O128=INDEX(FFilter,AQ$5))))","v":1},null,null,null,null,null,null,null,null,null,null,{"$f":"ROW()","v":128}]
[121,"",null,null,null,null,null,null,null,null,null,null,"",{"$f":"IF(C129=0,\"\",INDEX(Objekt_Text,D129+1,2))","v":""},{"$f":"IF(C129=0,\"\",INDEX(Objekt_Text,D129+1,3))","v":""},"","",{"$f":"INDEX(Visum_Liste,F129+1)&\"\"","v":""},"","ZZ",0,0,0,0,0,0,3,"",{"$f":"MIN(IF(W129=$W$9:$W$2128,$E$9:$E$2128))","v":0},{"$f":"MAX(IF(W129=$W$9:$W$2128,$E$9:$E$2128))","v":0},121,1,1,null,null,1,null,"ZZ00000","00ZZ000",null,{"$f":"ABS(OR(C129=0,AND(MaxInput>1,M129=INDEX(FFilter,AO$5))))","v":1},{"$f":"ABS(OR(C129=0,AND(MaxInput>1,N129=INDEX(FFilter,AP$5))))","v":1},{"$f":"ABS(OR(C129=0,AND(MaxInput>1,O129=INDEX(FFilter,AQ$5))))","v":1},null,null,null,null,null,null,null,null,null,null,{"$f":"ROW()","v":129}]
[122,"",null,null,null,null,null,null,null,null,null,null,"",{"$f":"IF(C130=0,\"\",INDEX(Objekt_Text,D130+1,2))","v":""},{"$f":"IF(C130=0,\"\",INDEX(Objekt_Text,D130+1,3))","v":""},"","",{"$f":"INDEX(Visum_Liste,F130+1)&\"\"","v":""},"","ZZ",0,0,0,0,0,0,3,"",{"$f":"MIN(IF(W130=$W$9:$W$2128,$E$9:$E$2128))","v":0},{"$f":"MAX(IF(W130=$W$9:$W$2128,$E$9:$E$2128))","v":0},122,1,1,null,null,1,null,"ZZ00000","00ZZ000",null,{"$f":"ABS(OR(C130=0,AND(MaxInput>1,M130=INDEX(FFilter,AO$5))))","v":1},{"$f":"ABS(OR(C130=0,AND(MaxInput>1,N130=INDEX(FFilter,AP$5))))","v":1},{"$f":"ABS(OR(C130=0,AND(MaxInput>1,O130=INDEX(FFilter,AQ$5))))","v":1},null,null,null,null,null,null,null,null,null,null,{"$f":"ROW()","v":130}]
[123,"",null,null,null,null,null,null,null,null,null,null,"",{"$f":"IF(C131=0,\"\",INDEX(Objekt_Text,D131+1,2))","v":""},{"$f":"IF(C131=0,\"\",INDEX(Objekt_Text,D131+1,3))","v":""},"","",{"$f":"INDEX(Visum_Liste,F131+1)&\"\"","v":""},"","ZZ",0,0,0,0,0,0,3,"",{"$f":"MIN(IF(W131=$W$9:$W$2128,$E$9:$E$2128))","v":0},{"$f":"MAX(IF(W131=$W$9:$W$2128,$E$9:$E$2128))","v":0},123,1,1,null,null,1,null,"ZZ00000","00ZZ000",null,{"$f":"ABS(OR(C131=0,AND(MaxInput>1,M131=INDEX(FFilter,AO$5))))","v":1},{"$f":"ABS(OR(C131=0,AND(MaxInput>1,N131=INDEX(FFilter,AP$5))))","v":1},{"$f":"ABS(OR(C131=0,AND(MaxInput>1,O131=INDEX(FFilter,AQ$5))))","v":1},null,null,null,null,null,null,null,null,null,null,{"$f":"ROW()","v":131}]
[124,"",null,null,null,null,null,null,null,null,null,null,"",{"$f":"IF(C132=0,\"\",INDEX(Objekt_Text,D132+1,2))","v":""},{"$f":"IF(C132=0,\"\",INDEX(Objekt_Text,D132+1,3))","v":""},"","",{"$f":"INDEX(Visum_Liste,F132+1)&\"\"","v":""},"","ZZ",0,0,0,0,0,0,3,"",{"$f":"MIN(IF(W132=$W$9:$W$2128,$E$9:$E$2128))","v":0},{"$f":"MAX(IF(W132=$W$9:$W$2128,$E$9:$E$2128))","v":0},124,1,1,null,null,1,null,"ZZ00000","00ZZ000",null,{"$f":"ABS(OR(C132=0,AND(MaxInput>1,M132=INDEX(FFilter,AO$5))))","v":1},{"$f":"ABS(OR(C132=0,AND(MaxInput>1,N132=INDEX(FFilter,AP$5))))","v":1},{"$f":"ABS(OR(C132=0,AND(MaxInput>1,O132=INDEX(FFilter,AQ$5))))","v":1},null,null,null,null,null,null,null,null,null,null,{"$f":"ROW()","v":132}]
[125,"",null,null,null,null,null,null,null,null,null,null,"",{"$f":"IF(C133=0,\"\",INDEX(Objekt_Text,D133+1,2))","v":""},{"$f":"IF(C133=0,\"\",INDEX(Objekt_Text,D133+1,3))","v":""},"","",{"$f":"INDEX(Visum_Liste,F133+1)&\"\"","v":""},"","ZZ",0,0,0,0,0,0,3,"",{"$f":"MIN(IF(W133=$W$9:$W$2128,$E$9:$E$2128))","v":0},{"$f":"MAX(IF(W133=$W$9:$W$2128,$E$9:$E$2128))","v":0},125,1,1,null,null,1,null,"ZZ00000","00ZZ000",null,{"$f":"ABS(OR(C133=0,AND(MaxInput>1,M133=INDEX(FFilter,AO$5))))","v":1},{"$f":"ABS(OR(C133=0,AND(MaxInput>1,N133=INDEX(FFilter,AP$5))))","v":1},{"$f":"ABS(OR(C133=0,AND(MaxInput>1,O133=INDEX(FFilter,AQ$5))))","v":1},null,null,null,null,null,null,null,null,null,null,{"$f":"ROW()","v":133}]
[126,"",null,null,null,null,null,null,null,null,null,null,"",{"$f":"IF(C134=0,\"\",INDEX(Objekt_Text,D134+1,2))","v":""},{"$f":"IF(C134=0,\"\",INDEX(Objekt_Text,D134+1,3))","v":""},"","",{"$f":"INDEX(Visum_Liste,F134+1)&\"\"","v":""},"","ZZ",0,0,0,0,0,0,3,"",{"$f":"MIN(IF(W134=$W$9:$W$2128,$E$9:$E$2128))","v":0},{"$f":"MAX(IF(W134=$W$9:$W$2128,$E$9:$E$2128))","v":0},126,1,1,null,null,1,null,"ZZ00000","00ZZ000",null,{"$f":"ABS(OR(C134=0,AND(MaxInput>1,M134=INDEX(FFilter,AO$5))))","v":1},{"$f":"ABS(OR(C134=0,AND(MaxInput>1,N134=INDEX(FFilter,AP$5))))","v":1},{"$f":"ABS(OR(C134=0,AND(MaxInput>1,O134=INDEX(FFilter,AQ$5))))","v":1},null,null,null,null,null,null,null,null,null,null,{"$f":"ROW()","v":134}]
[127,"",null,null,null,null,null,null,null,null,null,null,"",{"$f":"IF(C135=0,\"\",INDEX(Objekt_Text,D135+1,2))","v":""},{"$f":"IF(C135=0,\"\",INDEX(Objekt_Text,D135+1,3))","v":""},"","",{"$f":"INDEX(Visum_Liste,F135+1)&\"\"","v":""},"","ZZ",0,0,0,0,0,0,3,"",{"$f":"MIN(IF(W135=$W$9:$W$2128,$E$9:$E$2128))","v":0},{"$f":"MAX(IF(W135=$W$9:$W$2128,$E$9:$E$2128))","v":0},127,1,1,null,null,1,null,"ZZ00000","00ZZ000",null,{"$f":"ABS(OR(C135=0,AND(MaxInput>1,M135=INDEX(FFilter,AO$5))))","v":1},{"$f":"ABS(OR(C135=0,AND(MaxInput>1,N135=INDEX(FFilter,AP$5))))","v":1},{"$f":"ABS(OR(C135=0,AND(MaxInput>1,O135=INDEX(FFilter,AQ$5))))","v":1},null,null,null,null,null,null,null,null,null,null,{"$f":"ROW()","v":135}]
[128,"",null,null,null,null,null,null,null,null,null,null,"",{"$f":"IF(C136=0,\"\",INDEX(Objekt_Text,D136+1,2))","v":""},{"$f":"IF(C136=0,\"\",INDEX(Objekt_Text,D136+1,3))","v":""},"","",{"$f":"INDEX(Visum_Liste,F136+1)&\"\"","v":""},"","ZZ",0,0,0,0,0,0,3,"",{"$f":"MIN(IF(W136=$W$9:$W$2128,$E$9:$E$2128))","v":0},{"$f":"MAX(IF(W136=$W$9:$W$2128,$E$9:$E$2128))","v":0},128,1,1,null,null,1,null,"ZZ00000","00ZZ000",null,{"$f":"ABS(OR(C136=0,AND(MaxInput>1,M136=INDEX(FFilter,AO$5))))","v":1},{"$f":"ABS(OR(C136=0,AND(MaxInput>1,N136=INDEX(FFilter,AP$5))))","v":1},{"$f":"ABS(OR(C136=0,AND(MaxInput>1,O136=INDEX(FFilter,AQ$5))))","v":1},null,null,null,null,null,null,null,null,null,null,{"$f":"ROW()","v":136}]
[129,{"$f":"IF(C137>0,ROW()-8,\"\")","v":""},null,null,null,null,null,null,null,null,null,null,{"$f":"IF(C137=0,\"\",IFERROR(VLOOKUP($C137,SLTabelle,cSLName,FALSE),\"\"))","v":""},{"$f":"IF(C137=0,\"\",INDEX(Objekt_Text,D137+1,2))","v":""},{"$f":"IF(C137=0,\"\",INDEX(Objekt_Text,D137+1,3))","v":""},{"$f":"IF($H137=\"\",\"\",$H137)","v":""},{"$f":"IF($I137=\"\",\"\",$I137)","v":""},{"$f":"INDEX(Visum_Liste,F137+1)&\"\"","v":""},{"$f":"IF($J137=\"\",\"\",$J137)","v":""},{"$f":"IF(M137=\"\",\"ZZ\",M137)","v":"ZZ"},{"$f":"IF(C137>0,COUNTIF($W$9:$W$2128,W137),0)","v":0},{"$f":"SUMIFS($E$9:$E$2128,$W$9:$W$2128,W137)","v":0},{"$f":"C137*100+D137","v":0},{"$f":"AND(C137>0,E137=AD137)*1","v":0},{"$f":"(COUNT(P137:Q137)=2)*1","v":0},{"$f":"F137*10+X137","v":0},{"$f":"IF(X137=0,3,X137*F137)","v":3},{"$f":"IF(OR((C137>0),ROW()<LastRow+8),\"A\",\"\")","v":""},{"$f":"MIN(IF(W137=$W$9:$W$2128,$E$9:$E$2128))","v":0},{"$f":"MAX(IF(W137=$W$9:$W$2128,$E$9:$E$2128))","v":0},129,1,1,null,null,1,null,{"$f":"T137&TEXT(D137,\"00\")&TEXT(E137,\"000\")","v":"ZZ00000"},{"$f":"TEXT(D137,\"00\")&T137&TEXT(E137,\"000\")","v":"00ZZ000"},null,{"$f":"ABS(OR(C137=0,AND(MaxInput>1,M137=INDEX(FFilter,AO$5))))","v":1},{"$f":"ABS(OR(C137=0,AND(MaxInput>1,N137=INDEX(FFilter,AP$5))))","v":1},{"$f":"ABS(OR(C137=0,AND(MaxInput>1,O137=INDEX(FFilter,AQ$5))))","v":1},null,null,null,null,null,null,null,null,null,null,{"$f":"ROW()","v":137}]
[130,"",null,null,null,null,null,null,null,null,null,null,"",{"$f":"IF(C138=0,\"\",INDEX(Objekt_Text,D138+1,2))","v":""},{"$f":"IF(C138=0,\"\",INDEX(Objekt_Text,D138+1,3))","v":""},"","",{"$f":"INDEX(Visum_Liste,F138+1)&\"\"","v":""},"","ZZ",0,0,0,0,0,0,3,"",{"$f":"MIN(IF(W138=$W$9:$W$2128,$E$9:$E$2128))","v":0},{"$f":"MAX(IF(W138=$W$9:$W$2128,$E$9:$E$2128))","v":0},130,1,1,null,null,{"$f":"OR(L138<=L137,B138=\"\")*1","v":1},null,"ZZ00000","00ZZ000",null,{"$f":"ABS(OR(C138=0,AND(MaxInput>1,M138=INDEX(FFilter,AO$5))))","v":1},{"$f":"ABS(OR(C138=0,AND(MaxInput>1,N138=INDEX(FFilter,AP$5))))","v":1},{"$f":"ABS(OR(C138=0,AND(MaxInput>1,O138=INDEX(FFilter,AQ$5))))","v":1},null,null,null,null,null,null,null,null,null,null,{"$f":"ROW()","v":138}]
[131,"",null,null,null,null,null,null,null,null,null,null,"",{"$f":"IF(C139=0,\"\",INDEX(Objekt_Text,D139+1,2))","v":""},{"$f":"IF(C139=0,\"\",INDEX(Objekt_Text,D139+1,3))","v":""},"","",{"$f":"INDEX(Visum_Liste,F139+1)&\"\"","v":""},"","ZZ",0,0,0,0,0,0,3,"",{"$f":"MIN(IF(W139=$W$9:$W$2128,$E$9:$E$2128))","v":0},{"$f":"MAX(IF(W139=$W$9:$W$2128,$E$9:$E$2128))","v":0},131,1,1,null,null,1,null,"ZZ00000","00ZZ000",null,{"$f":"ABS(OR(C139=0,AND(MaxInput>1,M139=INDEX(FFilter,AO$5))))","v":1},{"$f":"ABS(OR(C139=0,AND(MaxInput>1,N139=INDEX(FFilter,AP$5))))","v":1},{"$f":"ABS(OR(C139=0,AND(MaxInput>1,O139=INDEX(FFilter,AQ$5))))","v":1},null,null,null,null,null,null,null,null,null,null,{"$f":"ROW()","v":139}]
[132,"",null,null,null,null,null,null,null,null,null,null,"",{"$f":"IF(C140=0,\"\",INDEX(Objekt_Text,D140+1,2))","v":""},{"$f":"IF(C140=0,\"\",INDEX(Objekt_Text,D140+1,3))","v":""},"","",{"$f":"INDEX(Visum_Liste,F140+1)&\"\"","v":""},"","ZZ",0,0,0,0,0,0,3,"",{"$f":"MIN(IF(W140=$W$9:$W$2128,$E$9:$E$2128))","v":0},{"$f":"MAX(IF(W140=$W$9:$W$2128,$E$9:$E$2128))","v":0},132,1,1,null,null,1,null,"ZZ00000","00ZZ000",null,{"$f":"ABS(OR(C140=0,AND(MaxInput>1,M140=INDEX(FFilter,AO$5))))","v":1},{"$f":"ABS(OR(C140=0,AND(MaxInput>1,N140=INDEX(FFilter,AP$5))))","v":1},{"$f":"ABS(OR(C140=0,AND(MaxInput>1,O140=INDEX(FFilter,AQ$5))))","v":1},null,null,null,null,null,null,null,null,null,null,{"$f":"ROW()","v":140}]
[133,"",null,null,null,null,null,null,null,null,null,null,"",{"$f":"IF(C141=0,\"\",INDEX(Objekt_Text,D141+1,2))","v":""},{"$f":"IF(C141=0,\"\",INDEX(Objekt_Text,D141+1,3))","v":""},"","",{"$f":"INDEX(Visum_Liste,F141+1)&\"\"","v":""},"","ZZ",0,0,0,0,0,0,3,"",{"$f":"MIN(IF(W141=$W$9:$W$2128,$E$9:$E$2128))","v":0},{"$f":"MAX(IF(W141=$W$9:$W$2128,$E$9:$E$2128))","v":0},133,{"$f":"OR(AL141>=AL140,B141=\"\")*1","v":1},{"$f":"OR(AM141>=AM140,B141=\"\")*1","v":1},null,null,1,null,"ZZ00000","00ZZ000",null,{"$f":"ABS(OR(C141=0,AND(MaxInput>1,M141=INDEX(FFilter,AO$5))))","v":1},{"$f":"ABS(OR(C141=0,AND(MaxInput>1,N141=INDEX(FFilter,AP$5))))","v":1},{"$f":"ABS(OR(C141=0,AND(MaxInput>1,O141=INDEX(FFilter,AQ$5))))","v":1},null,null,null,null,null,null,null,null,null,null,{"$f":"ROW()","v":141}]
[134,"",null,null,null,null,null,null,null,null,null,null,"",{"$f":"IF(C142=0,\"\",INDEX(Objekt_Text,D142+1,2))","v":""},{"$f":"IF(C142=0,\"\",INDEX(Objekt_Text,D142+1,3))","v":""},"","",{"$f":"INDEX(Visum_Liste,F142+1)&\"\"","v":""},"","ZZ",0,0,0,0,0,0,3,"",{"$f":"MIN(IF(W142=$W$9:$W$2128,$E$9:$E$2128))","v":0},{"$f":"MAX(IF(W142=$W$9:$W$2128,$E$9:$E$2128))","v":0},134,1,1,null,null,1,null,"ZZ00000","00ZZ000",null,{"$f":"ABS(OR(C142=0,AND(MaxInput>1,M142=INDEX(FFilter,AO$5))))","v":1},{"$f":"ABS(OR(C142=0,AND(MaxInput>1,N142=INDEX(FFilter,AP$5))))","v":1},{"$f":"ABS(OR(C142=0,AND(MaxInput>1,O142=INDEX(FFilter,AQ$5))))","v":1},null,null,null,null,null,null,null,null,null,null,{"$f":"ROW()","v":142}]
[135,"",null,null,null,null,null,null,null,null,null,null,"",{"$f":"IF(C143=0,\"\",INDEX(Objekt_Text,D143+1,2))","v":""},{"$f":"IF(C143=0,\"\",INDEX(Objekt_Text,D143+1,3))","v":""},"","",{"$f":"INDEX(Visum_Liste,F143+1)&\"\"","v":""},"","ZZ",0,0,0,0,0,0,3,"",{"$f":"MIN(IF(W143=$W$9:$W$2128,$E$9:$E$2128))","v":0},{"$f":"MAX(IF(W143=$W$9:$W$2128,$E$9:$E$2128))","v":0},135,1,1,null,null,1,null,"ZZ00000","00ZZ000",null,{"$f":"ABS(OR(C143=0,AND(MaxInput>1,M143=INDEX(FFilter,AO$5))))","v":1},{"$f":"ABS(OR(C143=0,AND(MaxInput>1,N143=INDEX(FFilter,AP$5))))","v":1},{"$f":"ABS(OR(C143=0,AND(MaxInput>1,O143=INDEX(FFilter,AQ$5))))","v":1},null,null,null,null,null,null,null,null,null,null,{"$f":"ROW()","v":143}]
[136,"",null,null,null,null,null,null,null,null,null,null,"",{"$f":"IF(C144=0,\"\",INDEX(Objekt_Text,D144+1,2))","v":""},{"$f":"IF(C144=0,\"\",INDEX(Objekt_Text,D144+1,3))","v":""},"","",{"$f":"INDEX(Visum_Liste,F144+1)&\"\"","v":""},"","ZZ",0,0,0,0,0,0,3,"",{"$f":"MIN(IF(W144=$W$9:$W$2128,$E$9:$E$2128))","v":0},{"$f":"MAX(IF(W144=$W$9:$W$2128,$E$9:$E$2128))","v":0},136,1,1,null,null,1,null,"ZZ00000","00ZZ000",null,{"$f":"ABS(OR(C144=0,AND(MaxInput>1,M144=INDEX(FFilter,AO$5))))","v":1},{"$f":"ABS(OR(C144=0,AND(MaxInput>1,N144=INDEX(FFilter,AP$5))))","v":1},{"$f":"ABS(OR(C144=0,AND(MaxInput>1,O144=INDEX(FFilter,AQ$5))))","v":1},null,null,null,null,null,null,null,null,null,null,{"$f":"ROW()","v":144}]
[137,"",null,null,null,null,null,null,null,null,null,null,"",{"$f":"IF(C145=0,\"\",INDEX(Objekt_Text,D145+1,2))","v":""},{"$f":"IF(C145=0,\"\",INDEX(Objekt_Text,D145+1,3))","v":""},"","",{"$f":"INDEX(Visum_Liste,F145+1)&\"\"","v":""},"","ZZ",0,0,0,0,0,0,3,"",{"$f":"MIN(IF(W145=$W$9:$W$2128,$E$9:$E$2128))","v":0},{"$f":"MAX(IF(W145=$W$9:$W$2128,$E$9:$E$2128))","v":0},137,1,1,null,null,1,null,"ZZ00000","00ZZ000",null,{"$f":"ABS(OR(C145=0,AND(MaxInput>1,M145=INDEX(FFilter,AO$5))))","v":1},{"$f":"ABS(OR(C145=0,AND(MaxInput>1,N145=INDEX(FFilter,AP$5))))","v":1},{"$f":"ABS(OR(C145=0,AND(MaxInput>1,O145=INDEX(FFilter,AQ$5))))","v":1},null,null,null,null,null,null,null,null,null,null,{"$f":"ROW()","v":145}]
[138,"",null,null,null,null,null,null,null,null,null,null,"",{"$f":"IF(C146=0,\"\",INDEX(Objekt_Text,D146+1,2))","v":""},{"$f":"IF(C146=0,\"\",INDEX(Objekt_Text,D146+1,3))","v":""},"","",{"$f":"INDEX(Visum_Liste,F146+1)&\"\"","v":""},"","ZZ",0,0,0,0,0,0,3,"",{"$f":"MIN(IF(W146=$W$9:$W$2128,$E$9:$E$2128))","v":0},{"$f":"MAX(IF(W146=$W$9:$W$2128,$E$9:$E$2128))","v":0},138,1,1,null,null,1,null,"ZZ00000","00ZZ000",null,{"$f":"ABS(OR(C146=0,AND(MaxInput>1,M146=INDEX(FFilter,AO$5))))","v":1},{"$f":"ABS(OR(C146=0,AND(MaxInput>1,N146=INDEX(FFilter,AP$5))))","v":1},{"$f":"ABS(OR(C146=0,AND(MaxInput>1,O146=INDEX(FFilter,AQ$5))))","v":1},null,null,null,null,null,null,null,null,null,null,{"$f":"ROW()","v":146}]
[139,"",null,null,null,null,null,null,null,null,null,null,"",{"$f":"IF(C147=0,\"\",INDEX(Objekt_Text,D147+1,2))","v":""},{"$f":"IF(C147=0,\"\",INDEX(Objekt_Text,D147+1,3))","v":""},"","",{"$f":"INDEX(Visum_Liste,F147+1)&\"\"","v":""},"","ZZ",0,0,0,0,0,0,3,"",{"$f":"MIN(IF(W147=$W$9:$W$2128,$E$9:$E$2128))","v":0},{"$f":"MAX(IF(W147=$W$9:$W$2128,$E$9:$E$2128))","v":0},139,1,1,null,null,1,null,"ZZ00000","00ZZ000",null,{"$f":"ABS(OR(C147=0,AND(MaxInput>1,M147=INDEX(FFilter,AO$5))))","v":1},{"$f":"ABS(OR(C147=0,AND(MaxInput>1,N147=INDEX(FFilter,AP$5))))","v":1},{"$f":"ABS(OR(C147=0,AND(MaxInput>1,O147=INDEX(FFilter,AQ$5))))","v":1},null,null,null,null,null,null,null,null,null,null,{"$f":"ROW()","v":147}]
[140,"",null,null,null,null,null,null,null,null,null,null,"",{"$f":"IF(C148=0,\"\",INDEX(Objekt_Text,D148+1,2))","v":""},{"$f":"IF(C148=0,\"\",INDEX(Objekt_Text,D148+1,3))","v":""},"","",{"$f":"INDEX(Visum_Liste,F148+1)&\"\"","v":""},"","ZZ",0,0,0,0,0,0,3,"",{"$f":"MIN(IF(W148=$W$9:$W$2128,$E$9:$E$2128))","v":0},{"$f":"MAX(IF(W148=$W$9:$W$2128,$E$9:$E$2128))","v":0},140,1,1,null,null,1,null,"ZZ00000","00ZZ000",null,{"$f":"ABS(OR(C148=0,AND(MaxInput>1,M148=INDEX(FFilter,AO$5))))","v":1},{"$f":"ABS(OR(C148=0,AND(MaxInput>1,N148=INDEX(FFilter,AP$5))))","v":1},{"$f":"ABS(OR(C148=0,AND(MaxInput>1,O148=INDEX(FFilter,AQ$5))))","v":1},null,null,null,null,null,null,null,null,null,null,{"$f":"ROW()","v":148}]
[141,"",null,null,null,null,null,null,null,null,null,null,"",{"$f":"IF(C149=0,\"\",INDEX(Objekt_Text,D149+1,2))","v":""},{"$f":"IF(C149=0,\"\",INDEX(Objekt_Text,D149+1,3))","v":""},"","",{"$f":"INDEX(Visum_Liste,F149+1)&\"\"","v":""},"","ZZ",0,0,0,0,0,0,3,"",{"$f":"MIN(IF(W149=$W$9:$W$2128,$E$9:$E$2128))","v":0},{"$f":"MAX(IF(W149=$W$9:$W$2128,$E$9:$E$2128))","v":0},141,1,1,null,null,1,null,"ZZ00000","00ZZ000",null,{"$f":"ABS(OR(C149=0,AND(MaxInput>1,M149=INDEX(FFilter,AO$5))))","v":1},{"$f":"ABS(OR(C149=0,AND(MaxInput>1,N149=INDEX(FFilter,AP$5))))","v":1},{"$f":"ABS(OR(C149=0,AND(MaxInput>1,O149=INDEX(FFilter,AQ$5))))","v":1},null,null,null,null,null,null,null,null,null,null,{"$f":"ROW()","v":149}]
[142,"",null,null,null,null,null,null,null,null,null,null,"",{"$f":"IF(C150=0,\"\",INDEX(Objekt_Text,D150+1,2))","v":""},{"$f":"IF(C150=0,\"\",INDEX(Objekt_Text,D150+1,3))","v":""},"","",{"$f":"INDEX(Visum_Liste,F150+1)&\"\"","v":""},"","ZZ",0,0,0,0,0,0,3,"",{"$f":"MIN(IF(W150=$W$9:$W$2128,$E$9:$E$2128))","v":0},{"$f":"MAX(IF(W150=$W$9:$W$2128,$E$9:$E$2128))","v":0},142,1,1,null,null,1,null,"ZZ00000","00ZZ000",null,{"$f":"ABS(OR(C150=0,AND(MaxInput>1,M150=INDEX(FFilter,AO$5))))","v":1},{"$f":"ABS(OR(C150=0,AND(MaxInput>1,N150=INDEX(FFilter,AP$5))))","v":1},{"$f":"ABS(OR(C150=0,AND(MaxInput>1,O150=INDEX(FFilter,AQ$5))))","v":1},null,null,null,null,null,null,null,null,null,null,{"$f":"ROW()","v":150}]
[143,"",null,null,null,null,null,null,null,null,null,null,"",{"$f":"IF(C151=0,\"\",INDEX(Objekt_Text,D151+1,2))","v":""},{"$f":"IF(C151=0,\"\",INDEX(Objekt_Text,D151+1,3))","v":""},"","",{"$f":"INDEX(Visum_Liste,F151+1)&\"\"","v":""},"","ZZ",0,0,0,0,0,0,3,"",{"$f":"MIN(IF(W151=$W$9:$W$2128,$E$9:$E$2128))","v":0},{"$f":"MAX(IF(W151=$W$9:$W$2128,$E$9:$E$2128))","v":0},143,1,1,null,null,1,null,"ZZ00000","00ZZ000",null,{"$f":"ABS(OR(C151=0,AND(MaxInput>1,M151=INDEX(FFilter,AO$5))))","v":1},{"$f":"ABS(OR(C151=0,AND(MaxInput>1,N151=INDEX(FFilter,AP$5))))","v":1},{"$f":"ABS(OR(C151=0,AND(MaxInput>1,O151=INDEX(FFilter,AQ$5))))","v":1},null,null,null,null,null,null,null,null,null,null,{"$f":"ROW()","v":151}]
[144,"",null,null,null,null,null,null,null,null,null,null,"",{"$f":"IF(C152=0,\"\",INDEX(Objekt_Text,D152+1,2))","v":""},{"$f":"IF(C152=0,\"\",INDEX(Objekt_Text,D152+1,3))","v":""},"","",{"$f":"INDEX(Visum_Liste,F152+1)&\"\"","v":""},"","ZZ",0,0,0,0,0,0,3,"",{"$f":"MIN(IF(W152=$W$9:$W$2128,$E$9:$E$2128))","v":0},{"$f":"MAX(IF(W152=$W$9:$W$2128,$E$9:$E$2128))","v":0},144,1,1,null,null,1,null,"ZZ00000","00ZZ000",null,{"$f":"ABS(OR(C152=0,AND(MaxInput>1,M152=INDEX(FFilter,AO$5))))","v":1},{"$f":"ABS(OR(C152=0,AND(MaxInput>1,N152=INDEX(FFilter,AP$5))))","v":1},{"$f":"ABS(OR(C152=0,AND(MaxInput>1,O152=INDEX(FFilter,AQ$5))))","v":1},null,null,null,null,null,null,null,null,null,null,{"$f":"ROW()","v":152}]
[145,"",null,null,null,null,null,null,null,null,null,null,"",{"$f":"IF(C153=0,\"\",INDEX(Objekt_Text,D153+1,2))","v":""},{"$f":"IF(C153=0,\"\",INDEX(Objekt_Text,D153+1,3))","v":""},"","",{"$f":"INDEX(Visum_Liste,F153+1)&\"\"","v":""},"","ZZ",0,0,0,0,0,0,3,"",{"$f":"MIN(IF(W153=$W$9:$W$2128,$E$9:$E$2128))","v":0},{"$f":"MAX(IF(W153=$W$9:$W$2128,$E$9:$E$2128))","v":0},145,1,1,null,null,1,null,"ZZ00000","00ZZ000",null,{"$f":"ABS(OR(C153=0,AND(MaxInput>1,M153=INDEX(FFilter,AO$5))))","v":1},{"$f":"ABS(OR(C153=0,AND(MaxInput>1,N153=INDEX(FFilter,AP$5))))","v":1},{"$f":"ABS(OR(C153=0,AND(MaxInput>1,O153=INDEX(FFilter,AQ$5))))","v":1},null,null,null,null,null,null,null,null,null,null,{"$f":"ROW()","v":153}]
[146,"",null,null,null,null,null,null,null,null,null,null,"",{"$f":"IF(C154=0,\"\",INDEX(Objekt_Text,D154+1,2))","v":""},{"$f":"IF(C154=0,\"\",INDEX(Objekt_Text,D154+1,3))","v":""},"","",{"$f":"INDEX(Visum_Liste,F154+1)&\"\"","v":""},"","ZZ",0,0,0,0,0,0,3,"",{"$f":"MIN(IF(W154=$W$9:$W$2128,$E$9:$E$2128))","v":0},{"$f":"MAX(IF(W154=$W$9:$W$2128,$E$9:$E$2128))","v":0},146,1,1,null,null,1,null,"ZZ00000","00ZZ000",null,{"$f":"ABS(OR(C154=0,AND(MaxInput>1,M154=INDEX(FFilter,AO$5))))","v":1},{"$f":"ABS(OR(C154=0,AND(MaxInput>1,N154=INDEX(FFilter,AP$5))))","v":1},{"$f":"ABS(OR(C154=0,AND(MaxInput>1,O154=INDEX(FFilter,AQ$5))))","v":1},null,null,null,null,null,null,null,null,null,null,{"$f":"ROW()","v":154}]
[147,"",null,null,null,null,null,null,null,null,null,null,"",{"$f":"IF(C155=0,\"\",INDEX(Objekt_Text,D155+1,2))","v":""},{"$f":"IF(C155=0,\"\",INDEX(Objekt_Text,D155+1,3))","v":""},"","",{"$f":"INDEX(Visum_Liste,F155+1)&\"\"","v":""},"","ZZ",0,0,0,0,0,0,3,"",{"$f":"MIN(IF(W155=$W$9:$W$2128,$E$9:$E$2128))","v":0},{"$f":"MAX(IF(W155=$W$9:$W$2128,$E$9:$E$2128))","v":0},147,1,1,null,null,1,null,"ZZ00000","00ZZ000",null,{"$f":"ABS(OR(C155=0,AND(MaxInput>1,M155=INDEX(FFilter,AO$5))))","v":1},{"$f":"ABS(OR(C155=0,AND(MaxInput>1,N155=INDEX(FFilter,AP$5))))","v":1},{"$f":"ABS(OR(C155=0,AND(MaxInput>1,O155=INDEX(FFilter,AQ$5))))","v":1},null,null,null,null,null,null,null,null,null,null,{"$f":"ROW()","v":155}]
[148,"",null,null,null,null,null,null,null,null,null,null,"",{"$f":"IF(C156=0,\"\",INDEX(Objekt_Text,D156+1,2))","v":""},{"$f":"IF(C156=0,\"\",INDEX(Objekt_Text,D156+1,3))","v":""},"","",{"$f":"INDEX(Visum_Liste,F156+1)&\"\"","v":""},"","ZZ",0,0,0,0,0,0,3,"",{"$f":"MIN(IF(W156=$W$9:$W$2128,$E$9:$E$2128))","v":0},{"$f":"MAX(IF(W156=$W$9:$W$2128,$E$9:$E$2128))","v":0},148,1,1,null,null,1,null,"ZZ00000","00ZZ000",null,{"$f":"ABS(OR(C156=0,AND(MaxInput>1,M156=INDEX(FFilter,AO$5))))","v":1},{"$f":"ABS(OR(C156=0,AND(MaxInput>1,N156=INDEX(FFilter,AP$5))))","v":1},{"$f":"ABS(OR(C156=0,AND(MaxInput>1,O156=INDEX(FFilter,AQ$5))))","v":1},null,null,null,null,null,null,null,null,null,null,{"$f":"ROW()","v":156}]
[149,"",null,null,null,null,null,null,null,null,null,null,"",{"$f":"IF(C157=0,\"\",INDEX(Objekt_Text,D157+1,2))","v":""},{"$f":"IF(C157=0,\"\",INDEX(Objekt_Text,D157+1,3))","v":""},"","",{"$f":"INDEX(Visum_Liste,F157+1)&\"\"","v":""},"","ZZ",0,0,0,0,0,0,3,"",{"$f":"MIN(IF(W157=$W$9:$W$2128,$E$9:$E$2128))","v":0},{"$f":"MAX(IF(W157=$W$9:$W$2128,$E$9:$E$2128))","v":0},149,1,1,null,null,1,null,"ZZ00000","00ZZ000",null,{"$f":"ABS(OR(C157=0,AND(MaxInput>1,M157=INDEX(FFilter,AO$5))))","v":1},{"$f":"ABS(OR(C157=0,AND(MaxInput>1,N157=INDEX(FFilter,AP$5))))","v":1},{"$f":"ABS(OR(C157=0,AND(MaxInput>1,O157=INDEX(FFilter,AQ$5))))","v":1},null,null,null,null,null,null,null,null,null,null,{"$f":"ROW()","v":157}]
[150,"",null,null,null,null,null,null,null,null,null,null,"",{"$f":"IF(C158=0,\"\",INDEX(Objekt_Text,D158+1,2))","v":""},{"$f":"IF(C158=0,\"\",INDEX(Objekt_Text,D158+1,3))","v":""},"","",{"$f":"INDEX(Visum_Liste,F158+1)&\"\"","v":""},"","ZZ",0,0,0,0,0,0,3,"",{"$f":"MIN(IF(W158=$W$9:$W$2128,$E$9:$E$2128))","v":0},{"$f":"MAX(IF(W158=$W$9:$W$2128,$E$9:$E$2128))","v":0},150,1,1,null,null,1,null,"ZZ00000","00ZZ000",null,{"$f":"ABS(OR(C158=0,AND(MaxInput>1,M158=INDEX(FFilter,AO$5))))","v":1},{"$f":"ABS(OR(C158=0,AND(MaxInput>1,N158=INDEX(FFilter,AP$5))))","v":1},{"$f":"ABS(OR(C158=0,AND(MaxInput>1,O158=INDEX(FFilter,AQ$5))))","v":1},null,null,null,null,null,null,null,null,null,null,{"$f":"ROW()","v":158}]
[151,"",null,null,null,null,null,null,null,null,null,null,"",{"$f":"IF(C159=0,\"\",INDEX(Objekt_Text,D159+1,2))","v":""},{"$f":"IF(C159=0,\"\",INDEX(Objekt_Text,D159+1,3))","v":""},"","",{"$f":"INDEX(Visum_Liste,F159+1)&\"\"","v":""},"","ZZ",0,0,0,0,0,0,3,"",{"$f":"MIN(IF(W159=$W$9:$W$2128,$E$9:$E$2128))","v":0},{"$f":"MAX(IF(W159=$W$9:$W$2128,$E$9:$E$2128))","v":0},151,1,1,null,null,1,null,"ZZ00000","00ZZ000",null,{"$f":"ABS(OR(C159=0,AND(MaxInput>1,M159=INDEX(FFilter,AO$5))))","v":1},{"$f":"ABS(OR(C159=0,AND(MaxInput>1,N159=INDEX(FFilter,AP$5))))","v":1},{"$f":"ABS(OR(C159=0,AND(MaxInput>1,O159=INDEX(FFilter,AQ$5))))","v":1},null,null,null,null,null,null,null,null,null,null,{"$f":"ROW()","v":159}]
[152,"",null,null,null,null,null,null,null,null,null,null,"",{"$f":"IF(C160=0,\"\",INDEX(Objekt_Text,D160+1,2))","v":""},{"$f":"IF(C160=0,\"\",INDEX(Objekt_Text,D160+1,3))","v":""},"","",{"$f":"INDEX(Visum_Liste,F160+1)&\"\"","v":""},"","ZZ",0,0,0,0,0,0,3,"",{"$f":"MIN(IF(W160=$W$9:$W$2128,$E$9:$E$2128))","v":0},{"$f":"MAX(IF(W160=$W$9:$W$2128,$E$9:$E$2128))","v":0},152,1,1,null,null,1,null,"ZZ00000","00ZZ000",null,{"$f":"ABS(OR(C160=0,AND(MaxInput>1,M160=INDEX(FFilter,AO$5))))","v":1},{"$f":"ABS(OR(C160=0,AND(MaxInput>1,N160=INDEX(FFilter,AP$5))))","v":1},{"$f":"ABS(OR(C160=0,AND(MaxInput>1,O160=INDEX(FFilter,AQ$5))))","v":1},null,null,null,null,null,null,null,null,null,null,{"$f":"ROW()","v":160}]
[153,"",null,null,null,null,null,null,null,null,null,null,"",{"$f":"IF(C161=0,\"\",INDEX(Objekt_Text,D161+1,2))","v":""},{"$f":"IF(C161=0,\"\",INDEX(Objekt_Text,D161+1,3))","v":""},"","",{"$f":"INDEX(Visum_Liste,F161+1)&\"\"","v":""},"","ZZ",0,0,0,0,0,0,3,"",{"$f":"MIN(IF(W161=$W$9:$W$2128,$E$9:$E$2128))","v":0},{"$f":"MAX(IF(W161=$W$9:$W$2128,$E$9:$E$2128))","v":0},153,1,1,null,null,1,null,"ZZ00000","00ZZ000",null,{"$f":"ABS(OR(C161=0,AND(MaxInput>1,M161=INDEX(FFilter,AO$5))))","v":1},{"$f":"ABS(OR(C161=0,AND(MaxInput>1,N161=INDEX(FFilter,AP$5))))","v":1},{"$f":"ABS(OR(C161=0,AND(MaxInput>1,O161=INDEX(FFilter,AQ$5))))","v":1},null,null,null,null,null,null,null,null,null,null,{"$f":"ROW()","v":161}]
[154,"",null,null,null,null,null,null,null,null,null,null,"",{"$f":"IF(C162=0,\"\",INDEX(Objekt_Text,D162+1,2))","v":""},{"$f":"IF(C162=0,\"\",INDEX(Objekt_Text,D162+1,3))","v":""},"","",{"$f":"INDEX(Visum_Liste,F162+1)&\"\"","v":""},"","ZZ",0,0,0,0,0,0,3,"",{"$f":"MIN(IF(W162=$W$9:$W$2128,$E$9:$E$2128))","v":0},{"$f":"MAX(IF(W162=$W$9:$W$2128,$E$9:$E$2128))","v":0},154,1,1,null,null,1,null,"ZZ00000","00ZZ000",null,{"$f":"ABS(OR(C162=0,AND(MaxInput>1,M162=INDEX(FFilter,AO$5))))","v":1},{"$f":"ABS(OR(C162=0,AND(MaxInput>1,N162=INDEX(FFilter,AP$5))))","v":1},{"$f":"ABS(OR(C162=0,AND(MaxInput>1,O162=INDEX(FFilter,AQ$5))))","v":1},null,null,null,null,null,null,null,null,null,null,{"$f":"ROW()","v":162}]
[155,"",null,null,null,null,null,null,null,null,null,null,"",{"$f":"IF(C163=0,\"\",INDEX(Objekt_Text,D163+1,2))","v":""},{"$f":"IF(C163=0,\"\",INDEX(Objekt_Text,D163+1,3))","v":""},"","",{"$f":"INDEX(Visum_Liste,F163+1)&\"\"","v":""},"","ZZ",0,0,0,0,0,0,3,"",{"$f":"MIN(IF(W163=$W$9:$W$2128,$E$9:$E$2128))","v":0},{"$f":"MAX(IF(W163=$W$9:$W$2128,$E$9:$E$2128))","v":0},155,1,1,null,null,1,null,"ZZ00000","00ZZ000",null,{"$f":"ABS(OR(C163=0,AND(MaxInput>1,M163=INDEX(FFilter,AO$5))))","v":1},{"$f":"ABS(OR(C163=0,AND(MaxInput>1,N163=INDEX(FFilter,AP$5))))","v":1},{"$f":"ABS(OR(C163=0,AND(MaxInput>1,O163=INDEX(FFilter,AQ$5))))","v":1},null,null,null,null,null,null,null,null,null,null,{"$f":"ROW()","v":163}]
[156,"",null,null,null,null,null,null,null,null,null,null,"",{"$f":"IF(C164=0,\"\",INDEX(Objekt_Text,D164+1,2))","v":""},{"$f":"IF(C164=0,\"\",INDEX(Objekt_Text,D164+1,3))","v":""},"","",{"$f":"INDEX(Visum_Liste,F164+1)&\"\"","v":""},"","ZZ",0,0,0,0,0,0,3,"",{"$f":"MIN(IF(W164=$W$9:$W$2128,$E$9:$E$2128))","v":0},{"$f":"MAX(IF(W164=$W$9:$W$2128,$E$9:$E$2128))","v":0},156,1,1,null,null,1,null,"ZZ00000","00ZZ000",null,{"$f":"ABS(OR(C164=0,AND(MaxInput>1,M164=INDEX(FFilter,AO$5))))","v":1},{"$f":"ABS(OR(C164=0,AND(MaxInput>1,N164=INDEX(FFilter,AP$5))))","v":1},{"$f":"ABS(OR(C164=0,AND(MaxInput>1,O164=INDEX(FFilter,AQ$5))))","v":1},null,null,null,null,null,null,null,null,null,null,{"$f":"ROW()","v":164}]
[157,"",null,null,null,null,null,null,null,null,null,null,"",{"$f":"IF(C165=0,\"\",INDEX(Objekt_Text,D165+1,2))","v":""},{"$f":"IF(C165=0,\"\",INDEX(Objekt_Text,D165+1,3))","v":""},"","",{"$f":"INDEX(Visum_Liste,F165+1)&\"\"","v":""},"","ZZ",0,0,0,0,0,0,3,"",{"$f":"MIN(IF(W165=$W$9:$W$2128,$E$9:$E$2128))","v":0},{"$f":"MAX(IF(W165=$W$9:$W$2128,$E$9:$E$2128))","v":0},157,1,1,null,null,1,null,"ZZ00000","00ZZ000",null,{"$f":"ABS(OR(C165=0,AND(MaxInput>1,M165=INDEX(FFilter,AO$5))))","v":1},{"$f":"ABS(OR(C165=0,AND(MaxInput>1,N165=INDEX(FFilter,AP$5))))","v":1},{"$f":"ABS(OR(C165=0,AND(MaxInput>1,O165=INDEX(FFilter,AQ$5))))","v":1},null,null,null,null,null,null,null,null,null,null,{"$f":"ROW()","v":165}]
[158,"",null,null,null,null,null,null,null,null,null,null,"",{"$f":"IF(C166=0,\"\",INDEX(Objekt_Text,D166+1,2))","v":""},{"$f":"IF(C166=0,\"\",INDEX(Objekt_Text,D166+1,3))","v":""},"","",{"$f":"INDEX(Visum_Liste,F166+1)&\"\"","v":""},"","ZZ",0,0,0,0,0,0,3,"",{"$f":"MIN(IF(W166=$W$9:$W$2128,$E$9:$E$2128))","v":0},{"$f":"MAX(IF(W166=$W$9:$W$2128,$E$9:$E$2128))","v":0},158,1,1,null,null,1,null,"ZZ00000","00ZZ000",null,{"$f":"ABS(OR(C166=0,AND(MaxInput>1,M166=INDEX(FFilter,AO$5))))","v":1},{"$f":"ABS(OR(C166=0,AND(MaxInput>1,N166=INDEX(FFilter,AP$5))))","v":1},{"$f":"ABS(OR(C166=0,AND(MaxInput>1,O166=INDEX(FFilter,AQ$5))))","v":1},null,null,null,null,null,null,null,null,null,null,{"$f":"ROW()","v":166}]
[159,"",null,null,null,null,null,null,null,null,null,null,"",{"$f":"IF(C167=0,\"\",INDEX(Objekt_Text,D167+1,2))","v":""},{"$f":"IF(C167=0,\"\",INDEX(Objekt_Text,D167+1,3))","v":""},"","",{"$f":"INDEX(Visum_Liste,F167+1)&\"\"","v":""},"","ZZ",0,0,0,0,0,0,3,"",{"$f":"MIN(IF(W167=$W$9:$W$2128,$E$9:$E$2128))","v":0},{"$f":"MAX(IF(W167=$W$9:$W$2128,$E$9:$E$2128))","v":0},159,1,1,null,null,1,null,"ZZ00000","00ZZ000",null,{"$f":"ABS(OR(C167=0,AND(MaxInput>1,M167=INDEX(FFilter,AO$5))))","v":1},{"$f":"ABS(OR(C167=0,AND(MaxInput>1,N167=INDEX(FFilter,AP$5))))","v":1},{"$f":"ABS(OR(C167=0,AND(MaxInput>1,O167=INDEX(FFilter,AQ$5))))","v":1},null,null,null,null,null,null,null,null,null,null,{"$f":"ROW()","v":167}]
[160,"",null,null,null,null,null,null,null,null,null,null,"",{"$f":"IF(C168=0,\"\",INDEX(Objekt_Text,D168+1,2))","v":""},{"$f":"IF(C168=0,\"\",INDEX(Objekt_Text,D168+1,3))","v":""},"","",{"$f":"INDEX(Visum_Liste,F168+1)&\"\"","v":""},"","ZZ",0,0,0,0,0,0,3,"",{"$f":"MIN(IF(W168=$W$9:$W$2128,$E$9:$E$2128))","v":0},{"$f":"MAX(IF(W168=$W$9:$W$2128,$E$9:$E$2128))","v":0},160,1,1,null,null,1,null,"ZZ00000","00ZZ000",null,{"$f":"ABS(OR(C168=0,AND(MaxInput>1,M168=INDEX(FFilter,AO$5))))","v":1},{"$f":"ABS(OR(C168=0,AND(MaxInput>1,N168=INDEX(FFilter,AP$5))))","v":1},{"$f":"ABS(OR(C168=0,AND(MaxInput>1,O168=INDEX(FFilter,AQ$5))))","v":1},null,null,null,null,null,null,null,null,null,null,{"$f":"ROW()","v":168}]
[161,"",null,null,null,null,null,null,null,null,null,null,"",{"$f":"IF(C169=0,\"\",INDEX(Objekt_Text,D169+1,2))","v":""},{"$f":"IF(C169=0,\"\",INDEX(Objekt_Text,D169+1,3))","v":""},"","",{"$f":"INDEX(Visum_Liste,F169+1)&\"\"","v":""},"","ZZ",0,0,0,0,0,0,3,"",{"$f":"MIN(IF(W169=$W$9:$W$2128,$E$9:$E$2128))","v":0},{"$f":"MAX(IF(W169=$W$9:$W$2128,$E$9:$E$2128))","v":0},161,1,1,null,null,1,null,"ZZ00000","00ZZ000",null,{"$f":"ABS(OR(C169=0,AND(MaxInput>1,M169=INDEX(FFilter,AO$5))))","v":1},{"$f":"ABS(OR(C169=0,AND(MaxInput>1,N169=INDEX(FFilter,AP$5))))","v":1},{"$f":"ABS(OR(C169=0,AND(MaxInput>1,O169=INDEX(FFilter,AQ$5))))","v":1},null,null,null,null,null,null,null,null,null,null,{"$f":"ROW()","v":169}]
[162,"",null,null,null,null,null,null,null,null,null,null,"",{"$f":"IF(C170=0,\"\",INDEX(Objekt_Text,D170+1,2))","v":""},{"$f":"IF(C170=0,\"\",INDEX(Objekt_Text,D170+1,3))","v":""},"","",{"$f":"INDEX(Visum_Liste,F170+1)&\"\"","v":""},"","ZZ",0,0,0,0,0,0,3,"",{"$f":"MIN(IF(W170=$W$9:$W$2128,$E$9:$E$2128))","v":0},{"$f":"MAX(IF(W170=$W$9:$W$2128,$E$9:$E$2128))","v":0},162,1,1,null,null,1,null,"ZZ00000","00ZZ000",null,{"$f":"ABS(OR(C170=0,AND(MaxInput>1,M170=INDEX(FFilter,AO$5))))","v":1},{"$f":"ABS(OR(C170=0,AND(MaxInput>1,N170=INDEX(FFilter,AP$5))))","v":1},{"$f":"ABS(OR(C170=0,AND(MaxInput>1,O170=INDEX(FFilter,AQ$5))))","v":1},null,null,null,null,null,null,null,null,null,null,{"$f":"ROW()","v":170}]
[163,"",null,null,null,null,null,null,null,null,null,null,"",{"$f":"IF(C171=0,\"\",INDEX(Objekt_Text,D171+1,2))","v":""},{"$f":"IF(C171=0,\"\",INDEX(Objekt_Text,D171+1,3))","v":""},"","",{"$f":"INDEX(Visum_Liste,F171+1)&\"\"","v":""},"","ZZ",0,0,0,0,0,0,3,"",{"$f":"MIN(IF(W171=$W$9:$W$2128,$E$9:$E$2128))","v":0},{"$f":"MAX(IF(W171=$W$9:$W$2128,$E$9:$E$2128))","v":0},163,1,1,null,null,1,null,"ZZ00000","00ZZ000",null,{"$f":"ABS(OR(C171=0,AND(MaxInput>1,M171=INDEX(FFilter,AO$5))))","v":1},{"$f":"ABS(OR(C171=0,AND(MaxInput>1,N171=INDEX(FFilter,AP$5))))","v":1},{"$f":"ABS(OR(C171=0,AND(MaxInput>1,O171=INDEX(FFilter,AQ$5))))","v":1},null,null,null,null,null,null,null,null,null,null,{"$f":"ROW()","v":171}]
[164,"",null,null,null,null,null,null,null,null,null,null,"",{"$f":"IF(C172=0,\"\",INDEX(Objekt_Text,D172+1,2))","v":""},{"$f":"IF(C172=0,\"\",INDEX(Objekt_Text,D172+1,3))","v":""},"","",{"$f":"INDEX(Visum_Liste,F172+1)&\"\"","v":""},"","ZZ",0,0,0,0,0,0,3,"",{"$f":"MIN(IF(W172=$W$9:$W$2128,$E$9:$E$2128))","v":0},{"$f":"MAX(IF(W172=$W$9:$W$2128,$E$9:$E$2128))","v":0},164,1,1,null,null,1,null,"ZZ00000","00ZZ000",null,{"$f":"ABS(OR(C172=0,AND(MaxInput>1,M172=INDEX(FFilter,AO$5))))","v":1},{"$f":"ABS(OR(C172=0,AND(MaxInput>1,N172=INDEX(FFilter,AP$5))))","v":1},{"$f":"ABS(OR(C172=0,AND(MaxInput>1,O172=INDEX(FFilter,AQ$5))))","v":1},null,null,null,null,null,null,null,null,null,null,{"$f":"ROW()","v":172}]
[165,"",null,null,null,null,null,null,null,null,null,null,"",{"$f":"IF(C173=0,\"\",INDEX(Objekt_Text,D173+1,2))","v":""},{"$f":"IF(C173=0,\"\",INDEX(Objekt_Text,D173+1,3))","v":""},"","",{"$f":"INDEX(Visum_Liste,F173+1)&\"\"","v":""},"","ZZ",0,0,0,0,0,0,3,"",{"$f":"MIN(IF(W173=$W$9:$W$2128,$E$9:$E$2128))","v":0},{"$f":"MAX(IF(W173=$W$9:$W$2128,$E$9:$E$2128))","v":0},165,1,1,null,null,1,null,"ZZ00000","00ZZ000",null,{"$f":"ABS(OR(C173=0,AND(MaxInput>1,M173=INDEX(FFilter,AO$5))))","v":1},{"$f":"ABS(OR(C173=0,AND(MaxInput>1,N173=INDEX(FFilter,AP$5))))","v":1},{"$f":"ABS(OR(C173=0,AND(MaxInput>1,O173=INDEX(FFilter,AQ$5))))","v":1},null,null,null,null,null,null,null,null,null,null,{"$f":"ROW()","v":173}]
[166,"",null,null,null,null,null,null,null,null,null,null,"",{"$f":"IF(C174=0,\"\",INDEX(Objekt_Text,D174+1,2))","v":""},{"$f":"IF(C174=0,\"\",INDEX(Objekt_Text,D174+1,3))","v":""},"","",{"$f":"INDEX(Visum_Liste,F174+1)&\"\"","v":""},"","ZZ",0,0,0,0,0,0,3,"",{"$f":"MIN(IF(W174=$W$9:$W$2128,$E$9:$E$2128))","v":0},{"$f":"MAX(IF(W174=$W$9:$W$2128,$E$9:$E$2128))","v":0},166,1,1,null,null,1,null,"ZZ00000","00ZZ000",null,{"$f":"ABS(OR(C174=0,AND(MaxInput>1,M174=INDEX(FFilter,AO$5))))","v":1},{"$f":"ABS(OR(C174=0,AND(MaxInput>1,N174=INDEX(FFilter,AP$5))))","v":1},{"$f":"ABS(OR(C174=0,AND(MaxInput>1,O174=INDEX(FFilter,AQ$5))))","v":1},null,null,null,null,null,null,null,null,null,null,{"$f":"ROW()","v":174}]
[167,"",null,null,null,null,null,null,null,null,null,null,"",{"$f":"IF(C175=0,\"\",INDEX(Objekt_Text,D175+1,2))","v":""},{"$f":"IF(C175=0,\"\",INDEX(Objekt_Text,D175+1,3))","v":""},"","",{"$f":"INDEX(Visum_Liste,F175+1)&\"\"","v":""},"","ZZ",0,0,0,0,0,0,3,"",{"$f":"MIN(IF(W175=$W$9:$W$2128,$E$9:$E$2128))","v":0},{"$f":"MAX(IF(W175=$W$9:$W$2128,$E$9:$E$2128))","v":0},167,1,1,null,null,1,null,"ZZ00000","00ZZ000",null,{"$f":"ABS(OR(C175=0,AND(MaxInput>1,M175=INDEX(FFilter,AO$5))))","v":1},{"$f":"ABS(OR(C175=0,AND(MaxInput>1,N175=INDEX(FFilter,AP$5))))","v":1},{"$f":"ABS(OR(C175=0,AND(MaxInput>1,O175=INDEX(FFilter,AQ$5))))","v":1},null,null,null,null,null,null,null,null,null,null,{"$f":"ROW()","v":175}]
[168,"",null,null,null,null,null,null,null,null,null,null,"",{"$f":"IF(C176=0,\"\",INDEX(Objekt_Text,D176+1,2))","v":""},{"$f":"IF(C176=0,\"\",INDEX(Objekt_Text,D176+1,3))","v":""},"","",{"$f":"INDEX(Visum_Liste,F176+1)&\"\"","v":""},"","ZZ",0,0,0,0,0,0,3,"",{"$f":"MIN(IF(W176=$W$9:$W$2128,$E$9:$E$2128))","v":0},{"$f":"MAX(IF(W176=$W$9:$W$2128,$E$9:$E$2128))","v":0},168,1,1,null,null,1,null,"ZZ00000","00ZZ000",null,{"$f":"ABS(OR(C176=0,AND(MaxInput>1,M176=INDEX(FFilter,AO$5))))","v":1},{"$f":"ABS(OR(C176=0,AND(MaxInput>1,N176=INDEX(FFilter,AP$5))))","v":1},{"$f":"ABS(OR(C176=0,AND(MaxInput>1,O176=INDEX(FFilter,AQ$5))))","v":1},null,null,null,null,null,null,null,null,null,null,{"$f":"ROW()","v":176}]
[169,"",null,null,null,null,null,null,null,null,null,null,"",{"$f":"IF(C177=0,\"\",INDEX(Objekt_Text,D177+1,2))","v":""},{"$f":"IF(C177=0,\"\",INDEX(Objekt_Text,D177+1,3))","v":""},"","",{"$f":"INDEX(Visum_Liste,F177+1)&\"\"","v":""},"","ZZ",0,0,0,0,0,0,3,"",{"$f":"MIN(IF(W177=$W$9:$W$2128,$E$9:$E$2128))","v":0},{"$f":"MAX(IF(W177=$W$9:$W$2128,$E$9:$E$2128))","v":0},169,1,1,null,null,1,null,"ZZ00000","00ZZ000",null,{"$f":"ABS(OR(C177=0,AND(MaxInput>1,M177=INDEX(FFilter,AO$5))))","v":1},{"$f":"ABS(OR(C177=0,AND(MaxInput>1,N177=INDEX(FFilter,AP$5))))","v":1},{"$f":"ABS(OR(C177=0,AND(MaxInput>1,O177=INDEX(FFilter,AQ$5))))","v":1},null,null,null,null,null,null,null,null,null,null,{"$f":"ROW()","v":177}]
[170,"",null,null,null,null,null,null,null,null,null,null,"",{"$f":"IF(C178=0,\"\",INDEX(Objekt_Text,D178+1,2))","v":""},{"$f":"IF(C178=0,\"\",INDEX(Objekt_Text,D178+1,3))","v":""},"","",{"$f":"INDEX(Visum_Liste,F178+1)&\"\"","v":""},"","ZZ",0,0,0,0,0,0,3,"",{"$f":"MIN(IF(W178=$W$9:$W$2128,$E$9:$E$2128))","v":0},{"$f":"MAX(IF(W178=$W$9:$W$2128,$E$9:$E$2128))","v":0},170,1,1,null,null,1,null,"ZZ00000","00ZZ000",null,{"$f":"ABS(OR(C178=0,AND(MaxInput>1,M178=INDEX(FFilter,AO$5))))","v":1},{"$f":"ABS(OR(C178=0,AND(MaxInput>1,N178=INDEX(FFilter,AP$5))))","v":1},{"$f":"ABS(OR(C178=0,AND(MaxInput>1,O178=INDEX(FFilter,AQ$5))))","v":1},null,null,null,null,null,null,null,null,null,null,{"$f":"ROW()","v":178}]
[171,"",null,null,null,null,null,null,null,null,null,null,"",{"$f":"IF(C179=0,\"\",INDEX(Objekt_Text,D179+1,2))","v":""},{"$f":"IF(C179=0,\"\",INDEX(Objekt_Text,D179+1,3))","v":""},"","",{"$f":"INDEX(Visum_Liste,F179+1)&\"\"","v":""},"","ZZ",0,0,0,0,0,0,3,"",{"$f":"MIN(IF(W179=$W$9:$W$2128,$E$9:$E$2128))","v":0},{"$f":"MAX(IF(W179=$W$9:$W$2128,$E$9:$E$2128))","v":0},171,1,1,null,null,1,null,"ZZ00000","00ZZ000",null,{"$f":"ABS(OR(C179=0,AND(MaxInput>1,M179=INDEX(FFilter,AO$5))))","v":1},{"$f":"ABS(OR(C179=0,AND(MaxInput>1,N179=INDEX(FFilter,AP$5))))","v":1},{"$f":"ABS(OR(C179=0,AND(MaxInput>1,O179=INDEX(FFilter,AQ$5))))","v":1},null,null,null,null,null,null,null,null,null,null,{"$f":"ROW()","v":179}]
[172,"",null,null,null,null,null,null,null,null,null,null,"",{"$f":"IF(C180=0,\"\",INDEX(Objekt_Text,D180+1,2))","v":""},{"$f":"IF(C180=0,\"\",INDEX(Objekt_Text,D180+1,3))","v":""},"","",{"$f":"INDEX(Visum_Liste,F180+1)&\"\"","v":""},"","ZZ",0,0,0,0,0,0,3,"",{"$f":"MIN(IF(W180=$W$9:$W$2128,$E$9:$E$2128))","v":0},{"$f":"MAX(IF(W180=$W$9:$W$2128,$E$9:$E$2128))","v":0},172,1,1,null,null,1,null,"ZZ00000","00ZZ000",null,{"$f":"ABS(OR(C180=0,AND(MaxInput>1,M180=INDEX(FFilter,AO$5))))","v":1},{"$f":"ABS(OR(C180=0,AND(MaxInput>1,N180=INDEX(FFilter,AP$5))))","v":1},{"$f":"ABS(OR(C180=0,AND(MaxInput>1,O180=INDEX(FFilter,AQ$5))))","v":1},null,null,null,null,null,null,null,null,null,null,{"$f":"ROW()","v":180}]
[173,"",null,null,null,null,null,null,null,null,null,null,"",{"$f":"IF(C181=0,\"\",INDEX(Objekt_Text,D181+1,2))","v":""},{"$f":"IF(C181=0,\"\",INDEX(Objekt_Text,D181+1,3))","v":""},"","",{"$f":"INDEX(Visum_Liste,F181+1)&\"\"","v":""},"","ZZ",0,0,0,0,0,0,3,"",{"$f":"MIN(IF(W181=$W$9:$W$2128,$E$9:$E$2128))","v":0},{"$f":"MAX(IF(W181=$W$9:$W$2128,$E$9:$E$2128))","v":0},173,1,1,null,null,1,null,"ZZ00000","00ZZ000",null,{"$f":"ABS(OR(C181=0,AND(MaxInput>1,M181=INDEX(FFilter,AO$5))))","v":1},{"$f":"ABS(OR(C181=0,AND(MaxInput>1,N181=INDEX(FFilter,AP$5))))","v":1},{"$f":"ABS(OR(C181=0,AND(MaxInput>1,O181=INDEX(FFilter,AQ$5))))","v":1},null,null,null,null,null,null,null,null,null,null,{"$f":"ROW()","v":181}]
[174,"",null,null,null,null,null,null,null,null,null,null,"",{"$f":"IF(C182=0,\"\",INDEX(Objekt_Text,D182+1,2))","v":""},{"$f":"IF(C182=0,\"\",INDEX(Objekt_Text,D182+1,3))","v":""},"","",{"$f":"INDEX(Visum_Liste,F182+1)&\"\"","v":""},"","ZZ",0,0,0,0,0,0,3,"",{"$f":"MIN(IF(W182=$W$9:$W$2128,$E$9:$E$2128))","v":0},{"$f":"MAX(IF(W182=$W$9:$W$2128,$E$9:$E$2128))","v":0},174,1,1,null,null,1,null,"ZZ00000","00ZZ000",null,{"$f":"ABS(OR(C182=0,AND(MaxInput>1,M182=INDEX(FFilter,AO$5))))","v":1},{"$f":"ABS(OR(C182=0,AND(MaxInput>1,N182=INDEX(FFilter,AP$5))))","v":1},{"$f":"ABS(OR(C182=0,AND(MaxInput>1,O182=INDEX(FFilter,AQ$5))))","v":1},null,null,null,null,null,null,null,null,null,null,{"$f":"ROW()","v":182}]
[175,"",null,null,null,null,null,null,null,null,null,null,"",{"$f":"IF(C183=0,\"\",INDEX(Objekt_Text,D183+1,2))","v":""},{"$f":"IF(C183=0,\"\",INDEX(Objekt_Text,D183+1,3))","v":""},"","",{"$f":"INDEX(Visum_Liste,F183+1)&\"\"","v":""},"","ZZ",0,0,0,0,0,0,3,"",{"$f":"MIN(IF(W183=$W$9:$W$2128,$E$9:$E$2128))","v":0},{"$f":"MAX(IF(W183=$W$9:$W$2128,$E$9:$E$2128))","v":0},175,1,1,null,null,1,null,"ZZ00000","00ZZ000",null,{"$f":"ABS(OR(C183=0,AND(MaxInput>1,M183=INDEX(FFilter,AO$5))))","v":1},{"$f":"ABS(OR(C183=0,AND(MaxInput>1,N183=INDEX(FFilter,AP$5))))","v":1},{"$f":"ABS(OR(C183=0,AND(MaxInput>1,O183=INDEX(FFilter,AQ$5))))","v":1},null,null,null,null,null,null,null,null,null,null,{"$f":"ROW()","v":183}]
[176,"",null,null,null,null,null,null,null,null,null,null,"",{"$f":"IF(C184=0,\"\",INDEX(Objekt_Text,D184+1,2))","v":""},{"$f":"IF(C184=0,\"\",INDEX(Objekt_Text,D184+1,3))","v":""},"","",{"$f":"INDEX(Visum_Liste,F184+1)&\"\"","v":""},"","ZZ",0,0,0,0,0,0,3,"",{"$f":"MIN(IF(W184=$W$9:$W$2128,$E$9:$E$2128))","v":0},{"$f":"MAX(IF(W184=$W$9:$W$2128,$E$9:$E$2128))","v":0},176,1,1,null,null,1,null,"ZZ00000","00ZZ000",null,{"$f":"ABS(OR(C184=0,AND(MaxInput>1,M184=INDEX(FFilter,AO$5))))","v":1},{"$f":"ABS(OR(C184=0,AND(MaxInput>1,N184=INDEX(FFilter,AP$5))))","v":1},{"$f":"ABS(OR(C184=0,AND(MaxInput>1,O184=INDEX(FFilter,AQ$5))))","v":1},null,null,null,null,null,null,null,null,null,null,{"$f":"ROW()","v":184}]
[177,"",null,null,null,null,null,null,null,null,null,null,"",{"$f":"IF(C185=0,\"\",INDEX(Objekt_Text,D185+1,2))","v":""},{"$f":"IF(C185=0,\"\",INDEX(Objekt_Text,D185+1,3))","v":""},"","",{"$f":"INDEX(Visum_Liste,F185+1)&\"\"","v":""},"","ZZ",0,0,0,0,0,0,3,"",{"$f":"MIN(IF(W185=$W$9:$W$2128,$E$9:$E$2128))","v":0},{"$f":"MAX(IF(W185=$W$9:$W$2128,$E$9:$E$2128))","v":0},177,1,1,null,null,1,null,"ZZ00000","00ZZ000",null,{"$f":"ABS(OR(C185=0,AND(MaxInput>1,M185=INDEX(FFilter,AO$5))))","v":1},{"$f":"ABS(OR(C185=0,AND(MaxInput>1,N185=INDEX(FFilter,AP$5))))","v":1},{"$f":"ABS(OR(C185=0,AND(MaxInput>1,O185=INDEX(FFilter,AQ$5))))","v":1},null,null,null,null,null,null,null,null,null,null,{"$f":"ROW()","v":185}]
[178,"",null,null,null,null,null,null,null,null,null,null,"",{"$f":"IF(C186=0,\"\",INDEX(Objekt_Text,D186+1,2))","v":""},{"$f":"IF(C186=0,\"\",INDEX(Objekt_Text,D186+1,3))","v":""},"","",{"$f":"INDEX(Visum_Liste,F186+1)&\"\"","v":""},"","ZZ",0,0,0,0,0,0,3,"",{"$f":"MIN(IF(W186=$W$9:$W$2128,$E$9:$E$2128))","v":0},{"$f":"MAX(IF(W186=$W$9:$W$2128,$E$9:$E$2128))","v":0},178,1,1,null,null,1,null,"ZZ00000","00ZZ000",null,{"$f":"ABS(OR(C186=0,AND(MaxInput>1,M186=INDEX(FFilter,AO$5))))","v":1},{"$f":"ABS(OR(C186=0,AND(MaxInput>1,N186=INDEX(FFilter,AP$5))))","v":1},{"$f":"ABS(OR(C186=0,AND(MaxInput>1,O186=INDEX(FFilter,AQ$5))))","v":1},null,null,null,null,null,null,null,null,null,null,{"$f":"ROW()","v":186}]
[179,"",null,null,null,null,null,null,null,null,null,null,"",{"$f":"IF(C187=0,\"\",INDEX(Objekt_Text,D187+1,2))","v":""},{"$f":"IF(C187=0,\"\",INDEX(Objekt_Text,D187+1,3))","v":""},"","",{"$f":"INDEX(Visum_Liste,F187+1)&\"\"","v":""},"","ZZ",0,0,0,0,0,0,3,"",{"$f":"MIN(IF(W187=$W$9:$W$2128,$E$9:$E$2128))","v":0},{"$f":"MAX(IF(W187=$W$9:$W$2128,$E$9:$E$2128))","v":0},179,1,1,null,null,1,null,"ZZ00000","00ZZ000",null,{"$f":"ABS(OR(C187=0,AND(MaxInput>1,M187=INDEX(FFilter,AO$5))))","v":1},{"$f":"ABS(OR(C187=0,AND(MaxInput>1,N187=INDEX(FFilter,AP$5))))","v":1},{"$f":"ABS(OR(C187=0,AND(MaxInput>1,O187=INDEX(FFilter,AQ$5))))","v":1},null,null,null,null,null,null,null,null,null,null,{"$f":"ROW()","v":187}]
[180,"",null,null,null,null,null,null,null,null,null,null,"",{"$f":"IF(C188=0,\"\",INDEX(Objekt_Text,D188+1,2))","v":""},{"$f":"IF(C188=0,\"\",INDEX(Objekt_Text,D188+1,3))","v":""},"","",{"$f":"INDEX(Visum_Liste,F188+1)&\"\"","v":""},"","ZZ",0,0,0,0,0,0,3,"",{"$f":"MIN(IF(W188=$W$9:$W$2128,$E$9:$E$2128))","v":0},{"$f":"MAX(IF(W188=$W$9:$W$2128,$E$9:$E$2128))","v":0},180,1,1,null,null,1,null,"ZZ00000","00ZZ000",null,{"$f":"ABS(OR(C188=0,AND(MaxInput>1,M188=INDEX(FFilter,AO$5))))","v":1},{"$f":"ABS(OR(C188=0,AND(MaxInput>1,N188=INDEX(FFilter,AP$5))))","v":1},{"$f":"ABS(OR(C188=0,AND(MaxInput>1,O188=INDEX(FFilter,AQ$5))))","v":1},null,null,null,null,null,null,null,null,null,null,{"$f":"ROW()","v":188}]
[181,"",null,null,null,null,null,null,null,null,null,null,"",{"$f":"IF(C189=0,\"\",INDEX(Objekt_Text,D189+1,2))","v":""},{"$f":"IF(C189=0,\"\",INDEX(Objekt_Text,D189+1,3))","v":""},"","",{"$f":"INDEX(Visum_Liste,F189+1)&\"\"","v":""},"","ZZ",0,0,0,0,0,0,3,"",{"$f":"MIN(IF(W189=$W$9:$W$2128,$E$9:$E$2128))","v":0},{"$f":"MAX(IF(W189=$W$9:$W$2128,$E$9:$E$2128))","v":0},181,1,1,null,null,1,null,"ZZ00000","00ZZ000",null,{"$f":"ABS(OR(C189=0,AND(MaxInput>1,M189=INDEX(FFilter,AO$5))))","v":1},{"$f":"ABS(OR(C189=0,AND(MaxInput>1,N189=INDEX(FFilter,AP$5))))","v":1},{"$f":"ABS(OR(C189=0,AND(MaxInput>1,O189=INDEX(FFilter,AQ$5))))","v":1},null,null,null,null,null,null,null,null,null,null,{"$f":"ROW()","v":189}]
[182,"",null,null,null,null,null,null,null,null,null,null,"",{"$f":"IF(C190=0,\"\",INDEX(Objekt_Text,D190+1,2))","v":""},{"$f":"IF(C190=0,\"\",INDEX(Objekt_Text,D190+1,3))","v":""},"","",{"$f":"INDEX(Visum_Liste,F190+1)&\"\"","v":""},"","ZZ",0,0,0,0,0,0,3,"",{"$f":"MIN(IF(W190=$W$9:$W$2128,$E$9:$E$2128))","v":0},{"$f":"MAX(IF(W190=$W$9:$W$2128,$E$9:$E$2128))","v":0},182,1,1,null,null,1,null,"ZZ00000","00ZZ000",null,{"$f":"ABS(OR(C190=0,AND(MaxInput>1,M190=INDEX(FFilter,AO$5))))","v":1},{"$f":"ABS(OR(C190=0,AND(MaxInput>1,N190=INDEX(FFilter,AP$5))))","v":1},{"$f":"ABS(OR(C190=0,AND(MaxInput>1,O190=INDEX(FFilter,AQ$5))))","v":1},null,null,null,null,null,null,null,null,null,null,{"$f":"ROW()","v":190}]
[183,"",null,null,null,null,null,null,null,null,null,null,"",{"$f":"IF(C191=0,\"\",INDEX(Objekt_Text,D191+1,2))","v":""},{"$f":"IF(C191=0,\"\",INDEX(Objekt_Text,D191+1,3))","v":""},"","",{"$f":"INDEX(Visum_Liste,F191+1)&\"\"","v":""},"","ZZ",0,0,0,0,0,0,3,"",{"$f":"MIN(IF(W191=$W$9:$W$2128,$E$9:$E$2128))","v":0},{"$f":"MAX(IF(W191=$W$9:$W$2128,$E$9:$E$2128))","v":0},183,1,1,null,null,1,null,"ZZ00000","00ZZ000",null,{"$f":"ABS(OR(C191=0,AND(MaxInput>1,M191=INDEX(FFilter,AO$5))))","v":1},{"$f":"ABS(OR(C191=0,AND(MaxInput>1,N191=INDEX(FFilter,AP$5))))","v":1},{"$f":"ABS(OR(C191=0,AND(MaxInput>1,O191=INDEX(FFilter,AQ$5))))","v":1},null,null,null,null,null,null,null,null,null,null,{"$f":"ROW()","v":191}]
[184,"",null,null,null,null,null,null,null,null,null,null,"",{"$f":"IF(C192=0,\"\",INDEX(Objekt_Text,D192+1,2))","v":""},{"$f":"IF(C192=0,\"\",INDEX(Objekt_Text,D192+1,3))","v":""},"","",{"$f":"INDEX(Visum_Liste,F192+1)&\"\"","v":""},"","ZZ",0,0,0,0,0,0,3,"",{"$f":"MIN(IF(W192=$W$9:$W$2128,$E$9:$E$2128))","v":0},{"$f":"MAX(IF(W192=$W$9:$W$2128,$E$9:$E$2128))","v":0},184,1,1,null,null,1,null,"ZZ00000","00ZZ000",null,{"$f":"ABS(OR(C192=0,AND(MaxInput>1,M192=INDEX(FFilter,AO$5))))","v":1},{"$f":"ABS(OR(C192=0,AND(MaxInput>1,N192=INDEX(FFilter,AP$5))))","v":1},{"$f":"ABS(OR(C192=0,AND(MaxInput>1,O192=INDEX(FFilter,AQ$5))))","v":1},null,null,null,null,null,null,null,null,null,null,{"$f":"ROW()","v":192}]
[185,"",null,null,null,null,null,null,null,null,null,null,"",{"$f":"IF(C193=0,\"\",INDEX(Objekt_Text,D193+1,2))","v":""},{"$f":"IF(C193=0,\"\",INDEX(Objekt_Text,D193+1,3))","v":""},"","",{"$f":"INDEX(Visum_Liste,F193+1)&\"\"","v":""},"","ZZ",0,0,0,0,0,0,3,"",{"$f":"MIN(IF(W193=$W$9:$W$2128,$E$9:$E$2128))","v":0},{"$f":"MAX(IF(W193=$W$9:$W$2128,$E$9:$E$2128))","v":0},185,1,1,null,null,1,null,"ZZ00000","00ZZ000",null,{"$f":"ABS(OR(C193=0,AND(MaxInput>1,M193=INDEX(FFilter,AO$5))))","v":1},{"$f":"ABS(OR(C193=0,AND(MaxInput>1,N193=INDEX(FFilter,AP$5))))","v":1},{"$f":"ABS(OR(C193=0,AND(MaxInput>1,O193=INDEX(FFilter,AQ$5))))","v":1},null,null,null,null,null,null,null,null,null,null,{"$f":"ROW()","v":193}]
[186,"",null,null,null,null,null,null,null,null,null,null,"",{"$f":"IF(C194=0,\"\",INDEX(Objekt_Text,D194+1,2))","v":""},{"$f":"IF(C194=0,\"\",INDEX(Objekt_Text,D194+1,3))","v":""},"","",{"$f":"INDEX(Visum_Liste,F194+1)&\"\"","v":""},"","ZZ",0,0,0,0,0,0,3,"",{"$f":"MIN(IF(W194=$W$9:$W$2128,$E$9:$E$2128))","v":0},{"$f":"MAX(IF(W194=$W$9:$W$2128,$E$9:$E$2128))","v":0},186,1,1,null,null,1,null,"ZZ00000","00ZZ000",null,{"$f":"ABS(OR(C194=0,AND(MaxInput>1,M194=INDEX(FFilter,AO$5))))","v":1},{"$f":"ABS(OR(C194=0,AND(MaxInput>1,N194=INDEX(FFilter,AP$5))))","v":1},{"$f":"ABS(OR(C194=0,AND(MaxInput>1,O194=INDEX(FFilter,AQ$5))))","v":1},null,null,null,null,null,null,null,null,null,null,{"$f":"ROW()","v":194}]
[187,"",null,null,null,null,null,null,null,null,null,null,"",{"$f":"IF(C195=0,\"\",INDEX(Objekt_Text,D195+1,2))","v":""},{"$f":"IF(C195=0,\"\",INDEX(Objekt_Text,D195+1,3))","v":""},"","",{"$f":"INDEX(Visum_Liste,F195+1)&\"\"","v":""},"","ZZ",0,0,0,0,0,0,3,"",{"$f":"MIN(IF(W195=$W$9:$W$2128,$E$9:$E$2128))","v":0},{"$f":"MAX(IF(W195=$W$9:$W$2128,$E$9:$E$2128))","v":0},187,1,1,null,null,1,null,"ZZ00000","00ZZ000",null,{"$f":"ABS(OR(C195=0,AND(MaxInput>1,M195=INDEX(FFilter,AO$5))))","v":1},{"$f":"ABS(OR(C195=0,AND(MaxInput>1,N195=INDEX(FFilter,AP$5))))","v":1},{"$f":"ABS(OR(C195=0,AND(MaxInput>1,O195=INDEX(FFilter,AQ$5))))","v":1},null,null,null,null,null,null,null,null,null,null,{"$f":"ROW()","v":195}]
[188,"",null,null,null,null,null,null,null,null,null,null,"",{"$f":"IF(C196=0,\"\",INDEX(Objekt_Text,D196+1,2))","v":""},{"$f":"IF(C196=0,\"\",INDEX(Objekt_Text,D196+1,3))","v":""},"","",{"$f":"INDEX(Visum_Liste,F196+1)&\"\"","v":""},"","ZZ",0,0,0,0,0,0,3,"",{"$f":"MIN(IF(W196=$W$9:$W$2128,$E$9:$E$2128))","v":0},{"$f":"MAX(IF(W196=$W$9:$W$2128,$E$9:$E$2128))","v":0},188,1,1,null,null,1,null,"ZZ00000","00ZZ000",null,{"$f":"ABS(OR(C196=0,AND(MaxInput>1,M196=INDEX(FFilter,AO$5))))","v":1},{"$f":"ABS(OR(C196=0,AND(MaxInput>1,N196=INDEX(FFilter,AP$5))))","v":1},{"$f":"ABS(OR(C196=0,AND(MaxInput>1,O196=INDEX(FFilter,AQ$5))))","v":1},null,null,null,null,null,null,null,null,null,null,{"$f":"ROW()","v":196}]
[189,"",null,null,null,null,null,null,null,null,null,null,"",{"$f":"IF(C197=0,\"\",INDEX(Objekt_Text,D197+1,2))","v":""},{"$f":"IF(C197=0,\"\",INDEX(Objekt_Text,D197+1,3))","v":""},"","",{"$f":"INDEX(Visum_Liste,F197+1)&\"\"","v":""},"","ZZ",0,0,0,0,0,0,3,"",{"$f":"MIN(IF(W197=$W$9:$W$2128,$E$9:$E$2128))","v":0},{"$f":"MAX(IF(W197=$W$9:$W$2128,$E$9:$E$2128))","v":0},189,1,1,null,null,1,null,"ZZ00000","00ZZ000",null,{"$f":"ABS(OR(C197=0,AND(MaxInput>1,M197=INDEX(FFilter,AO$5))))","v":1},{"$f":"ABS(OR(C197=0,AND(MaxInput>1,N197=INDEX(FFilter,AP$5))))","v":1},{"$f":"ABS(OR(C197=0,AND(MaxInput>1,O197=INDEX(FFilter,AQ$5))))","v":1},null,null,null,null,null,null,null,null,null,null,{"$f":"ROW()","v":197}]
[190,"",null,null,null,null,null,null,null,null,null,null,"",{"$f":"IF(C198=0,\"\",INDEX(Objekt_Text,D198+1,2))","v":""},{"$f":"IF(C198=0,\"\",INDEX(Objekt_Text,D198+1,3))","v":""},"","",{"$f":"INDEX(Visum_Liste,F198+1)&\"\"","v":""},"","ZZ",0,0,0,0,0,0,3,"",{"$f":"MIN(IF(W198=$W$9:$W$2128,$E$9:$E$2128))","v":0},{"$f":"MAX(IF(W198=$W$9:$W$2128,$E$9:$E$2128))","v":0},190,1,1,null,null,1,null,"ZZ00000","00ZZ000",null,{"$f":"ABS(OR(C198=0,AND(MaxInput>1,M198=INDEX(FFilter,AO$5))))","v":1},{"$f":"ABS(OR(C198=0,AND(MaxInput>1,N198=INDEX(FFilter,AP$5))))","v":1},{"$f":"ABS(OR(C198=0,AND(MaxInput>1,O198=INDEX(FFilter,AQ$5))))","v":1},null,null,null,null,null,null,null,null,null,null,{"$f":"ROW()","v":198}]
[191,"",null,null,null,null,null,null,null,null,null,null,"",{"$f":"IF(C199=0,\"\",INDEX(Objekt_Text,D199+1,2))","v":""},{"$f":"IF(C199=0,\"\",INDEX(Objekt_Text,D199+1,3))","v":""},"","",{"$f":"INDEX(Visum_Liste,F199+1)&\"\"","v":""},"","ZZ",0,0,0,0,0,0,3,"",{"$f":"MIN(IF(W199=$W$9:$W$2128,$E$9:$E$2128))","v":0},{"$f":"MAX(IF(W199=$W$9:$W$2128,$E$9:$E$2128))","v":0},191,1,1,null,null,1,null,"ZZ00000","00ZZ000",null,{"$f":"ABS(OR(C199=0,AND(MaxInput>1,M199=INDEX(FFilter,AO$5))))","v":1},{"$f":"ABS(OR(C199=0,AND(MaxInput>1,N199=INDEX(FFilter,AP$5))))","v":1},{"$f":"ABS(OR(C199=0,AND(MaxInput>1,O199=INDEX(FFilter,AQ$5))))","v":1},null,null,null,null,null,null,null,null,null,null,{"$f":"ROW()","v":199}]
[192,"",null,null,null,null,null,null,null,null,null,null,"",{"$f":"IF(C200=0,\"\",INDEX(Objekt_Text,D200+1,2))","v":""},{"$f":"IF(C200=0,\"\",INDEX(Objekt_Text,D200+1,3))","v":""},"","",{"$f":"INDEX(Visum_Liste,F200+1)&\"\"","v":""},"","ZZ",0,0,0,0,0,0,3,"",{"$f":"MIN(IF(W200=$W$9:$W$2128,$E$9:$E$2128))","v":0},{"$f":"MAX(IF(W200=$W$9:$W$2128,$E$9:$E$2128))","v":0},192,1,1,null,null,1,null,"ZZ00000","00ZZ000",null,{"$f":"ABS(OR(C200=0,AND(MaxInput>1,M200=INDEX(FFilter,AO$5))))","v":1},{"$f":"ABS(OR(C200=0,AND(MaxInput>1,N200=INDEX(FFilter,AP$5))))","v":1},{"$f":"ABS(OR(C200=0,AND(MaxInput>1,O200=INDEX(FFilter,AQ$5))))","v":1},null,null,null,null,null,null,null,null,null,null,{"$f":"ROW()","v":200}]
[193,{"$f":"IF(C201>0,ROW()-8,\"\")","v":""},null,null,null,null,null,null,null,null,null,null,{"$f":"IF(C201=0,\"\",IFERROR(VLOOKUP($C201,SLTabelle,cSLName,FALSE),\"\"))","v":""},{"$f":"IF(C201=0,\"\",INDEX(Objekt_Text,D201+1,2))","v":""},{"$f":"IF(C201=0,\"\",INDEX(Objekt_Text,D201+1,3))","v":""},{"$f":"IF($H201=\"\",\"\",$H201)","v":""},{"$f":"IF($I201=\"\",\"\",$I201)","v":""},{"$f":"INDEX(Visum_Liste,F201+1)&\"\"","v":""},{"$f":"IF($J201=\"\",\"\",$J201)","v":""},{"$f":"IF(M201=\"\",\"ZZ\",M201)","v":"ZZ"},{"$f":"IF(C201>0,COUNTIF($W$9:$W$2128,W201),0)","v":0},{"$f":"SUMIFS($E$9:$E$2128,$W$9:$W$2128,W201)","v":0},{"$f":"C201*100+D201","v":0},{"$f":"AND(C201>0,E201=AD201)*1","v":0},{"$f":"(COUNT(P201:Q201)=2)*1","v":0},{"$f":"F201*10+X201","v":0},{"$f":"IF(X201=0,3,X201*F201)","v":3},{"$f":"IF(OR((C201>0),ROW()<LastRow+8),\"A\",\"\")","v":""},{"$f":"MIN(IF(W201=$W$9:$W$2128,$E$9:$E$2128))","v":0},{"$f":"MAX(IF(W201=$W$9:$W$2128,$E$9:$E$2128))","v":0},193,1,1,null,null,1,null,{"$f":"T201&TEXT(D201,\"00\")&TEXT(E201,\"000\")","v":"ZZ00000"},{"$f":"TEXT(D201,\"00\")&T201&TEXT(E201,\"000\")","v":"00ZZ000"},null,{"$f":"ABS(OR(C201=0,AND(MaxInput>1,M201=INDEX(FFilter,AO$5))))","v":1},{"$f":"ABS(OR(C201=0,AND(MaxInput>1,N201=INDEX(FFilter,AP$5))))","v":1},{"$f":"ABS(OR(C201=0,AND(MaxInput>1,O201=INDEX(FFilter,AQ$5))))","v":1},null,null,null,null,null,null,null,null,null,null,{"$f":"ROW()","v":201}]
[194,"",null,null,null,null,null,null,null,null,null,null,"",{"$f":"IF(C202=0,\"\",INDEX(Objekt_Text,D202+1,2))","v":""},{"$f":"IF(C202=0,\"\",INDEX(Objekt_Text,D202+1,3))","v":""},"","",{"$f":"INDEX(Visum_Liste,F202+1)&\"\"","v":""},"","ZZ",0,0,0,0,0,0,3,"",{"$f":"MIN(IF(W202=$W$9:$W$2128,$E$9:$E$2128))","v":0},{"$f":"MAX(IF(W202=$W$9:$W$2128,$E$9:$E$2128))","v":0},194,1,1,null,null,{"$f":"OR(L202<=L201,B202=\"\")*1","v":1},null,"ZZ00000","00ZZ000",null,{"$f":"ABS(OR(C202=0,AND(MaxInput>1,M202=INDEX(FFilter,AO$5))))","v":1},{"$f":"ABS(OR(C202=0,AND(MaxInput>1,N202=INDEX(FFilter,AP$5))))","v":1},{"$f":"ABS(OR(C202=0,AND(MaxInput>1,O202=INDEX(FFilter,AQ$5))))","v":1},null,null,null,null,null,null,null,null,null,null,{"$f":"ROW()","v":202}]
[195,"",null,null,null,null,null,null,null,null,null,null,"",{"$f":"IF(C203=0,\"\",INDEX(Objekt_Text,D203+1,2))","v":""},{"$f":"IF(C203=0,\"\",INDEX(Objekt_Text,D203+1,3))","v":""},"","",{"$f":"INDEX(Visum_Liste,F203+1)&\"\"","v":""},"","ZZ",0,0,0,0,0,0,3,"",{"$f":"MIN(IF(W203=$W$9:$W$2128,$E$9:$E$2128))","v":0},{"$f":"MAX(IF(W203=$W$9:$W$2128,$E$9:$E$2128))","v":0},195,1,1,null,null,1,null,"ZZ00000","00ZZ000",null,{"$f":"ABS(OR(C203=0,AND(MaxInput>1,M203=INDEX(FFilter,AO$5))))","v":1},{"$f":"ABS(OR(C203=0,AND(MaxInput>1,N203=INDEX(FFilter,AP$5))))","v":1},{"$f":"ABS(OR(C203=0,AND(MaxInput>1,O203=INDEX(FFilter,AQ$5))))","v":1},null,null,null,null,null,null,null,null,null,null,{"$f":"ROW()","v":203}]
[196,"",null,null,null,null,null,null,null,null,null,null,"",{"$f":"IF(C204=0,\"\",INDEX(Objekt_Text,D204+1,2))","v":""},{"$f":"IF(C204=0,\"\",INDEX(Objekt_Text,D204+1,3))","v":""},"","",{"$f":"INDEX(Visum_Liste,F204+1)&\"\"","v":""},"","ZZ",0,0,0,0,0,0,3,"",{"$f":"MIN(IF(W204=$W$9:$W$2128,$E$9:$E$2128))","v":0},{"$f":"MAX(IF(W204=$W$9:$W$2128,$E$9:$E$2128))","v":0},196,1,1,null,null,1,null,"ZZ00000","00ZZ000",null,{"$f":"ABS(OR(C204=0,AND(MaxInput>1,M204=INDEX(FFilter,AO$5))))","v":1},{"$f":"ABS(OR(C204=0,AND(MaxInput>1,N204=INDEX(FFilter,AP$5))))","v":1},{"$f":"ABS(OR(C204=0,AND(MaxInput>1,O204=INDEX(FFilter,AQ$5))))","v":1},null,null,null,null,null,null,null,null,null,null,{"$f":"ROW()","v":204}]
[197,"",null,null,null,null,null,null,null,null,null,null,"",{"$f":"IF(C205=0,\"\",INDEX(Objekt_Text,D205+1,2))","v":""},{"$f":"IF(C205=0,\"\",INDEX(Objekt_Text,D205+1,3))","v":""},"","",{"$f":"INDEX(Visum_Liste,F205+1)&\"\"","v":""},"","ZZ",0,0,0,0,0,0,3,"",{"$f":"MIN(IF(W205=$W$9:$W$2128,$E$9:$E$2128))","v":0},{"$f":"MAX(IF(W205=$W$9:$W$2128,$E$9:$E$2128))","v":0},197,{"$f":"OR(AL205>=AL204,B205=\"\")*1","v":1},{"$f":"OR(AM205>=AM204,B205=\"\")*1","v":1},null,null,1,null,"ZZ00000","00ZZ000",null,{"$f":"ABS(OR(C205=0,AND(MaxInput>1,M205=INDEX(FFilter,AO$5))))","v":1},{"$f":"ABS(OR(C205=0,AND(MaxInput>1,N205=INDEX(FFilter,AP$5))))","v":1},{"$f":"ABS(OR(C205=0,AND(MaxInput>1,O205=INDEX(FFilter,AQ$5))))","v":1},null,null,null,null,null,null,null,null,null,null,{"$f":"ROW()","v":205}]
[198,"",null,null,null,null,null,null,null,null,null,null,"",{"$f":"IF(C206=0,\"\",INDEX(Objekt_Text,D206+1,2))","v":""},{"$f":"IF(C206=0,\"\",INDEX(Objekt_Text,D206+1,3))","v":""},"","",{"$f":"INDEX(Visum_Liste,F206+1)&\"\"","v":""},"","ZZ",0,0,0,0,0,0,3,"",{"$f":"MIN(IF(W206=$W$9:$W$2128,$E$9:$E$2128))","v":0},{"$f":"MAX(IF(W206=$W$9:$W$2128,$E$9:$E$2128))","v":0},198,1,1,null,null,1,null,"ZZ00000","00ZZ000",null,{"$f":"ABS(OR(C206=0,AND(MaxInput>1,M206=INDEX(FFilter,AO$5))))","v":1},{"$f":"ABS(OR(C206=0,AND(MaxInput>1,N206=INDEX(FFilter,AP$5))))","v":1},{"$f":"ABS(OR(C206=0,AND(MaxInput>1,O206=INDEX(FFilter,AQ$5))))","v":1},null,null,null,null,null,null,null,null,null,null,{"$f":"ROW()","v":206}]
[199,"",null,null,null,null,null,null,null,null,null,null,"",{"$f":"IF(C207=0,\"\",INDEX(Objekt_Text,D207+1,2))","v":""},{"$f":"IF(C207=0,\"\",INDEX(Objekt_Text,D207+1,3))","v":""},"","",{"$f":"INDEX(Visum_Liste,F207+1)&\"\"","v":""},"","ZZ",0,0,0,0,0,0,3,"",{"$f":"MIN(IF(W207=$W$9:$W$2128,$E$9:$E$2128))","v":0},{"$f":"MAX(IF(W207=$W$9:$W$2128,$E$9:$E$2128))","v":0},199,1,1,null,null,1,null,"ZZ00000","00ZZ000",null,{"$f":"ABS(OR(C207=0,AND(MaxInput>1,M207=INDEX(FFilter,AO$5))))","v":1},{"$f":"ABS(OR(C207=0,AND(MaxInput>1,N207=INDEX(FFilter,AP$5))))","v":1},{"$f":"ABS(OR(C207=0,AND(MaxInput>1,O207=INDEX(FFilter,AQ$5))))","v":1},null,null,null,null,null,null,null,null,null,null,{"$f":"ROW()","v":207}]
[200,"",null,null,null,null,null,null,null,null,null,null,"",{"$f":"IF(C208=0,\"\",INDEX(Objekt_Text,D208+1,2))","v":""},{"$f":"IF(C208=0,\"\",INDEX(Objekt_Text,D208+1,3))","v":""},"","",{"$f":"INDEX(Visum_Liste,F208+1)&\"\"","v":""},"","ZZ",0,0,0,0,0,0,3,"",{"$f":"MIN(IF(W208=$W$9:$W$2128,$E$9:$E$2128))","v":0},{"$f":"MAX(IF(W208=$W$9:$W$2128,$E$9:$E$2128))","v":0},200,1,1,null,null,1,null,"ZZ00000","00ZZ000",null,{"$f":"ABS(OR(C208=0,AND(MaxInput>1,M208=INDEX(FFilter,AO$5))))","v":1},{"$f":"ABS(OR(C208=0,AND(MaxInput>1,N208=INDEX(FFilter,AP$5))))","v":1},{"$f":"ABS(OR(C208=0,AND(MaxInput>1,O208=INDEX(FFilter,AQ$5))))","v":1},null,null,null,null,null,null,null,null,null,null,{"$f":"ROW()","v":208}]
[201,"",null,null,null,null,null,null,null,null,null,null,"",{"$f":"IF(C209=0,\"\",INDEX(Objekt_Text,D209+1,2))","v":""},{"$f":"IF(C209=0,\"\",INDEX(Objekt_Text,D209+1,3))","v":""},"","",{"$f":"INDEX(Visum_Liste,F209+1)&\"\"","v":""},"","ZZ",0,0,0,0,0,0,3,"",{"$f":"MIN(IF(W209=$W$9:$W$2128,$E$9:$E$2128))","v":0},{"$f":"MAX(IF(W209=$W$9:$W$2128,$E$9:$E$2128))","v":0},201,1,1,null,null,1,null,"ZZ00000","00ZZ000",null,{"$f":"ABS(OR(C209=0,AND(MaxInput>1,M209=INDEX(FFilter,AO$5))))","v":1},{"$f":"ABS(OR(C209=0,AND(MaxInput>1,N209=INDEX(FFilter,AP$5))))","v":1},{"$f":"ABS(OR(C209=0,AND(MaxInput>1,O209=INDEX(FFilter,AQ$5))))","v":1},null,null,null,null,null,null,null,null,null,null,{"$f":"ROW()","v":209}]
[202,"",null,null,null,null,null,null,null,null,null,null,"",{"$f":"IF(C210=0,\"\",INDEX(Objekt_Text,D210+1,2))","v":""},{"$f":"IF(C210=0,\"\",INDEX(Objekt_Text,D210+1,3))","v":""},"","",{"$f":"INDEX(Visum_Liste,F210+1)&\"\"","v":""},"","ZZ",0,0,0,0,0,0,3,"",{"$f":"MIN(IF(W210=$W$9:$W$2128,$E$9:$E$2128))","v":0},{"$f":"MAX(IF(W210=$W$9:$W$2128,$E$9:$E$2128))","v":0},202,1,1,null,null,1,null,"ZZ00000","00ZZ000",null,{"$f":"ABS(OR(C210=0,AND(MaxInput>1,M210=INDEX(FFilter,AO$5))))","v":1},{"$f":"ABS(OR(C210=0,AND(MaxInput>1,N210=INDEX(FFilter,AP$5))))","v":1},{"$f":"ABS(OR(C210=0,AND(MaxInput>1,O210=INDEX(FFilter,AQ$5))))","v":1},null,null,null,null,null,null,null,null,null,null,{"$f":"ROW()","v":210}]
[203,"",null,null,null,null,null,null,null,null,null,null,"",{"$f":"IF(C211=0,\"\",INDEX(Objekt_Text,D211+1,2))","v":""},{"$f":"IF(C211=0,\"\",INDEX(Objekt_Text,D211+1,3))","v":""},"","",{"$f":"INDEX(Visum_Liste,F211+1)&\"\"","v":""},"","ZZ",0,0,0,0,0,0,3,"",{"$f":"MIN(IF(W211=$W$9:$W$2128,$E$9:$E$2128))","v":0},{"$f":"MAX(IF(W211=$W$9:$W$2128,$E$9:$E$2128))","v":0},203,1,1,null,null,1,null,"ZZ00000","00ZZ000",null,{"$f":"ABS(OR(C211=0,AND(MaxInput>1,M211=INDEX(FFilter,AO$5))))","v":1},{"$f":"ABS(OR(C211=0,AND(MaxInput>1,N211=INDEX(FFilter,AP$5))))","v":1},{"$f":"ABS(OR(C211=0,AND(MaxInput>1,O211=INDEX(FFilter,AQ$5))))","v":1},null,null,null,null,null,null,null,null,null,null,{"$f":"ROW()","v":211}]
[204,"",null,null,null,null,null,null,null,null,null,null,"",{"$f":"IF(C212=0,\"\",INDEX(Objekt_Text,D212+1,2))","v":""},{"$f":"IF(C212=0,\"\",INDEX(Objekt_Text,D212+1,3))","v":""},"","",{"$f":"INDEX(Visum_Liste,F212+1)&\"\"","v":""},"","ZZ",0,0,0,0,0,0,3,"",{"$f":"MIN(IF(W212=$W$9:$W$2128,$E$9:$E$2128))","v":0},{"$f":"MAX(IF(W212=$W$9:$W$2128,$E$9:$E$2128))","v":0},204,1,1,null,null,1,null,"ZZ00000","00ZZ000",null,{"$f":"ABS(OR(C212=0,AND(MaxInput>1,M212=INDEX(FFilter,AO$5))))","v":1},{"$f":"ABS(OR(C212=0,AND(MaxInput>1,N212=INDEX(FFilter,AP$5))))","v":1},{"$f":"ABS(OR(C212=0,AND(MaxInput>1,O212=INDEX(FFilter,AQ$5))))","v":1},null,null,null,null,null,null,null,null,null,null,{"$f":"ROW()","v":212}]
[205,"",null,null,null,null,null,null,null,null,null,null,"",{"$f":"IF(C213=0,\"\",INDEX(Objekt_Text,D213+1,2))","v":""},{"$f":"IF(C213=0,\"\",INDEX(Objekt_Text,D213+1,3))","v":""},"","",{"$f":"INDEX(Visum_Liste,F213+1)&\"\"","v":""},"","ZZ",0,0,0,0,0,0,3,"",{"$f":"MIN(IF(W213=$W$9:$W$2128,$E$9:$E$2128))","v":0},{"$f":"MAX(IF(W213=$W$9:$W$2128,$E$9:$E$2128))","v":0},205,1,1,null,null,1,null,"ZZ00000","00ZZ000",null,{"$f":"ABS(OR(C213=0,AND(MaxInput>1,M213=INDEX(FFilter,AO$5))))","v":1},{"$f":"ABS(OR(C213=0,AND(MaxInput>1,N213=INDEX(FFilter,AP$5))))","v":1},{"$f":"ABS(OR(C213=0,AND(MaxInput>1,O213=INDEX(FFilter,AQ$5))))","v":1},null,null,null,null,null,null,null,null,null,null,{"$f":"ROW()","v":213}]
[206,"",null,null,null,null,null,null,null,null,null,null,"",{"$f":"IF(C214=0,\"\",INDEX(Objekt_Text,D214+1,2))","v":""},{"$f":"IF(C214=0,\"\",INDEX(Objekt_Text,D214+1,3))","v":""},"","",{"$f":"INDEX(Visum_Liste,F214+1)&\"\"","v":""},"","ZZ",0,0,0,0,0,0,3,"",{"$f":"MIN(IF(W214=$W$9:$W$2128,$E$9:$E$2128))","v":0},{"$f":"MAX(IF(W214=$W$9:$W$2128,$E$9:$E$2128))","v":0},206,1,1,null,null,1,null,"ZZ00000","00ZZ000",null,{"$f":"ABS(OR(C214=0,AND(MaxInput>1,M214=INDEX(FFilter,AO$5))))","v":1},{"$f":"ABS(OR(C214=0,AND(MaxInput>1,N214=INDEX(FFilter,AP$5))))","v":1},{"$f":"ABS(OR(C214=0,AND(MaxInput>1,O214=INDEX(FFilter,AQ$5))))","v":1},null,null,null,null,null,null,null,null,null,null,{"$f":"ROW()","v":214}]
[207,"",null,null,null,null,null,null,null,null,null,null,"",{"$f":"IF(C215=0,\"\",INDEX(Objekt_Text,D215+1,2))","v":""},{"$f":"IF(C215=0,\"\",INDEX(Objekt_Text,D215+1,3))","v":""},"","",{"$f":"INDEX(Visum_Liste,F215+1)&\"\"","v":""},"","ZZ",0,0,0,0,0,0,3,"",{"$f":"MIN(IF(W215=$W$9:$W$2128,$E$9:$E$2128))","v":0},{"$f":"MAX(IF(W215=$W$9:$W$2128,$E$9:$E$2128))","v":0},207,1,1,null,null,1,null,"ZZ00000","00ZZ000",null,{"$f":"ABS(OR(C215=0,AND(MaxInput>1,M215=INDEX(FFilter,AO$5))))","v":1},{"$f":"ABS(OR(C215=0,AND(MaxInput>1,N215=INDEX(FFilter,AP$5))))","v":1},{"$f":"ABS(OR(C215=0,AND(MaxInput>1,O215=INDEX(FFilter,AQ$5))))","v":1},null,null,null,null,null,null,null,null,null,null,{"$f":"ROW()","v":215}]
[208,"",null,null,null,null,null,null,null,null,null,null,"",{"$f":"IF(C216=0,\"\",INDEX(Objekt_Text,D216+1,2))","v":""},{"$f":"IF(C216=0,\"\",INDEX(Objekt_Text,D216+1,3))","v":""},"","",{"$f":"INDEX(Visum_Liste,F216+1)&\"\"","v":""},"","ZZ",0,0,0,0,0,0,3,"",{"$f":"MIN(IF(W216=$W$9:$W$2128,$E$9:$E$2128))","v":0},{"$f":"MAX(IF(W216=$W$9:$W$2128,$E$9:$E$2128))","v":0},208,1,1,null,null,1,null,"ZZ00000","00ZZ000",null,{"$f":"ABS(OR(C216=0,AND(MaxInput>1,M216=INDEX(FFilter,AO$5))))","v":1},{"$f":"ABS(OR(C216=0,AND(MaxInput>1,N216=INDEX(FFilter,AP$5))))","v":1},{"$f":"ABS(OR(C216=0,AND(MaxInput>1,O216=INDEX(FFilter,AQ$5))))","v":1},null,null,null,null,null,null,null,null,null,null,{"$f":"ROW()","v":216}]
[209,"",null,null,null,null,null,null,null,null,null,null,"",{"$f":"IF(C217=0,\"\",INDEX(Objekt_Text,D217+1,2))","v":""},{"$f":"IF(C217=0,\"\",INDEX(Objekt_Text,D217+1,3))","v":""},"","",{"$f":"INDEX(Visum_Liste,F217+1)&\"\"","v":""},"","ZZ",0,0,0,0,0,0,3,"",{"$f":"MIN(IF(W217=$W$9:$W$2128,$E$9:$E$2128))","v":0},{"$f":"MAX(IF(W217=$W$9:$W$2128,$E$9:$E$2128))","v":0},209,1,1,null,null,1,null,"ZZ00000","00ZZ000",null,{"$f":"ABS(OR(C217=0,AND(MaxInput>1,M217=INDEX(FFilter,AO$5))))","v":1},{"$f":"ABS(OR(C217=0,AND(MaxInput>1,N217=INDEX(FFilter,AP$5))))","v":1},{"$f":"ABS(OR(C217=0,AND(MaxInput>1,O217=INDEX(FFilter,AQ$5))))","v":1},null,null,null,null,null,null,null,null,null,null,{"$f":"ROW()","v":217}]
[210,"",null,null,null,null,null,null,null,null,null,null,"",{"$f":"IF(C218=0,\"\",INDEX(Objekt_Text,D218+1,2))","v":""},{"$f":"IF(C218=0,\"\",INDEX(Objekt_Text,D218+1,3))","v":""},"","",{"$f":"INDEX(Visum_Liste,F218+1)&\"\"","v":""},"","ZZ",0,0,0,0,0,0,3,"",{"$f":"MIN(IF(W218=$W$9:$W$2128,$E$9:$E$2128))","v":0},{"$f":"MAX(IF(W218=$W$9:$W$2128,$E$9:$E$2128))","v":0},210,1,1,null,null,1,null,"ZZ00000","00ZZ000",null,{"$f":"ABS(OR(C218=0,AND(MaxInput>1,M218=INDEX(FFilter,AO$5))))","v":1},{"$f":"ABS(OR(C218=0,AND(MaxInput>1,N218=INDEX(FFilter,AP$5))))","v":1},{"$f":"ABS(OR(C218=0,AND(MaxInput>1,O218=INDEX(FFilter,AQ$5))))","v":1},null,null,null,null,null,null,null,null,null,null,{"$f":"ROW()","v":218}]
[211,"",null,null,null,null,null,null,null,null,null,null,"",{"$f":"IF(C219=0,\"\",INDEX(Objekt_Text,D219+1,2))","v":""},{"$f":"IF(C219=0,\"\",INDEX(Objekt_Text,D219+1,3))","v":""},"","",{"$f":"INDEX(Visum_Liste,F219+1)&\"\"","v":""},"","ZZ",0,0,0,0,0,0,3,"",{"$f":"MIN(IF(W219=$W$9:$W$2128,$E$9:$E$2128))","v":0},{"$f":"MAX(IF(W219=$W$9:$W$2128,$E$9:$E$2128))","v":0},211,1,1,null,null,1,null,"ZZ00000","00ZZ000",null,{"$f":"ABS(OR(C219=0,AND(MaxInput>1,M219=INDEX(FFilter,AO$5))))","v":1},{"$f":"ABS(OR(C219=0,AND(MaxInput>1,N219=INDEX(FFilter,AP$5))))","v":1},{"$f":"ABS(OR(C219=0,AND(MaxInput>1,O219=INDEX(FFilter,AQ$5))))","v":1},null,null,null,null,null,null,null,null,null,null,{"$f":"ROW()","v":219}]
[212,"",null,null,null,null,null,null,null,null,null,null,"",{"$f":"IF(C220=0,\"\",INDEX(Objekt_Text,D220+1,2))","v":""},{"$f":"IF(C220=0,\"\",INDEX(Objekt_Text,D220+1,3))","v":""},"","",{"$f":"INDEX(Visum_Liste,F220+1)&\"\"","v":""},"","ZZ",0,0,0,0,0,0,3,"",{"$f":"MIN(IF(W220=$W$9:$W$2128,$E$9:$E$2128))","v":0},{"$f":"MAX(IF(W220=$W$9:$W$2128,$E$9:$E$2128))","v":0},212,1,1,null,null,1,null,"ZZ00000","00ZZ000",null,{"$f":"ABS(OR(C220=0,AND(MaxInput>1,M220=INDEX(FFilter,AO$5))))","v":1},{"$f":"ABS(OR(C220=0,AND(MaxInput>1,N220=INDEX(FFilter,AP$5))))","v":1},{"$f":"ABS(OR(C220=0,AND(MaxInput>1,O220=INDEX(FFilter,AQ$5))))","v":1},null,null,null,null,null,null,null,null,null,null,{"$f":"ROW()","v":220}]
[213,"",null,null,null,null,null,null,null,null,null,null,"",{"$f":"IF(C221=0,\"\",INDEX(Objekt_Text,D221+1,2))","v":""},{"$f":"IF(C221=0,\"\",INDEX(Objekt_Text,D221+1,3))","v":""},"","",{"$f":"INDEX(Visum_Liste,F221+1)&\"\"","v":""},"","ZZ",0,0,0,0,0,0,3,"",{"$f":"MIN(IF(W221=$W$9:$W$2128,$E$9:$E$2128))","v":0},{"$f":"MAX(IF(W221=$W$9:$W$2128,$E$9:$E$2128))","v":0},213,1,1,null,null,1,null,"ZZ00000","00ZZ000",null,{"$f":"ABS(OR(C221=0,AND(MaxInput>1,M221=INDEX(FFilter,AO$5))))","v":1},{"$f":"ABS(OR(C221=0,AND(MaxInput>1,N221=INDEX(FFilter,AP$5))))","v":1},{"$f":"ABS(OR(C221=0,AND(MaxInput>1,O221=INDEX(FFilter,AQ$5))))","v":1},null,null,null,null,null,null,null,null,null,null,{"$f":"ROW()","v":221}]
[214,"",null,null,null,null,null,null,null,null,null,null,"",{"$f":"IF(C222=0,\"\",INDEX(Objekt_Text,D222+1,2))","v":""},{"$f":"IF(C222=0,\"\",INDEX(Objekt_Text,D222+1,3))","v":""},"","",{"$f":"INDEX(Visum_Liste,F222+1)&\"\"","v":""},"","ZZ",0,0,0,0,0,0,3,"",{"$f":"MIN(IF(W222=$W$9:$W$2128,$E$9:$E$2128))","v":0},{"$f":"MAX(IF(W222=$W$9:$W$2128,$E$9:$E$2128))","v":0},214,1,1,null,null,1,null,"ZZ00000","00ZZ000",null,{"$f":"ABS(OR(C222=0,AND(MaxInput>1,M222=INDEX(FFilter,AO$5))))","v":1},{"$f":"ABS(OR(C222=0,AND(MaxInput>1,N222=INDEX(FFilter,AP$5))))","v":1},{"$f":"ABS(OR(C222=0,AND(MaxInput>1,O222=INDEX(FFilter,AQ$5))))","v":1},null,null,null,null,null,null,null,null,null,null,{"$f":"ROW()","v":222}]
[215,"",null,null,null,null,null,null,null,null,null,null,"",{"$f":"IF(C223=0,\"\",INDEX(Objekt_Text,D223+1,2))","v":""},{"$f":"IF(C223=0,\"\",INDEX(Objekt_Text,D223+1,3))","v":""},"","",{"$f":"INDEX(Visum_Liste,F223+1)&\"\"","v":""},"","ZZ",0,0,0,0,0,0,3,"",{"$f":"MIN(IF(W223=$W$9:$W$2128,$E$9:$E$2128))","v":0},{"$f":"MAX(IF(W223=$W$9:$W$2128,$E$9:$E$2128))","v":0},215,1,1,null,null,1,null,"ZZ00000","00ZZ000",null,{"$f":"ABS(OR(C223=0,AND(MaxInput>1,M223=INDEX(FFilter,AO$5))))","v":1},{"$f":"ABS(OR(C223=0,AND(MaxInput>1,N223=INDEX(FFilter,AP$5))))","v":1},{"$f":"ABS(OR(C223=0,AND(MaxInput>1,O223=INDEX(FFilter,AQ$5))))","v":1},null,null,null,null,null,null,null,null,null,null,{"$f":"ROW()","v":223}]
[216,"",null,null,null,null,null,null,null,null,null,null,"",{"$f":"IF(C224=0,\"\",INDEX(Objekt_Text,D224+1,2))","v":""},{"$f":"IF(C224=0,\"\",INDEX(Objekt_Text,D224+1,3))","v":""},"","",{"$f":"INDEX(Visum_Liste,F224+1)&\"\"","v":""},"","ZZ",0,0,0,0,0,0,3,"",{"$f":"MIN(IF(W224=$W$9:$W$2128,$E$9:$E$2128))","v":0},{"$f":"MAX(IF(W224=$W$9:$W$2128,$E$9:$E$2128))","v":0},216,1,1,null,null,1,null,"ZZ00000","00ZZ000",null,{"$f":"ABS(OR(C224=0,AND(MaxInput>1,M224=INDEX(FFilter,AO$5))))","v":1},{"$f":"ABS(OR(C224=0,AND(MaxInput>1,N224=INDEX(FFilter,AP$5))))","v":1},{"$f":"ABS(OR(C224=0,AND(MaxInput>1,O224=INDEX(FFilter,AQ$5))))","v":1},null,null,null,null,null,null,null,null,null,null,{"$f":"ROW()","v":224}]
[217,"",null,null,null,null,null,null,null,null,null,null,"",{"$f":"IF(C225=0,\"\",INDEX(Objekt_Text,D225+1,2))","v":""},{"$f":"IF(C225=0,\"\",INDEX(Objekt_Text,D225+1,3))","v":""},"","",{"$f":"INDEX(Visum_Liste,F225+1)&\"\"","v":""},"","ZZ",0,0,0,0,0,0,3,"",{"$f":"MIN(IF(W225=$W$9:$W$2128,$E$9:$E$2128))","v":0},{"$f":"MAX(IF(W225=$W$9:$W$2128,$E$9:$E$2128))","v":0},217,1,1,null,null,1,null,"ZZ00000","00ZZ000",null,{"$f":"ABS(OR(C225=0,AND(MaxInput>1,M225=INDEX(FFilter,AO$5))))","v":1},{"$f":"ABS(OR(C225=0,AND(MaxInput>1,N225=INDEX(FFilter,AP$5))))","v":1},{"$f":"ABS(OR(C225=0,AND(MaxInput>1,O225=INDEX(FFilter,AQ$5))))","v":1},null,null,null,null,null,null,null,null,null,null,{"$f":"ROW()","v":225}]
[218,"",null,null,null,null,null,null,null,null,null,null,"",{"$f":"IF(C226=0,\"\",INDEX(Objekt_Text,D226+1,2))","v":""},{"$f":"IF(C226=0,\"\",INDEX(Objekt_Text,D226+1,3))","v":""},"","",{"$f":"INDEX(Visum_Liste,F226+1)&\"\"","v":""},"","ZZ",0,0,0,0,0,0,3,"",{"$f":"MIN(IF(W226=$W$9:$W$2128,$E$9:$E$2128))","v":0},{"$f":"MAX(IF(W226=$W$9:$W$2128,$E$9:$E$2128))","v":0},218,1,1,null,null,1,null,"ZZ00000","00ZZ000",null,{"$f":"ABS(OR(C226=0,AND(MaxInput>1,M226=INDEX(FFilter,AO$5))))","v":1},{"$f":"ABS(OR(C226=0,AND(MaxInput>1,N226=INDEX(FFilter,AP$5))))","v":1},{"$f":"ABS(OR(C226=0,AND(MaxInput>1,O226=INDEX(FFilter,AQ$5))))","v":1},null,null,null,null,null,null,null,null,null,null,{"$f":"ROW()","v":226}]
[219,"",null,null,null,null,null,null,null,null,null,null,"",{"$f":"IF(C227=0,\"\",INDEX(Objekt_Text,D227+1,2))","v":""},{"$f":"IF(C227=0,\"\",INDEX(Objekt_Text,D227+1,3))","v":""},"","",{"$f":"INDEX(Visum_Liste,F227+1)&\"\"","v":""},"","ZZ",0,0,0,0,0,0,3,"",{"$f":"MIN(IF(W227=$W$9:$W$2128,$E$9:$E$2128))","v":0},{"$f":"MAX(IF(W227=$W$9:$W$2128,$E$9:$E$2128))","v":0},219,1,1,null,null,1,null,"ZZ00000","00ZZ000",null,{"$f":"ABS(OR(C227=0,AND(MaxInput>1,M227=INDEX(FFilter,AO$5))))","v":1},{"$f":"ABS(OR(C227=0,AND(MaxInput>1,N227=INDEX(FFilter,AP$5))))","v":1},{"$f":"ABS(OR(C227=0,AND(MaxInput>1,O227=INDEX(FFilter,AQ$5))))","v":1},null,null,null,null,null,null,null,null,null,null,{"$f":"ROW()","v":227}]
[220,"",null,null,null,null,null,null,null,null,null,null,"",{"$f":"IF(C228=0,\"\",INDEX(Objekt_Text,D228+1,2))","v":""},{"$f":"IF(C228=0,\"\",INDEX(Objekt_Text,D228+1,3))","v":""},"","",{"$f":"INDEX(Visum_Liste,F228+1)&\"\"","v":""},"","ZZ",0,0,0,0,0,0,3,"",{"$f":"MIN(IF(W228=$W$9:$W$2128,$E$9:$E$2128))","v":0},{"$f":"MAX(IF(W228=$W$9:$W$2128,$E$9:$E$2128))","v":0},220,1,1,null,null,1,null,"ZZ00000","00ZZ000",null,{"$f":"ABS(OR(C228=0,AND(MaxInput>1,M228=INDEX(FFilter,AO$5))))","v":1},{"$f":"ABS(OR(C228=0,AND(MaxInput>1,N228=INDEX(FFilter,AP$5))))","v":1},{"$f":"ABS(OR(C228=0,AND(MaxInput>1,O228=INDEX(FFilter,AQ$5))))","v":1},null,null,null,null,null,null,null,null,null,null,{"$f":"ROW()","v":228}]
[221,"",null,null,null,null,null,null,null,null,null,null,"",{"$f":"IF(C229=0,\"\",INDEX(Objekt_Text,D229+1,2))","v":""},{"$f":"IF(C229=0,\"\",INDEX(Objekt_Text,D229+1,3))","v":""},"","",{"$f":"INDEX(Visum_Liste,F229+1)&\"\"","v":""},"","ZZ",0,0,0,0,0,0,3,"",{"$f":"MIN(IF(W229=$W$9:$W$2128,$E$9:$E$2128))","v":0},{"$f":"MAX(IF(W229=$W$9:$W$2128,$E$9:$E$2128))","v":0},221,1,1,null,null,1,null,"ZZ00000","00ZZ000",null,{"$f":"ABS(OR(C229=0,AND(MaxInput>1,M229=INDEX(FFilter,AO$5))))","v":1},{"$f":"ABS(OR(C229=0,AND(MaxInput>1,N229=INDEX(FFilter,AP$5))))","v":1},{"$f":"ABS(OR(C229=0,AND(MaxInput>1,O229=INDEX(FFilter,AQ$5))))","v":1},null,null,null,null,null,null,null,null,null,null,{"$f":"ROW()","v":229}]
[222,"",null,null,null,null,null,null,null,null,null,null,"",{"$f":"IF(C230=0,\"\",INDEX(Objekt_Text,D230+1,2))","v":""},{"$f":"IF(C230=0,\"\",INDEX(Objekt_Text,D230+1,3))","v":""},"","",{"$f":"INDEX(Visum_Liste,F230+1)&\"\"","v":""},"","ZZ",0,0,0,0,0,0,3,"",{"$f":"MIN(IF(W230=$W$9:$W$2128,$E$9:$E$2128))","v":0},{"$f":"MAX(IF(W230=$W$9:$W$2128,$E$9:$E$2128))","v":0},222,1,1,null,null,1,null,"ZZ00000","00ZZ000",null,{"$f":"ABS(OR(C230=0,AND(MaxInput>1,M230=INDEX(FFilter,AO$5))))","v":1},{"$f":"ABS(OR(C230=0,AND(MaxInput>1,N230=INDEX(FFilter,AP$5))))","v":1},{"$f":"ABS(OR(C230=0,AND(MaxInput>1,O230=INDEX(FFilter,AQ$5))))","v":1},null,null,null,null,null,null,null,null,null,null,{"$f":"ROW()","v":230}]
[223,"",null,null,null,null,null,null,null,null,null,null,"",{"$f":"IF(C231=0,\"\",INDEX(Objekt_Text,D231+1,2))","v":""},{"$f":"IF(C231=0,\"\",INDEX(Objekt_Text,D231+1,3))","v":""},"","",{"$f":"INDEX(Visum_Liste,F231+1)&\"\"","v":""},"","ZZ",0,0,0,0,0,0,3,"",{"$f":"MIN(IF(W231=$W$9:$W$2128,$E$9:$E$2128))","v":0},{"$f":"MAX(IF(W231=$W$9:$W$2128,$E$9:$E$2128))","v":0},223,1,1,null,null,1,null,"ZZ00000","00ZZ000",null,{"$f":"ABS(OR(C231=0,AND(MaxInput>1,M231=INDEX(FFilter,AO$5))))","v":1},{"$f":"ABS(OR(C231=0,AND(MaxInput>1,N231=INDEX(FFilter,AP$5))))","v":1},{"$f":"ABS(OR(C231=0,AND(MaxInput>1,O231=INDEX(FFilter,AQ$5))))","v":1},null,null,null,null,null,null,null,null,null,null,{"$f":"ROW()","v":231}]
[224,"",null,null,null,null,null,null,null,null,null,null,"",{"$f":"IF(C232=0,\"\",INDEX(Objekt_Text,D232+1,2))","v":""},{"$f":"IF(C232=0,\"\",INDEX(Objekt_Text,D232+1,3))","v":""},"","",{"$f":"INDEX(Visum_Liste,F232+1)&\"\"","v":""},"","ZZ",0,0,0,0,0,0,3,"",{"$f":"MIN(IF(W232=$W$9:$W$2128,$E$9:$E$2128))","v":0},{"$f":"MAX(IF(W232=$W$9:$W$2128,$E$9:$E$2128))","v":0},224,1,1,null,null,1,null,"ZZ00000","00ZZ000",null,{"$f":"ABS(OR(C232=0,AND(MaxInput>1,M232=INDEX(FFilter,AO$5))))","v":1},{"$f":"ABS(OR(C232=0,AND(MaxInput>1,N232=INDEX(FFilter,AP$5))))","v":1},{"$f":"ABS(OR(C232=0,AND(MaxInput>1,O232=INDEX(FFilter,AQ$5))))","v":1},null,null,null,null,null,null,null,null,null,null,{"$f":"ROW()","v":232}]
[225,"",null,null,null,null,null,null,null,null,null,null,"",{"$f":"IF(C233=0,\"\",INDEX(Objekt_Text,D233+1,2))","v":""},{"$f":"IF(C233=0,\"\",INDEX(Objekt_Text,D233+1,3))","v":""},"","",{"$f":"INDEX(Visum_Liste,F233+1)&\"\"","v":""},"","ZZ",0,0,0,0,0,0,3,"",{"$f":"MIN(IF(W233=$W$9:$W$2128,$E$9:$E$2128))","v":0},{"$f":"MAX(IF(W233=$W$9:$W$2128,$E$9:$E$2128))","v":0},225,1,1,null,null,1,null,"ZZ00000","00ZZ000",null,{"$f":"ABS(OR(C233=0,AND(MaxInput>1,M233=INDEX(FFilter,AO$5))))","v":1},{"$f":"ABS(OR(C233=0,AND(MaxInput>1,N233=INDEX(FFilter,AP$5))))","v":1},{"$f":"ABS(OR(C233=0,AND(MaxInput>1,O233=INDEX(FFilter,AQ$5))))","v":1},null,null,null,null,null,null,null,null,null,null,{"$f":"ROW()","v":233}]
[226,"",null,null,null,null,null,null,null,null,null,null,"",{"$f":"IF(C234=0,\"\",INDEX(Objekt_Text,D234+1,2))","v":""},{"$f":"IF(C234=0,\"\",INDEX(Objekt_Text,D234+1,3))","v":""},"","",{"$f":"INDEX(Visum_Liste,F234+1)&\"\"","v":""},"","ZZ",0,0,0,0,0,0,3,"",{"$f":"MIN(IF(W234=$W$9:$W$2128,$E$9:$E$2128))","v":0},{"$f":"MAX(IF(W234=$W$9:$W$2128,$E$9:$E$2128))","v":0},226,1,1,null,null,1,null,"ZZ00000","00ZZ000",null,{"$f":"ABS(OR(C234=0,AND(MaxInput>1,M234=INDEX(FFilter,AO$5))))","v":1},{"$f":"ABS(OR(C234=0,AND(MaxInput>1,N234=INDEX(FFilter,AP$5))))","v":1},{"$f":"ABS(OR(C234=0,AND(MaxInput>1,O234=INDEX(FFilter,AQ$5))))","v":1},null,null,null,null,null,null,null,null,null,null,{"$f":"ROW()","v":234}]
[227,"",null,null,null,null,null,null,null,null,null,null,"",{"$f":"IF(C235=0,\"\",INDEX(Objekt_Text,D235+1,2))","v":""},{"$f":"IF(C235=0,\"\",INDEX(Objekt_Text,D235+1,3))","v":""},"","",{"$f":"INDEX(Visum_Liste,F235+1)&\"\"","v":""},"","ZZ",0,0,0,0,0,0,3,"",{"$f":"MIN(IF(W235=$W$9:$W$2128,$E$9:$E$2128))","v":0},{"$f":"MAX(IF(W235=$W$9:$W$2128,$E$9:$E$2128))","v":0},227,1,1,null,null,1,null,"ZZ00000","00ZZ000",null,{"$f":"ABS(OR(C235=0,AND(MaxInput>1,M235=INDEX(FFilter,AO$5))))","v":1},{"$f":"ABS(OR(C235=0,AND(MaxInput>1,N235=INDEX(FFilter,AP$5))))","v":1},{"$f":"ABS(OR(C235=0,AND(MaxInput>1,O235=INDEX(FFilter,AQ$5))))","v":1},null,null,null,null,null,null,null,null,null,null,{"$f":"ROW()","v":235}]
[228,"",null,null,null,null,null,null,null,null,null,null,"",{"$f":"IF(C236=0,\"\",INDEX(Objekt_Text,D236+1,2))","v":""},{"$f":"IF(C236=0,\"\",INDEX(Objekt_Text,D236+1,3))","v":""},"","",{"$f":"INDEX(Visum_Liste,F236+1)&\"\"","v":""},"","ZZ",0,0,0,0,0,0,3,"",{"$f":"MIN(IF(W236=$W$9:$W$2128,$E$9:$E$2128))","v":0},{"$f":"MAX(IF(W236=$W$9:$W$2128,$E$9:$E$2128))","v":0},228,1,1,null,null,1,null,"ZZ00000","00ZZ000",null,{"$f":"ABS(OR(C236=0,AND(MaxInput>1,M236=INDEX(FFilter,AO$5))))","v":1},{"$f":"ABS(OR(C236=0,AND(MaxInput>1,N236=INDEX(FFilter,AP$5))))","v":1},{"$f":"ABS(OR(C236=0,AND(MaxInput>1,O236=INDEX(FFilter,AQ$5))))","v":1},null,null,null,null,null,null,null,null,null,null,{"$f":"ROW()","v":236}]
[229,"",null,null,null,null,null,null,null,null,null,null,"",{"$f":"IF(C237=0,\"\",INDEX(Objekt_Text,D237+1,2))","v":""},{"$f":"IF(C237=0,\"\",INDEX(Objekt_Text,D237+1,3))","v":""},"","",{"$f":"INDEX(Visum_Liste,F237+1)&\"\"","v":""},"","ZZ",0,0,0,0,0,0,3,"",{"$f":"MIN(IF(W237=$W$9:$W$2128,$E$9:$E$2128))","v":0},{"$f":"MAX(IF(W237=$W$9:$W$2128,$E$9:$E$2128))","v":0},229,1,1,null,null,1,null,"ZZ00000","00ZZ000",null,{"$f":"ABS(OR(C237=0,AND(MaxInput>1,M237=INDEX(FFilter,AO$5))))","v":1},{"$f":"ABS(OR(C237=0,AND(MaxInput>1,N237=INDEX(FFilter,AP$5))))","v":1},{"$f":"ABS(OR(C237=0,AND(MaxInput>1,O237=INDEX(FFilter,AQ$5))))","v":1},null,null,null,null,null,null,null,null,null,null,{"$f":"ROW()","v":237}]
[230,"",null,null,null,null,null,null,null,null,null,null,"",{"$f":"IF(C238=0,\"\",INDEX(Objekt_Text,D238+1,2))","v":""},{"$f":"IF(C238=0,\"\",INDEX(Objekt_Text,D238+1,3))","v":""},"","",{"$f":"INDEX(Visum_Liste,F238+1)&\"\"","v":""},"","ZZ",0,0,0,0,0,0,3,"",{"$f":"MIN(IF(W238=$W$9:$W$2128,$E$9:$E$2128))","v":0},{"$f":"MAX(IF(W238=$W$9:$W$2128,$E$9:$E$2128))","v":0},230,1,1,null,null,1,null,"ZZ00000","00ZZ000",null,{"$f":"ABS(OR(C238=0,AND(MaxInput>1,M238=INDEX(FFilter,AO$5))))","v":1},{"$f":"ABS(OR(C238=0,AND(MaxInput>1,N238=INDEX(FFilter,AP$5))))","v":1},{"$f":"ABS(OR(C238=0,AND(MaxInput>1,O238=INDEX(FFilter,AQ$5))))","v":1},null,null,null,null,null,null,null,null,null,null,{"$f":"ROW()","v":238}]
[231,"",null,null,null,null,null,null,null,null,null,null,"",{"$f":"IF(C239=0,\"\",INDEX(Objekt_Text,D239+1,2))","v":""},{"$f":"IF(C239=0,\"\",INDEX(Objekt_Text,D239+1,3))","v":""},"","",{"$f":"INDEX(Visum_Liste,F239+1)&\"\"","v":""},"","ZZ",0,0,0,0,0,0,3,"",{"$f":"MIN(IF(W239=$W$9:$W$2128,$E$9:$E$2128))","v":0},{"$f":"MAX(IF(W239=$W$9:$W$2128,$E$9:$E$2128))","v":0},231,1,1,null,null,1,null,"ZZ00000","00ZZ000",null,{"$f":"ABS(OR(C239=0,AND(MaxInput>1,M239=INDEX(FFilter,AO$5))))","v":1},{"$f":"ABS(OR(C239=0,AND(MaxInput>1,N239=INDEX(FFilter,AP$5))))","v":1},{"$f":"ABS(OR(C239=0,AND(MaxInput>1,O239=INDEX(FFilter,AQ$5))))","v":1},null,null,null,null,null,null,null,null,null,null,{"$f":"ROW()","v":239}]
[232,"",null,null,null,null,null,null,null,null,null,null,"",{"$f":"IF(C240=0,\"\",INDEX(Objekt_Text,D240+1,2))","v":""},{"$f":"IF(C240=0,\"\",INDEX(Objekt_Text,D240+1,3))","v":""},"","",{"$f":"INDEX(Visum_Liste,F240+1)&\"\"","v":""},"","ZZ",0,0,0,0,0,0,3,"",{"$f":"MIN(IF(W240=$W$9:$W$2128,$E$9:$E$2128))","v":0},{"$f":"MAX(IF(W240=$W$9:$W$2128,$E$9:$E$2128))","v":0},232,1,1,null,null,1,null,"ZZ00000","00ZZ000",null,{"$f":"ABS(OR(C240=0,AND(MaxInput>1,M240=INDEX(FFilter,AO$5))))","v":1},{"$f":"ABS(OR(C240=0,AND(MaxInput>1,N240=INDEX(FFilter,AP$5))))","v":1},{"$f":"ABS(OR(C240=0,AND(MaxInput>1,O240=INDEX(FFilter,AQ$5))))","v":1},null,null,null,null,null,null,null,null,null,null,{"$f":"ROW()","v":240}]
[233,"",null,null,null,null,null,null,null,null,null,null,"",{"$f":"IF(C241=0,\"\",INDEX(Objekt_Text,D241+1,2))","v":""},{"$f":"IF(C241=0,\"\",INDEX(Objekt_Text,D241+1,3))","v":""},"","",{"$f":"INDEX(Visum_Liste,F241+1)&\"\"","v":""},"","ZZ",0,0,0,0,0,0,3,"",{"$f":"MIN(IF(W241=$W$9:$W$2128,$E$9:$E$2128))","v":0},{"$f":"MAX(IF(W241=$W$9:$W$2128,$E$9:$E$2128))","v":0},233,1,1,null,null,1,null,"ZZ00000","00ZZ000",null,{"$f":"ABS(OR(C241=0,AND(MaxInput>1,M241=INDEX(FFilter,AO$5))))","v":1},{"$f":"ABS(OR(C241=0,AND(MaxInput>1,N241=INDEX(FFilter,AP$5))))","v":1},{"$f":"ABS(OR(C241=0,AND(MaxInput>1,O241=INDEX(FFilter,AQ$5))))","v":1},null,null,null,null,null,null,null,null,null,null,{"$f":"ROW()","v":241}]
[234,"",null,null,null,null,null,null,null,null,null,null,"",{"$f":"IF(C242=0,\"\",INDEX(Objekt_Text,D242+1,2))","v":""},{"$f":"IF(C242=0,\"\",INDEX(Objekt_Text,D242+1,3))","v":""},"","",{"$f":"INDEX(Visum_Liste,F242+1)&\"\"","v":""},"","ZZ",0,0,0,0,0,0,3,"",{"$f":"MIN(IF(W242=$W$9:$W$2128,$E$9:$E$2128))","v":0},{"$f":"MAX(IF(W242=$W$9:$W$2128,$E$9:$E$2128))","v":0},234,1,1,null,null,1,null,"ZZ00000","00ZZ000",null,{"$f":"ABS(OR(C242=0,AND(MaxInput>1,M242=INDEX(FFilter,AO$5))))","v":1},{"$f":"ABS(OR(C242=0,AND(MaxInput>1,N242=INDEX(FFilter,AP$5))))","v":1},{"$f":"ABS(OR(C242=0,AND(MaxInput>1,O242=INDEX(FFilter,AQ$5))))","v":1},null,null,null,null,null,null,null,null,null,null,{"$f":"ROW()","v":242}]
[235,"",null,null,null,null,null,null,null,null,null,null,"",{"$f":"IF(C243=0,\"\",INDEX(Objekt_Text,D243+1,2))","v":""},{"$f":"IF(C243=0,\"\",INDEX(Objekt_Text,D243+1,3))","v":""},"","",{"$f":"INDEX(Visum_Liste,F243+1)&\"\"","v":""},"","ZZ",0,0,0,0,0,0,3,"",{"$f":"MIN(IF(W243=$W$9:$W$2128,$E$9:$E$2128))","v":0},{"$f":"MAX(IF(W243=$W$9:$W$2128,$E$9:$E$2128))","v":0},235,1,1,null,null,1,null,"ZZ00000","00ZZ000",null,{"$f":"ABS(OR(C243=0,AND(MaxInput>1,M243=INDEX(FFilter,AO$5))))","v":1},{"$f":"ABS(OR(C243=0,AND(MaxInput>1,N243=INDEX(FFilter,AP$5))))","v":1},{"$f":"ABS(OR(C243=0,AND(MaxInput>1,O243=INDEX(FFilter,AQ$5))))","v":1},null,null,null,null,null,null,null,null,null,null,{"$f":"ROW()","v":243}]
[236,"",null,null,null,null,null,null,null,null,null,null,"",{"$f":"IF(C244=0,\"\",INDEX(Objekt_Text,D244+1,2))","v":""},{"$f":"IF(C244=0,\"\",INDEX(Objekt_Text,D244+1,3))","v":""},"","",{"$f":"INDEX(Visum_Liste,F244+1)&\"\"","v":""},"","ZZ",0,0,0,0,0,0,3,"",{"$f":"MIN(IF(W244=$W$9:$W$2128,$E$9:$E$2128))","v":0},{"$f":"MAX(IF(W244=$W$9:$W$2128,$E$9:$E$2128))","v":0},236,1,1,null,null,1,null,"ZZ00000","00ZZ000",null,{"$f":"ABS(OR(C244=0,AND(MaxInput>1,M244=INDEX(FFilter,AO$5))))","v":1},{"$f":"ABS(OR(C244=0,AND(MaxInput>1,N244=INDEX(FFilter,AP$5))))","v":1},{"$f":"ABS(OR(C244=0,AND(MaxInput>1,O244=INDEX(FFilter,AQ$5))))","v":1},null,null,null,null,null,null,null,null,null,null,{"$f":"ROW()","v":244}]
[237,"",null,null,null,null,null,null,null,null,null,null,"",{"$f":"IF(C245=0,\"\",INDEX(Objekt_Text,D245+1,2))","v":""},{"$f":"IF(C245=0,\"\",INDEX(Objekt_Text,D245+1,3))","v":""},"","",{"$f":"INDEX(Visum_Liste,F245+1)&\"\"","v":""},"","ZZ",0,0,0,0,0,0,3,"",{"$f":"MIN(IF(W245=$W$9:$W$2128,$E$9:$E$2128))","v":0},{"$f":"MAX(IF(W245=$W$9:$W$2128,$E$9:$E$2128))","v":0},237,1,1,null,null,1,null,"ZZ00000","00ZZ000",null,{"$f":"ABS(OR(C245=0,AND(MaxInput>1,M245=INDEX(FFilter,AO$5))))","v":1},{"$f":"ABS(OR(C245=0,AND(MaxInput>1,N245=INDEX(FFilter,AP$5))))","v":1},{"$f":"ABS(OR(C245=0,AND(MaxInput>1,O245=INDEX(FFilter,AQ$5))))","v":1},null,null,null,null,null,null,null,null,null,null,{"$f":"ROW()","v":245}]
[238,"",null,null,null,null,null,null,null,null,null,null,"",{"$f":"IF(C246=0,\"\",INDEX(Objekt_Text,D246+1,2))","v":""},{"$f":"IF(C246=0,\"\",INDEX(Objekt_Text,D246+1,3))","v":""},"","",{"$f":"INDEX(Visum_Liste,F246+1)&\"\"","v":""},"","ZZ",0,0,0,0,0,0,3,"",{"$f":"MIN(IF(W246=$W$9:$W$2128,$E$9:$E$2128))","v":0},{"$f":"MAX(IF(W246=$W$9:$W$2128,$E$9:$E$2128))","v":0},238,1,1,null,null,1,null,"ZZ00000","00ZZ000",null,{"$f":"ABS(OR(C246=0,AND(MaxInput>1,M246=INDEX(FFilter,AO$5))))","v":1},{"$f":"ABS(OR(C246=0,AND(MaxInput>1,N246=INDEX(FFilter,AP$5))))","v":1},{"$f":"ABS(OR(C246=0,AND(MaxInput>1,O246=INDEX(FFilter,AQ$5))))","v":1},null,null,null,null,null,null,null,null,null,null,{"$f":"ROW()","v":246}]
[239,"",null,null,null,null,null,null,null,null,null,null,"",{"$f":"IF(C247=0,\"\",INDEX(Objekt_Text,D247+1,2))","v":""},{"$f":"IF(C247=0,\"\",INDEX(Objekt_Text,D247+1,3))","v":""},"","",{"$f":"INDEX(Visum_Liste,F247+1)&\"\"","v":""},"","ZZ",0,0,0,0,0,0,3,"",{"$f":"MIN(IF(W247=$W$9:$W$2128,$E$9:$E$2128))","v":0},{"$f":"MAX(IF(W247=$W$9:$W$2128,$E$9:$E$2128))","v":0},239,1,1,null,null,1,null,"ZZ00000","00ZZ000",null,{"$f":"ABS(OR(C247=0,AND(MaxInput>1,M247=INDEX(FFilter,AO$5))))","v":1},{"$f":"ABS(OR(C247=0,AND(MaxInput>1,N247=INDEX(FFilter,AP$5))))","v":1},{"$f":"ABS(OR(C247=0,AND(MaxInput>1,O247=INDEX(FFilter,AQ$5))))","v":1},null,null,null,null,null,null,null,null,null,null,{"$f":"ROW()","v":247}]
[240,"",null,null,null,null,null,null,null,null,null,null,"",{"$f":"IF(C248=0,\"\",INDEX(Objekt_Text,D248+1,2))","v":""},{"$f":"IF(C248=0,\"\",INDEX(Objekt_Text,D248+1,3))","v":""},"","",{"$f":"INDEX(Visum_Liste,F248+1)&\"\"","v":""},"","ZZ",0,0,0,0,0,0,3,"",{"$f":"MIN(IF(W248=$W$9:$W$2128,$E$9:$E$2128))","v":0},{"$f":"MAX(IF(W248=$W$9:$W$2128,$E$9:$E$2128))","v":0},240,1,1,null,null,1,null,"ZZ00000","00ZZ000",null,{"$f":"ABS(OR(C248=0,AND(MaxInput>1,M248=INDEX(FFilter,AO$5))))","v":1},{"$f":"ABS(OR(C248=0,AND(MaxInput>1,N248=INDEX(FFilter,AP$5))))","v":1},{"$f":"ABS(OR(C248=0,AND(MaxInput>1,O248=INDEX(FFilter,AQ$5))))","v":1},null,null,null,null,null,null,null,null,null,null,{"$f":"ROW()","v":248}]
[241,"",null,null,null,null,null,null,null,null,null,null,"",{"$f":"IF(C249=0,\"\",INDEX(Objekt_Text,D249+1,2))","v":""},{"$f":"IF(C249=0,\"\",INDEX(Objekt_Text,D249+1,3))","v":""},"","",{"$f":"INDEX(Visum_Liste,F249+1)&\"\"","v":""},"","ZZ",0,0,0,0,0,0,3,"",{"$f":"MIN(IF(W249=$W$9:$W$2128,$E$9:$E$2128))","v":0},{"$f":"MAX(IF(W249=$W$9:$W$2128,$E$9:$E$2128))","v":0},241,1,1,null,null,1,null,"ZZ00000","00ZZ000",null,{"$f":"ABS(OR(C249=0,AND(MaxInput>1,M249=INDEX(FFilter,AO$5))))","v":1},{"$f":"ABS(OR(C249=0,AND(MaxInput>1,N249=INDEX(FFilter,AP$5))))","v":1},{"$f":"ABS(OR(C249=0,AND(MaxInput>1,O249=INDEX(FFilter,AQ$5))))","v":1},null,null,null,null,null,null,null,null,null,null,{"$f":"ROW()","v":249}]
[242,"",null,null,null,null,null,null,null,null,null,null,"",{"$f":"IF(C250=0,\"\",INDEX(Objekt_Text,D250+1,2))","v":""},{"$f":"IF(C250=0,\"\",INDEX(Objekt_Text,D250+1,3))","v":""},"","",{"$f":"INDEX(Visum_Liste,F250+1)&\"\"","v":""},"","ZZ",0,0,0,0,0,0,3,"",{"$f":"MIN(IF(W250=$W$9:$W$2128,$E$9:$E$2128))","v":0},{"$f":"MAX(IF(W250=$W$9:$W$2128,$E$9:$E$2128))","v":0},242,1,1,null,null,1,null,"ZZ00000","00ZZ000",null,{"$f":"ABS(OR(C250=0,AND(MaxInput>1,M250=INDEX(FFilter,AO$5))))","v":1},{"$f":"ABS(OR(C250=0,AND(MaxInput>1,N250=INDEX(FFilter,AP$5))))","v":1},{"$f":"ABS(OR(C250=0,AND(MaxInput>1,O250=INDEX(FFilter,AQ$5))))","v":1},null,null,null,null,null,null,null,null,null,null,{"$f":"ROW()","v":250}]
[243,"",null,null,null,null,null,null,null,null,null,null,"",{"$f":"IF(C251=0,\"\",INDEX(Objekt_Text,D251+1,2))","v":""},{"$f":"IF(C251=0,\"\",INDEX(Objekt_Text,D251+1,3))","v":""},"","",{"$f":"INDEX(Visum_Liste,F251+1)&\"\"","v":""},"","ZZ",0,0,0,0,0,0,3,"",{"$f":"MIN(IF(W251=$W$9:$W$2128,$E$9:$E$2128))","v":0},{"$f":"MAX(IF(W251=$W$9:$W$2128,$E$9:$E$2128))","v":0},243,1,1,null,null,1,null,"ZZ00000","00ZZ000",null,{"$f":"ABS(OR(C251=0,AND(MaxInput>1,M251=INDEX(FFilter,AO$5))))","v":1},{"$f":"ABS(OR(C251=0,AND(MaxInput>1,N251=INDEX(FFilter,AP$5))))","v":1},{"$f":"ABS(OR(C251=0,AND(MaxInput>1,O251=INDEX(FFilter,AQ$5))))","v":1},null,null,null,null,null,null,null,null,null,null,{"$f":"ROW()","v":251}]
[244,"",null,null,null,null,null,null,null,null,null,null,"",{"$f":"IF(C252=0,\"\",INDEX(Objekt_Text,D252+1,2))","v":""},{"$f":"IF(C252=0,\"\",INDEX(Objekt_Text,D252+1,3))","v":""},"","",{"$f":"INDEX(Visum_Liste,F252+1)&\"\"","v":""},"","ZZ",0,0,0,0,0,0,3,"",{"$f":"MIN(IF(W252=$W$9:$W$2128,$E$9:$E$2128))","v":0},{"$f":"MAX(IF(W252=$W$9:$W$2128,$E$9:$E$2128))","v":0},244,1,1,null,null,1,null,"ZZ00000","00ZZ000",null,{"$f":"ABS(OR(C252=0,AND(MaxInput>1,M252=INDEX(FFilter,AO$5))))","v":1},{"$f":"ABS(OR(C252=0,AND(MaxInput>1,N252=INDEX(FFilter,AP$5))))","v":1},{"$f":"ABS(OR(C252=0,AND(MaxInput>1,O252=INDEX(FFilter,AQ$5))))","v":1},null,null,null,null,null,null,null,null,null,null,{"$f":"ROW()","v":252}]
[245,"",null,null,null,null,null,null,null,null,null,null,"",{"$f":"IF(C253=0,\"\",INDEX(Objekt_Text,D253+1,2))","v":""},{"$f":"IF(C253=0,\"\",INDEX(Objekt_Text,D253+1,3))","v":""},"","",{"$f":"INDEX(Visum_Liste,F253+1)&\"\"","v":""},"","ZZ",0,0,0,0,0,0,3,"",{"$f":"MIN(IF(W253=$W$9:$W$2128,$E$9:$E$2128))","v":0},{"$f":"MAX(IF(W253=$W$9:$W$2128,$E$9:$E$2128))","v":0},245,1,1,null,null,1,null,"ZZ00000","00ZZ000",null,{"$f":"ABS(OR(C253=0,AND(MaxInput>1,M253=INDEX(FFilter,AO$5))))","v":1},{"$f":"ABS(OR(C253=0,AND(MaxInput>1,N253=INDEX(FFilter,AP$5))))","v":1},{"$f":"ABS(OR(C253=0,AND(MaxInput>1,O253=INDEX(FFilter,AQ$5))))","v":1},null,null,null,null,null,null,null,null,null,null,{"$f":"ROW()","v":253}]
[246,"",null,null,null,null,null,null,null,null,null,null,"",{"$f":"IF(C254=0,\"\",INDEX(Objekt_Text,D254+1,2))","v":""},{"$f":"IF(C254=0,\"\",INDEX(Objekt_Text,D254+1,3))","v":""},"","",{"$f":"INDEX(Visum_Liste,F254+1)&\"\"","v":""},"","ZZ",0,0,0,0,0,0,3,"",{"$f":"MIN(IF(W254=$W$9:$W$2128,$E$9:$E$2128))","v":0},{"$f":"MAX(IF(W254=$W$9:$W$2128,$E$9:$E$2128))","v":0},246,1,1,null,null,1,null,"ZZ00000","00ZZ000",null,{"$f":"ABS(OR(C254=0,AND(MaxInput>1,M254=INDEX(FFilter,AO$5))))","v":1},{"$f":"ABS(OR(C254=0,AND(MaxInput>1,N254=INDEX(FFilter,AP$5))))","v":1},{"$f":"ABS(OR(C254=0,AND(MaxInput>1,O254=INDEX(FFilter,AQ$5))))","v":1},null,null,null,null,null,null,null,null,null,null,{"$f":"ROW()","v":254}]
[247,"",null,null,null,null,null,null,null,null,null,null,"",{"$f":"IF(C255=0,\"\",INDEX(Objekt_Text,D255+1,2))","v":""},{"$f":"IF(C255=0,\"\",INDEX(Objekt_Text,D255+1,3))","v":""},"","",{"$f":"INDEX(Visum_Liste,F255+1)&\"\"","v":""},"","ZZ",0,0,0,0,0,0,3,"",{"$f":"MIN(IF(W255=$W$9:$W$2128,$E$9:$E$2128))","v":0},{"$f":"MAX(IF(W255=$W$9:$W$2128,$E$9:$E$2128))","v":0},247,1,1,null,null,1,null,"ZZ00000","00ZZ000",null,{"$f":"ABS(OR(C255=0,AND(MaxInput>1,M255=INDEX(FFilter,AO$5))))","v":1},{"$f":"ABS(OR(C255=0,AND(MaxInput>1,N255=INDEX(FFilter,AP$5))))","v":1},{"$f":"ABS(OR(C255=0,AND(MaxInput>1,O255=INDEX(FFilter,AQ$5))))","v":1},null,null,null,null,null,null,null,null,null,null,{"$f":"ROW()","v":255}]
[248,"",null,null,null,null,null,null,null,null,null,null,"",{"$f":"IF(C256=0,\"\",INDEX(Objekt_Text,D256+1,2))","v":""},{"$f":"IF(C256=0,\"\",INDEX(Objekt_Text,D256+1,3))","v":""},"","",{"$f":"INDEX(Visum_Liste,F256+1)&\"\"","v":""},"","ZZ",0,0,0,0,0,0,3,"",{"$f":"MIN(IF(W256=$W$9:$W$2128,$E$9:$E$2128))","v":0},{"$f":"MAX(IF(W256=$W$9:$W$2128,$E$9:$E$2128))","v":0},248,1,1,null,null,1,null,"ZZ00000","00ZZ000",null,{"$f":"ABS(OR(C256=0,AND(MaxInput>1,M256=INDEX(FFilter,AO$5))))","v":1},{"$f":"ABS(OR(C256=0,AND(MaxInput>1,N256=INDEX(FFilter,AP$5))))","v":1},{"$f":"ABS(OR(C256=0,AND(MaxInput>1,O256=INDEX(FFilter,AQ$5))))","v":1},null,null,null,null,null,null,null,null,null,null,{"$f":"ROW()","v":256}]
[249,"",null,null,null,null,null,null,null,null,null,null,"",{"$f":"IF(C257=0,\"\",INDEX(Objekt_Text,D257+1,2))","v":""},{"$f":"IF(C257=0,\"\",INDEX(Objekt_Text,D257+1,3))","v":""},"","",{"$f":"INDEX(Visum_Liste,F257+1)&\"\"","v":""},"","ZZ",0,0,0,0,0,0,3,"",{"$f":"MIN(IF(W257=$W$9:$W$2128,$E$9:$E$2128))","v":0},{"$f":"MAX(IF(W257=$W$9:$W$2128,$E$9:$E$2128))","v":0},249,1,1,null,null,1,null,"ZZ00000","00ZZ000",null,{"$f":"ABS(OR(C257=0,AND(MaxInput>1,M257=INDEX(FFilter,AO$5))))","v":1},{"$f":"ABS(OR(C257=0,AND(MaxInput>1,N257=INDEX(FFilter,AP$5))))","v":1},{"$f":"ABS(OR(C257=0,AND(MaxInput>1,O257=INDEX(FFilter,AQ$5))))","v":1},null,null,null,null,null,null,null,null,null,null,{"$f":"ROW()","v":257}]
[250,"",null,null,null,null,null,null,null,null,null,null,"",{"$f":"IF(C258=0,\"\",INDEX(Objekt_Text,D258+1,2))","v":""},{"$f":"IF(C258=0,\"\",INDEX(Objekt_Text,D258+1,3))","v":""},"","",{"$f":"INDEX(Visum_Liste,F258+1)&\"\"","v":""},"","ZZ",0,0,0,0,0,0,3,"",{"$f":"MIN(IF(W258=$W$9:$W$2128,$E$9:$E$2128))","v":0},{"$f":"MAX(IF(W258=$W$9:$W$2128,$E$9:$E$2128))","v":0},250,1,1,null,null,1,null,"ZZ00000","00ZZ000",null,{"$f":"ABS(OR(C258=0,AND(MaxInput>1,M258=INDEX(FFilter,AO$5))))","v":1},{"$f":"ABS(OR(C258=0,AND(MaxInput>1,N258=INDEX(FFilter,AP$5))))","v":1},{"$f":"ABS(OR(C258=0,AND(MaxInput>1,O258=INDEX(FFilter,AQ$5))))","v":1},null,null,null,null,null,null,null,null,null,null,{"$f":"ROW()","v":258}]
[251,"",null,null,null,null,null,null,null,null,null,null,"",{"$f":"IF(C259=0,\"\",INDEX(Objekt_Text,D259+1,2))","v":""},{"$f":"IF(C259=0,\"\",INDEX(Objekt_Text,D259+1,3))","v":""},"","",{"$f":"INDEX(Visum_Liste,F259+1)&\"\"","v":""},"","ZZ",0,0,0,0,0,0,3,"",{"$f":"MIN(IF(W259=$W$9:$W$2128,$E$9:$E$2128))","v":0},{"$f":"MAX(IF(W259=$W$9:$W$2128,$E$9:$E$2128))","v":0},251,1,1,null,null,1,null,"ZZ00000","00ZZ000",null,{"$f":"ABS(OR(C259=0,AND(MaxInput>1,M259=INDEX(FFilter,AO$5))))","v":1},{"$f":"ABS(OR(C259=0,AND(MaxInput>1,N259=INDEX(FFilter,AP$5))))","v":1},{"$f":"ABS(OR(C259=0,AND(MaxInput>1,O259=INDEX(FFilter,AQ$5))))","v":1},null,null,null,null,null,null,null,null,null,null,{"$f":"ROW()","v":259}]
[252,"",null,null,null,null,null,null,null,null,null,null,"",{"$f":"IF(C260=0,\"\",INDEX(Objekt_Text,D260+1,2))","v":""},{"$f":"IF(C260=0,\"\",INDEX(Objekt_Text,D260+1,3))","v":""},"","",{"$f":"INDEX(Visum_Liste,F260+1)&\"\"","v":""},"","ZZ",0,0,0,0,0,0,3,"",{"$f":"MIN(IF(W260=$W$9:$W$2128,$E$9:$E$2128))","v":0},{"$f":"MAX(IF(W260=$W$9:$W$2128,$E$9:$E$2128))","v":0},252,1,1,null,null,1,null,"ZZ00000","00ZZ000",null,{"$f":"ABS(OR(C260=0,AND(MaxInput>1,M260=INDEX(FFilter,AO$5))))","v":1},{"$f":"ABS(OR(C260=0,AND(MaxInput>1,N260=INDEX(FFilter,AP$5))))","v":1},{"$f":"ABS(OR(C260=0,AND(MaxInput>1,O260=INDEX(FFilter,AQ$5))))","v":1},null,null,null,null,null,null,null,null,null,null,{"$f":"ROW()","v":260}]
[253,"",null,null,null,null,null,null,null,null,null,null,"",{"$f":"IF(C261=0,\"\",INDEX(Objekt_Text,D261+1,2))","v":""},{"$f":"IF(C261=0,\"\",INDEX(Objekt_Text,D261+1,3))","v":""},"","",{"$f":"INDEX(Visum_Liste,F261+1)&\"\"","v":""},"","ZZ",0,0,0,0,0,0,3,"",{"$f":"MIN(IF(W261=$W$9:$W$2128,$E$9:$E$2128))","v":0},{"$f":"MAX(IF(W261=$W$9:$W$2128,$E$9:$E$2128))","v":0},253,1,1,null,null,1,null,"ZZ00000","00ZZ000",null,{"$f":"ABS(OR(C261=0,AND(MaxInput>1,M261=INDEX(FFilter,AO$5))))","v":1},{"$f":"ABS(OR(C261=0,AND(MaxInput>1,N261=INDEX(FFilter,AP$5))))","v":1},{"$f":"ABS(OR(C261=0,AND(MaxInput>1,O261=INDEX(FFilter,AQ$5))))","v":1},null,null,null,null,null,null,null,null,null,null,{"$f":"ROW()","v":261}]
[254,"",null,null,null,null,null,null,null,null,null,null,"",{"$f":"IF(C262=0,\"\",INDEX(Objekt_Text,D262+1,2))","v":""},{"$f":"IF(C262=0,\"\",INDEX(Objekt_Text,D262+1,3))","v":""},"","",{"$f":"INDEX(Visum_Liste,F262+1)&\"\"","v":""},"","ZZ",0,0,0,0,0,0,3,"",{"$f":"MIN(IF(W262=$W$9:$W$2128,$E$9:$E$2128))","v":0},{"$f":"MAX(IF(W262=$W$9:$W$2128,$E$9:$E$2128))","v":0},254,1,1,null,null,1,null,"ZZ00000","00ZZ000",null,{"$f":"ABS(OR(C262=0,AND(MaxInput>1,M262=INDEX(FFilter,AO$5))))","v":1},{"$f":"ABS(OR(C262=0,AND(MaxInput>1,N262=INDEX(FFilter,AP$5))))","v":1},{"$f":"ABS(OR(C262=0,AND(MaxInput>1,O262=INDEX(FFilter,AQ$5))))","v":1},null,null,null,null,null,null,null,null,null,null,{"$f":"ROW()","v":262}]
[255,"",null,null,null,null,null,null,null,null,null,null,"",{"$f":"IF(C263=0,\"\",INDEX(Objekt_Text,D263+1,2))","v":""},{"$f":"IF(C263=0,\"\",INDEX(Objekt_Text,D263+1,3))","v":""},"","",{"$f":"INDEX(Visum_Liste,F263+1)&\"\"","v":""},"","ZZ",0,0,0,0,0,0,3,"",{"$f":"MIN(IF(W263=$W$9:$W$2128,$E$9:$E$2128))","v":0},{"$f":"MAX(IF(W263=$W$9:$W$2128,$E$9:$E$2128))","v":0},255,1,1,null,null,1,null,"ZZ00000","00ZZ000",null,{"$f":"ABS(OR(C263=0,AND(MaxInput>1,M263=INDEX(FFilter,AO$5))))","v":1},{"$f":"ABS(OR(C263=0,AND(MaxInput>1,N263=INDEX(FFilter,AP$5))))","v":1},{"$f":"ABS(OR(C263=0,AND(MaxInput>1,O263=INDEX(FFilter,AQ$5))))","v":1},null,null,null,null,null,null,null,null,null,null,{"$f":"ROW()","v":263}]
[256,"",null,null,null,null,null,null,null,null,null,null,"",{"$f":"IF(C264=0,\"\",INDEX(Objekt_Text,D264+1,2))","v":""},{"$f":"IF(C264=0,\"\",INDEX(Objekt_Text,D264+1,3))","v":""},"","",{"$f":"INDEX(Visum_Liste,F264+1)&\"\"","v":""},"","ZZ",0,0,0,0,0,0,3,"",{"$f":"MIN(IF(W264=$W$9:$W$2128,$E$9:$E$2128))","v":0},{"$f":"MAX(IF(W264=$W$9:$W$2128,$E$9:$E$2128))","v":0},256,1,1,null,null,1,null,"ZZ00000","00ZZ000",null,{"$f":"ABS(OR(C264=0,AND(MaxInput>1,M264=INDEX(FFilter,AO$5))))","v":1},{"$f":"ABS(OR(C264=0,AND(MaxInput>1,N264=INDEX(FFilter,AP$5))))","v":1},{"$f":"ABS(OR(C264=0,AND(MaxInput>1,O264=INDEX(FFilter,AQ$5))))","v":1},null,null,null,null,null,null,null,null,null,null,{"$f":"ROW()","v":264}]
[257,{"$f":"IF(C265>0,ROW()-8,\"\")","v":""},null,null,null,null,null,null,null,null,null,null,{"$f":"IF(C265=0,\"\",IFERROR(VLOOKUP($C265,SLTabelle,cSLName,FALSE),\"\"))","v":""},{"$f":"IF(C265=0,\"\",INDEX(Objekt_Text,D265+1,2))","v":""},{"$f":"IF(C265=0,\"\",INDEX(Objekt_Text,D265+1,3))","v":""},{"$f":"IF($H265=\"\",\"\",$H265)","v":""},{"$f":"IF($I265=\"\",\"\",$I265)","v":""},{"$f":"INDEX(Visum_Liste,F265+1)&\"\"","v":""},{"$f":"IF($J265=\"\",\"\",$J265)","v":""},{"$f":"IF(M265=\"\",\"ZZ\",M265)","v":"ZZ"},{"$f":"IF(C265>0,COUNTIF($W$9:$W$2128,W265),0)","v":0},{"$f":"SUMIFS($E$9:$E$2128,$W$9:$W$2128,W265)","v":0},{"$f":"C265*100+D265","v":0},{"$f":"AND(C265>0,E265=AD265)*1","v":0},{"$f":"(COUNT(P265:Q265)=2)*1","v":0},{"$f":"F265*10+X265","v":0},{"$f":"IF(X265=0,3,X265*F265)","v":3},{"$f":"IF(OR((C265>0),ROW()<LastRow+8),\"A\",\"\")","v":""},{"$f":"MIN(IF(W265=$W$9:$W$2128,$E$9:$E$2128))","v":0},{"$f":"MAX(IF(W265=$W$9:$W$2128,$E$9:$E$2128))","v":0},257,1,1,null,null,1,null,{"$f":"T265&TEXT(D265,\"00\")&TEXT(E265,\"000\")","v":"ZZ00000"},{"$f":"TEXT(D265,\"00\")&T265&TEXT(E265,\"000\")","v":"00ZZ000"},null,{"$f":"ABS(OR(C265=0,AND(MaxInput>1,M265=INDEX(FFilter,AO$5))))","v":1},{"$f":"ABS(OR(C265=0,AND(MaxInput>1,N265=INDEX(FFilter,AP$5))))","v":1},{"$f":"ABS(OR(C265=0,AND(MaxInput>1,O265=INDEX(FFilter,AQ$5))))","v":1},null,null,null,null,null,null,null,null,null,null,{"$f":"ROW()","v":265}]
[258,"",null,null,null,null,null,null,null,null,null,null,"",{"$f":"IF(C266=0,\"\",INDEX(Objekt_Text,D266+1,2))","v":""},{"$f":"IF(C266=0,\"\",INDEX(Objekt_Text,D266+1,3))","v":""},"","",{"$f":"INDEX(Visum_Liste,F266+1)&\"\"","v":""},"","ZZ",0,0,0,0,0,0,3,"",{"$f":"MIN(IF(W266=$W$9:$W$2128,$E$9:$E$2128))","v":0},{"$f":"MAX(IF(W266=$W$9:$W$2128,$E$9:$E$2128))","v":0},258,1,1,null,null,{"$f":"OR(L266<=L265,B266=\"\")*1","v":1},null,"ZZ00000","00ZZ000",null,{"$f":"ABS(OR(C266=0,AND(MaxInput>1,M266=INDEX(FFilter,AO$5))))","v":1},{"$f":"ABS(OR(C266=0,AND(MaxInput>1,N266=INDEX(FFilter,AP$5))))","v":1},{"$f":"ABS(OR(C266=0,AND(MaxInput>1,O266=INDEX(FFilter,AQ$5))))","v":1},null,null,null,null,null,null,null,null,null,null,{"$f":"ROW()","v":266}]
[259,"",null,null,null,null,null,null,null,null,null,null,"",{"$f":"IF(C267=0,\"\",INDEX(Objekt_Text,D267+1,2))","v":""},{"$f":"IF(C267=0,\"\",INDEX(Objekt_Text,D267+1,3))","v":""},"","",{"$f":"INDEX(Visum_Liste,F267+1)&\"\"","v":""},"","ZZ",0,0,0,0,0,0,3,"",{"$f":"MIN(IF(W267=$W$9:$W$2128,$E$9:$E$2128))","v":0},{"$f":"MAX(IF(W267=$W$9:$W$2128,$E$9:$E$2128))","v":0},259,1,1,null,null,1,null,"ZZ00000","00ZZ000",null,{"$f":"ABS(OR(C267=0,AND(MaxInput>1,M267=INDEX(FFilter,AO$5))))","v":1},{"$f":"ABS(OR(C267=0,AND(MaxInput>1,N267=INDEX(FFilter,AP$5))))","v":1},{"$f":"ABS(OR(C267=0,AND(MaxInput>1,O267=INDEX(FFilter,AQ$5))))","v":1},null,null,null,null,null,null,null,null,null,null,{"$f":"ROW()","v":267}]
[260,"",null,null,null,null,null,null,null,null,null,null,"",{"$f":"IF(C268=0,\"\",INDEX(Objekt_Text,D268+1,2))","v":""},{"$f":"IF(C268=0,\"\",INDEX(Objekt_Text,D268+1,3))","v":""},"","",{"$f":"INDEX(Visum_Liste,F268+1)&\"\"","v":""},"","ZZ",0,0,0,0,0,0,3,"",{"$f":"MIN(IF(W268=$W$9:$W$2128,$E$9:$E$2128))","v":0},{"$f":"MAX(IF(W268=$W$9:$W$2128,$E$9:$E$2128))","v":0},260,1,1,null,null,1,null,"ZZ00000","00ZZ000",null,{"$f":"ABS(OR(C268=0,AND(MaxInput>1,M268=INDEX(FFilter,AO$5))))","v":1},{"$f":"ABS(OR(C268=0,AND(MaxInput>1,N268=INDEX(FFilter,AP$5))))","v":1},{"$f":"ABS(OR(C268=0,AND(MaxInput>1,O268=INDEX(FFilter,AQ$5))))","v":1},null,null,null,null,null,null,null,null,null,null,{"$f":"ROW()","v":268}]
[261,"",null,null,null,null,null,null,null,null,null,null,"",{"$f":"IF(C269=0,\"\",INDEX(Objekt_Text,D269+1,2))","v":""},{"$f":"IF(C269=0,\"\",INDEX(Objekt_Text,D269+1,3))","v":""},"","",{"$f":"INDEX(Visum_Liste,F269+1)&\"\"","v":""},"","ZZ",0,0,0,0,0,0,3,"",{"$f":"MIN(IF(W269=$W$9:$W$2128,$E$9:$E$2128))","v":0},{"$f":"MAX(IF(W269=$W$9:$W$2128,$E$9:$E$2128))","v":0},261,{"$f":"OR(AL269>=AL268,B269=\"\")*1","v":1},{"$f":"OR(AM269>=AM268,B269=\"\")*1","v":1},null,null,1,null,"ZZ00000","00ZZ000",null,{"$f":"ABS(OR(C269=0,AND(MaxInput>1,M269=INDEX(FFilter,AO$5))))","v":1},{"$f":"ABS(OR(C269=0,AND(MaxInput>1,N269=INDEX(FFilter,AP$5))))","v":1},{"$f":"ABS(OR(C269=0,AND(MaxInput>1,O269=INDEX(FFilter,AQ$5))))","v":1},null,null,null,null,null,null,null,null,null,null,{"$f":"ROW()","v":269}]
[262,"",null,null,null,null,null,null,null,null,null,null,"",{"$f":"IF(C270=0,\"\",INDEX(Objekt_Text,D270+1,2))","v":""},{"$f":"IF(C270=0,\"\",INDEX(Objekt_Text,D270+1,3))","v":""},"","",{"$f":"INDEX(Visum_Liste,F270+1)&\"\"","v":""},"","ZZ",0,0,0,0,0,0,3,"",{"$f":"MIN(IF(W270=$W$9:$W$2128,$E$9:$E$2128))","v":0},{"$f":"MAX(IF(W270=$W$9:$W$2128,$E$9:$E$2128))","v":0},262,1,1,null,null,1,null,"ZZ00000","00ZZ000",null,{"$f":"ABS(OR(C270=0,AND(MaxInput>1,M270=INDEX(FFilter,AO$5))))","v":1},{"$f":"ABS(OR(C270=0,AND(MaxInput>1,N270=INDEX(FFilter,AP$5))))","v":1},{"$f":"ABS(OR(C270=0,AND(MaxInput>1,O270=INDEX(FFilter,AQ$5))))","v":1},null,null,null,null,null,null,null,null,null,null,{"$f":"ROW()","v":270}]
[263,"",null,null,null,null,null,null,null,null,null,null,"",{"$f":"IF(C271=0,\"\",INDEX(Objekt_Text,D271+1,2))","v":""},{"$f":"IF(C271=0,\"\",INDEX(Objekt_Text,D271+1,3))","v":""},"","",{"$f":"INDEX(Visum_Liste,F271+1)&\"\"","v":""},"","ZZ",0,0,0,0,0,0,3,"",{"$f":"MIN(IF(W271=$W$9:$W$2128,$E$9:$E$2128))","v":0},{"$f":"MAX(IF(W271=$W$9:$W$2128,$E$9:$E$2128))","v":0},263,1,1,null,null,1,null,"ZZ00000","00ZZ000",null,{"$f":"ABS(OR(C271=0,AND(MaxInput>1,M271=INDEX(FFilter,AO$5))))","v":1},{"$f":"ABS(OR(C271=0,AND(MaxInput>1,N271=INDEX(FFilter,AP$5))))","v":1},{"$f":"ABS(OR(C271=0,AND(MaxInput>1,O271=INDEX(FFilter,AQ$5))))","v":1},null,null,null,null,null,null,null,null,null,null,{"$f":"ROW()","v":271}]
[264,"",null,null,null,null,null,null,null,null,null,null,"",{"$f":"IF(C272=0,\"\",INDEX(Objekt_Text,D272+1,2))","v":""},{"$f":"IF(C272=0,\"\",INDEX(Objekt_Text,D272+1,3))","v":""},"","",{"$f":"INDEX(Visum_Liste,F272+1)&\"\"","v":""},"","ZZ",0,0,0,0,0,0,3,"",{"$f":"MIN(IF(W272=$W$9:$W$2128,$E$9:$E$2128))","v":0},{"$f":"MAX(IF(W272=$W$9:$W$2128,$E$9:$E$2128))","v":0},264,1,1,null,null,1,null,"ZZ00000","00ZZ000",null,{"$f":"ABS(OR(C272=0,AND(MaxInput>1,M272=INDEX(FFilter,AO$5))))","v":1},{"$f":"ABS(OR(C272=0,AND(MaxInput>1,N272=INDEX(FFilter,AP$5))))","v":1},{"$f":"ABS(OR(C272=0,AND(MaxInput>1,O272=INDEX(FFilter,AQ$5))))","v":1},null,null,null,null,null,null,null,null,null,null,{"$f":"ROW()","v":272}]
[265,"",null,null,null,null,null,null,null,null,null,null,"",{"$f":"IF(C273=0,\"\",INDEX(Objekt_Text,D273+1,2))","v":""},{"$f":"IF(C273=0,\"\",INDEX(Objekt_Text,D273+1,3))","v":""},"","",{"$f":"INDEX(Visum_Liste,F273+1)&\"\"","v":""},"","ZZ",0,0,0,0,0,0,3,"",{"$f":"MIN(IF(W273=$W$9:$W$2128,$E$9:$E$2128))","v":0},{"$f":"MAX(IF(W273=$W$9:$W$2128,$E$9:$E$2128))","v":0},265,1,1,null,null,1,null,"ZZ00000","00ZZ000",null,{"$f":"ABS(OR(C273=0,AND(MaxInput>1,M273=INDEX(FFilter,AO$5))))","v":1},{"$f":"ABS(OR(C273=0,AND(MaxInput>1,N273=INDEX(FFilter,AP$5))))","v":1},{"$f":"ABS(OR(C273=0,AND(MaxInput>1,O273=INDEX(FFilter,AQ$5))))","v":1},null,null,null,null,null,null,null,null,null,null,{"$f":"ROW()","v":273}]
[266,"",null,null,null,null,null,null,null,null,null,null,"",{"$f":"IF(C274=0,\"\",INDEX(Objekt_Text,D274+1,2))","v":""},{"$f":"IF(C274=0,\"\",INDEX(Objekt_Text,D274+1,3))","v":""},"","",{"$f":"INDEX(Visum_Liste,F274+1)&\"\"","v":""},"","ZZ",0,0,0,0,0,0,3,"",{"$f":"MIN(IF(W274=$W$9:$W$2128,$E$9:$E$2128))","v":0},{"$f":"MAX(IF(W274=$W$9:$W$2128,$E$9:$E$2128))","v":0},266,1,1,null,null,1,null,"ZZ00000","00ZZ000",null,{"$f":"ABS(OR(C274=0,AND(MaxInput>1,M274=INDEX(FFilter,AO$5))))","v":1},{"$f":"ABS(OR(C274=0,AND(MaxInput>1,N274=INDEX(FFilter,AP$5))))","v":1},{"$f":"ABS(OR(C274=0,AND(MaxInput>1,O274=INDEX(FFilter,AQ$5))))","v":1},null,null,null,null,null,null,null,null,null,null,{"$f":"ROW()","v":274}]
[267,"",null,null,null,null,null,null,null,null,null,null,"",{"$f":"IF(C275=0,\"\",INDEX(Objekt_Text,D275+1,2))","v":""},{"$f":"IF(C275=0,\"\",INDEX(Objekt_Text,D275+1,3))","v":""},"","",{"$f":"INDEX(Visum_Liste,F275+1)&\"\"","v":""},"","ZZ",0,0,0,0,0,0,3,"",{"$f":"MIN(IF(W275=$W$9:$W$2128,$E$9:$E$2128))","v":0},{"$f":"MAX(IF(W275=$W$9:$W$2128,$E$9:$E$2128))","v":0},267,1,1,null,null,1,null,"ZZ00000","00ZZ000",null,{"$f":"ABS(OR(C275=0,AND(MaxInput>1,M275=INDEX(FFilter,AO$5))))","v":1},{"$f":"ABS(OR(C275=0,AND(MaxInput>1,N275=INDEX(FFilter,AP$5))))","v":1},{"$f":"ABS(OR(C275=0,AND(MaxInput>1,O275=INDEX(FFilter,AQ$5))))","v":1},null,null,null,null,null,null,null,null,null,null,{"$f":"ROW()","v":275}]
[268,"",null,null,null,null,null,null,null,null,null,null,"",{"$f":"IF(C276=0,\"\",INDEX(Objekt_Text,D276+1,2))","v":""},{"$f":"IF(C276=0,\"\",INDEX(Objekt_Text,D276+1,3))","v":""},"","",{"$f":"INDEX(Visum_Liste,F276+1)&\"\"","v":""},"","ZZ",0,0,0,0,0,0,3,"",{"$f":"MIN(IF(W276=$W$9:$W$2128,$E$9:$E$2128))","v":0},{"$f":"MAX(IF(W276=$W$9:$W$2128,$E$9:$E$2128))","v":0},268,1,1,null,null,1,null,"ZZ00000","00ZZ000",null,{"$f":"ABS(OR(C276=0,AND(MaxInput>1,M276=INDEX(FFilter,AO$5))))","v":1},{"$f":"ABS(OR(C276=0,AND(MaxInput>1,N276=INDEX(FFilter,AP$5))))","v":1},{"$f":"ABS(OR(C276=0,AND(MaxInput>1,O276=INDEX(FFilter,AQ$5))))","v":1},null,null,null,null,null,null,null,null,null,null,{"$f":"ROW()","v":276}]
[269,"",null,null,null,null,null,null,null,null,null,null,"",{"$f":"IF(C277=0,\"\",INDEX(Objekt_Text,D277+1,2))","v":""},{"$f":"IF(C277=0,\"\",INDEX(Objekt_Text,D277+1,3))","v":""},"","",{"$f":"INDEX(Visum_Liste,F277+1)&\"\"","v":""},"","ZZ",0,0,0,0,0,0,3,"",{"$f":"MIN(IF(W277=$W$9:$W$2128,$E$9:$E$2128))","v":0},{"$f":"MAX(IF(W277=$W$9:$W$2128,$E$9:$E$2128))","v":0},269,1,1,null,null,1,null,"ZZ00000","00ZZ000",null,{"$f":"ABS(OR(C277=0,AND(MaxInput>1,M277=INDEX(FFilter,AO$5))))","v":1},{"$f":"ABS(OR(C277=0,AND(MaxInput>1,N277=INDEX(FFilter,AP$5))))","v":1},{"$f":"ABS(OR(C277=0,AND(MaxInput>1,O277=INDEX(FFilter,AQ$5))))","v":1},null,null,null,null,null,null,null,null,null,null,{"$f":"ROW()","v":277}]
[270,"",null,null,null,null,null,null,null,null,null,null,"",{"$f":"IF(C278=0,\"\",INDEX(Objekt_Text,D278+1,2))","v":""},{"$f":"IF(C278=0,\"\",INDEX(Objekt_Text,D278+1,3))","v":""},"","",{"$f":"INDEX(Visum_Liste,F278+1)&\"\"","v":""},"","ZZ",0,0,0,0,0,0,3,"",{"$f":"MIN(IF(W278=$W$9:$W$2128,$E$9:$E$2128))","v":0},{"$f":"MAX(IF(W278=$W$9:$W$2128,$E$9:$E$2128))","v":0},270,1,1,null,null,1,null,"ZZ00000","00ZZ000",null,{"$f":"ABS(OR(C278=0,AND(MaxInput>1,M278=INDEX(FFilter,AO$5))))","v":1},{"$f":"ABS(OR(C278=0,AND(MaxInput>1,N278=INDEX(FFilter,AP$5))))","v":1},{"$f":"ABS(OR(C278=0,AND(MaxInput>1,O278=INDEX(FFilter,AQ$5))))","v":1},null,null,null,null,null,null,null,null,null,null,{"$f":"ROW()","v":278}]
[271,"",null,null,null,null,null,null,null,null,null,null,"",{"$f":"IF(C279=0,\"\",INDEX(Objekt_Text,D279+1,2))","v":""},{"$f":"IF(C279=0,\"\",INDEX(Objekt_Text,D279+1,3))","v":""},"","",{"$f":"INDEX(Visum_Liste,F279+1)&\"\"","v":""},"","ZZ",0,0,0,0,0,0,3,"",{"$f":"MIN(IF(W279=$W$9:$W$2128,$E$9:$E$2128))","v":0},{"$f":"MAX(IF(W279=$W$9:$W$2128,$E$9:$E$2128))","v":0},271,1,1,null,null,1,null,"ZZ00000","00ZZ000",null,{"$f":"ABS(OR(C279=0,AND(MaxInput>1,M279=INDEX(FFilter,AO$5))))","v":1},{"$f":"ABS(OR(C279=0,AND(MaxInput>1,N279=INDEX(FFilter,AP$5))))","v":1},{"$f":"ABS(OR(C279=0,AND(MaxInput>1,O279=INDEX(FFilter,AQ$5))))","v":1},null,null,null,null,null,null,null,null,null,null,{"$f":"ROW()","v":279}]
[272,"",null,null,null,null,null,null,null,null,null,null,"",{"$f":"IF(C280=0,\"\",INDEX(Objekt_Text,D280+1,2))","v":""},{"$f":"IF(C280=0,\"\",INDEX(Objekt_Text,D280+1,3))","v":""},"","",{"$f":"INDEX(Visum_Liste,F280+1)&\"\"","v":""},"","ZZ",0,0,0,0,0,0,3,"",{"$f":"MIN(IF(W280=$W$9:$W$2128,$E$9:$E$2128))","v":0},{"$f":"MAX(IF(W280=$W$9:$W$2128,$E$9:$E$2128))","v":0},272,1,1,null,null,1,null,"ZZ00000","00ZZ000",null,{"$f":"ABS(OR(C280=0,AND(MaxInput>1,M280=INDEX(FFilter,AO$5))))","v":1},{"$f":"ABS(OR(C280=0,AND(MaxInput>1,N280=INDEX(FFilter,AP$5))))","v":1},{"$f":"ABS(OR(C280=0,AND(MaxInput>1,O280=INDEX(FFilter,AQ$5))))","v":1},null,null,null,null,null,null,null,null,null,null,{"$f":"ROW()","v":280}]
[273,"",null,null,null,null,null,null,null,null,null,null,"",{"$f":"IF(C281=0,\"\",INDEX(Objekt_Text,D281+1,2))","v":""},{"$f":"IF(C281=0,\"\",INDEX(Objekt_Text,D281+1,3))","v":""},"","",{"$f":"INDEX(Visum_Liste,F281+1)&\"\"","v":""},"","ZZ",0,0,0,0,0,0,3,"",{"$f":"MIN(IF(W281=$W$9:$W$2128,$E$9:$E$2128))","v":0},{"$f":"MAX(IF(W281=$W$9:$W$2128,$E$9:$E$2128))","v":0},273,1,1,null,null,1,null,"ZZ00000","00ZZ000",null,{"$f":"ABS(OR(C281=0,AND(MaxInput>1,M281=INDEX(FFilter,AO$5))))","v":1},{"$f":"ABS(OR(C281=0,AND(MaxInput>1,N281=INDEX(FFilter,AP$5))))","v":1},{"$f":"ABS(OR(C281=0,AND(MaxInput>1,O281=INDEX(FFilter,AQ$5))))","v":1},null,null,null,null,null,null,null,null,null,null,{"$f":"ROW()","v":281}]
[274,"",null,null,null,null,null,null,null,null,null,null,"",{"$f":"IF(C282=0,\"\",INDEX(Objekt_Text,D282+1,2))","v":""},{"$f":"IF(C282=0,\"\",INDEX(Objekt_Text,D282+1,3))","v":""},"","",{"$f":"INDEX(Visum_Liste,F282+1)&\"\"","v":""},"","ZZ",0,0,0,0,0,0,3,"",{"$f":"MIN(IF(W282=$W$9:$W$2128,$E$9:$E$2128))","v":0},{"$f":"MAX(IF(W282=$W$9:$W$2128,$E$9:$E$2128))","v":0},274,1,1,null,null,1,null,"ZZ00000","00ZZ000",null,{"$f":"ABS(OR(C282=0,AND(MaxInput>1,M282=INDEX(FFilter,AO$5))))","v":1},{"$f":"ABS(OR(C282=0,AND(MaxInput>1,N282=INDEX(FFilter,AP$5))))","v":1},{"$f":"ABS(OR(C282=0,AND(MaxInput>1,O282=INDEX(FFilter,AQ$5))))","v":1},null,null,null,null,null,null,null,null,null,null,{"$f":"ROW()","v":282}]
[275,"",null,null,null,null,null,null,null,null,null,null,"",{"$f":"IF(C283=0,\"\",INDEX(Objekt_Text,D283+1,2))","v":""},{"$f":"IF(C283=0,\"\",INDEX(Objekt_Text,D283+1,3))","v":""},"","",{"$f":"INDEX(Visum_Liste,F283+1)&\"\"","v":""},"","ZZ",0,0,0,0,0,0,3,"",{"$f":"MIN(IF(W283=$W$9:$W$2128,$E$9:$E$2128))","v":0},{"$f":"MAX(IF(W283=$W$9:$W$2128,$E$9:$E$2128))","v":0},275,1,1,null,null,1,null,"ZZ00000","00ZZ000",null,{"$f":"ABS(OR(C283=0,AND(MaxInput>1,M283=INDEX(FFilter,AO$5))))","v":1},{"$f":"ABS(OR(C283=0,AND(MaxInput>1,N283=INDEX(FFilter,AP$5))))","v":1},{"$f":"ABS(OR(C283=0,AND(MaxInput>1,O283=INDEX(FFilter,AQ$5))))","v":1},null,null,null,null,null,null,null,null,null,null,{"$f":"ROW()","v":283}]
[276,"",null,null,null,null,null,null,null,null,null,null,"",{"$f":"IF(C284=0,\"\",INDEX(Objekt_Text,D284+1,2))","v":""},{"$f":"IF(C284=0,\"\",INDEX(Objekt_Text,D284+1,3))","v":""},"","",{"$f":"INDEX(Visum_Liste,F284+1)&\"\"","v":""},"","ZZ",0,0,0,0,0,0,3,"",{"$f":"MIN(IF(W284=$W$9:$W$2128,$E$9:$E$2128))","v":0},{"$f":"MAX(IF(W284=$W$9:$W$2128,$E$9:$E$2128))","v":0},276,1,1,null,null,1,null,"ZZ00000","00ZZ000",null,{"$f":"ABS(OR(C284=0,AND(MaxInput>1,M284=INDEX(FFilter,AO$5))))","v":1},{"$f":"ABS(OR(C284=0,AND(MaxInput>1,N284=INDEX(FFilter,AP$5))))","v":1},{"$f":"ABS(OR(C284=0,AND(MaxInput>1,O284=INDEX(FFilter,AQ$5))))","v":1},null,null,null,null,null,null,null,null,null,null,{"$f":"ROW()","v":284}]
[277,"",null,null,null,null,null,null,null,null,null,null,"",{"$f":"IF(C285=0,\"\",INDEX(Objekt_Text,D285+1,2))","v":""},{"$f":"IF(C285=0,\"\",INDEX(Objekt_Text,D285+1,3))","v":""},"","",{"$f":"INDEX(Visum_Liste,F285+1)&\"\"","v":""},"","ZZ",0,0,0,0,0,0,3,"",{"$f":"MIN(IF(W285=$W$9:$W$2128,$E$9:$E$2128))","v":0},{"$f":"MAX(IF(W285=$W$9:$W$2128,$E$9:$E$2128))","v":0},277,1,1,null,null,1,null,"ZZ00000","00ZZ000",null,{"$f":"ABS(OR(C285=0,AND(MaxInput>1,M285=INDEX(FFilter,AO$5))))","v":1},{"$f":"ABS(OR(C285=0,AND(MaxInput>1,N285=INDEX(FFilter,AP$5))))","v":1},{"$f":"ABS(OR(C285=0,AND(MaxInput>1,O285=INDEX(FFilter,AQ$5))))","v":1},null,null,null,null,null,null,null,null,null,null,{"$f":"ROW()","v":285}]
[278,"",null,null,null,null,null,null,null,null,null,null,"",{"$f":"IF(C286=0,\"\",INDEX(Objekt_Text,D286+1,2))","v":""},{"$f":"IF(C286=0,\"\",INDEX(Objekt_Text,D286+1,3))","v":""},"","",{"$f":"INDEX(Visum_Liste,F286+1)&\"\"","v":""},"","ZZ",0,0,0,0,0,0,3,"",{"$f":"MIN(IF(W286=$W$9:$W$2128,$E$9:$E$2128))","v":0},{"$f":"MAX(IF(W286=$W$9:$W$2128,$E$9:$E$2128))","v":0},278,1,1,null,null,1,null,"ZZ00000","00ZZ000",null,{"$f":"ABS(OR(C286=0,AND(MaxInput>1,M286=INDEX(FFilter,AO$5))))","v":1},{"$f":"ABS(OR(C286=0,AND(MaxInput>1,N286=INDEX(FFilter,AP$5))))","v":1},{"$f":"ABS(OR(C286=0,AND(MaxInput>1,O286=INDEX(FFilter,AQ$5))))","v":1},null,null,null,null,null,null,null,null,null,null,{"$f":"ROW()","v":286}]
[279,"",null,null,null,null,null,null,null,null,null,null,"",{"$f":"IF(C287=0,\"\",INDEX(Objekt_Text,D287+1,2))","v":""},{"$f":"IF(C287=0,\"\",INDEX(Objekt_Text,D287+1,3))","v":""},"","",{"$f":"INDEX(Visum_Liste,F287+1)&\"\"","v":""},"","ZZ",0,0,0,0,0,0,3,"",{"$f":"MIN(IF(W287=$W$9:$W$2128,$E$9:$E$2128))","v":0},{"$f":"MAX(IF(W287=$W$9:$W$2128,$E$9:$E$2128))","v":0},279,1,1,null,null,1,null,"ZZ00000","00ZZ000",null,{"$f":"ABS(OR(C287=0,AND(MaxInput>1,M287=INDEX(FFilter,AO$5))))","v":1},{"$f":"ABS(OR(C287=0,AND(MaxInput>1,N287=INDEX(FFilter,AP$5))))","v":1},{"$f":"ABS(OR(C287=0,AND(MaxInput>1,O287=INDEX(FFilter,AQ$5))))","v":1},null,null,null,null,null,null,null,null,null,null,{"$f":"ROW()","v":287}]
[280,"",null,null,null,null,null,null,null,null,null,null,"",{"$f":"IF(C288=0,\"\",INDEX(Objekt_Text,D288+1,2))","v":""},{"$f":"IF(C288=0,\"\",INDEX(Objekt_Text,D288+1,3))","v":""},"","",{"$f":"INDEX(Visum_Liste,F288+1)&\"\"","v":""},"","ZZ",0,0,0,0,0,0,3,"",{"$f":"MIN(IF(W288=$W$9:$W$2128,$E$9:$E$2128))","v":0},{"$f":"MAX(IF(W288=$W$9:$W$2128,$E$9:$E$2128))","v":0},280,1,1,null,null,1,null,"ZZ00000","00ZZ000",null,{"$f":"ABS(OR(C288=0,AND(MaxInput>1,M288=INDEX(FFilter,AO$5))))","v":1},{"$f":"ABS(OR(C288=0,AND(MaxInput>1,N288=INDEX(FFilter,AP$5))))","v":1},{"$f":"ABS(OR(C288=0,AND(MaxInput>1,O288=INDEX(FFilter,AQ$5))))","v":1},null,null,null,null,null,null,null,null,null,null,{"$f":"ROW()","v":288}]
[281,"",null,null,null,null,null,null,null,null,null,null,"",{"$f":"IF(C289=0,\"\",INDEX(Objekt_Text,D289+1,2))","v":""},{"$f":"IF(C289=0,\"\",INDEX(Objekt_Text,D289+1,3))","v":""},"","",{"$f":"INDEX(Visum_Liste,F289+1)&\"\"","v":""},"","ZZ",0,0,0,0,0,0,3,"",{"$f":"MIN(IF(W289=$W$9:$W$2128,$E$9:$E$2128))","v":0},{"$f":"MAX(IF(W289=$W$9:$W$2128,$E$9:$E$2128))","v":0},281,1,1,null,null,1,null,"ZZ00000","00ZZ000",null,{"$f":"ABS(OR(C289=0,AND(MaxInput>1,M289=INDEX(FFilter,AO$5))))","v":1},{"$f":"ABS(OR(C289=0,AND(MaxInput>1,N289=INDEX(FFilter,AP$5))))","v":1},{"$f":"ABS(OR(C289=0,AND(MaxInput>1,O289=INDEX(FFilter,AQ$5))))","v":1},null,null,null,null,null,null,null,null,null,null,{"$f":"ROW()","v":289}]
[282,"",null,null,null,null,null,null,null,null,null,null,"",{"$f":"IF(C290=0,\"\",INDEX(Objekt_Text,D290+1,2))","v":""},{"$f":"IF(C290=0,\"\",INDEX(Objekt_Text,D290+1,3))","v":""},"","",{"$f":"INDEX(Visum_Liste,F290+1)&\"\"","v":""},"","ZZ",0,0,0,0,0,0,3,"",{"$f":"MIN(IF(W290=$W$9:$W$2128,$E$9:$E$2128))","v":0},{"$f":"MAX(IF(W290=$W$9:$W$2128,$E$9:$E$2128))","v":0},282,1,1,null,null,1,null,"ZZ00000","00ZZ000",null,{"$f":"ABS(OR(C290=0,AND(MaxInput>1,M290=INDEX(FFilter,AO$5))))","v":1},{"$f":"ABS(OR(C290=0,AND(MaxInput>1,N290=INDEX(FFilter,AP$5))))","v":1},{"$f":"ABS(OR(C290=0,AND(MaxInput>1,O290=INDEX(FFilter,AQ$5))))","v":1},null,null,null,null,null,null,null,null,null,null,{"$f":"ROW()","v":290}]
[283,"",null,null,null,null,null,null,null,null,null,null,"",{"$f":"IF(C291=0,\"\",INDEX(Objekt_Text,D291+1,2))","v":""},{"$f":"IF(C291=0,\"\",INDEX(Objekt_Text,D291+1,3))","v":""},"","",{"$f":"INDEX(Visum_Liste,F291+1)&\"\"","v":""},"","ZZ",0,0,0,0,0,0,3,"",{"$f":"MIN(IF(W291=$W$9:$W$2128,$E$9:$E$2128))","v":0},{"$f":"MAX(IF(W291=$W$9:$W$2128,$E$9:$E$2128))","v":0},283,1,1,null,null,1,null,"ZZ00000","00ZZ000",null,{"$f":"ABS(OR(C291=0,AND(MaxInput>1,M291=INDEX(FFilter,AO$5))))","v":1},{"$f":"ABS(OR(C291=0,AND(MaxInput>1,N291=INDEX(FFilter,AP$5))))","v":1},{"$f":"ABS(OR(C291=0,AND(MaxInput>1,O291=INDEX(FFilter,AQ$5))))","v":1},null,null,null,null,null,null,null,null,null,null,{"$f":"ROW()","v":291}]
[284,"",null,null,null,null,null,null,null,null,null,null,"",{"$f":"IF(C292=0,\"\",INDEX(Objekt_Text,D292+1,2))","v":""},{"$f":"IF(C292=0,\"\",INDEX(Objekt_Text,D292+1,3))","v":""},"","",{"$f":"INDEX(Visum_Liste,F292+1)&\"\"","v":""},"","ZZ",0,0,0,0,0,0,3,"",{"$f":"MIN(IF(W292=$W$9:$W$2128,$E$9:$E$2128))","v":0},{"$f":"MAX(IF(W292=$W$9:$W$2128,$E$9:$E$2128))","v":0},284,1,1,null,null,1,null,"ZZ00000","00ZZ000",null,{"$f":"ABS(OR(C292=0,AND(MaxInput>1,M292=INDEX(FFilter,AO$5))))","v":1},{"$f":"ABS(OR(C292=0,AND(MaxInput>1,N292=INDEX(FFilter,AP$5))))","v":1},{"$f":"ABS(OR(C292=0,AND(MaxInput>1,O292=INDEX(FFilter,AQ$5))))","v":1},null,null,null,null,null,null,null,null,null,null,{"$f":"ROW()","v":292}]
[285,"",null,null,null,null,null,null,null,null,null,null,"",{"$f":"IF(C293=0,\"\",INDEX(Objekt_Text,D293+1,2))","v":""},{"$f":"IF(C293=0,\"\",INDEX(Objekt_Text,D293+1,3))","v":""},"","",{"$f":"INDEX(Visum_Liste,F293+1)&\"\"","v":""},"","ZZ",0,0,0,0,0,0,3,"",{"$f":"MIN(IF(W293=$W$9:$W$2128,$E$9:$E$2128))","v":0},{"$f":"MAX(IF(W293=$W$9:$W$2128,$E$9:$E$2128))","v":0},285,1,1,null,null,1,null,"ZZ00000","00ZZ000",null,{"$f":"ABS(OR(C293=0,AND(MaxInput>1,M293=INDEX(FFilter,AO$5))))","v":1},{"$f":"ABS(OR(C293=0,AND(MaxInput>1,N293=INDEX(FFilter,AP$5))))","v":1},{"$f":"ABS(OR(C293=0,AND(MaxInput>1,O293=INDEX(FFilter,AQ$5))))","v":1},null,null,null,null,null,null,null,null,null,null,{"$f":"ROW()","v":293}]
[286,"",null,null,null,null,null,null,null,null,null,null,"",{"$f":"IF(C294=0,\"\",INDEX(Objekt_Text,D294+1,2))","v":""},{"$f":"IF(C294=0,\"\",INDEX(Objekt_Text,D294+1,3))","v":""},"","",{"$f":"INDEX(Visum_Liste,F294+1)&\"\"","v":""},"","ZZ",0,0,0,0,0,0,3,"",{"$f":"MIN(IF(W294=$W$9:$W$2128,$E$9:$E$2128))","v":0},{"$f":"MAX(IF(W294=$W$9:$W$2128,$E$9:$E$2128))","v":0},286,1,1,null,null,1,null,"ZZ00000","00ZZ000",null,{"$f":"ABS(OR(C294=0,AND(MaxInput>1,M294=INDEX(FFilter,AO$5))))","v":1},{"$f":"ABS(OR(C294=0,AND(MaxInput>1,N294=INDEX(FFilter,AP$5))))","v":1},{"$f":"ABS(OR(C294=0,AND(MaxInput>1,O294=INDEX(FFilter,AQ$5))))","v":1},null,null,null,null,null,null,null,null,null,null,{"$f":"ROW()","v":294}]
[287,"",null,null,null,null,null,null,null,null,null,null,"",{"$f":"IF(C295=0,\"\",INDEX(Objekt_Text,D295+1,2))","v":""},{"$f":"IF(C295=0,\"\",INDEX(Objekt_Text,D295+1,3))","v":""},"","",{"$f":"INDEX(Visum_Liste,F295+1)&\"\"","v":""},"","ZZ",0,0,0,0,0,0,3,"",{"$f":"MIN(IF(W295=$W$9:$W$2128,$E$9:$E$2128))","v":0},{"$f":"MAX(IF(W295=$W$9:$W$2128,$E$9:$E$2128))","v":0},287,1,1,null,null,1,null,"ZZ00000","00ZZ000",null,{"$f":"ABS(OR(C295=0,AND(MaxInput>1,M295=INDEX(FFilter,AO$5))))","v":1},{"$f":"ABS(OR(C295=0,AND(MaxInput>1,N295=INDEX(FFilter,AP$5))))","v":1},{"$f":"ABS(OR(C295=0,AND(MaxInput>1,O295=INDEX(FFilter,AQ$5))))","v":1},null,null,null,null,null,null,null,null,null,null,{"$f":"ROW()","v":295}]
[288,"",null,null,null,null,null,null,null,null,null,null,"",{"$f":"IF(C296=0,\"\",INDEX(Objekt_Text,D296+1,2))","v":""},{"$f":"IF(C296=0,\"\",INDEX(Objekt_Text,D296+1,3))","v":""},"","",{"$f":"INDEX(Visum_Liste,F296+1)&\"\"","v":""},"","ZZ",0,0,0,0,0,0,3,"",{"$f":"MIN(IF(W296=$W$9:$W$2128,$E$9:$E$2128))","v":0},{"$f":"MAX(IF(W296=$W$9:$W$2128,$E$9:$E$2128))","v":0},288,1,1,null,null,1,null,"ZZ00000","00ZZ000",null,{"$f":"ABS(OR(C296=0,AND(MaxInput>1,M296=INDEX(FFilter,AO$5))))","v":1},{"$f":"ABS(OR(C296=0,AND(MaxInput>1,N296=INDEX(FFilter,AP$5))))","v":1},{"$f":"ABS(OR(C296=0,AND(MaxInput>1,O296=INDEX(FFilter,AQ$5))))","v":1},null,null,null,null,null,null,null,null,null,null,{"$f":"ROW()","v":296}]
[289,"",null,null,null,null,null,null,null,null,null,null,"",{"$f":"IF(C297=0,\"\",INDEX(Objekt_Text,D297+1,2))","v":""},{"$f":"IF(C297=0,\"\",INDEX(Objekt_Text,D297+1,3))","v":""},"","",{"$f":"INDEX(Visum_Liste,F297+1)&\"\"","v":""},"","ZZ",0,0,0,0,0,0,3,"",{"$f":"MIN(IF(W297=$W$9:$W$2128,$E$9:$E$2128))","v":0},{"$f":"MAX(IF(W297=$W$9:$W$2128,$E$9:$E$2128))","v":0},289,1,1,null,null,1,null,"ZZ00000","00ZZ000",null,{"$f":"ABS(OR(C297=0,AND(MaxInput>1,M297=INDEX(FFilter,AO$5))))","v":1},{"$f":"ABS(OR(C297=0,AND(MaxInput>1,N297=INDEX(FFilter,AP$5))))","v":1},{"$f":"ABS(OR(C297=0,AND(MaxInput>1,O297=INDEX(FFilter,AQ$5))))","v":1},null,null,null,null,null,null,null,null,null,null,{"$f":"ROW()","v":297}]
[290,"",null,null,null,null,null,null,null,null,null,null,"",{"$f":"IF(C298=0,\"\",INDEX(Objekt_Text,D298+1,2))","v":""},{"$f":"IF(C298=0,\"\",INDEX(Objekt_Text,D298+1,3))","v":""},"","",{"$f":"INDEX(Visum_Liste,F298+1)&\"\"","v":""},"","ZZ",0,0,0,0,0,0,3,"",{"$f":"MIN(IF(W298=$W$9:$W$2128,$E$9:$E$2128))","v":0},{"$f":"MAX(IF(W298=$W$9:$W$2128,$E$9:$E$2128))","v":0},290,1,1,null,null,1,null,"ZZ00000","00ZZ000",null,{"$f":"ABS(OR(C298=0,AND(MaxInput>1,M298=INDEX(FFilter,AO$5))))","v":1},{"$f":"ABS(OR(C298=0,AND(MaxInput>1,N298=INDEX(FFilter,AP$5))))","v":1},{"$f":"ABS(OR(C298=0,AND(MaxInput>1,O298=INDEX(FFilter,AQ$5))))","v":1},null,null,null,null,null,null,null,null,null,null,{"$f":"ROW()","v":298}]
[291,"",null,null,null,null,null,null,null,null,null,null,"",{"$f":"IF(C299=0,\"\",INDEX(Objekt_Text,D299+1,2))","v":""},{"$f":"IF(C299=0,\"\",INDEX(Objekt_Text,D299+1,3))","v":""},"","",{"$f":"INDEX(Visum_Liste,F299+1)&\"\"","v":""},"","ZZ",0,0,0,0,0,0,3,"",{"$f":"MIN(IF(W299=$W$9:$W$2128,$E$9:$E$2128))","v":0},{"$f":"MAX(IF(W299=$W$9:$W$2128,$E$9:$E$2128))","v":0},291,1,1,null,null,1,null,"ZZ00000","00ZZ000",null,{"$f":"ABS(OR(C299=0,AND(MaxInput>1,M299=INDEX(FFilter,AO$5))))","v":1},{"$f":"ABS(OR(C299=0,AND(MaxInput>1,N299=INDEX(FFilter,AP$5))))","v":1},{"$f":"ABS(OR(C299=0,AND(MaxInput>1,O299=INDEX(FFilter,AQ$5))))","v":1},null,null,null,null,null,null,null,null,null,null,{"$f":"ROW()","v":299}]
[292,"",null,null,null,null,null,null,null,null,null,null,"",{"$f":"IF(C300=0,\"\",INDEX(Objekt_Text,D300+1,2))","v":""},{"$f":"IF(C300=0,\"\",INDEX(Objekt_Text,D300+1,3))","v":""},"","",{"$f":"INDEX(Visum_Liste,F300+1)&\"\"","v":""},"","ZZ",0,0,0,0,0,0,3,"",{"$f":"MIN(IF(W300=$W$9:$W$2128,$E$9:$E$2128))","v":0},{"$f":"MAX(IF(W300=$W$9:$W$2128,$E$9:$E$2128))","v":0},292,1,1,null,null,1,null,"ZZ00000","00ZZ000",null,{"$f":"ABS(OR(C300=0,AND(MaxInput>1,M300=INDEX(FFilter,AO$5))))","v":1},{"$f":"ABS(OR(C300=0,AND(MaxInput>1,N300=INDEX(FFilter,AP$5))))","v":1},{"$f":"ABS(OR(C300=0,AND(MaxInput>1,O300=INDEX(FFilter,AQ$5))))","v":1},null,null,null,null,null,null,null,null,null,null,{"$f":"ROW()","v":300}]
[293,"",null,null,null,null,null,null,null,null,null,null,"",{"$f":"IF(C301=0,\"\",INDEX(Objekt_Text,D301+1,2))","v":""},{"$f":"IF(C301=0,\"\",INDEX(Objekt_Text,D301+1,3))","v":""},"","",{"$f":"INDEX(Visum_Liste,F301+1)&\"\"","v":""},"","ZZ",0,0,0,0,0,0,3,"",{"$f":"MIN(IF(W301=$W$9:$W$2128,$E$9:$E$2128))","v":0},{"$f":"MAX(IF(W301=$W$9:$W$2128,$E$9:$E$2128))","v":0},293,1,1,null,null,1,null,"ZZ00000","00ZZ000",null,{"$f":"ABS(OR(C301=0,AND(MaxInput>1,M301=INDEX(FFilter,AO$5))))","v":1},{"$f":"ABS(OR(C301=0,AND(MaxInput>1,N301=INDEX(FFilter,AP$5))))","v":1},{"$f":"ABS(OR(C301=0,AND(MaxInput>1,O301=INDEX(FFilter,AQ$5))))","v":1},null,null,null,null,null,null,null,null,null,null,{"$f":"ROW()","v":301}]
[294,"",null,null,null,null,null,null,null,null,null,null,"",{"$f":"IF(C302=0,\"\",INDEX(Objekt_Text,D302+1,2))","v":""},{"$f":"IF(C302=0,\"\",INDEX(Objekt_Text,D302+1,3))","v":""},"","",{"$f":"INDEX(Visum_Liste,F302+1)&\"\"","v":""},"","ZZ",0,0,0,0,0,0,3,"",{"$f":"MIN(IF(W302=$W$9:$W$2128,$E$9:$E$2128))","v":0},{"$f":"MAX(IF(W302=$W$9:$W$2128,$E$9:$E$2128))","v":0},294,1,1,null,null,1,null,"ZZ00000","00ZZ000",null,{"$f":"ABS(OR(C302=0,AND(MaxInput>1,M302=INDEX(FFilter,AO$5))))","v":1},{"$f":"ABS(OR(C302=0,AND(MaxInput>1,N302=INDEX(FFilter,AP$5))))","v":1},{"$f":"ABS(OR(C302=0,AND(MaxInput>1,O302=INDEX(FFilter,AQ$5))))","v":1},null,null,null,null,null,null,null,null,null,null,{"$f":"ROW()","v":302}]
[295,"",null,null,null,null,null,null,null,null,null,null,"",{"$f":"IF(C303=0,\"\",INDEX(Objekt_Text,D303+1,2))","v":""},{"$f":"IF(C303=0,\"\",INDEX(Objekt_Text,D303+1,3))","v":""},"","",{"$f":"INDEX(Visum_Liste,F303+1)&\"\"","v":""},"","ZZ",0,0,0,0,0,0,3,"",{"$f":"MIN(IF(W303=$W$9:$W$2128,$E$9:$E$2128))","v":0},{"$f":"MAX(IF(W303=$W$9:$W$2128,$E$9:$E$2128))","v":0},295,1,1,null,null,1,null,"ZZ00000","00ZZ000",null,{"$f":"ABS(OR(C303=0,AND(MaxInput>1,M303=INDEX(FFilter,AO$5))))","v":1},{"$f":"ABS(OR(C303=0,AND(MaxInput>1,N303=INDEX(FFilter,AP$5))))","v":1},{"$f":"ABS(OR(C303=0,AND(MaxInput>1,O303=INDEX(FFilter,AQ$5))))","v":1},null,null,null,null,null,null,null,null,null,null,{"$f":"ROW()","v":303}]
[296,"",null,null,null,null,null,null,null,null,null,null,"",{"$f":"IF(C304=0,\"\",INDEX(Objekt_Text,D304+1,2))","v":""},{"$f":"IF(C304=0,\"\",INDEX(Objekt_Text,D304+1,3))","v":""},"","",{"$f":"INDEX(Visum_Liste,F304+1)&\"\"","v":""},"","ZZ",0,0,0,0,0,0,3,"",{"$f":"MIN(IF(W304=$W$9:$W$2128,$E$9:$E$2128))","v":0},{"$f":"MAX(IF(W304=$W$9:$W$2128,$E$9:$E$2128))","v":0},296,1,1,null,null,1,null,"ZZ00000","00ZZ000",null,{"$f":"ABS(OR(C304=0,AND(MaxInput>1,M304=INDEX(FFilter,AO$5))))","v":1},{"$f":"ABS(OR(C304=0,AND(MaxInput>1,N304=INDEX(FFilter,AP$5))))","v":1},{"$f":"ABS(OR(C304=0,AND(MaxInput>1,O304=INDEX(FFilter,AQ$5))))","v":1},null,null,null,null,null,null,null,null,null,null,{"$f":"ROW()","v":304}]
[297,"",null,null,null,null,null,null,null,null,null,null,"",{"$f":"IF(C305=0,\"\",INDEX(Objekt_Text,D305+1,2))","v":""},{"$f":"IF(C305=0,\"\",INDEX(Objekt_Text,D305+1,3))","v":""},"","",{"$f":"INDEX(Visum_Liste,F305+1)&\"\"","v":""},"","ZZ",0,0,0,0,0,0,3,"",{"$f":"MIN(IF(W305=$W$9:$W$2128,$E$9:$E$2128))","v":0},{"$f":"MAX(IF(W305=$W$9:$W$2128,$E$9:$E$2128))","v":0},297,1,1,null,null,1,null,"ZZ00000","00ZZ000",null,{"$f":"ABS(OR(C305=0,AND(MaxInput>1,M305=INDEX(FFilter,AO$5))))","v":1},{"$f":"ABS(OR(C305=0,AND(MaxInput>1,N305=INDEX(FFilter,AP$5))))","v":1},{"$f":"ABS(OR(C305=0,AND(MaxInput>1,O305=INDEX(FFilter,AQ$5))))","v":1},null,null,null,null,null,null,null,null,null,null,{"$f":"ROW()","v":305}]
[298,"",null,null,null,null,null,null,null,null,null,null,"",{"$f":"IF(C306=0,\"\",INDEX(Objekt_Text,D306+1,2))","v":""},{"$f":"IF(C306=0,\"\",INDEX(Objekt_Text,D306+1,3))","v":""},"","",{"$f":"INDEX(Visum_Liste,F306+1)&\"\"","v":""},"","ZZ",0,0,0,0,0,0,3,"",{"$f":"MIN(IF(W306=$W$9:$W$2128,$E$9:$E$2128))","v":0},{"$f":"MAX(IF(W306=$W$9:$W$2128,$E$9:$E$2128))","v":0},298,1,1,null,null,1,null,"ZZ00000","00ZZ000",null,{"$f":"ABS(OR(C306=0,AND(MaxInput>1,M306=INDEX(FFilter,AO$5))))","v":1},{"$f":"ABS(OR(C306=0,AND(MaxInput>1,N306=INDEX(FFilter,AP$5))))","v":1},{"$f":"ABS(OR(C306=0,AND(MaxInput>1,O306=INDEX(FFilter,AQ$5))))","v":1},null,null,null,null,null,null,null,null,null,null,{"$f":"ROW()","v":306}]
[299,"",null,null,null,null,null,null,null,null,null,null,"",{"$f":"IF(C307=0,\"\",INDEX(Objekt_Text,D307+1,2))","v":""},{"$f":"IF(C307=0,\"\",INDEX(Objekt_Text,D307+1,3))","v":""},"","",{"$f":"INDEX(Visum_Liste,F307+1)&\"\"","v":""},"","ZZ",0,0,0,0,0,0,3,"",{"$f":"MIN(IF(W307=$W$9:$W$2128,$E$9:$E$2128))","v":0},{"$f":"MAX(IF(W307=$W$9:$W$2128,$E$9:$E$2128))","v":0},299,1,1,null,null,1,null,"ZZ00000","00ZZ000",null,{"$f":"ABS(OR(C307=0,AND(MaxInput>1,M307=INDEX(FFilter,AO$5))))","v":1},{"$f":"ABS(OR(C307=0,AND(MaxInput>1,N307=INDEX(FFilter,AP$5))))","v":1},{"$f":"ABS(OR(C307=0,AND(MaxInput>1,O307=INDEX(FFilter,AQ$5))))","v":1},null,null,null,null,null,null,null,null,null,null,{"$f":"ROW()","v":307}]
[300,"",null,null,null,null,null,null,null,null,null,null,"",{"$f":"IF(C308=0,\"\",INDEX(Objekt_Text,D308+1,2))","v":""},{"$f":"IF(C308=0,\"\",INDEX(Objekt_Text,D308+1,3))","v":""},"","",{"$f":"INDEX(Visum_Liste,F308+1)&\"\"","v":""},"","ZZ",0,0,0,0,0,0,3,"",{"$f":"MIN(IF(W308=$W$9:$W$2128,$E$9:$E$2128))","v":0},{"$f":"MAX(IF(W308=$W$9:$W$2128,$E$9:$E$2128))","v":0},300,1,1,null,null,1,null,"ZZ00000","00ZZ000",null,{"$f":"ABS(OR(C308=0,AND(MaxInput>1,M308=INDEX(FFilter,AO$5))))","v":1},{"$f":"ABS(OR(C308=0,AND(MaxInput>1,N308=INDEX(FFilter,AP$5))))","v":1},{"$f":"ABS(OR(C308=0,AND(MaxInput>1,O308=INDEX(FFilter,AQ$5))))","v":1},null,null,null,null,null,null,null,null,null,null,{"$f":"ROW()","v":308}]
[301,"",null,null,null,null,null,null,null,null,null,null,"",{"$f":"IF(C309=0,\"\",INDEX(Objekt_Text,D309+1,2))","v":""},{"$f":"IF(C309=0,\"\",INDEX(Objekt_Text,D309+1,3))","v":""},"","",{"$f":"INDEX(Visum_Liste,F309+1)&\"\"","v":""},"","ZZ",0,0,0,0,0,0,3,"",{"$f":"MIN(IF(W309=$W$9:$W$2128,$E$9:$E$2128))","v":0},{"$f":"MAX(IF(W309=$W$9:$W$2128,$E$9:$E$2128))","v":0},301,1,1,null,null,1,null,"ZZ00000","00ZZ000",null,{"$f":"ABS(OR(C309=0,AND(MaxInput>1,M309=INDEX(FFilter,AO$5))))","v":1},{"$f":"ABS(OR(C309=0,AND(MaxInput>1,N309=INDEX(FFilter,AP$5))))","v":1},{"$f":"ABS(OR(C309=0,AND(MaxInput>1,O309=INDEX(FFilter,AQ$5))))","v":1},null,null,null,null,null,null,null,null,null,null,{"$f":"ROW()","v":309}]
[302,"",null,null,null,null,null,null,null,null,null,null,"",{"$f":"IF(C310=0,\"\",INDEX(Objekt_Text,D310+1,2))","v":""},{"$f":"IF(C310=0,\"\",INDEX(Objekt_Text,D310+1,3))","v":""},"","",{"$f":"INDEX(Visum_Liste,F310+1)&\"\"","v":""},"","ZZ",0,0,0,0,0,0,3,"",{"$f":"MIN(IF(W310=$W$9:$W$2128,$E$9:$E$2128))","v":0},{"$f":"MAX(IF(W310=$W$9:$W$2128,$E$9:$E$2128))","v":0},302,1,1,null,null,1,null,"ZZ00000","00ZZ000",null,{"$f":"ABS(OR(C310=0,AND(MaxInput>1,M310=INDEX(FFilter,AO$5))))","v":1},{"$f":"ABS(OR(C310=0,AND(MaxInput>1,N310=INDEX(FFilter,AP$5))))","v":1},{"$f":"ABS(OR(C310=0,AND(MaxInput>1,O310=INDEX(FFilter,AQ$5))))","v":1},null,null,null,null,null,null,null,null,null,null,{"$f":"ROW()","v":310}]
[303,"",null,null,null,null,null,null,null,null,null,null,"",{"$f":"IF(C311=0,\"\",INDEX(Objekt_Text,D311+1,2))","v":""},{"$f":"IF(C311=0,\"\",INDEX(Objekt_Text,D311+1,3))","v":""},"","",{"$f":"INDEX(Visum_Liste,F311+1)&\"\"","v":""},"","ZZ",0,0,0,0,0,0,3,"",{"$f":"MIN(IF(W311=$W$9:$W$2128,$E$9:$E$2128))","v":0},{"$f":"MAX(IF(W311=$W$9:$W$2128,$E$9:$E$2128))","v":0},303,1,1,null,null,1,null,"ZZ00000","00ZZ000",null,{"$f":"ABS(OR(C311=0,AND(MaxInput>1,M311=INDEX(FFilter,AO$5))))","v":1},{"$f":"ABS(OR(C311=0,AND(MaxInput>1,N311=INDEX(FFilter,AP$5))))","v":1},{"$f":"ABS(OR(C311=0,AND(MaxInput>1,O311=INDEX(FFilter,AQ$5))))","v":1},null,null,null,null,null,null,null,null,null,null,{"$f":"ROW()","v":311}]
[304,"",null,null,null,null,null,null,null,null,null,null,"",{"$f":"IF(C312=0,\"\",INDEX(Objekt_Text,D312+1,2))","v":""},{"$f":"IF(C312=0,\"\",INDEX(Objekt_Text,D312+1,3))","v":""},"","",{"$f":"INDEX(Visum_Liste,F312+1)&\"\"","v":""},"","ZZ",0,0,0,0,0,0,3,"",{"$f":"MIN(IF(W312=$W$9:$W$2128,$E$9:$E$2128))","v":0},{"$f":"MAX(IF(W312=$W$9:$W$2128,$E$9:$E$2128))","v":0},304,1,1,null,null,1,null,"ZZ00000","00ZZ000",null,{"$f":"ABS(OR(C312=0,AND(MaxInput>1,M312=INDEX(FFilter,AO$5))))","v":1},{"$f":"ABS(OR(C312=0,AND(MaxInput>1,N312=INDEX(FFilter,AP$5))))","v":1},{"$f":"ABS(OR(C312=0,AND(MaxInput>1,O312=INDEX(FFilter,AQ$5))))","v":1},null,null,null,null,null,null,null,null,null,null,{"$f":"ROW()","v":312}]
[305,"",null,null,null,null,null,null,null,null,null,null,"",{"$f":"IF(C313=0,\"\",INDEX(Objekt_Text,D313+1,2))","v":""},{"$f":"IF(C313=0,\"\",INDEX(Objekt_Text,D313+1,3))","v":""},"","",{"$f":"INDEX(Visum_Liste,F313+1)&\"\"","v":""},"","ZZ",0,0,0,0,0,0,3,"",{"$f":"MIN(IF(W313=$W$9:$W$2128,$E$9:$E$2128))","v":0},{"$f":"MAX(IF(W313=$W$9:$W$2128,$E$9:$E$2128))","v":0},305,1,1,null,null,1,null,"ZZ00000","00ZZ000",null,{"$f":"ABS(OR(C313=0,AND(MaxInput>1,M313=INDEX(FFilter,AO$5))))","v":1},{"$f":"ABS(OR(C313=0,AND(MaxInput>1,N313=INDEX(FFilter,AP$5))))","v":1},{"$f":"ABS(OR(C313=0,AND(MaxInput>1,O313=INDEX(FFilter,AQ$5))))","v":1},null,null,null,null,null,null,null,null,null,null,{"$f":"ROW()","v":313}]
[306,"",null,null,null,null,null,null,null,null,null,null,"",{"$f":"IF(C314=0,\"\",INDEX(Objekt_Text,D314+1,2))","v":""},{"$f":"IF(C314=0,\"\",INDEX(Objekt_Text,D314+1,3))","v":""},"","",{"$f":"INDEX(Visum_Liste,F314+1)&\"\"","v":""},"","ZZ",0,0,0,0,0,0,3,"",{"$f":"MIN(IF(W314=$W$9:$W$2128,$E$9:$E$2128))","v":0},{"$f":"MAX(IF(W314=$W$9:$W$2128,$E$9:$E$2128))","v":0},306,1,1,null,null,1,null,"ZZ00000","00ZZ000",null,{"$f":"ABS(OR(C314=0,AND(MaxInput>1,M314=INDEX(FFilter,AO$5))))","v":1},{"$f":"ABS(OR(C314=0,AND(MaxInput>1,N314=INDEX(FFilter,AP$5))))","v":1},{"$f":"ABS(OR(C314=0,AND(MaxInput>1,O314=INDEX(FFilter,AQ$5))))","v":1},null,null,null,null,null,null,null,null,null,null,{"$f":"ROW()","v":314}]
[307,"",null,null,null,null,null,null,null,null,null,null,"",{"$f":"IF(C315=0,\"\",INDEX(Objekt_Text,D315+1,2))","v":""},{"$f":"IF(C315=0,\"\",INDEX(Objekt_Text,D315+1,3))","v":""},"","",{"$f":"INDEX(Visum_Liste,F315+1)&\"\"","v":""},"","ZZ",0,0,0,0,0,0,3,"",{"$f":"MIN(IF(W315=$W$9:$W$2128,$E$9:$E$2128))","v":0},{"$f":"MAX(IF(W315=$W$9:$W$2128,$E$9:$E$2128))","v":0},307,1,1,null,null,1,null,"ZZ00000","00ZZ000",null,{"$f":"ABS(OR(C315=0,AND(MaxInput>1,M315=INDEX(FFilter,AO$5))))","v":1},{"$f":"ABS(OR(C315=0,AND(MaxInput>1,N315=INDEX(FFilter,AP$5))))","v":1},{"$f":"ABS(OR(C315=0,AND(MaxInput>1,O315=INDEX(FFilter,AQ$5))))","v":1},null,null,null,null,null,null,null,null,null,null,{"$f":"ROW()","v":315}]
[308,"",null,null,null,null,null,null,null,null,null,null,"",{"$f":"IF(C316=0,\"\",INDEX(Objekt_Text,D316+1,2))","v":""},{"$f":"IF(C316=0,\"\",INDEX(Objekt_Text,D316+1,3))","v":""},"","",{"$f":"INDEX(Visum_Liste,F316+1)&\"\"","v":""},"","ZZ",0,0,0,0,0,0,3,"",{"$f":"MIN(IF(W316=$W$9:$W$2128,$E$9:$E$2128))","v":0},{"$f":"MAX(IF(W316=$W$9:$W$2128,$E$9:$E$2128))","v":0},308,1,1,null,null,1,null,"ZZ00000","00ZZ000",null,{"$f":"ABS(OR(C316=0,AND(MaxInput>1,M316=INDEX(FFilter,AO$5))))","v":1},{"$f":"ABS(OR(C316=0,AND(MaxInput>1,N316=INDEX(FFilter,AP$5))))","v":1},{"$f":"ABS(OR(C316=0,AND(MaxInput>1,O316=INDEX(FFilter,AQ$5))))","v":1},null,null,null,null,null,null,null,null,null,null,{"$f":"ROW()","v":316}]
[309,"",null,null,null,null,null,null,null,null,null,null,"",{"$f":"IF(C317=0,\"\",INDEX(Objekt_Text,D317+1,2))","v":""},{"$f":"IF(C317=0,\"\",INDEX(Objekt_Text,D317+1,3))","v":""},"","",{"$f":"INDEX(Visum_Liste,F317+1)&\"\"","v":""},"","ZZ",0,0,0,0,0,0,3,"",{"$f":"MIN(IF(W317=$W$9:$W$2128,$E$9:$E$2128))","v":0},{"$f":"MAX(IF(W317=$W$9:$W$2128,$E$9:$E$2128))","v":0},309,1,1,null,null,1,null,"ZZ00000","00ZZ000",null,{"$f":"ABS(OR(C317=0,AND(MaxInput>1,M317=INDEX(FFilter,AO$5))))","v":1},{"$f":"ABS(OR(C317=0,AND(MaxInput>1,N317=INDEX(FFilter,AP$5))))","v":1},{"$f":"ABS(OR(C317=0,AND(MaxInput>1,O317=INDEX(FFilter,AQ$5))))","v":1},null,null,null,null,null,null,null,null,null,null,{"$f":"ROW()","v":317}]
[310,"",null,null,null,null,null,null,null,null,null,null,"",{"$f":"IF(C318=0,\"\",INDEX(Objekt_Text,D318+1,2))","v":""},{"$f":"IF(C318=0,\"\",INDEX(Objekt_Text,D318+1,3))","v":""},"","",{"$f":"INDEX(Visum_Liste,F318+1)&\"\"","v":""},"","ZZ",0,0,0,0,0,0,3,"",{"$f":"MIN(IF(W318=$W$9:$W$2128,$E$9:$E$2128))","v":0},{"$f":"MAX(IF(W318=$W$9:$W$2128,$E$9:$E$2128))","v":0},310,1,1,null,null,1,null,"ZZ00000","00ZZ000",null,{"$f":"ABS(OR(C318=0,AND(MaxInput>1,M318=INDEX(FFilter,AO$5))))","v":1},{"$f":"ABS(OR(C318=0,AND(MaxInput>1,N318=INDEX(FFilter,AP$5))))","v":1},{"$f":"ABS(OR(C318=0,AND(MaxInput>1,O318=INDEX(FFilter,AQ$5))))","v":1},null,null,null,null,null,null,null,null,null,null,{"$f":"ROW()","v":318}]
[311,"",null,null,null,null,null,null,null,null,null,null,"",{"$f":"IF(C319=0,\"\",INDEX(Objekt_Text,D319+1,2))","v":""},{"$f":"IF(C319=0,\"\",INDEX(Objekt_Text,D319+1,3))","v":""},"","",{"$f":"INDEX(Visum_Liste,F319+1)&\"\"","v":""},"","ZZ",0,0,0,0,0,0,3,"",{"$f":"MIN(IF(W319=$W$9:$W$2128,$E$9:$E$2128))","v":0},{"$f":"MAX(IF(W319=$W$9:$W$2128,$E$9:$E$2128))","v":0},311,1,1,null,null,1,null,"ZZ00000","00ZZ000",null,{"$f":"ABS(OR(C319=0,AND(MaxInput>1,M319=INDEX(FFilter,AO$5))))","v":1},{"$f":"ABS(OR(C319=0,AND(MaxInput>1,N319=INDEX(FFilter,AP$5))))","v":1},{"$f":"ABS(OR(C319=0,AND(MaxInput>1,O319=INDEX(FFilter,AQ$5))))","v":1},null,null,null,null,null,null,null,null,null,null,{"$f":"ROW()","v":319}]
[312,"",null,null,null,null,null,null,null,null,null,null,"",{"$f":"IF(C320=0,\"\",INDEX(Objekt_Text,D320+1,2))","v":""},{"$f":"IF(C320=0,\"\",INDEX(Objekt_Text,D320+1,3))","v":""},"","",{"$f":"INDEX(Visum_Liste,F320+1)&\"\"","v":""},"","ZZ",0,0,0,0,0,0,3,"",{"$f":"MIN(IF(W320=$W$9:$W$2128,$E$9:$E$2128))","v":0},{"$f":"MAX(IF(W320=$W$9:$W$2128,$E$9:$E$2128))","v":0},312,1,1,null,null,1,null,"ZZ00000","00ZZ000",null,{"$f":"ABS(OR(C320=0,AND(MaxInput>1,M320=INDEX(FFilter,AO$5))))","v":1},{"$f":"ABS(OR(C320=0,AND(MaxInput>1,N320=INDEX(FFilter,AP$5))))","v":1},{"$f":"ABS(OR(C320=0,AND(MaxInput>1,O320=INDEX(FFilter,AQ$5))))","v":1},null,null,null,null,null,null,null,null,null,null,{"$f":"ROW()","v":320}]
[313,"",null,null,null,null,null,null,null,null,null,null,"",{"$f":"IF(C321=0,\"\",INDEX(Objekt_Text,D321+1,2))","v":""},{"$f":"IF(C321=0,\"\",INDEX(Objekt_Text,D321+1,3))","v":""},"","",{"$f":"INDEX(Visum_Liste,F321+1)&\"\"","v":""},"","ZZ",0,0,0,0,0,0,3,"",{"$f":"MIN(IF(W321=$W$9:$W$2128,$E$9:$E$2128))","v":0},{"$f":"MAX(IF(W321=$W$9:$W$2128,$E$9:$E$2128))","v":0},313,1,1,null,null,1,null,"ZZ00000","00ZZ000",null,{"$f":"ABS(OR(C321=0,AND(MaxInput>1,M321=INDEX(FFilter,AO$5))))","v":1},{"$f":"ABS(OR(C321=0,AND(MaxInput>1,N321=INDEX(FFilter,AP$5))))","v":1},{"$f":"ABS(OR(C321=0,AND(MaxInput>1,O321=INDEX(FFilter,AQ$5))))","v":1},null,null,null,null,null,null,null,null,null,null,{"$f":"ROW()","v":321}]
[314,"",null,null,null,null,null,null,null,null,null,null,"",{"$f":"IF(C322=0,\"\",INDEX(Objekt_Text,D322+1,2))","v":""},{"$f":"IF(C322=0,\"\",INDEX(Objekt_Text,D322+1,3))","v":""},"","",{"$f":"INDEX(Visum_Liste,F322+1)&\"\"","v":""},"","ZZ",0,0,0,0,0,0,3,"",{"$f":"MIN(IF(W322=$W$9:$W$2128,$E$9:$E$2128))","v":0},{"$f":"MAX(IF(W322=$W$9:$W$2128,$E$9:$E$2128))","v":0},314,1,1,null,null,1,null,"ZZ00000","00ZZ000",null,{"$f":"ABS(OR(C322=0,AND(MaxInput>1,M322=INDEX(FFilter,AO$5))))","v":1},{"$f":"ABS(OR(C322=0,AND(MaxInput>1,N322=INDEX(FFilter,AP$5))))","v":1},{"$f":"ABS(OR(C322=0,AND(MaxInput>1,O322=INDEX(FFilter,AQ$5))))","v":1},null,null,null,null,null,null,null,null,null,null,{"$f":"ROW()","v":322}]
[315,"",null,null,null,null,null,null,null,null,null,null,"",{"$f":"IF(C323=0,\"\",INDEX(Objekt_Text,D323+1,2))","v":""},{"$f":"IF(C323=0,\"\",INDEX(Objekt_Text,D323+1,3))","v":""},"","",{"$f":"INDEX(Visum_Liste,F323+1)&\"\"","v":""},"","ZZ",0,0,0,0,0,0,3,"",{"$f":"MIN(IF(W323=$W$9:$W$2128,$E$9:$E$2128))","v":0},{"$f":"MAX(IF(W323=$W$9:$W$2128,$E$9:$E$2128))","v":0},315,1,1,null,null,1,null,"ZZ00000","00ZZ000",null,{"$f":"ABS(OR(C323=0,AND(MaxInput>1,M323=INDEX(FFilter,AO$5))))","v":1},{"$f":"ABS(OR(C323=0,AND(MaxInput>1,N323=INDEX(FFilter,AP$5))))","v":1},{"$f":"ABS(OR(C323=0,AND(MaxInput>1,O323=INDEX(FFilter,AQ$5))))","v":1},null,null,null,null,null,null,null,null,null,null,{"$f":"ROW()","v":323}]
[316,"",null,null,null,null,null,null,null,null,null,null,"",{"$f":"IF(C324=0,\"\",INDEX(Objekt_Text,D324+1,2))","v":""},{"$f":"IF(C324=0,\"\",INDEX(Objekt_Text,D324+1,3))","v":""},"","",{"$f":"INDEX(Visum_Liste,F324+1)&\"\"","v":""},"","ZZ",0,0,0,0,0,0,3,"",{"$f":"MIN(IF(W324=$W$9:$W$2128,$E$9:$E$2128))","v":0},{"$f":"MAX(IF(W324=$W$9:$W$2128,$E$9:$E$2128))","v":0},316,1,1,null,null,1,null,"ZZ00000","00ZZ000",null,{"$f":"ABS(OR(C324=0,AND(MaxInput>1,M324=INDEX(FFilter,AO$5))))","v":1},{"$f":"ABS(OR(C324=0,AND(MaxInput>1,N324=INDEX(FFilter,AP$5))))","v":1},{"$f":"ABS(OR(C324=0,AND(MaxInput>1,O324=INDEX(FFilter,AQ$5))))","v":1},null,null,null,null,null,null,null,null,null,null,{"$f":"ROW()","v":324}]
[317,"",null,null,null,null,null,null,null,null,null,null,"",{"$f":"IF(C325=0,\"\",INDEX(Objekt_Text,D325+1,2))","v":""},{"$f":"IF(C325=0,\"\",INDEX(Objekt_Text,D325+1,3))","v":""},"","",{"$f":"INDEX(Visum_Liste,F325+1)&\"\"","v":""},"","ZZ",0,0,0,0,0,0,3,"",{"$f":"MIN(IF(W325=$W$9:$W$2128,$E$9:$E$2128))","v":0},{"$f":"MAX(IF(W325=$W$9:$W$2128,$E$9:$E$2128))","v":0},317,1,1,null,null,1,null,"ZZ00000","00ZZ000",null,{"$f":"ABS(OR(C325=0,AND(MaxInput>1,M325=INDEX(FFilter,AO$5))))","v":1},{"$f":"ABS(OR(C325=0,AND(MaxInput>1,N325=INDEX(FFilter,AP$5))))","v":1},{"$f":"ABS(OR(C325=0,AND(MaxInput>1,O325=INDEX(FFilter,AQ$5))))","v":1},null,null,null,null,null,null,null,null,null,null,{"$f":"ROW()","v":325}]
[318,"",null,null,null,null,null,null,null,null,null,null,"",{"$f":"IF(C326=0,\"\",INDEX(Objekt_Text,D326+1,2))","v":""},{"$f":"IF(C326=0,\"\",INDEX(Objekt_Text,D326+1,3))","v":""},"","",{"$f":"INDEX(Visum_Liste,F326+1)&\"\"","v":""},"","ZZ",0,0,0,0,0,0,3,"",{"$f":"MIN(IF(W326=$W$9:$W$2128,$E$9:$E$2128))","v":0},{"$f":"MAX(IF(W326=$W$9:$W$2128,$E$9:$E$2128))","v":0},318,1,1,null,null,1,null,"ZZ00000","00ZZ000",null,{"$f":"ABS(OR(C326=0,AND(MaxInput>1,M326=INDEX(FFilter,AO$5))))","v":1},{"$f":"ABS(OR(C326=0,AND(MaxInput>1,N326=INDEX(FFilter,AP$5))))","v":1},{"$f":"ABS(OR(C326=0,AND(MaxInput>1,O326=INDEX(FFilter,AQ$5))))","v":1},null,null,null,null,null,null,null,null,null,null,{"$f":"ROW()","v":326}]
[319,"",null,null,null,null,null,null,null,null,null,null,"",{"$f":"IF(C327=0,\"\",INDEX(Objekt_Text,D327+1,2))","v":""},{"$f":"IF(C327=0,\"\",INDEX(Objekt_Text,D327+1,3))","v":""},"","",{"$f":"INDEX(Visum_Liste,F327+1)&\"\"","v":""},"","ZZ",0,0,0,0,0,0,3,"",{"$f":"MIN(IF(W327=$W$9:$W$2128,$E$9:$E$2128))","v":0},{"$f":"MAX(IF(W327=$W$9:$W$2128,$E$9:$E$2128))","v":0},319,1,1,null,null,1,null,"ZZ00000","00ZZ000",null,{"$f":"ABS(OR(C327=0,AND(MaxInput>1,M327=INDEX(FFilter,AO$5))))","v":1},{"$f":"ABS(OR(C327=0,AND(MaxInput>1,N327=INDEX(FFilter,AP$5))))","v":1},{"$f":"ABS(OR(C327=0,AND(MaxInput>1,O327=INDEX(FFilter,AQ$5))))","v":1},null,null,null,null,null,null,null,null,null,null,{"$f":"ROW()","v":327}]
[320,"",null,null,null,null,null,null,null,null,null,null,"",{"$f":"IF(C328=0,\"\",INDEX(Objekt_Text,D328+1,2))","v":""},{"$f":"IF(C328=0,\"\",INDEX(Objekt_Text,D328+1,3))","v":""},"","",{"$f":"INDEX(Visum_Liste,F328+1)&\"\"","v":""},"","ZZ",0,0,0,0,0,0,3,"",{"$f":"MIN(IF(W328=$W$9:$W$2128,$E$9:$E$2128))","v":0},{"$f":"MAX(IF(W328=$W$9:$W$2128,$E$9:$E$2128))","v":0},320,1,1,null,null,1,null,"ZZ00000","00ZZ000",null,{"$f":"ABS(OR(C328=0,AND(MaxInput>1,M328=INDEX(FFilter,AO$5))))","v":1},{"$f":"ABS(OR(C328=0,AND(MaxInput>1,N328=INDEX(FFilter,AP$5))))","v":1},{"$f":"ABS(OR(C328=0,AND(MaxInput>1,O328=INDEX(FFilter,AQ$5))))","v":1},null,null,null,null,null,null,null,null,null,null,{"$f":"ROW()","v":328}]
[321,{"$f":"IF(C329>0,ROW()-8,\"\")","v":""},null,null,null,null,null,null,null,null,null,null,{"$f":"IF(C329=0,\"\",IFERROR(VLOOKUP($C329,SLTabelle,cSLName,FALSE),\"\"))","v":""},{"$f":"IF(C329=0,\"\",INDEX(Objekt_Text,D329+1,2))","v":""},{"$f":"IF(C329=0,\"\",INDEX(Objekt_Text,D329+1,3))","v":""},{"$f":"IF($H329=\"\",\"\",$H329)","v":""},{"$f":"IF($I329=\"\",\"\",$I329)","v":""},{"$f":"INDEX(Visum_Liste,F329+1)&\"\"","v":""},{"$f":"IF($J329=\"\",\"\",$J329)","v":""},{"$f":"IF(M329=\"\",\"ZZ\",M329)","v":"ZZ"},{"$f":"IF(C329>0,COUNTIF($W$9:$W$2128,W329),0)","v":0},{"$f":"SUMIFS($E$9:$E$2128,$W$9:$W$2128,W329)","v":0},{"$f":"C329*100+D329","v":0},{"$f":"AND(C329>0,E329=AD329)*1","v":0},{"$f":"(COUNT(P329:Q329)=2)*1","v":0},{"$f":"F329*10+X329","v":0},{"$f":"IF(X329=0,3,X329*F329)","v":3},{"$f":"IF(OR((C329>0),ROW()<LastRow+8),\"A\",\"\")","v":""},{"$f":"MIN(IF(W329=$W$9:$W$2128,$E$9:$E$2128))","v":0},{"$f":"MAX(IF(W329=$W$9:$W$2128,$E$9:$E$2128))","v":0},321,1,1,null,null,1,null,{"$f":"T329&TEXT(D329,\"00\")&TEXT(E329,\"000\")","v":"ZZ00000"},{"$f":"TEXT(D329,\"00\")&T329&TEXT(E329,\"000\")","v":"00ZZ000"},null,{"$f":"ABS(OR(C329=0,AND(MaxInput>1,M329=INDEX(FFilter,AO$5))))","v":1},{"$f":"ABS(OR(C329=0,AND(MaxInput>1,N329=INDEX(FFilter,AP$5))))","v":1},{"$f":"ABS(OR(C329=0,AND(MaxInput>1,O329=INDEX(FFilter,AQ$5))))","v":1},null,null,null,null,null,null,null,null,null,null,{"$f":"ROW()","v":329}]
[322,"",null,null,null,null,null,null,null,null,null,null,"",{"$f":"IF(C330=0,\"\",INDEX(Objekt_Text,D330+1,2))","v":""},{"$f":"IF(C330=0,\"\",INDEX(Objekt_Text,D330+1,3))","v":""},"","",{"$f":"INDEX(Visum_Liste,F330+1)&\"\"","v":""},"","ZZ",0,0,0,0,0,0,3,"",{"$f":"MIN(IF(W330=$W$9:$W$2128,$E$9:$E$2128))","v":0},{"$f":"MAX(IF(W330=$W$9:$W$2128,$E$9:$E$2128))","v":0},322,1,1,null,null,{"$f":"OR(L330<=L329,B330=\"\")*1","v":1},null,"ZZ00000","00ZZ000",null,{"$f":"ABS(OR(C330=0,AND(MaxInput>1,M330=INDEX(FFilter,AO$5))))","v":1},{"$f":"ABS(OR(C330=0,AND(MaxInput>1,N330=INDEX(FFilter,AP$5))))","v":1},{"$f":"ABS(OR(C330=0,AND(MaxInput>1,O330=INDEX(FFilter,AQ$5))))","v":1},null,null,null,null,null,null,null,null,null,null,{"$f":"ROW()","v":330}]
[323,"",null,null,null,null,null,null,null,null,null,null,"",{"$f":"IF(C331=0,\"\",INDEX(Objekt_Text,D331+1,2))","v":""},{"$f":"IF(C331=0,\"\",INDEX(Objekt_Text,D331+1,3))","v":""},"","",{"$f":"INDEX(Visum_Liste,F331+1)&\"\"","v":""},"","ZZ",0,0,0,0,0,0,3,"",{"$f":"MIN(IF(W331=$W$9:$W$2128,$E$9:$E$2128))","v":0},{"$f":"MAX(IF(W331=$W$9:$W$2128,$E$9:$E$2128))","v":0},323,1,1,null,null,1,null,"ZZ00000","00ZZ000",null,{"$f":"ABS(OR(C331=0,AND(MaxInput>1,M331=INDEX(FFilter,AO$5))))","v":1},{"$f":"ABS(OR(C331=0,AND(MaxInput>1,N331=INDEX(FFilter,AP$5))))","v":1},{"$f":"ABS(OR(C331=0,AND(MaxInput>1,O331=INDEX(FFilter,AQ$5))))","v":1},null,null,null,null,null,null,null,null,null,null,{"$f":"ROW()","v":331}]
[324,"",null,null,null,null,null,null,null,null,null,null,"",{"$f":"IF(C332=0,\"\",INDEX(Objekt_Text,D332+1,2))","v":""},{"$f":"IF(C332=0,\"\",INDEX(Objekt_Text,D332+1,3))","v":""},"","",{"$f":"INDEX(Visum_Liste,F332+1)&\"\"","v":""},"","ZZ",0,0,0,0,0,0,3,"",{"$f":"MIN(IF(W332=$W$9:$W$2128,$E$9:$E$2128))","v":0},{"$f":"MAX(IF(W332=$W$9:$W$2128,$E$9:$E$2128))","v":0},324,1,1,null,null,1,null,"ZZ00000","00ZZ000",null,{"$f":"ABS(OR(C332=0,AND(MaxInput>1,M332=INDEX(FFilter,AO$5))))","v":1},{"$f":"ABS(OR(C332=0,AND(MaxInput>1,N332=INDEX(FFilter,AP$5))))","v":1},{"$f":"ABS(OR(C332=0,AND(MaxInput>1,O332=INDEX(FFilter,AQ$5))))","v":1},null,null,null,null,null,null,null,null,null,null,{"$f":"ROW()","v":332}]
[325,"",null,null,null,null,null,null,null,null,null,null,"",{"$f":"IF(C333=0,\"\",INDEX(Objekt_Text,D333+1,2))","v":""},{"$f":"IF(C333=0,\"\",INDEX(Objekt_Text,D333+1,3))","v":""},"","",{"$f":"INDEX(Visum_Liste,F333+1)&\"\"","v":""},"","ZZ",0,0,0,0,0,0,3,"",{"$f":"MIN(IF(W333=$W$9:$W$2128,$E$9:$E$2128))","v":0},{"$f":"MAX(IF(W333=$W$9:$W$2128,$E$9:$E$2128))","v":0},325,{"$f":"OR(AL333>=AL332,B333=\"\")*1","v":1},{"$f":"OR(AM333>=AM332,B333=\"\")*1","v":1},null,null,1,null,"ZZ00000","00ZZ000",null,{"$f":"ABS(OR(C333=0,AND(MaxInput>1,M333=INDEX(FFilter,AO$5))))","v":1},{"$f":"ABS(OR(C333=0,AND(MaxInput>1,N333=INDEX(FFilter,AP$5))))","v":1},{"$f":"ABS(OR(C333=0,AND(MaxInput>1,O333=INDEX(FFilter,AQ$5))))","v":1},null,null,null,null,null,null,null,null,null,null,{"$f":"ROW()","v":333}]
[326,"",null,null,null,null,null,null,null,null,null,null,"",{"$f":"IF(C334=0,\"\",INDEX(Objekt_Text,D334+1,2))","v":""},{"$f":"IF(C334=0,\"\",INDEX(Objekt_Text,D334+1,3))","v":""},"","",{"$f":"INDEX(Visum_Liste,F334+1)&\"\"","v":""},"","ZZ",0,0,0,0,0,0,3,"",{"$f":"MIN(IF(W334=$W$9:$W$2128,$E$9:$E$2128))","v":0},{"$f":"MAX(IF(W334=$W$9:$W$2128,$E$9:$E$2128))","v":0},326,1,1,null,null,1,null,"ZZ00000","00ZZ000",null,{"$f":"ABS(OR(C334=0,AND(MaxInput>1,M334=INDEX(FFilter,AO$5))))","v":1},{"$f":"ABS(OR(C334=0,AND(MaxInput>1,N334=INDEX(FFilter,AP$5))))","v":1},{"$f":"ABS(OR(C334=0,AND(MaxInput>1,O334=INDEX(FFilter,AQ$5))))","v":1},null,null,null,null,null,null,null,null,null,null,{"$f":"ROW()","v":334}]
[327,"",null,null,null,null,null,null,null,null,null,null,"",{"$f":"IF(C335=0,\"\",INDEX(Objekt_Text,D335+1,2))","v":""},{"$f":"IF(C335=0,\"\",INDEX(Objekt_Text,D335+1,3))","v":""},"","",{"$f":"INDEX(Visum_Liste,F335+1)&\"\"","v":""},"","ZZ",0,0,0,0,0,0,3,"",{"$f":"MIN(IF(W335=$W$9:$W$2128,$E$9:$E$2128))","v":0},{"$f":"MAX(IF(W335=$W$9:$W$2128,$E$9:$E$2128))","v":0},327,1,1,null,null,1,null,"ZZ00000","00ZZ000",null,{"$f":"ABS(OR(C335=0,AND(MaxInput>1,M335=INDEX(FFilter,AO$5))))","v":1},{"$f":"ABS(OR(C335=0,AND(MaxInput>1,N335=INDEX(FFilter,AP$5))))","v":1},{"$f":"ABS(OR(C335=0,AND(MaxInput>1,O335=INDEX(FFilter,AQ$5))))","v":1},null,null,null,null,null,null,null,null,null,null,{"$f":"ROW()","v":335}]
[328,"",null,null,null,null,null,null,null,null,null,null,"",{"$f":"IF(C336=0,\"\",INDEX(Objekt_Text,D336+1,2))","v":""},{"$f":"IF(C336=0,\"\",INDEX(Objekt_Text,D336+1,3))","v":""},"","",{"$f":"INDEX(Visum_Liste,F336+1)&\"\"","v":""},"","ZZ",0,0,0,0,0,0,3,"",{"$f":"MIN(IF(W336=$W$9:$W$2128,$E$9:$E$2128))","v":0},{"$f":"MAX(IF(W336=$W$9:$W$2128,$E$9:$E$2128))","v":0},328,1,1,null,null,1,null,"ZZ00000","00ZZ000",null,{"$f":"ABS(OR(C336=0,AND(MaxInput>1,M336=INDEX(FFilter,AO$5))))","v":1},{"$f":"ABS(OR(C336=0,AND(MaxInput>1,N336=INDEX(FFilter,AP$5))))","v":1},{"$f":"ABS(OR(C336=0,AND(MaxInput>1,O336=INDEX(FFilter,AQ$5))))","v":1},null,null,null,null,null,null,null,null,null,null,{"$f":"ROW()","v":336}]
[329,"",null,null,null,null,null,null,null,null,null,null,"",{"$f":"IF(C337=0,\"\",INDEX(Objekt_Text,D337+1,2))","v":""},{"$f":"IF(C337=0,\"\",INDEX(Objekt_Text,D337+1,3))","v":""},"","",{"$f":"INDEX(Visum_Liste,F337+1)&\"\"","v":""},"","ZZ",0,0,0,0,0,0,3,"",{"$f":"MIN(IF(W337=$W$9:$W$2128,$E$9:$E$2128))","v":0},{"$f":"MAX(IF(W337=$W$9:$W$2128,$E$9:$E$2128))","v":0},329,1,1,null,null,1,null,"ZZ00000","00ZZ000",null,{"$f":"ABS(OR(C337=0,AND(MaxInput>1,M337=INDEX(FFilter,AO$5))))","v":1},{"$f":"ABS(OR(C337=0,AND(MaxInput>1,N337=INDEX(FFilter,AP$5))))","v":1},{"$f":"ABS(OR(C337=0,AND(MaxInput>1,O337=INDEX(FFilter,AQ$5))))","v":1},null,null,null,null,null,null,null,null,null,null,{"$f":"ROW()","v":337}]
[330,"",null,null,null,null,null,null,null,null,null,null,"",{"$f":"IF(C338=0,\"\",INDEX(Objekt_Text,D338+1,2))","v":""},{"$f":"IF(C338=0,\"\",INDEX(Objekt_Text,D338+1,3))","v":""},"","",{"$f":"INDEX(Visum_Liste,F338+1)&\"\"","v":""},"","ZZ",0,0,0,0,0,0,3,"",{"$f":"MIN(IF(W338=$W$9:$W$2128,$E$9:$E$2128))","v":0},{"$f":"MAX(IF(W338=$W$9:$W$2128,$E$9:$E$2128))","v":0},330,1,1,null,null,1,null,"ZZ00000","00ZZ000",null,{"$f":"ABS(OR(C338=0,AND(MaxInput>1,M338=INDEX(FFilter,AO$5))))","v":1},{"$f":"ABS(OR(C338=0,AND(MaxInput>1,N338=INDEX(FFilter,AP$5))))","v":1},{"$f":"ABS(OR(C338=0,AND(MaxInput>1,O338=INDEX(FFilter,AQ$5))))","v":1},null,null,null,null,null,null,null,null,null,null,{"$f":"ROW()","v":338}]
[331,"",null,null,null,null,null,null,null,null,null,null,"",{"$f":"IF(C339=0,\"\",INDEX(Objekt_Text,D339+1,2))","v":""},{"$f":"IF(C339=0,\"\",INDEX(Objekt_Text,D339+1,3))","v":""},"","",{"$f":"INDEX(Visum_Liste,F339+1)&\"\"","v":""},"","ZZ",0,0,0,0,0,0,3,"",{"$f":"MIN(IF(W339=$W$9:$W$2128,$E$9:$E$2128))","v":0},{"$f":"MAX(IF(W339=$W$9:$W$2128,$E$9:$E$2128))","v":0},331,1,1,null,null,1,null,"ZZ00000","00ZZ000",null,{"$f":"ABS(OR(C339=0,AND(MaxInput>1,M339=INDEX(FFilter,AO$5))))","v":1},{"$f":"ABS(OR(C339=0,AND(MaxInput>1,N339=INDEX(FFilter,AP$5))))","v":1},{"$f":"ABS(OR(C339=0,AND(MaxInput>1,O339=INDEX(FFilter,AQ$5))))","v":1},null,null,null,null,null,null,null,null,null,null,{"$f":"ROW()","v":339}]
[332,"",null,null,null,null,null,null,null,null,null,null,"",{"$f":"IF(C340=0,\"\",INDEX(Objekt_Text,D340+1,2))","v":""},{"$f":"IF(C340=0,\"\",INDEX(Objekt_Text,D340+1,3))","v":""},"","",{"$f":"INDEX(Visum_Liste,F340+1)&\"\"","v":""},"","ZZ",0,0,0,0,0,0,3,"",{"$f":"MIN(IF(W340=$W$9:$W$2128,$E$9:$E$2128))","v":0},{"$f":"MAX(IF(W340=$W$9:$W$2128,$E$9:$E$2128))","v":0},332,1,1,null,null,1,null,"ZZ00000","00ZZ000",null,{"$f":"ABS(OR(C340=0,AND(MaxInput>1,M340=INDEX(FFilter,AO$5))))","v":1},{"$f":"ABS(OR(C340=0,AND(MaxInput>1,N340=INDEX(FFilter,AP$5))))","v":1},{"$f":"ABS(OR(C340=0,AND(MaxInput>1,O340=INDEX(FFilter,AQ$5))))","v":1},null,null,null,null,null,null,null,null,null,null,{"$f":"ROW()","v":340}]
[333,"",null,null,null,null,null,null,null,null,null,null,"",{"$f":"IF(C341=0,\"\",INDEX(Objekt_Text,D341+1,2))","v":""},{"$f":"IF(C341=0,\"\",INDEX(Objekt_Text,D341+1,3))","v":""},"","",{"$f":"INDEX(Visum_Liste,F341+1)&\"\"","v":""},"","ZZ",0,0,0,0,0,0,3,"",{"$f":"MIN(IF(W341=$W$9:$W$2128,$E$9:$E$2128))","v":0},{"$f":"MAX(IF(W341=$W$9:$W$2128,$E$9:$E$2128))","v":0},333,1,1,null,null,1,null,"ZZ00000","00ZZ000",null,{"$f":"ABS(OR(C341=0,AND(MaxInput>1,M341=INDEX(FFilter,AO$5))))","v":1},{"$f":"ABS(OR(C341=0,AND(MaxInput>1,N341=INDEX(FFilter,AP$5))))","v":1},{"$f":"ABS(OR(C341=0,AND(MaxInput>1,O341=INDEX(FFilter,AQ$5))))","v":1},null,null,null,null,null,null,null,null,null,null,{"$f":"ROW()","v":341}]
[334,"",null,null,null,null,null,null,null,null,null,null,"",{"$f":"IF(C342=0,\"\",INDEX(Objekt_Text,D342+1,2))","v":""},{"$f":"IF(C342=0,\"\",INDEX(Objekt_Text,D342+1,3))","v":""},"","",{"$f":"INDEX(Visum_Liste,F342+1)&\"\"","v":""},"","ZZ",0,0,0,0,0,0,3,"",{"$f":"MIN(IF(W342=$W$9:$W$2128,$E$9:$E$2128))","v":0},{"$f":"MAX(IF(W342=$W$9:$W$2128,$E$9:$E$2128))","v":0},334,1,1,null,null,1,null,"ZZ00000","00ZZ000",null,{"$f":"ABS(OR(C342=0,AND(MaxInput>1,M342=INDEX(FFilter,AO$5))))","v":1},{"$f":"ABS(OR(C342=0,AND(MaxInput>1,N342=INDEX(FFilter,AP$5))))","v":1},{"$f":"ABS(OR(C342=0,AND(MaxInput>1,O342=INDEX(FFilter,AQ$5))))","v":1},null,null,null,null,null,null,null,null,null,null,{"$f":"ROW()","v":342}]
[335,"",null,null,null,null,null,null,null,null,null,null,"",{"$f":"IF(C343=0,\"\",INDEX(Objekt_Text,D343+1,2))","v":""},{"$f":"IF(C343=0,\"\",INDEX(Objekt_Text,D343+1,3))","v":""},"","",{"$f":"INDEX(Visum_Liste,F343+1)&\"\"","v":""},"","ZZ",0,0,0,0,0,0,3,"",{"$f":"MIN(IF(W343=$W$9:$W$2128,$E$9:$E$2128))","v":0},{"$f":"MAX(IF(W343=$W$9:$W$2128,$E$9:$E$2128))","v":0},335,1,1,null,null,1,null,"ZZ00000","00ZZ000",null,{"$f":"ABS(OR(C343=0,AND(MaxInput>1,M343=INDEX(FFilter,AO$5))))","v":1},{"$f":"ABS(OR(C343=0,AND(MaxInput>1,N343=INDEX(FFilter,AP$5))))","v":1},{"$f":"ABS(OR(C343=0,AND(MaxInput>1,O343=INDEX(FFilter,AQ$5))))","v":1},null,null,null,null,null,null,null,null,null,null,{"$f":"ROW()","v":343}]
[336,"",null,null,null,null,null,null,null,null,null,null,"",{"$f":"IF(C344=0,\"\",INDEX(Objekt_Text,D344+1,2))","v":""},{"$f":"IF(C344=0,\"\",INDEX(Objekt_Text,D344+1,3))","v":""},"","",{"$f":"INDEX(Visum_Liste,F344+1)&\"\"","v":""},"","ZZ",0,0,0,0,0,0,3,"",{"$f":"MIN(IF(W344=$W$9:$W$2128,$E$9:$E$2128))","v":0},{"$f":"MAX(IF(W344=$W$9:$W$2128,$E$9:$E$2128))","v":0},336,1,1,null,null,1,null,"ZZ00000","00ZZ000",null,{"$f":"ABS(OR(C344=0,AND(MaxInput>1,M344=INDEX(FFilter,AO$5))))","v":1},{"$f":"ABS(OR(C344=0,AND(MaxInput>1,N344=INDEX(FFilter,AP$5))))","v":1},{"$f":"ABS(OR(C344=0,AND(MaxInput>1,O344=INDEX(FFilter,AQ$5))))","v":1},null,null,null,null,null,null,null,null,null,null,{"$f":"ROW()","v":344}]
[337,"",null,null,null,null,null,null,null,null,null,null,"",{"$f":"IF(C345=0,\"\",INDEX(Objekt_Text,D345+1,2))","v":""},{"$f":"IF(C345=0,\"\",INDEX(Objekt_Text,D345+1,3))","v":""},"","",{"$f":"INDEX(Visum_Liste,F345+1)&\"\"","v":""},"","ZZ",0,0,0,0,0,0,3,"",{"$f":"MIN(IF(W345=$W$9:$W$2128,$E$9:$E$2128))","v":0},{"$f":"MAX(IF(W345=$W$9:$W$2128,$E$9:$E$2128))","v":0},337,1,1,null,null,1,null,"ZZ00000","00ZZ000",null,{"$f":"ABS(OR(C345=0,AND(MaxInput>1,M345=INDEX(FFilter,AO$5))))","v":1},{"$f":"ABS(OR(C345=0,AND(MaxInput>1,N345=INDEX(FFilter,AP$5))))","v":1},{"$f":"ABS(OR(C345=0,AND(MaxInput>1,O345=INDEX(FFilter,AQ$5))))","v":1},null,null,null,null,null,null,null,null,null,null,{"$f":"ROW()","v":345}]
[338,"",null,null,null,null,null,null,null,null,null,null,"",{"$f":"IF(C346=0,\"\",INDEX(Objekt_Text,D346+1,2))","v":""},{"$f":"IF(C346=0,\"\",INDEX(Objekt_Text,D346+1,3))","v":""},"","",{"$f":"INDEX(Visum_Liste,F346+1)&\"\"","v":""},"","ZZ",0,0,0,0,0,0,3,"",{"$f":"MIN(IF(W346=$W$9:$W$2128,$E$9:$E$2128))","v":0},{"$f":"MAX(IF(W346=$W$9:$W$2128,$E$9:$E$2128))","v":0},338,1,1,null,null,1,null,"ZZ00000","00ZZ000",null,{"$f":"ABS(OR(C346=0,AND(MaxInput>1,M346=INDEX(FFilter,AO$5))))","v":1},{"$f":"ABS(OR(C346=0,AND(MaxInput>1,N346=INDEX(FFilter,AP$5))))","v":1},{"$f":"ABS(OR(C346=0,AND(MaxInput>1,O346=INDEX(FFilter,AQ$5))))","v":1},null,null,null,null,null,null,null,null,null,null,{"$f":"ROW()","v":346}]
[339,"",null,null,null,null,null,null,null,null,null,null,"",{"$f":"IF(C347=0,\"\",INDEX(Objekt_Text,D347+1,2))","v":""},{"$f":"IF(C347=0,\"\",INDEX(Objekt_Text,D347+1,3))","v":""},"","",{"$f":"INDEX(Visum_Liste,F347+1)&\"\"","v":""},"","ZZ",0,0,0,0,0,0,3,"",{"$f":"MIN(IF(W347=$W$9:$W$2128,$E$9:$E$2128))","v":0},{"$f":"MAX(IF(W347=$W$9:$W$2128,$E$9:$E$2128))","v":0},339,1,1,null,null,1,null,"ZZ00000","00ZZ000",null,{"$f":"ABS(OR(C347=0,AND(MaxInput>1,M347=INDEX(FFilter,AO$5))))","v":1},{"$f":"ABS(OR(C347=0,AND(MaxInput>1,N347=INDEX(FFilter,AP$5))))","v":1},{"$f":"ABS(OR(C347=0,AND(MaxInput>1,O347=INDEX(FFilter,AQ$5))))","v":1},null,null,null,null,null,null,null,null,null,null,{"$f":"ROW()","v":347}]
[340,"",null,null,null,null,null,null,null,null,null,null,"",{"$f":"IF(C348=0,\"\",INDEX(Objekt_Text,D348+1,2))","v":""},{"$f":"IF(C348=0,\"\",INDEX(Objekt_Text,D348+1,3))","v":""},"","",{"$f":"INDEX(Visum_Liste,F348+1)&\"\"","v":""},"","ZZ",0,0,0,0,0,0,3,"",{"$f":"MIN(IF(W348=$W$9:$W$2128,$E$9:$E$2128))","v":0},{"$f":"MAX(IF(W348=$W$9:$W$2128,$E$9:$E$2128))","v":0},340,1,1,null,null,1,null,"ZZ00000","00ZZ000",null,{"$f":"ABS(OR(C348=0,AND(MaxInput>1,M348=INDEX(FFilter,AO$5))))","v":1},{"$f":"ABS(OR(C348=0,AND(MaxInput>1,N348=INDEX(FFilter,AP$5))))","v":1},{"$f":"ABS(OR(C348=0,AND(MaxInput>1,O348=INDEX(FFilter,AQ$5))))","v":1},null,null,null,null,null,null,null,null,null,null,{"$f":"ROW()","v":348}]
[341,"",null,null,null,null,null,null,null,null,null,null,"",{"$f":"IF(C349=0,\"\",INDEX(Objekt_Text,D349+1,2))","v":""},{"$f":"IF(C349=0,\"\",INDEX(Objekt_Text,D349+1,3))","v":""},"","",{"$f":"INDEX(Visum_Liste,F349+1)&\"\"","v":""},"","ZZ",0,0,0,0,0,0,3,"",{"$f":"MIN(IF(W349=$W$9:$W$2128,$E$9:$E$2128))","v":0},{"$f":"MAX(IF(W349=$W$9:$W$2128,$E$9:$E$2128))","v":0},341,1,1,null,null,1,null,"ZZ00000","00ZZ000",null,{"$f":"ABS(OR(C349=0,AND(MaxInput>1,M349=INDEX(FFilter,AO$5))))","v":1},{"$f":"ABS(OR(C349=0,AND(MaxInput>1,N349=INDEX(FFilter,AP$5))))","v":1},{"$f":"ABS(OR(C349=0,AND(MaxInput>1,O349=INDEX(FFilter,AQ$5))))","v":1},null,null,null,null,null,null,null,null,null,null,{"$f":"ROW()","v":349}]
[342,"",null,null,null,null,null,null,null,null,null,null,"",{"$f":"IF(C350=0,\"\",INDEX(Objekt_Text,D350+1,2))","v":""},{"$f":"IF(C350=0,\"\",INDEX(Objekt_Text,D350+1,3))","v":""},"","",{"$f":"INDEX(Visum_Liste,F350+1)&\"\"","v":""},"","ZZ",0,0,0,0,0,0,3,"",{"$f":"MIN(IF(W350=$W$9:$W$2128,$E$9:$E$2128))","v":0},{"$f":"MAX(IF(W350=$W$9:$W$2128,$E$9:$E$2128))","v":0},342,1,1,null,null,1,null,"ZZ00000","00ZZ000",null,{"$f":"ABS(OR(C350=0,AND(MaxInput>1,M350=INDEX(FFilter,AO$5))))","v":1},{"$f":"ABS(OR(C350=0,AND(MaxInput>1,N350=INDEX(FFilter,AP$5))))","v":1},{"$f":"ABS(OR(C350=0,AND(MaxInput>1,O350=INDEX(FFilter,AQ$5))))","v":1},null,null,null,null,null,null,null,null,null,null,{"$f":"ROW()","v":350}]
[343,"",null,null,null,null,null,null,null,null,null,null,"",{"$f":"IF(C351=0,\"\",INDEX(Objekt_Text,D351+1,2))","v":""},{"$f":"IF(C351=0,\"\",INDEX(Objekt_Text,D351+1,3))","v":""},"","",{"$f":"INDEX(Visum_Liste,F351+1)&\"\"","v":""},"","ZZ",0,0,0,0,0,0,3,"",{"$f":"MIN(IF(W351=$W$9:$W$2128,$E$9:$E$2128))","v":0},{"$f":"MAX(IF(W351=$W$9:$W$2128,$E$9:$E$2128))","v":0},343,1,1,null,null,1,null,"ZZ00000","00ZZ000",null,{"$f":"ABS(OR(C351=0,AND(MaxInput>1,M351=INDEX(FFilter,AO$5))))","v":1},{"$f":"ABS(OR(C351=0,AND(MaxInput>1,N351=INDEX(FFilter,AP$5))))","v":1},{"$f":"ABS(OR(C351=0,AND(MaxInput>1,O351=INDEX(FFilter,AQ$5))))","v":1},null,null,null,null,null,null,null,null,null,null,{"$f":"ROW()","v":351}]
[344,"",null,null,null,null,null,null,null,null,null,null,"",{"$f":"IF(C352=0,\"\",INDEX(Objekt_Text,D352+1,2))","v":""},{"$f":"IF(C352=0,\"\",INDEX(Objekt_Text,D352+1,3))","v":""},"","",{"$f":"INDEX(Visum_Liste,F352+1)&\"\"","v":""},"","ZZ",0,0,0,0,0,0,3,"",{"$f":"MIN(IF(W352=$W$9:$W$2128,$E$9:$E$2128))","v":0},{"$f":"MAX(IF(W352=$W$9:$W$2128,$E$9:$E$2128))","v":0},344,1,1,null,null,1,null,"ZZ00000","00ZZ000",null,{"$f":"ABS(OR(C352=0,AND(MaxInput>1,M352=INDEX(FFilter,AO$5))))","v":1},{"$f":"ABS(OR(C352=0,AND(MaxInput>1,N352=INDEX(FFilter,AP$5))))","v":1},{"$f":"ABS(OR(C352=0,AND(MaxInput>1,O352=INDEX(FFilter,AQ$5))))","v":1},null,null,null,null,null,null,null,null,null,null,{"$f":"ROW()","v":352}]
[345,"",null,null,null,null,null,null,null,null,null,null,"",{"$f":"IF(C353=0,\"\",INDEX(Objekt_Text,D353+1,2))","v":""},{"$f":"IF(C353=0,\"\",INDEX(Objekt_Text,D353+1,3))","v":""},"","",{"$f":"INDEX(Visum_Liste,F353+1)&\"\"","v":""},"","ZZ",0,0,0,0,0,0,3,"",{"$f":"MIN(IF(W353=$W$9:$W$2128,$E$9:$E$2128))","v":0},{"$f":"MAX(IF(W353=$W$9:$W$2128,$E$9:$E$2128))","v":0},345,1,1,null,null,1,null,"ZZ00000","00ZZ000",null,{"$f":"ABS(OR(C353=0,AND(MaxInput>1,M353=INDEX(FFilter,AO$5))))","v":1},{"$f":"ABS(OR(C353=0,AND(MaxInput>1,N353=INDEX(FFilter,AP$5))))","v":1},{"$f":"ABS(OR(C353=0,AND(MaxInput>1,O353=INDEX(FFilter,AQ$5))))","v":1},null,null,null,null,null,null,null,null,null,null,{"$f":"ROW()","v":353}]
[346,"",null,null,null,null,null,null,null,null,null,null,"",{"$f":"IF(C354=0,\"\",INDEX(Objekt_Text,D354+1,2))","v":""},{"$f":"IF(C354=0,\"\",INDEX(Objekt_Text,D354+1,3))","v":""},"","",{"$f":"INDEX(Visum_Liste,F354+1)&\"\"","v":""},"","ZZ",0,0,0,0,0,0,3,"",{"$f":"MIN(IF(W354=$W$9:$W$2128,$E$9:$E$2128))","v":0},{"$f":"MAX(IF(W354=$W$9:$W$2128,$E$9:$E$2128))","v":0},346,1,1,null,null,1,null,"ZZ00000","00ZZ000",null,{"$f":"ABS(OR(C354=0,AND(MaxInput>1,M354=INDEX(FFilter,AO$5))))","v":1},{"$f":"ABS(OR(C354=0,AND(MaxInput>1,N354=INDEX(FFilter,AP$5))))","v":1},{"$f":"ABS(OR(C354=0,AND(MaxInput>1,O354=INDEX(FFilter,AQ$5))))","v":1},null,null,null,null,null,null,null,null,null,null,{"$f":"ROW()","v":354}]
[347,"",null,null,null,null,null,null,null,null,null,null,"",{"$f":"IF(C355=0,\"\",INDEX(Objekt_Text,D355+1,2))","v":""},{"$f":"IF(C355=0,\"\",INDEX(Objekt_Text,D355+1,3))","v":""},"","",{"$f":"INDEX(Visum_Liste,F355+1)&\"\"","v":""},"","ZZ",0,0,0,0,0,0,3,"",{"$f":"MIN(IF(W355=$W$9:$W$2128,$E$9:$E$2128))","v":0},{"$f":"MAX(IF(W355=$W$9:$W$2128,$E$9:$E$2128))","v":0},347,1,1,null,null,1,null,"ZZ00000","00ZZ000",null,{"$f":"ABS(OR(C355=0,AND(MaxInput>1,M355=INDEX(FFilter,AO$5))))","v":1},{"$f":"ABS(OR(C355=0,AND(MaxInput>1,N355=INDEX(FFilter,AP$5))))","v":1},{"$f":"ABS(OR(C355=0,AND(MaxInput>1,O355=INDEX(FFilter,AQ$5))))","v":1},null,null,null,null,null,null,null,null,null,null,{"$f":"ROW()","v":355}]
[348,"",null,null,null,null,null,null,null,null,null,null,"",{"$f":"IF(C356=0,\"\",INDEX(Objekt_Text,D356+1,2))","v":""},{"$f":"IF(C356=0,\"\",INDEX(Objekt_Text,D356+1,3))","v":""},"","",{"$f":"INDEX(Visum_Liste,F356+1)&\"\"","v":""},"","ZZ",0,0,0,0,0,0,3,"",{"$f":"MIN(IF(W356=$W$9:$W$2128,$E$9:$E$2128))","v":0},{"$f":"MAX(IF(W356=$W$9:$W$2128,$E$9:$E$2128))","v":0},348,1,1,null,null,1,null,"ZZ00000","00ZZ000",null,{"$f":"ABS(OR(C356=0,AND(MaxInput>1,M356=INDEX(FFilter,AO$5))))","v":1},{"$f":"ABS(OR(C356=0,AND(MaxInput>1,N356=INDEX(FFilter,AP$5))))","v":1},{"$f":"ABS(OR(C356=0,AND(MaxInput>1,O356=INDEX(FFilter,AQ$5))))","v":1},null,null,null,null,null,null,null,null,null,null,{"$f":"ROW()","v":356}]
[349,"",null,null,null,null,null,null,null,null,null,null,"",{"$f":"IF(C357=0,\"\",INDEX(Objekt_Text,D357+1,2))","v":""},{"$f":"IF(C357=0,\"\",INDEX(Objekt_Text,D357+1,3))","v":""},"","",{"$f":"INDEX(Visum_Liste,F357+1)&\"\"","v":""},"","ZZ",0,0,0,0,0,0,3,"",{"$f":"MIN(IF(W357=$W$9:$W$2128,$E$9:$E$2128))","v":0},{"$f":"MAX(IF(W357=$W$9:$W$2128,$E$9:$E$2128))","v":0},349,1,1,null,null,1,null,"ZZ00000","00ZZ000",null,{"$f":"ABS(OR(C357=0,AND(MaxInput>1,M357=INDEX(FFilter,AO$5))))","v":1},{"$f":"ABS(OR(C357=0,AND(MaxInput>1,N357=INDEX(FFilter,AP$5))))","v":1},{"$f":"ABS(OR(C357=0,AND(MaxInput>1,O357=INDEX(FFilter,AQ$5))))","v":1},null,null,null,null,null,null,null,null,null,null,{"$f":"ROW()","v":357}]
[350,"",null,null,null,null,null,null,null,null,null,null,"",{"$f":"IF(C358=0,\"\",INDEX(Objekt_Text,D358+1,2))","v":""},{"$f":"IF(C358=0,\"\",INDEX(Objekt_Text,D358+1,3))","v":""},"","",{"$f":"INDEX(Visum_Liste,F358+1)&\"\"","v":""},"","ZZ",0,0,0,0,0,0,3,"",{"$f":"MIN(IF(W358=$W$9:$W$2128,$E$9:$E$2128))","v":0},{"$f":"MAX(IF(W358=$W$9:$W$2128,$E$9:$E$2128))","v":0},350,1,1,null,null,1,null,"ZZ00000","00ZZ000",null,{"$f":"ABS(OR(C358=0,AND(MaxInput>1,M358=INDEX(FFilter,AO$5))))","v":1},{"$f":"ABS(OR(C358=0,AND(MaxInput>1,N358=INDEX(FFilter,AP$5))))","v":1},{"$f":"ABS(OR(C358=0,AND(MaxInput>1,O358=INDEX(FFilter,AQ$5))))","v":1},null,null,null,null,null,null,null,null,null,null,{"$f":"ROW()","v":358}]
[351,"",null,null,null,null,null,null,null,null,null,null,"",{"$f":"IF(C359=0,\"\",INDEX(Objekt_Text,D359+1,2))","v":""},{"$f":"IF(C359=0,\"\",INDEX(Objekt_Text,D359+1,3))","v":""},"","",{"$f":"INDEX(Visum_Liste,F359+1)&\"\"","v":""},"","ZZ",0,0,0,0,0,0,3,"",{"$f":"MIN(IF(W359=$W$9:$W$2128,$E$9:$E$2128))","v":0},{"$f":"MAX(IF(W359=$W$9:$W$2128,$E$9:$E$2128))","v":0},351,1,1,null,null,1,null,"ZZ00000","00ZZ000",null,{"$f":"ABS(OR(C359=0,AND(MaxInput>1,M359=INDEX(FFilter,AO$5))))","v":1},{"$f":"ABS(OR(C359=0,AND(MaxInput>1,N359=INDEX(FFilter,AP$5))))","v":1},{"$f":"ABS(OR(C359=0,AND(MaxInput>1,O359=INDEX(FFilter,AQ$5))))","v":1},null,null,null,null,null,null,null,null,null,null,{"$f":"ROW()","v":359}]
[352,"",null,null,null,null,null,null,null,null,null,null,"",{"$f":"IF(C360=0,\"\",INDEX(Objekt_Text,D360+1,2))","v":""},{"$f":"IF(C360=0,\"\",INDEX(Objekt_Text,D360+1,3))","v":""},"","",{"$f":"INDEX(Visum_Liste,F360+1)&\"\"","v":""},"","ZZ",0,0,0,0,0,0,3,"",{"$f":"MIN(IF(W360=$W$9:$W$2128,$E$9:$E$2128))","v":0},{"$f":"MAX(IF(W360=$W$9:$W$2128,$E$9:$E$2128))","v":0},352,1,1,null,null,1,null,"ZZ00000","00ZZ000",null,{"$f":"ABS(OR(C360=0,AND(MaxInput>1,M360=INDEX(FFilter,AO$5))))","v":1},{"$f":"ABS(OR(C360=0,AND(MaxInput>1,N360=INDEX(FFilter,AP$5))))","v":1},{"$f":"ABS(OR(C360=0,AND(MaxInput>1,O360=INDEX(FFilter,AQ$5))))","v":1},null,null,null,null,null,null,null,null,null,null,{"$f":"ROW()","v":360}]
[353,"",null,null,null,null,null,null,null,null,null,null,"",{"$f":"IF(C361=0,\"\",INDEX(Objekt_Text,D361+1,2))","v":""},{"$f":"IF(C361=0,\"\",INDEX(Objekt_Text,D361+1,3))","v":""},"","",{"$f":"INDEX(Visum_Liste,F361+1)&\"\"","v":""},"","ZZ",0,0,0,0,0,0,3,"",{"$f":"MIN(IF(W361=$W$9:$W$2128,$E$9:$E$2128))","v":0},{"$f":"MAX(IF(W361=$W$9:$W$2128,$E$9:$E$2128))","v":0},353,1,1,null,null,1,null,"ZZ00000","00ZZ000",null,{"$f":"ABS(OR(C361=0,AND(MaxInput>1,M361=INDEX(FFilter,AO$5))))","v":1},{"$f":"ABS(OR(C361=0,AND(MaxInput>1,N361=INDEX(FFilter,AP$5))))","v":1},{"$f":"ABS(OR(C361=0,AND(MaxInput>1,O361=INDEX(FFilter,AQ$5))))","v":1},null,null,null,null,null,null,null,null,null,null,{"$f":"ROW()","v":361}]
[354,"",null,null,null,null,null,null,null,null,null,null,"",{"$f":"IF(C362=0,\"\",INDEX(Objekt_Text,D362+1,2))","v":""},{"$f":"IF(C362=0,\"\",INDEX(Objekt_Text,D362+1,3))","v":""},"","",{"$f":"INDEX(Visum_Liste,F362+1)&\"\"","v":""},"","ZZ",0,0,0,0,0,0,3,"",{"$f":"MIN(IF(W362=$W$9:$W$2128,$E$9:$E$2128))","v":0},{"$f":"MAX(IF(W362=$W$9:$W$2128,$E$9:$E$2128))","v":0},354,1,1,null,null,1,null,"ZZ00000","00ZZ000",null,{"$f":"ABS(OR(C362=0,AND(MaxInput>1,M362=INDEX(FFilter,AO$5))))","v":1},{"$f":"ABS(OR(C362=0,AND(MaxInput>1,N362=INDEX(FFilter,AP$5))))","v":1},{"$f":"ABS(OR(C362=0,AND(MaxInput>1,O362=INDEX(FFilter,AQ$5))))","v":1},null,null,null,null,null,null,null,null,null,null,{"$f":"ROW()","v":362}]
[355,"",null,null,null,null,null,null,null,null,null,null,"",{"$f":"IF(C363=0,\"\",INDEX(Objekt_Text,D363+1,2))","v":""},{"$f":"IF(C363=0,\"\",INDEX(Objekt_Text,D363+1,3))","v":""},"","",{"$f":"INDEX(Visum_Liste,F363+1)&\"\"","v":""},"","ZZ",0,0,0,0,0,0,3,"",{"$f":"MIN(IF(W363=$W$9:$W$2128,$E$9:$E$2128))","v":0},{"$f":"MAX(IF(W363=$W$9:$W$2128,$E$9:$E$2128))","v":0},355,1,1,null,null,1,null,"ZZ00000","00ZZ000",null,{"$f":"ABS(OR(C363=0,AND(MaxInput>1,M363=INDEX(FFilter,AO$5))))","v":1},{"$f":"ABS(OR(C363=0,AND(MaxInput>1,N363=INDEX(FFilter,AP$5))))","v":1},{"$f":"ABS(OR(C363=0,AND(MaxInput>1,O363=INDEX(FFilter,AQ$5))))","v":1},null,null,null,null,null,null,null,null,null,null,{"$f":"ROW()","v":363}]
[356,"",null,null,null,null,null,null,null,null,null,null,"",{"$f":"IF(C364=0,\"\",INDEX(Objekt_Text,D364+1,2))","v":""},{"$f":"IF(C364=0,\"\",INDEX(Objekt_Text,D364+1,3))","v":""},"","",{"$f":"INDEX(Visum_Liste,F364+1)&\"\"","v":""},"","ZZ",0,0,0,0,0,0,3,"",{"$f":"MIN(IF(W364=$W$9:$W$2128,$E$9:$E$2128))","v":0},{"$f":"MAX(IF(W364=$W$9:$W$2128,$E$9:$E$2128))","v":0},356,1,1,null,null,1,null,"ZZ00000","00ZZ000",null,{"$f":"ABS(OR(C364=0,AND(MaxInput>1,M364=INDEX(FFilter,AO$5))))","v":1},{"$f":"ABS(OR(C364=0,AND(MaxInput>1,N364=INDEX(FFilter,AP$5))))","v":1},{"$f":"ABS(OR(C364=0,AND(MaxInput>1,O364=INDEX(FFilter,AQ$5))))","v":1},null,null,null,null,null,null,null,null,null,null,{"$f":"ROW()","v":364}]
[357,"",null,null,null,null,null,null,null,null,null,null,"",{"$f":"IF(C365=0,\"\",INDEX(Objekt_Text,D365+1,2))","v":""},{"$f":"IF(C365=0,\"\",INDEX(Objekt_Text,D365+1,3))","v":""},"","",{"$f":"INDEX(Visum_Liste,F365+1)&\"\"","v":""},"","ZZ",0,0,0,0,0,0,3,"",{"$f":"MIN(IF(W365=$W$9:$W$2128,$E$9:$E$2128))","v":0},{"$f":"MAX(IF(W365=$W$9:$W$2128,$E$9:$E$2128))","v":0},357,1,1,null,null,1,null,"ZZ00000","00ZZ000",null,{"$f":"ABS(OR(C365=0,AND(MaxInput>1,M365=INDEX(FFilter,AO$5))))","v":1},{"$f":"ABS(OR(C365=0,AND(MaxInput>1,N365=INDEX(FFilter,AP$5))))","v":1},{"$f":"ABS(OR(C365=0,AND(MaxInput>1,O365=INDEX(FFilter,AQ$5))))","v":1},null,null,null,null,null,null,null,null,null,null,{"$f":"ROW()","v":365}]
[358,"",null,null,null,null,null,null,null,null,null,null,"",{"$f":"IF(C366=0,\"\",INDEX(Objekt_Text,D366+1,2))","v":""},{"$f":"IF(C366=0,\"\",INDEX(Objekt_Text,D366+1,3))","v":""},"","",{"$f":"INDEX(Visum_Liste,F366+1)&\"\"","v":""},"","ZZ",0,0,0,0,0,0,3,"",{"$f":"MIN(IF(W366=$W$9:$W$2128,$E$9:$E$2128))","v":0},{"$f":"MAX(IF(W366=$W$9:$W$2128,$E$9:$E$2128))","v":0},358,1,1,null,null,1,null,"ZZ00000","00ZZ000",null,{"$f":"ABS(OR(C366=0,AND(MaxInput>1,M366=INDEX(FFilter,AO$5))))","v":1},{"$f":"ABS(OR(C366=0,AND(MaxInput>1,N366=INDEX(FFilter,AP$5))))","v":1},{"$f":"ABS(OR(C366=0,AND(MaxInput>1,O366=INDEX(FFilter,AQ$5))))","v":1},null,null,null,null,null,null,null,null,null,null,{"$f":"ROW()","v":366}]
[359,"",null,null,null,null,null,null,null,null,null,null,"",{"$f":"IF(C367=0,\"\",INDEX(Objekt_Text,D367+1,2))","v":""},{"$f":"IF(C367=0,\"\",INDEX(Objekt_Text,D367+1,3))","v":""},"","",{"$f":"INDEX(Visum_Liste,F367+1)&\"\"","v":""},"","ZZ",0,0,0,0,0,0,3,"",{"$f":"MIN(IF(W367=$W$9:$W$2128,$E$9:$E$2128))","v":0},{"$f":"MAX(IF(W367=$W$9:$W$2128,$E$9:$E$2128))","v":0},359,1,1,null,null,1,null,"ZZ00000","00ZZ000",null,{"$f":"ABS(OR(C367=0,AND(MaxInput>1,M367=INDEX(FFilter,AO$5))))","v":1},{"$f":"ABS(OR(C367=0,AND(MaxInput>1,N367=INDEX(FFilter,AP$5))))","v":1},{"$f":"ABS(OR(C367=0,AND(MaxInput>1,O367=INDEX(FFilter,AQ$5))))","v":1},null,null,null,null,null,null,null,null,null,null,{"$f":"ROW()","v":367}]
[360,"",null,null,null,null,null,null,null,null,null,null,"",{"$f":"IF(C368=0,\"\",INDEX(Objekt_Text,D368+1,2))","v":""},{"$f":"IF(C368=0,\"\",INDEX(Objekt_Text,D368+1,3))","v":""},"","",{"$f":"INDEX(Visum_Liste,F368+1)&\"\"","v":""},"","ZZ",0,0,0,0,0,0,3,"",{"$f":"MIN(IF(W368=$W$9:$W$2128,$E$9:$E$2128))","v":0},{"$f":"MAX(IF(W368=$W$9:$W$2128,$E$9:$E$2128))","v":0},360,1,1,null,null,1,null,"ZZ00000","00ZZ000",null,{"$f":"ABS(OR(C368=0,AND(MaxInput>1,M368=INDEX(FFilter,AO$5))))","v":1},{"$f":"ABS(OR(C368=0,AND(MaxInput>1,N368=INDEX(FFilter,AP$5))))","v":1},{"$f":"ABS(OR(C368=0,AND(MaxInput>1,O368=INDEX(FFilter,AQ$5))))","v":1},null,null,null,null,null,null,null,null,null,null,{"$f":"ROW()","v":368}]
[361,"",null,null,null,null,null,null,null,null,null,null,"",{"$f":"IF(C369=0,\"\",INDEX(Objekt_Text,D369+1,2))","v":""},{"$f":"IF(C369=0,\"\",INDEX(Objekt_Text,D369+1,3))","v":""},"","",{"$f":"INDEX(Visum_Liste,F369+1)&\"\"","v":""},"","ZZ",0,0,0,0,0,0,3,"",{"$f":"MIN(IF(W369=$W$9:$W$2128,$E$9:$E$2128))","v":0},{"$f":"MAX(IF(W369=$W$9:$W$2128,$E$9:$E$2128))","v":0},361,1,1,null,null,1,null,"ZZ00000","00ZZ000",null,{"$f":"ABS(OR(C369=0,AND(MaxInput>1,M369=INDEX(FFilter,AO$5))))","v":1},{"$f":"ABS(OR(C369=0,AND(MaxInput>1,N369=INDEX(FFilter,AP$5))))","v":1},{"$f":"ABS(OR(C369=0,AND(MaxInput>1,O369=INDEX(FFilter,AQ$5))))","v":1},null,null,null,null,null,null,null,null,null,null,{"$f":"ROW()","v":369}]
[362,"",null,null,null,null,null,null,null,null,null,null,"",{"$f":"IF(C370=0,\"\",INDEX(Objekt_Text,D370+1,2))","v":""},{"$f":"IF(C370=0,\"\",INDEX(Objekt_Text,D370+1,3))","v":""},"","",{"$f":"INDEX(Visum_Liste,F370+1)&\"\"","v":""},"","ZZ",0,0,0,0,0,0,3,"",{"$f":"MIN(IF(W370=$W$9:$W$2128,$E$9:$E$2128))","v":0},{"$f":"MAX(IF(W370=$W$9:$W$2128,$E$9:$E$2128))","v":0},362,1,1,null,null,1,null,"ZZ00000","00ZZ000",null,{"$f":"ABS(OR(C370=0,AND(MaxInput>1,M370=INDEX(FFilter,AO$5))))","v":1},{"$f":"ABS(OR(C370=0,AND(MaxInput>1,N370=INDEX(FFilter,AP$5))))","v":1},{"$f":"ABS(OR(C370=0,AND(MaxInput>1,O370=INDEX(FFilter,AQ$5))))","v":1},null,null,null,null,null,null,null,null,null,null,{"$f":"ROW()","v":370}]
[363,"",null,null,null,null,null,null,null,null,null,null,"",{"$f":"IF(C371=0,\"\",INDEX(Objekt_Text,D371+1,2))","v":""},{"$f":"IF(C371=0,\"\",INDEX(Objekt_Text,D371+1,3))","v":""},"","",{"$f":"INDEX(Visum_Liste,F371+1)&\"\"","v":""},"","ZZ",0,0,0,0,0,0,3,"",{"$f":"MIN(IF(W371=$W$9:$W$2128,$E$9:$E$2128))","v":0},{"$f":"MAX(IF(W371=$W$9:$W$2128,$E$9:$E$2128))","v":0},363,1,1,null,null,1,null,"ZZ00000","00ZZ000",null,{"$f":"ABS(OR(C371=0,AND(MaxInput>1,M371=INDEX(FFilter,AO$5))))","v":1},{"$f":"ABS(OR(C371=0,AND(MaxInput>1,N371=INDEX(FFilter,AP$5))))","v":1},{"$f":"ABS(OR(C371=0,AND(MaxInput>1,O371=INDEX(FFilter,AQ$5))))","v":1},null,null,null,null,null,null,null,null,null,null,{"$f":"ROW()","v":371}]
[364,"",null,null,null,null,null,null,null,null,null,null,"",{"$f":"IF(C372=0,\"\",INDEX(Objekt_Text,D372+1,2))","v":""},{"$f":"IF(C372=0,\"\",INDEX(Objekt_Text,D372+1,3))","v":""},"","",{"$f":"INDEX(Visum_Liste,F372+1)&\"\"","v":""},"","ZZ",0,0,0,0,0,0,3,"",{"$f":"MIN(IF(W372=$W$9:$W$2128,$E$9:$E$2128))","v":0},{"$f":"MAX(IF(W372=$W$9:$W$2128,$E$9:$E$2128))","v":0},364,1,1,null,null,1,null,"ZZ00000","00ZZ000",null,{"$f":"ABS(OR(C372=0,AND(MaxInput>1,M372=INDEX(FFilter,AO$5))))","v":1},{"$f":"ABS(OR(C372=0,AND(MaxInput>1,N372=INDEX(FFilter,AP$5))))","v":1},{"$f":"ABS(OR(C372=0,AND(MaxInput>1,O372=INDEX(FFilter,AQ$5))))","v":1},null,null,null,null,null,null,null,null,null,null,{"$f":"ROW()","v":372}]
[365,"",null,null,null,null,null,null,null,null,null,null,"",{"$f":"IF(C373=0,\"\",INDEX(Objekt_Text,D373+1,2))","v":""},{"$f":"IF(C373=0,\"\",INDEX(Objekt_Text,D373+1,3))","v":""},"","",{"$f":"INDEX(Visum_Liste,F373+1)&\"\"","v":""},"","ZZ",0,0,0,0,0,0,3,"",{"$f":"MIN(IF(W373=$W$9:$W$2128,$E$9:$E$2128))","v":0},{"$f":"MAX(IF(W373=$W$9:$W$2128,$E$9:$E$2128))","v":0},365,1,1,null,null,1,null,"ZZ00000","00ZZ000",null,{"$f":"ABS(OR(C373=0,AND(MaxInput>1,M373=INDEX(FFilter,AO$5))))","v":1},{"$f":"ABS(OR(C373=0,AND(MaxInput>1,N373=INDEX(FFilter,AP$5))))","v":1},{"$f":"ABS(OR(C373=0,AND(MaxInput>1,O373=INDEX(FFilter,AQ$5))))","v":1},null,null,null,null,null,null,null,null,null,null,{"$f":"ROW()","v":373}]
[366,"",null,null,null,null,null,null,null,null,null,null,"",{"$f":"IF(C374=0,\"\",INDEX(Objekt_Text,D374+1,2))","v":""},{"$f":"IF(C374=0,\"\",INDEX(Objekt_Text,D374+1,3))","v":""},"","",{"$f":"INDEX(Visum_Liste,F374+1)&\"\"","v":""},"","ZZ",0,0,0,0,0,0,3,"",{"$f":"MIN(IF(W374=$W$9:$W$2128,$E$9:$E$2128))","v":0},{"$f":"MAX(IF(W374=$W$9:$W$2128,$E$9:$E$2128))","v":0},366,1,1,null,null,1,null,"ZZ00000","00ZZ000",null,{"$f":"ABS(OR(C374=0,AND(MaxInput>1,M374=INDEX(FFilter,AO$5))))","v":1},{"$f":"ABS(OR(C374=0,AND(MaxInput>1,N374=INDEX(FFilter,AP$5))))","v":1},{"$f":"ABS(OR(C374=0,AND(MaxInput>1,O374=INDEX(FFilter,AQ$5))))","v":1},null,null,null,null,null,null,null,null,null,null,{"$f":"ROW()","v":374}]
[367,"",null,null,null,null,null,null,null,null,null,null,"",{"$f":"IF(C375=0,\"\",INDEX(Objekt_Text,D375+1,2))","v":""},{"$f":"IF(C375=0,\"\",INDEX(Objekt_Text,D375+1,3))","v":""},"","",{"$f":"INDEX(Visum_Liste,F375+1)&\"\"","v":""},"","ZZ",0,0,0,0,0,0,3,"",{"$f":"MIN(IF(W375=$W$9:$W$2128,$E$9:$E$2128))","v":0},{"$f":"MAX(IF(W375=$W$9:$W$2128,$E$9:$E$2128))","v":0},367,1,1,null,null,1,null,"ZZ00000","00ZZ000",null,{"$f":"ABS(OR(C375=0,AND(MaxInput>1,M375=INDEX(FFilter,AO$5))))","v":1},{"$f":"ABS(OR(C375=0,AND(MaxInput>1,N375=INDEX(FFilter,AP$5))))","v":1},{"$f":"ABS(OR(C375=0,AND(MaxInput>1,O375=INDEX(FFilter,AQ$5))))","v":1},null,null,null,null,null,null,null,null,null,null,{"$f":"ROW()","v":375}]
[368,"",null,null,null,null,null,null,null,null,null,null,"",{"$f":"IF(C376=0,\"\",INDEX(Objekt_Text,D376+1,2))","v":""},{"$f":"IF(C376=0,\"\",INDEX(Objekt_Text,D376+1,3))","v":""},"","",{"$f":"INDEX(Visum_Liste,F376+1)&\"\"","v":""},"","ZZ",0,0,0,0,0,0,3,"",{"$f":"MIN(IF(W376=$W$9:$W$2128,$E$9:$E$2128))","v":0},{"$f":"MAX(IF(W376=$W$9:$W$2128,$E$9:$E$2128))","v":0},368,1,1,null,null,1,null,"ZZ00000","00ZZ000",null,{"$f":"ABS(OR(C376=0,AND(MaxInput>1,M376=INDEX(FFilter,AO$5))))","v":1},{"$f":"ABS(OR(C376=0,AND(MaxInput>1,N376=INDEX(FFilter,AP$5))))","v":1},{"$f":"ABS(OR(C376=0,AND(MaxInput>1,O376=INDEX(FFilter,AQ$5))))","v":1},null,null,null,null,null,null,null,null,null,null,{"$f":"ROW()","v":376}]
[369,"",null,null,null,null,null,null,null,null,null,null,"",{"$f":"IF(C377=0,\"\",INDEX(Objekt_Text,D377+1,2))","v":""},{"$f":"IF(C377=0,\"\",INDEX(Objekt_Text,D377+1,3))","v":""},"","",{"$f":"INDEX(Visum_Liste,F377+1)&\"\"","v":""},"","ZZ",0,0,0,0,0,0,3,"",{"$f":"MIN(IF(W377=$W$9:$W$2128,$E$9:$E$2128))","v":0},{"$f":"MAX(IF(W377=$W$9:$W$2128,$E$9:$E$2128))","v":0},369,1,1,null,null,1,null,"ZZ00000","00ZZ000",null,{"$f":"ABS(OR(C377=0,AND(MaxInput>1,M377=INDEX(FFilter,AO$5))))","v":1},{"$f":"ABS(OR(C377=0,AND(MaxInput>1,N377=INDEX(FFilter,AP$5))))","v":1},{"$f":"ABS(OR(C377=0,AND(MaxInput>1,O377=INDEX(FFilter,AQ$5))))","v":1},null,null,null,null,null,null,null,null,null,null,{"$f":"ROW()","v":377}]
[370,"",null,null,null,null,null,null,null,null,null,null,"",{"$f":"IF(C378=0,\"\",INDEX(Objekt_Text,D378+1,2))","v":""},{"$f":"IF(C378=0,\"\",INDEX(Objekt_Text,D378+1,3))","v":""},"","",{"$f":"INDEX(Visum_Liste,F378+1)&\"\"","v":""},"","ZZ",0,0,0,0,0,0,3,"",{"$f":"MIN(IF(W378=$W$9:$W$2128,$E$9:$E$2128))","v":0},{"$f":"MAX(IF(W378=$W$9:$W$2128,$E$9:$E$2128))","v":0},370,1,1,null,null,1,null,"ZZ00000","00ZZ000",null,{"$f":"ABS(OR(C378=0,AND(MaxInput>1,M378=INDEX(FFilter,AO$5))))","v":1},{"$f":"ABS(OR(C378=0,AND(MaxInput>1,N378=INDEX(FFilter,AP$5))))","v":1},{"$f":"ABS(OR(C378=0,AND(MaxInput>1,O378=INDEX(FFilter,AQ$5))))","v":1},null,null,null,null,null,null,null,null,null,null,{"$f":"ROW()","v":378}]
[371,"",null,null,null,null,null,null,null,null,null,null,"",{"$f":"IF(C379=0,\"\",INDEX(Objekt_Text,D379+1,2))","v":""},{"$f":"IF(C379=0,\"\",INDEX(Objekt_Text,D379+1,3))","v":""},"","",{"$f":"INDEX(Visum_Liste,F379+1)&\"\"","v":""},"","ZZ",0,0,0,0,0,0,3,"",{"$f":"MIN(IF(W379=$W$9:$W$2128,$E$9:$E$2128))","v":0},{"$f":"MAX(IF(W379=$W$9:$W$2128,$E$9:$E$2128))","v":0},371,1,1,null,null,1,null,"ZZ00000","00ZZ000",null,{"$f":"ABS(OR(C379=0,AND(MaxInput>1,M379=INDEX(FFilter,AO$5))))","v":1},{"$f":"ABS(OR(C379=0,AND(MaxInput>1,N379=INDEX(FFilter,AP$5))))","v":1},{"$f":"ABS(OR(C379=0,AND(MaxInput>1,O379=INDEX(FFilter,AQ$5))))","v":1},null,null,null,null,null,null,null,null,null,null,{"$f":"ROW()","v":379}]
[372,"",null,null,null,null,null,null,null,null,null,null,"",{"$f":"IF(C380=0,\"\",INDEX(Objekt_Text,D380+1,2))","v":""},{"$f":"IF(C380=0,\"\",INDEX(Objekt_Text,D380+1,3))","v":""},"","",{"$f":"INDEX(Visum_Liste,F380+1)&\"\"","v":""},"","ZZ",0,0,0,0,0,0,3,"",{"$f":"MIN(IF(W380=$W$9:$W$2128,$E$9:$E$2128))","v":0},{"$f":"MAX(IF(W380=$W$9:$W$2128,$E$9:$E$2128))","v":0},372,1,1,null,null,1,null,"ZZ00000","00ZZ000",null,{"$f":"ABS(OR(C380=0,AND(MaxInput>1,M380=INDEX(FFilter,AO$5))))","v":1},{"$f":"ABS(OR(C380=0,AND(MaxInput>1,N380=INDEX(FFilter,AP$5))))","v":1},{"$f":"ABS(OR(C380=0,AND(MaxInput>1,O380=INDEX(FFilter,AQ$5))))","v":1},null,null,null,null,null,null,null,null,null,null,{"$f":"ROW()","v":380}]
[373,"",null,null,null,null,null,null,null,null,null,null,"",{"$f":"IF(C381=0,\"\",INDEX(Objekt_Text,D381+1,2))","v":""},{"$f":"IF(C381=0,\"\",INDEX(Objekt_Text,D381+1,3))","v":""},"","",{"$f":"INDEX(Visum_Liste,F381+1)&\"\"","v":""},"","ZZ",0,0,0,0,0,0,3,"",{"$f":"MIN(IF(W381=$W$9:$W$2128,$E$9:$E$2128))","v":0},{"$f":"MAX(IF(W381=$W$9:$W$2128,$E$9:$E$2128))","v":0},373,1,1,null,null,1,null,"ZZ00000","00ZZ000",null,{"$f":"ABS(OR(C381=0,AND(MaxInput>1,M381=INDEX(FFilter,AO$5))))","v":1},{"$f":"ABS(OR(C381=0,AND(MaxInput>1,N381=INDEX(FFilter,AP$5))))","v":1},{"$f":"ABS(OR(C381=0,AND(MaxInput>1,O381=INDEX(FFilter,AQ$5))))","v":1},null,null,null,null,null,null,null,null,null,null,{"$f":"ROW()","v":381}]
[374,"",null,null,null,null,null,null,null,null,null,null,"",{"$f":"IF(C382=0,\"\",INDEX(Objekt_Text,D382+1,2))","v":""},{"$f":"IF(C382=0,\"\",INDEX(Objekt_Text,D382+1,3))","v":""},"","",{"$f":"INDEX(Visum_Liste,F382+1)&\"\"","v":""},"","ZZ",0,0,0,0,0,0,3,"",{"$f":"MIN(IF(W382=$W$9:$W$2128,$E$9:$E$2128))","v":0},{"$f":"MAX(IF(W382=$W$9:$W$2128,$E$9:$E$2128))","v":0},374,1,1,null,null,1,null,"ZZ00000","00ZZ000",null,{"$f":"ABS(OR(C382=0,AND(MaxInput>1,M382=INDEX(FFilter,AO$5))))","v":1},{"$f":"ABS(OR(C382=0,AND(MaxInput>1,N382=INDEX(FFilter,AP$5))))","v":1},{"$f":"ABS(OR(C382=0,AND(MaxInput>1,O382=INDEX(FFilter,AQ$5))))","v":1},null,null,null,null,null,null,null,null,null,null,{"$f":"ROW()","v":382}]
[375,"",null,null,null,null,null,null,null,null,null,null,"",{"$f":"IF(C383=0,\"\",INDEX(Objekt_Text,D383+1,2))","v":""},{"$f":"IF(C383=0,\"\",INDEX(Objekt_Text,D383+1,3))","v":""},"","",{"$f":"INDEX(Visum_Liste,F383+1)&\"\"","v":""},"","ZZ",0,0,0,0,0,0,3,"",{"$f":"MIN(IF(W383=$W$9:$W$2128,$E$9:$E$2128))","v":0},{"$f":"MAX(IF(W383=$W$9:$W$2128,$E$9:$E$2128))","v":0},375,1,1,null,null,1,null,"ZZ00000","00ZZ000",null,{"$f":"ABS(OR(C383=0,AND(MaxInput>1,M383=INDEX(FFilter,AO$5))))","v":1},{"$f":"ABS(OR(C383=0,AND(MaxInput>1,N383=INDEX(FFilter,AP$5))))","v":1},{"$f":"ABS(OR(C383=0,AND(MaxInput>1,O383=INDEX(FFilter,AQ$5))))","v":1},null,null,null,null,null,null,null,null,null,null,{"$f":"ROW()","v":383}]
[376,"",null,null,null,null,null,null,null,null,null,null,"",{"$f":"IF(C384=0,\"\",INDEX(Objekt_Text,D384+1,2))","v":""},{"$f":"IF(C384=0,\"\",INDEX(Objekt_Text,D384+1,3))","v":""},"","",{"$f":"INDEX(Visum_Liste,F384+1)&\"\"","v":""},"","ZZ",0,0,0,0,0,0,3,"",{"$f":"MIN(IF(W384=$W$9:$W$2128,$E$9:$E$2128))","v":0},{"$f":"MAX(IF(W384=$W$9:$W$2128,$E$9:$E$2128))","v":0},376,1,1,null,null,1,null,"ZZ00000","00ZZ000",null,{"$f":"ABS(OR(C384=0,AND(MaxInput>1,M384=INDEX(FFilter,AO$5))))","v":1},{"$f":"ABS(OR(C384=0,AND(MaxInput>1,N384=INDEX(FFilter,AP$5))))","v":1},{"$f":"ABS(OR(C384=0,AND(MaxInput>1,O384=INDEX(FFilter,AQ$5))))","v":1},null,null,null,null,null,null,null,null,null,null,{"$f":"ROW()","v":384}]
[377,"",null,null,null,null,null,null,null,null,null,null,"",{"$f":"IF(C385=0,\"\",INDEX(Objekt_Text,D385+1,2))","v":""},{"$f":"IF(C385=0,\"\",INDEX(Objekt_Text,D385+1,3))","v":""},"","",{"$f":"INDEX(Visum_Liste,F385+1)&\"\"","v":""},"","ZZ",0,0,0,0,0,0,3,"",{"$f":"MIN(IF(W385=$W$9:$W$2128,$E$9:$E$2128))","v":0},{"$f":"MAX(IF(W385=$W$9:$W$2128,$E$9:$E$2128))","v":0},377,1,1,null,null,1,null,"ZZ00000","00ZZ000",null,{"$f":"ABS(OR(C385=0,AND(MaxInput>1,M385=INDEX(FFilter,AO$5))))","v":1},{"$f":"ABS(OR(C385=0,AND(MaxInput>1,N385=INDEX(FFilter,AP$5))))","v":1},{"$f":"ABS(OR(C385=0,AND(MaxInput>1,O385=INDEX(FFilter,AQ$5))))","v":1},null,null,null,null,null,null,null,null,null,null,{"$f":"ROW()","v":385}]
[378,"",null,null,null,null,null,null,null,null,null,null,"",{"$f":"IF(C386=0,\"\",INDEX(Objekt_Text,D386+1,2))","v":""},{"$f":"IF(C386=0,\"\",INDEX(Objekt_Text,D386+1,3))","v":""},"","",{"$f":"INDEX(Visum_Liste,F386+1)&\"\"","v":""},"","ZZ",0,0,0,0,0,0,3,"",{"$f":"MIN(IF(W386=$W$9:$W$2128,$E$9:$E$2128))","v":0},{"$f":"MAX(IF(W386=$W$9:$W$2128,$E$9:$E$2128))","v":0},378,1,1,null,null,1,null,"ZZ00000","00ZZ000",null,{"$f":"ABS(OR(C386=0,AND(MaxInput>1,M386=INDEX(FFilter,AO$5))))","v":1},{"$f":"ABS(OR(C386=0,AND(MaxInput>1,N386=INDEX(FFilter,AP$5))))","v":1},{"$f":"ABS(OR(C386=0,AND(MaxInput>1,O386=INDEX(FFilter,AQ$5))))","v":1},null,null,null,null,null,null,null,null,null,null,{"$f":"ROW()","v":386}]
[379,"",null,null,null,null,null,null,null,null,null,null,"",{"$f":"IF(C387=0,\"\",INDEX(Objekt_Text,D387+1,2))","v":""},{"$f":"IF(C387=0,\"\",INDEX(Objekt_Text,D387+1,3))","v":""},"","",{"$f":"INDEX(Visum_Liste,F387+1)&\"\"","v":""},"","ZZ",0,0,0,0,0,0,3,"",{"$f":"MIN(IF(W387=$W$9:$W$2128,$E$9:$E$2128))","v":0},{"$f":"MAX(IF(W387=$W$9:$W$2128,$E$9:$E$2128))","v":0},379,1,1,null,null,1,null,"ZZ00000","00ZZ000",null,{"$f":"ABS(OR(C387=0,AND(MaxInput>1,M387=INDEX(FFilter,AO$5))))","v":1},{"$f":"ABS(OR(C387=0,AND(MaxInput>1,N387=INDEX(FFilter,AP$5))))","v":1},{"$f":"ABS(OR(C387=0,AND(MaxInput>1,O387=INDEX(FFilter,AQ$5))))","v":1},null,null,null,null,null,null,null,null,null,null,{"$f":"ROW()","v":387}]
[380,"",null,null,null,null,null,null,null,null,null,null,"",{"$f":"IF(C388=0,\"\",INDEX(Objekt_Text,D388+1,2))","v":""},{"$f":"IF(C388=0,\"\",INDEX(Objekt_Text,D388+1,3))","v":""},"","",{"$f":"INDEX(Visum_Liste,F388+1)&\"\"","v":""},"","ZZ",0,0,0,0,0,0,3,"",{"$f":"MIN(IF(W388=$W$9:$W$2128,$E$9:$E$2128))","v":0},{"$f":"MAX(IF(W388=$W$9:$W$2128,$E$9:$E$2128))","v":0},380,1,1,null,null,1,null,"ZZ00000","00ZZ000",null,{"$f":"ABS(OR(C388=0,AND(MaxInput>1,M388=INDEX(FFilter,AO$5))))","v":1},{"$f":"ABS(OR(C388=0,AND(MaxInput>1,N388=INDEX(FFilter,AP$5))))","v":1},{"$f":"ABS(OR(C388=0,AND(MaxInput>1,O388=INDEX(FFilter,AQ$5))))","v":1},null,null,null,null,null,null,null,null,null,null,{"$f":"ROW()","v":388}]
[381,"",null,null,null,null,null,null,null,null,null,null,"",{"$f":"IF(C389=0,\"\",INDEX(Objekt_Text,D389+1,2))","v":""},{"$f":"IF(C389=0,\"\",INDEX(Objekt_Text,D389+1,3))","v":""},"","",{"$f":"INDEX(Visum_Liste,F389+1)&\"\"","v":""},"","ZZ",0,0,0,0,0,0,3,"",{"$f":"MIN(IF(W389=$W$9:$W$2128,$E$9:$E$2128))","v":0},{"$f":"MAX(IF(W389=$W$9:$W$2128,$E$9:$E$2128))","v":0},381,1,1,null,null,1,null,"ZZ00000","00ZZ000",null,{"$f":"ABS(OR(C389=0,AND(MaxInput>1,M389=INDEX(FFilter,AO$5))))","v":1},{"$f":"ABS(OR(C389=0,AND(MaxInput>1,N389=INDEX(FFilter,AP$5))))","v":1},{"$f":"ABS(OR(C389=0,AND(MaxInput>1,O389=INDEX(FFilter,AQ$5))))","v":1},null,null,null,null,null,null,null,null,null,null,{"$f":"ROW()","v":389}]
[382,"",null,null,null,null,null,null,null,null,null,null,"",{"$f":"IF(C390=0,\"\",INDEX(Objekt_Text,D390+1,2))","v":""},{"$f":"IF(C390=0,\"\",INDEX(Objekt_Text,D390+1,3))","v":""},"","",{"$f":"INDEX(Visum_Liste,F390+1)&\"\"","v":""},"","ZZ",0,0,0,0,0,0,3,"",{"$f":"MIN(IF(W390=$W$9:$W$2128,$E$9:$E$2128))","v":0},{"$f":"MAX(IF(W390=$W$9:$W$2128,$E$9:$E$2128))","v":0},382,1,1,null,null,1,null,"ZZ00000","00ZZ000",null,{"$f":"ABS(OR(C390=0,AND(MaxInput>1,M390=INDEX(FFilter,AO$5))))","v":1},{"$f":"ABS(OR(C390=0,AND(MaxInput>1,N390=INDEX(FFilter,AP$5))))","v":1},{"$f":"ABS(OR(C390=0,AND(MaxInput>1,O390=INDEX(FFilter,AQ$5))))","v":1},null,null,null,null,null,null,null,null,null,null,{"$f":"ROW()","v":390}]
[383,"",null,null,null,null,null,null,null,null,null,null,"",{"$f":"IF(C391=0,\"\",INDEX(Objekt_Text,D391+1,2))","v":""},{"$f":"IF(C391=0,\"\",INDEX(Objekt_Text,D391+1,3))","v":""},"","",{"$f":"INDEX(Visum_Liste,F391+1)&\"\"","v":""},"","ZZ",0,0,0,0,0,0,3,"",{"$f":"MIN(IF(W391=$W$9:$W$2128,$E$9:$E$2128))","v":0},{"$f":"MAX(IF(W391=$W$9:$W$2128,$E$9:$E$2128))","v":0},383,1,1,null,null,1,null,"ZZ00000","00ZZ000",null,{"$f":"ABS(OR(C391=0,AND(MaxInput>1,M391=INDEX(FFilter,AO$5))))","v":1},{"$f":"ABS(OR(C391=0,AND(MaxInput>1,N391=INDEX(FFilter,AP$5))))","v":1},{"$f":"ABS(OR(C391=0,AND(MaxInput>1,O391=INDEX(FFilter,AQ$5))))","v":1},null,null,null,null,null,null,null,null,null,null,{"$f":"ROW()","v":391}]
[384,"",null,null,null,null,null,null,null,null,null,null,"",{"$f":"IF(C392=0,\"\",INDEX(Objekt_Text,D392+1,2))","v":""},{"$f":"IF(C392=0,\"\",INDEX(Objekt_Text,D392+1,3))","v":""},"","",{"$f":"INDEX(Visum_Liste,F392+1)&\"\"","v":""},"","ZZ",0,0,0,0,0,0,3,"",{"$f":"MIN(IF(W392=$W$9:$W$2128,$E$9:$E$2128))","v":0},{"$f":"MAX(IF(W392=$W$9:$W$2128,$E$9:$E$2128))","v":0},384,1,1,null,null,1,null,"ZZ00000","00ZZ000",null,{"$f":"ABS(OR(C392=0,AND(MaxInput>1,M392=INDEX(FFilter,AO$5))))","v":1},{"$f":"ABS(OR(C392=0,AND(MaxInput>1,N392=INDEX(FFilter,AP$5))))","v":1},{"$f":"ABS(OR(C392=0,AND(MaxInput>1,O392=INDEX(FFilter,AQ$5))))","v":1},null,null,null,null,null,null,null,null,null,null,{"$f":"ROW()","v":392}]
[385,{"$f":"IF(C393>0,ROW()-8,\"\")","v":""},null,null,null,null,null,null,null,null,null,null,{"$f":"IF(C393=0,\"\",IFERROR(VLOOKUP($C393,SLTabelle,cSLName,FALSE),\"\"))","v":""},{"$f":"IF(C393=0,\"\",INDEX(Objekt_Text,D393+1,2))","v":""},{"$f":"IF(C393=0,\"\",INDEX(Objekt_Text,D393+1,3))","v":""},{"$f":"IF($H393=\"\",\"\",$H393)","v":""},{"$f":"IF($I393=\"\",\"\",$I393)","v":""},{"$f":"INDEX(Visum_Liste,F393+1)&\"\"","v":""},{"$f":"IF($J393=\"\",\"\",$J393)","v":""},{"$f":"IF(M393=\"\",\"ZZ\",M393)","v":"ZZ"},{"$f":"IF(C393>0,COUNTIF($W$9:$W$2128,W393),0)","v":0},{"$f":"SUMIFS($E$9:$E$2128,$W$9:$W$2128,W393)","v":0},{"$f":"C393*100+D393","v":0},{"$f":"AND(C393>0,E393=AD393)*1","v":0},{"$f":"(COUNT(P393:Q393)=2)*1","v":0},{"$f":"F393*10+X393","v":0},{"$f":"IF(X393=0,3,X393*F393)","v":3},{"$f":"IF(OR((C393>0),ROW()<LastRow+8),\"A\",\"\")","v":""},{"$f":"MIN(IF(W393=$W$9:$W$2128,$E$9:$E$2128))","v":0},{"$f":"MAX(IF(W393=$W$9:$W$2128,$E$9:$E$2128))","v":0},385,1,1,null,null,1,null,{"$f":"T393&TEXT(D393,\"00\")&TEXT(E393,\"000\")","v":"ZZ00000"},{"$f":"TEXT(D393,\"00\")&T393&TEXT(E393,\"000\")","v":"00ZZ000"},null,{"$f":"ABS(OR(C393=0,AND(MaxInput>1,M393=INDEX(FFilter,AO$5))))","v":1},{"$f":"ABS(OR(C393=0,AND(MaxInput>1,N393=INDEX(FFilter,AP$5))))","v":1},{"$f":"ABS(OR(C393=0,AND(MaxInput>1,O393=INDEX(FFilter,AQ$5))))","v":1},null,null,null,null,null,null,null,null,null,null,{"$f":"ROW()","v":393}]
[386,"",null,null,null,null,null,null,null,null,null,null,"",{"$f":"IF(C394=0,\"\",INDEX(Objekt_Text,D394+1,2))","v":""},{"$f":"IF(C394=0,\"\",INDEX(Objekt_Text,D394+1,3))","v":""},"","",{"$f":"INDEX(Visum_Liste,F394+1)&\"\"","v":""},"","ZZ",0,0,0,0,0,0,3,"",{"$f":"MIN(IF(W394=$W$9:$W$2128,$E$9:$E$2128))","v":0},{"$f":"MAX(IF(W394=$W$9:$W$2128,$E$9:$E$2128))","v":0},386,1,1,null,null,{"$f":"OR(L394<=L393,B394=\"\")*1","v":1},null,"ZZ00000","00ZZ000",null,{"$f":"ABS(OR(C394=0,AND(MaxInput>1,M394=INDEX(FFilter,AO$5))))","v":1},{"$f":"ABS(OR(C394=0,AND(MaxInput>1,N394=INDEX(FFilter,AP$5))))","v":1},{"$f":"ABS(OR(C394=0,AND(MaxInput>1,O394=INDEX(FFilter,AQ$5))))","v":1},null,null,null,null,null,null,null,null,null,null,{"$f":"ROW()","v":394}]
[387,"",null,null,null,null,null,null,null,null,null,null,"",{"$f":"IF(C395=0,\"\",INDEX(Objekt_Text,D395+1,2))","v":""},{"$f":"IF(C395=0,\"\",INDEX(Objekt_Text,D395+1,3))","v":""},"","",{"$f":"INDEX(Visum_Liste,F395+1)&\"\"","v":""},"","ZZ",0,0,0,0,0,0,3,"",{"$f":"MIN(IF(W395=$W$9:$W$2128,$E$9:$E$2128))","v":0},{"$f":"MAX(IF(W395=$W$9:$W$2128,$E$9:$E$2128))","v":0},387,1,1,null,null,1,null,"ZZ00000","00ZZ000",null,{"$f":"ABS(OR(C395=0,AND(MaxInput>1,M395=INDEX(FFilter,AO$5))))","v":1},{"$f":"ABS(OR(C395=0,AND(MaxInput>1,N395=INDEX(FFilter,AP$5))))","v":1},{"$f":"ABS(OR(C395=0,AND(MaxInput>1,O395=INDEX(FFilter,AQ$5))))","v":1},null,null,null,null,null,null,null,null,null,null,{"$f":"ROW()","v":395}]
[388,"",null,null,null,null,null,null,null,null,null,null,"",{"$f":"IF(C396=0,\"\",INDEX(Objekt_Text,D396+1,2))","v":""},{"$f":"IF(C396=0,\"\",INDEX(Objekt_Text,D396+1,3))","v":""},"","",{"$f":"INDEX(Visum_Liste,F396+1)&\"\"","v":""},"","ZZ",0,0,0,0,0,0,3,"",{"$f":"MIN(IF(W396=$W$9:$W$2128,$E$9:$E$2128))","v":0},{"$f":"MAX(IF(W396=$W$9:$W$2128,$E$9:$E$2128))","v":0},388,1,1,null,null,1,null,"ZZ00000","00ZZ000",null,{"$f":"ABS(OR(C396=0,AND(MaxInput>1,M396=INDEX(FFilter,AO$5))))","v":1},{"$f":"ABS(OR(C396=0,AND(MaxInput>1,N396=INDEX(FFilter,AP$5))))","v":1},{"$f":"ABS(OR(C396=0,AND(MaxInput>1,O396=INDEX(FFilter,AQ$5))))","v":1},null,null,null,null,null,null,null,null,null,null,{"$f":"ROW()","v":396}]
[389,"",null,null,null,null,null,null,null,null,null,null,"",{"$f":"IF(C397=0,\"\",INDEX(Objekt_Text,D397+1,2))","v":""},{"$f":"IF(C397=0,\"\",INDEX(Objekt_Text,D397+1,3))","v":""},"","",{"$f":"INDEX(Visum_Liste,F397+1)&\"\"","v":""},"","ZZ",0,0,0,0,0,0,3,"",{"$f":"MIN(IF(W397=$W$9:$W$2128,$E$9:$E$2128))","v":0},{"$f":"MAX(IF(W397=$W$9:$W$2128,$E$9:$E$2128))","v":0},389,{"$f":"OR(AL397>=AL396,B397=\"\")*1","v":1},{"$f":"OR(AM397>=AM396,B397=\"\")*1","v":1},null,null,1,null,"ZZ00000","00ZZ000",null,{"$f":"ABS(OR(C397=0,AND(MaxInput>1,M397=INDEX(FFilter,AO$5))))","v":1},{"$f":"ABS(OR(C397=0,AND(MaxInput>1,N397=INDEX(FFilter,AP$5))))","v":1},{"$f":"ABS(OR(C397=0,AND(MaxInput>1,O397=INDEX(FFilter,AQ$5))))","v":1},null,null,null,null,null,null,null,null,null,null,{"$f":"ROW()","v":397}]
[390,"",null,null,null,null,null,null,null,null,null,null,"",{"$f":"IF(C398=0,\"\",INDEX(Objekt_Text,D398+1,2))","v":""},{"$f":"IF(C398=0,\"\",INDEX(Objekt_Text,D398+1,3))","v":""},"","",{"$f":"INDEX(Visum_Liste,F398+1)&\"\"","v":""},"","ZZ",0,0,0,0,0,0,3,"",{"$f":"MIN(IF(W398=$W$9:$W$2128,$E$9:$E$2128))","v":0},{"$f":"MAX(IF(W398=$W$9:$W$2128,$E$9:$E$2128))","v":0},390,1,1,null,null,1,null,"ZZ00000","00ZZ000",null,{"$f":"ABS(OR(C398=0,AND(MaxInput>1,M398=INDEX(FFilter,AO$5))))","v":1},{"$f":"ABS(OR(C398=0,AND(MaxInput>1,N398=INDEX(FFilter,AP$5))))","v":1},{"$f":"ABS(OR(C398=0,AND(MaxInput>1,O398=INDEX(FFilter,AQ$5))))","v":1},null,null,null,null,null,null,null,null,null,null,{"$f":"ROW()","v":398}]
[391,"",null,null,null,null,null,null,null,null,null,null,"",{"$f":"IF(C399=0,\"\",INDEX(Objekt_Text,D399+1,2))","v":""},{"$f":"IF(C399=0,\"\",INDEX(Objekt_Text,D399+1,3))","v":""},"","",{"$f":"INDEX(Visum_Liste,F399+1)&\"\"","v":""},"","ZZ",0,0,0,0,0,0,3,"",{"$f":"MIN(IF(W399=$W$9:$W$2128,$E$9:$E$2128))","v":0},{"$f":"MAX(IF(W399=$W$9:$W$2128,$E$9:$E$2128))","v":0},391,1,1,null,null,1,null,"ZZ00000","00ZZ000",null,{"$f":"ABS(OR(C399=0,AND(MaxInput>1,M399=INDEX(FFilter,AO$5))))","v":1},{"$f":"ABS(OR(C399=0,AND(MaxInput>1,N399=INDEX(FFilter,AP$5))))","v":1},{"$f":"ABS(OR(C399=0,AND(MaxInput>1,O399=INDEX(FFilter,AQ$5))))","v":1},null,null,null,null,null,null,null,null,null,null,{"$f":"ROW()","v":399}]
[392,"",null,null,null,null,null,null,null,null,null,null,"",{"$f":"IF(C400=0,\"\",INDEX(Objekt_Text,D400+1,2))","v":""},{"$f":"IF(C400=0,\"\",INDEX(Objekt_Text,D400+1,3))","v":""},"","",{"$f":"INDEX(Visum_Liste,F400+1)&\"\"","v":""},"","ZZ",0,0,0,0,0,0,3,"",{"$f":"MIN(IF(W400=$W$9:$W$2128,$E$9:$E$2128))","v":0},{"$f":"MAX(IF(W400=$W$9:$W$2128,$E$9:$E$2128))","v":0},392,1,1,null,null,1,null,"ZZ00000","00ZZ000",null,{"$f":"ABS(OR(C400=0,AND(MaxInput>1,M400=INDEX(FFilter,AO$5))))","v":1},{"$f":"ABS(OR(C400=0,AND(MaxInput>1,N400=INDEX(FFilter,AP$5))))","v":1},{"$f":"ABS(OR(C400=0,AND(MaxInput>1,O400=INDEX(FFilter,AQ$5))))","v":1},null,null,null,null,null,null,null,null,null,null,{"$f":"ROW()","v":400}]
[393,"",null,null,null,null,null,null,null,null,null,null,"",{"$f":"IF(C401=0,\"\",INDEX(Objekt_Text,D401+1,2))","v":""},{"$f":"IF(C401=0,\"\",INDEX(Objekt_Text,D401+1,3))","v":""},"","",{"$f":"INDEX(Visum_Liste,F401+1)&\"\"","v":""},"","ZZ",0,0,0,0,0,0,3,"",{"$f":"MIN(IF(W401=$W$9:$W$2128,$E$9:$E$2128))","v":0},{"$f":"MAX(IF(W401=$W$9:$W$2128,$E$9:$E$2128))","v":0},393,1,1,null,null,1,null,"ZZ00000","00ZZ000",null,{"$f":"ABS(OR(C401=0,AND(MaxInput>1,M401=INDEX(FFilter,AO$5))))","v":1},{"$f":"ABS(OR(C401=0,AND(MaxInput>1,N401=INDEX(FFilter,AP$5))))","v":1},{"$f":"ABS(OR(C401=0,AND(MaxInput>1,O401=INDEX(FFilter,AQ$5))))","v":1},null,null,null,null,null,null,null,null,null,null,{"$f":"ROW()","v":401}]
[394,"",null,null,null,null,null,null,null,null,null,null,"",{"$f":"IF(C402=0,\"\",INDEX(Objekt_Text,D402+1,2))","v":""},{"$f":"IF(C402=0,\"\",INDEX(Objekt_Text,D402+1,3))","v":""},"","",{"$f":"INDEX(Visum_Liste,F402+1)&\"\"","v":""},"","ZZ",0,0,0,0,0,0,3,"",{"$f":"MIN(IF(W402=$W$9:$W$2128,$E$9:$E$2128))","v":0},{"$f":"MAX(IF(W402=$W$9:$W$2128,$E$9:$E$2128))","v":0},394,1,1,null,null,1,null,"ZZ00000","00ZZ000",null,{"$f":"ABS(OR(C402=0,AND(MaxInput>1,M402=INDEX(FFilter,AO$5))))","v":1},{"$f":"ABS(OR(C402=0,AND(MaxInput>1,N402=INDEX(FFilter,AP$5))))","v":1},{"$f":"ABS(OR(C402=0,AND(MaxInput>1,O402=INDEX(FFilter,AQ$5))))","v":1},null,null,null,null,null,null,null,null,null,null,{"$f":"ROW()","v":402}]
[395,"",null,null,null,null,null,null,null,null,null,null,"",{"$f":"IF(C403=0,\"\",INDEX(Objekt_Text,D403+1,2))","v":""},{"$f":"IF(C403=0,\"\",INDEX(Objekt_Text,D403+1,3))","v":""},"","",{"$f":"INDEX(Visum_Liste,F403+1)&\"\"","v":""},"","ZZ",0,0,0,0,0,0,3,"",{"$f":"MIN(IF(W403=$W$9:$W$2128,$E$9:$E$2128))","v":0},{"$f":"MAX(IF(W403=$W$9:$W$2128,$E$9:$E$2128))","v":0},395,1,1,null,null,1,null,"ZZ00000","00ZZ000",null,{"$f":"ABS(OR(C403=0,AND(MaxInput>1,M403=INDEX(FFilter,AO$5))))","v":1},{"$f":"ABS(OR(C403=0,AND(MaxInput>1,N403=INDEX(FFilter,AP$5))))","v":1},{"$f":"ABS(OR(C403=0,AND(MaxInput>1,O403=INDEX(FFilter,AQ$5))))","v":1},null,null,null,null,null,null,null,null,null,null,{"$f":"ROW()","v":403}]
[396,"",null,null,null,null,null,null,null,null,null,null,"",{"$f":"IF(C404=0,\"\",INDEX(Objekt_Text,D404+1,2))","v":""},{"$f":"IF(C404=0,\"\",INDEX(Objekt_Text,D404+1,3))","v":""},"","",{"$f":"INDEX(Visum_Liste,F404+1)&\"\"","v":""},"","ZZ",0,0,0,0,0,0,3,"",{"$f":"MIN(IF(W404=$W$9:$W$2128,$E$9:$E$2128))","v":0},{"$f":"MAX(IF(W404=$W$9:$W$2128,$E$9:$E$2128))","v":0},396,1,1,null,null,1,null,"ZZ00000","00ZZ000",null,{"$f":"ABS(OR(C404=0,AND(MaxInput>1,M404=INDEX(FFilter,AO$5))))","v":1},{"$f":"ABS(OR(C404=0,AND(MaxInput>1,N404=INDEX(FFilter,AP$5))))","v":1},{"$f":"ABS(OR(C404=0,AND(MaxInput>1,O404=INDEX(FFilter,AQ$5))))","v":1},null,null,null,null,null,null,null,null,null,null,{"$f":"ROW()","v":404}]
[397,"",null,null,null,null,null,null,null,null,null,null,"",{"$f":"IF(C405=0,\"\",INDEX(Objekt_Text,D405+1,2))","v":""},{"$f":"IF(C405=0,\"\",INDEX(Objekt_Text,D405+1,3))","v":""},"","",{"$f":"INDEX(Visum_Liste,F405+1)&\"\"","v":""},"","ZZ",0,0,0,0,0,0,3,"",{"$f":"MIN(IF(W405=$W$9:$W$2128,$E$9:$E$2128))","v":0},{"$f":"MAX(IF(W405=$W$9:$W$2128,$E$9:$E$2128))","v":0},397,1,1,null,null,1,null,"ZZ00000","00ZZ000",null,{"$f":"ABS(OR(C405=0,AND(MaxInput>1,M405=INDEX(FFilter,AO$5))))","v":1},{"$f":"ABS(OR(C405=0,AND(MaxInput>1,N405=INDEX(FFilter,AP$5))))","v":1},{"$f":"ABS(OR(C405=0,AND(MaxInput>1,O405=INDEX(FFilter,AQ$5))))","v":1},null,null,null,null,null,null,null,null,null,null,{"$f":"ROW()","v":405}]
[398,"",null,null,null,null,null,null,null,null,null,null,"",{"$f":"IF(C406=0,\"\",INDEX(Objekt_Text,D406+1,2))","v":""},{"$f":"IF(C406=0,\"\",INDEX(Objekt_Text,D406+1,3))","v":""},"","",{"$f":"INDEX(Visum_Liste,F406+1)&\"\"","v":""},"","ZZ",0,0,0,0,0,0,3,"",{"$f":"MIN(IF(W406=$W$9:$W$2128,$E$9:$E$2128))","v":0},{"$f":"MAX(IF(W406=$W$9:$W$2128,$E$9:$E$2128))","v":0},398,1,1,null,null,1,null,"ZZ00000","00ZZ000",null,{"$f":"ABS(OR(C406=0,AND(MaxInput>1,M406=INDEX(FFilter,AO$5))))","v":1},{"$f":"ABS(OR(C406=0,AND(MaxInput>1,N406=INDEX(FFilter,AP$5))))","v":1},{"$f":"ABS(OR(C406=0,AND(MaxInput>1,O406=INDEX(FFilter,AQ$5))))","v":1},null,null,null,null,null,null,null,null,null,null,{"$f":"ROW()","v":406}]
[399,"",null,null,null,null,null,null,null,null,null,null,"",{"$f":"IF(C407=0,\"\",INDEX(Objekt_Text,D407+1,2))","v":""},{"$f":"IF(C407=0,\"\",INDEX(Objekt_Text,D407+1,3))","v":""},"","",{"$f":"INDEX(Visum_Liste,F407+1)&\"\"","v":""},"","ZZ",0,0,0,0,0,0,3,"",{"$f":"MIN(IF(W407=$W$9:$W$2128,$E$9:$E$2128))","v":0},{"$f":"MAX(IF(W407=$W$9:$W$2128,$E$9:$E$2128))","v":0},399,1,1,null,null,1,null,"ZZ00000","00ZZ000",null,{"$f":"ABS(OR(C407=0,AND(MaxInput>1,M407=INDEX(FFilter,AO$5))))","v":1},{"$f":"ABS(OR(C407=0,AND(MaxInput>1,N407=INDEX(FFilter,AP$5))))","v":1},{"$f":"ABS(OR(C407=0,AND(MaxInput>1,O407=INDEX(FFilter,AQ$5))))","v":1},null,null,null,null,null,null,null,null,null,null,{"$f":"ROW()","v":407}]
[400,"",null,null,null,null,null,null,null,null,null,null,"",{"$f":"IF(C408=0,\"\",INDEX(Objekt_Text,D408+1,2))","v":""},{"$f":"IF(C408=0,\"\",INDEX(Objekt_Text,D408+1,3))","v":""},"","",{"$f":"INDEX(Visum_Liste,F408+1)&\"\"","v":""},"","ZZ",0,0,0,0,0,0,3,"",{"$f":"MIN(IF(W408=$W$9:$W$2128,$E$9:$E$2128))","v":0},{"$f":"MAX(IF(W408=$W$9:$W$2128,$E$9:$E$2128))","v":0},400,1,1,null,null,1,null,"ZZ00000","00ZZ000",null,{"$f":"ABS(OR(C408=0,AND(MaxInput>1,M408=INDEX(FFilter,AO$5))))","v":1},{"$f":"ABS(OR(C408=0,AND(MaxInput>1,N408=INDEX(FFilter,AP$5))))","v":1},{"$f":"ABS(OR(C408=0,AND(MaxInput>1,O408=INDEX(FFilter,AQ$5))))","v":1},null,null,null,null,null,null,null,null,null,null,{"$f":"ROW()","v":408}]
[401,"",null,null,null,null,null,null,null,null,null,null,"",{"$f":"IF(C409=0,\"\",INDEX(Objekt_Text,D409+1,2))","v":""},{"$f":"IF(C409=0,\"\",INDEX(Objekt_Text,D409+1,3))","v":""},"","",{"$f":"INDEX(Visum_Liste,F409+1)&\"\"","v":""},"","ZZ",0,0,0,0,0,0,3,"",{"$f":"MIN(IF(W409=$W$9:$W$2128,$E$9:$E$2128))","v":0},{"$f":"MAX(IF(W409=$W$9:$W$2128,$E$9:$E$2128))","v":0},401,1,1,null,null,1,null,"ZZ00000","00ZZ000",null,{"$f":"ABS(OR(C409=0,AND(MaxInput>1,M409=INDEX(FFilter,AO$5))))","v":1},{"$f":"ABS(OR(C409=0,AND(MaxInput>1,N409=INDEX(FFilter,AP$5))))","v":1},{"$f":"ABS(OR(C409=0,AND(MaxInput>1,O409=INDEX(FFilter,AQ$5))))","v":1},null,null,null,null,null,null,null,null,null,null,{"$f":"ROW()","v":409}]
[402,"",null,null,null,null,null,null,null,null,null,null,"",{"$f":"IF(C410=0,\"\",INDEX(Objekt_Text,D410+1,2))","v":""},{"$f":"IF(C410=0,\"\",INDEX(Objekt_Text,D410+1,3))","v":""},"","",{"$f":"INDEX(Visum_Liste,F410+1)&\"\"","v":""},"","ZZ",0,0,0,0,0,0,3,"",{"$f":"MIN(IF(W410=$W$9:$W$2128,$E$9:$E$2128))","v":0},{"$f":"MAX(IF(W410=$W$9:$W$2128,$E$9:$E$2128))","v":0},402,1,1,null,null,1,null,"ZZ00000","00ZZ000",null,{"$f":"ABS(OR(C410=0,AND(MaxInput>1,M410=INDEX(FFilter,AO$5))))","v":1},{"$f":"ABS(OR(C410=0,AND(MaxInput>1,N410=INDEX(FFilter,AP$5))))","v":1},{"$f":"ABS(OR(C410=0,AND(MaxInput>1,O410=INDEX(FFilter,AQ$5))))","v":1},null,null,null,null,null,null,null,null,null,null,{"$f":"ROW()","v":410}]
[403,"",null,null,null,null,null,null,null,null,null,null,"",{"$f":"IF(C411=0,\"\",INDEX(Objekt_Text,D411+1,2))","v":""},{"$f":"IF(C411=0,\"\",INDEX(Objekt_Text,D411+1,3))","v":""},"","",{"$f":"INDEX(Visum_Liste,F411+1)&\"\"","v":""},"","ZZ",0,0,0,0,0,0,3,"",{"$f":"MIN(IF(W411=$W$9:$W$2128,$E$9:$E$2128))","v":0},{"$f":"MAX(IF(W411=$W$9:$W$2128,$E$9:$E$2128))","v":0},403,1,1,null,null,1,null,"ZZ00000","00ZZ000",null,{"$f":"ABS(OR(C411=0,AND(MaxInput>1,M411=INDEX(FFilter,AO$5))))","v":1},{"$f":"ABS(OR(C411=0,AND(MaxInput>1,N411=INDEX(FFilter,AP$5))))","v":1},{"$f":"ABS(OR(C411=0,AND(MaxInput>1,O411=INDEX(FFilter,AQ$5))))","v":1},null,null,null,null,null,null,null,null,null,null,{"$f":"ROW()","v":411}]
[404,"",null,null,null,null,null,null,null,null,null,null,"",{"$f":"IF(C412=0,\"\",INDEX(Objekt_Text,D412+1,2))","v":""},{"$f":"IF(C412=0,\"\",INDEX(Objekt_Text,D412+1,3))","v":""},"","",{"$f":"INDEX(Visum_Liste,F412+1)&\"\"","v":""},"","ZZ",0,0,0,0,0,0,3,"",{"$f":"MIN(IF(W412=$W$9:$W$2128,$E$9:$E$2128))","v":0},{"$f":"MAX(IF(W412=$W$9:$W$2128,$E$9:$E$2128))","v":0},404,1,1,null,null,1,null,"ZZ00000","00ZZ000",null,{"$f":"ABS(OR(C412=0,AND(MaxInput>1,M412=INDEX(FFilter,AO$5))))","v":1},{"$f":"ABS(OR(C412=0,AND(MaxInput>1,N412=INDEX(FFilter,AP$5))))","v":1},{"$f":"ABS(OR(C412=0,AND(MaxInput>1,O412=INDEX(FFilter,AQ$5))))","v":1},null,null,null,null,null,null,null,null,null,null,{"$f":"ROW()","v":412}]
[405,"",null,null,null,null,null,null,null,null,null,null,"",{"$f":"IF(C413=0,\"\",INDEX(Objekt_Text,D413+1,2))","v":""},{"$f":"IF(C413=0,\"\",INDEX(Objekt_Text,D413+1,3))","v":""},"","",{"$f":"INDEX(Visum_Liste,F413+1)&\"\"","v":""},"","ZZ",0,0,0,0,0,0,3,"",{"$f":"MIN(IF(W413=$W$9:$W$2128,$E$9:$E$2128))","v":0},{"$f":"MAX(IF(W413=$W$9:$W$2128,$E$9:$E$2128))","v":0},405,1,1,null,null,1,null,"ZZ00000","00ZZ000",null,{"$f":"ABS(OR(C413=0,AND(MaxInput>1,M413=INDEX(FFilter,AO$5))))","v":1},{"$f":"ABS(OR(C413=0,AND(MaxInput>1,N413=INDEX(FFilter,AP$5))))","v":1},{"$f":"ABS(OR(C413=0,AND(MaxInput>1,O413=INDEX(FFilter,AQ$5))))","v":1},null,null,null,null,null,null,null,null,null,null,{"$f":"ROW()","v":413}]
[406,"",null,null,null,null,null,null,null,null,null,null,"",{"$f":"IF(C414=0,\"\",INDEX(Objekt_Text,D414+1,2))","v":""},{"$f":"IF(C414=0,\"\",INDEX(Objekt_Text,D414+1,3))","v":""},"","",{"$f":"INDEX(Visum_Liste,F414+1)&\"\"","v":""},"","ZZ",0,0,0,0,0,0,3,"",{"$f":"MIN(IF(W414=$W$9:$W$2128,$E$9:$E$2128))","v":0},{"$f":"MAX(IF(W414=$W$9:$W$2128,$E$9:$E$2128))","v":0},406,1,1,null,null,1,null,"ZZ00000","00ZZ000",null,{"$f":"ABS(OR(C414=0,AND(MaxInput>1,M414=INDEX(FFilter,AO$5))))","v":1},{"$f":"ABS(OR(C414=0,AND(MaxInput>1,N414=INDEX(FFilter,AP$5))))","v":1},{"$f":"ABS(OR(C414=0,AND(MaxInput>1,O414=INDEX(FFilter,AQ$5))))","v":1},null,null,null,null,null,null,null,null,null,null,{"$f":"ROW()","v":414}]
[407,"",null,null,null,null,null,null,null,null,null,null,"",{"$f":"IF(C415=0,\"\",INDEX(Objekt_Text,D415+1,2))","v":""},{"$f":"IF(C415=0,\"\",INDEX(Objekt_Text,D415+1,3))","v":""},"","",{"$f":"INDEX(Visum_Liste,F415+1)&\"\"","v":""},"","ZZ",0,0,0,0,0,0,3,"",{"$f":"MIN(IF(W415=$W$9:$W$2128,$E$9:$E$2128))","v":0},{"$f":"MAX(IF(W415=$W$9:$W$2128,$E$9:$E$2128))","v":0},407,1,1,null,null,1,null,"ZZ00000","00ZZ000",null,{"$f":"ABS(OR(C415=0,AND(MaxInput>1,M415=INDEX(FFilter,AO$5))))","v":1},{"$f":"ABS(OR(C415=0,AND(MaxInput>1,N415=INDEX(FFilter,AP$5))))","v":1},{"$f":"ABS(OR(C415=0,AND(MaxInput>1,O415=INDEX(FFilter,AQ$5))))","v":1},null,null,null,null,null,null,null,null,null,null,{"$f":"ROW()","v":415}]
[408,"",null,null,null,null,null,null,null,null,null,null,"",{"$f":"IF(C416=0,\"\",INDEX(Objekt_Text,D416+1,2))","v":""},{"$f":"IF(C416=0,\"\",INDEX(Objekt_Text,D416+1,3))","v":""},"","",{"$f":"INDEX(Visum_Liste,F416+1)&\"\"","v":""},"","ZZ",0,0,0,0,0,0,3,"",{"$f":"MIN(IF(W416=$W$9:$W$2128,$E$9:$E$2128))","v":0},{"$f":"MAX(IF(W416=$W$9:$W$2128,$E$9:$E$2128))","v":0},408,1,1,null,null,1,null,"ZZ00000","00ZZ000",null,{"$f":"ABS(OR(C416=0,AND(MaxInput>1,M416=INDEX(FFilter,AO$5))))","v":1},{"$f":"ABS(OR(C416=0,AND(MaxInput>1,N416=INDEX(FFilter,AP$5))))","v":1},{"$f":"ABS(OR(C416=0,AND(MaxInput>1,O416=INDEX(FFilter,AQ$5))))","v":1},null,null,null,null,null,null,null,null,null,null,{"$f":"ROW()","v":416}]
[409,"",null,null,null,null,null,null,null,null,null,null,"",{"$f":"IF(C417=0,\"\",INDEX(Objekt_Text,D417+1,2))","v":""},{"$f":"IF(C417=0,\"\",INDEX(Objekt_Text,D417+1,3))","v":""},"","",{"$f":"INDEX(Visum_Liste,F417+1)&\"\"","v":""},"","ZZ",0,0,0,0,0,0,3,"",{"$f":"MIN(IF(W417=$W$9:$W$2128,$E$9:$E$2128))","v":0},{"$f":"MAX(IF(W417=$W$9:$W$2128,$E$9:$E$2128))","v":0},409,1,1,null,null,1,null,"ZZ00000","00ZZ000",null,{"$f":"ABS(OR(C417=0,AND(MaxInput>1,M417=INDEX(FFilter,AO$5))))","v":1},{"$f":"ABS(OR(C417=0,AND(MaxInput>1,N417=INDEX(FFilter,AP$5))))","v":1},{"$f":"ABS(OR(C417=0,AND(MaxInput>1,O417=INDEX(FFilter,AQ$5))))","v":1},null,null,null,null,null,null,null,null,null,null,{"$f":"ROW()","v":417}]
[410,"",null,null,null,null,null,null,null,null,null,null,"",{"$f":"IF(C418=0,\"\",INDEX(Objekt_Text,D418+1,2))","v":""},{"$f":"IF(C418=0,\"\",INDEX(Objekt_Text,D418+1,3))","v":""},"","",{"$f":"INDEX(Visum_Liste,F418+1)&\"\"","v":""},"","ZZ",0,0,0,0,0,0,3,"",{"$f":"MIN(IF(W418=$W$9:$W$2128,$E$9:$E$2128))","v":0},{"$f":"MAX(IF(W418=$W$9:$W$2128,$E$9:$E$2128))","v":0},410,1,1,null,null,1,null,"ZZ00000","00ZZ000",null,{"$f":"ABS(OR(C418=0,AND(MaxInput>1,M418=INDEX(FFilter,AO$5))))","v":1},{"$f":"ABS(OR(C418=0,AND(MaxInput>1,N418=INDEX(FFilter,AP$5))))","v":1},{"$f":"ABS(OR(C418=0,AND(MaxInput>1,O418=INDEX(FFilter,AQ$5))))","v":1},null,null,null,null,null,null,null,null,null,null,{"$f":"ROW()","v":418}]
[411,"",null,null,null,null,null,null,null,null,null,null,"",{"$f":"IF(C419=0,\"\",INDEX(Objekt_Text,D419+1,2))","v":""},{"$f":"IF(C419=0,\"\",INDEX(Objekt_Text,D419+1,3))","v":""},"","",{"$f":"INDEX(Visum_Liste,F419+1)&\"\"","v":""},"","ZZ",0,0,0,0,0,0,3,"",{"$f":"MIN(IF(W419=$W$9:$W$2128,$E$9:$E$2128))","v":0},{"$f":"MAX(IF(W419=$W$9:$W$2128,$E$9:$E$2128))","v":0},411,1,1,null,null,1,null,"ZZ00000","00ZZ000",null,{"$f":"ABS(OR(C419=0,AND(MaxInput>1,M419=INDEX(FFilter,AO$5))))","v":1},{"$f":"ABS(OR(C419=0,AND(MaxInput>1,N419=INDEX(FFilter,AP$5))))","v":1},{"$f":"ABS(OR(C419=0,AND(MaxInput>1,O419=INDEX(FFilter,AQ$5))))","v":1},null,null,null,null,null,null,null,null,null,null,{"$f":"ROW()","v":419}]
[412,"",null,null,null,null,null,null,null,null,null,null,"",{"$f":"IF(C420=0,\"\",INDEX(Objekt_Text,D420+1,2))","v":""},{"$f":"IF(C420=0,\"\",INDEX(Objekt_Text,D420+1,3))","v":""},"","",{"$f":"INDEX(Visum_Liste,F420+1)&\"\"","v":""},"","ZZ",0,0,0,0,0,0,3,"",{"$f":"MIN(IF(W420=$W$9:$W$2128,$E$9:$E$2128))","v":0},{"$f":"MAX(IF(W420=$W$9:$W$2128,$E$9:$E$2128))","v":0},412,1,1,null,null,1,null,"ZZ00000","00ZZ000",null,{"$f":"ABS(OR(C420=0,AND(MaxInput>1,M420=INDEX(FFilter,AO$5))))","v":1},{"$f":"ABS(OR(C420=0,AND(MaxInput>1,N420=INDEX(FFilter,AP$5))))","v":1},{"$f":"ABS(OR(C420=0,AND(MaxInput>1,O420=INDEX(FFilter,AQ$5))))","v":1},null,null,null,null,null,null,null,null,null,null,{"$f":"ROW()","v":420}]
[413,"",null,null,null,null,null,null,null,null,null,null,"",{"$f":"IF(C421=0,\"\",INDEX(Objekt_Text,D421+1,2))","v":""},{"$f":"IF(C421=0,\"\",INDEX(Objekt_Text,D421+1,3))","v":""},"","",{"$f":"INDEX(Visum_Liste,F421+1)&\"\"","v":""},"","ZZ",0,0,0,0,0,0,3,"",{"$f":"MIN(IF(W421=$W$9:$W$2128,$E$9:$E$2128))","v":0},{"$f":"MAX(IF(W421=$W$9:$W$2128,$E$9:$E$2128))","v":0},413,1,1,null,null,1,null,"ZZ00000","00ZZ000",null,{"$f":"ABS(OR(C421=0,AND(MaxInput>1,M421=INDEX(FFilter,AO$5))))","v":1},{"$f":"ABS(OR(C421=0,AND(MaxInput>1,N421=INDEX(FFilter,AP$5))))","v":1},{"$f":"ABS(OR(C421=0,AND(MaxInput>1,O421=INDEX(FFilter,AQ$5))))","v":1},null,null,null,null,null,null,null,null,null,null,{"$f":"ROW()","v":421}]
[414,"",null,null,null,null,null,null,null,null,null,null,"",{"$f":"IF(C422=0,\"\",INDEX(Objekt_Text,D422+1,2))","v":""},{"$f":"IF(C422=0,\"\",INDEX(Objekt_Text,D422+1,3))","v":""},"","",{"$f":"INDEX(Visum_Liste,F422+1)&\"\"","v":""},"","ZZ",0,0,0,0,0,0,3,"",{"$f":"MIN(IF(W422=$W$9:$W$2128,$E$9:$E$2128))","v":0},{"$f":"MAX(IF(W422=$W$9:$W$2128,$E$9:$E$2128))","v":0},414,1,1,null,null,1,null,"ZZ00000","00ZZ000",null,{"$f":"ABS(OR(C422=0,AND(MaxInput>1,M422=INDEX(FFilter,AO$5))))","v":1},{"$f":"ABS(OR(C422=0,AND(MaxInput>1,N422=INDEX(FFilter,AP$5))))","v":1},{"$f":"ABS(OR(C422=0,AND(MaxInput>1,O422=INDEX(FFilter,AQ$5))))","v":1},null,null,null,null,null,null,null,null,null,null,{"$f":"ROW()","v":422}]
[415,"",null,null,null,null,null,null,null,null,null,null,"",{"$f":"IF(C423=0,\"\",INDEX(Objekt_Text,D423+1,2))","v":""},{"$f":"IF(C423=0,\"\",INDEX(Objekt_Text,D423+1,3))","v":""},"","",{"$f":"INDEX(Visum_Liste,F423+1)&\"\"","v":""},"","ZZ",0,0,0,0,0,0,3,"",{"$f":"MIN(IF(W423=$W$9:$W$2128,$E$9:$E$2128))","v":0},{"$f":"MAX(IF(W423=$W$9:$W$2128,$E$9:$E$2128))","v":0},415,1,1,null,null,1,null,"ZZ00000","00ZZ000",null,{"$f":"ABS(OR(C423=0,AND(MaxInput>1,M423=INDEX(FFilter,AO$5))))","v":1},{"$f":"ABS(OR(C423=0,AND(MaxInput>1,N423=INDEX(FFilter,AP$5))))","v":1},{"$f":"ABS(OR(C423=0,AND(MaxInput>1,O423=INDEX(FFilter,AQ$5))))","v":1},null,null,null,null,null,null,null,null,null,null,{"$f":"ROW()","v":423}]
[416,"",null,null,null,null,null,null,null,null,null,null,"",{"$f":"IF(C424=0,\"\",INDEX(Objekt_Text,D424+1,2))","v":""},{"$f":"IF(C424=0,\"\",INDEX(Objekt_Text,D424+1,3))","v":""},"","",{"$f":"INDEX(Visum_Liste,F424+1)&\"\"","v":""},"","ZZ",0,0,0,0,0,0,3,"",{"$f":"MIN(IF(W424=$W$9:$W$2128,$E$9:$E$2128))","v":0},{"$f":"MAX(IF(W424=$W$9:$W$2128,$E$9:$E$2128))","v":0},416,1,1,null,null,1,null,"ZZ00000","00ZZ000",null,{"$f":"ABS(OR(C424=0,AND(MaxInput>1,M424=INDEX(FFilter,AO$5))))","v":1},{"$f":"ABS(OR(C424=0,AND(MaxInput>1,N424=INDEX(FFilter,AP$5))))","v":1},{"$f":"ABS(OR(C424=0,AND(MaxInput>1,O424=INDEX(FFilter,AQ$5))))","v":1},null,null,null,null,null,null,null,null,null,null,{"$f":"ROW()","v":424}]
[417,"",null,null,null,null,null,null,null,null,null,null,"",{"$f":"IF(C425=0,\"\",INDEX(Objekt_Text,D425+1,2))","v":""},{"$f":"IF(C425=0,\"\",INDEX(Objekt_Text,D425+1,3))","v":""},"","",{"$f":"INDEX(Visum_Liste,F425+1)&\"\"","v":""},"","ZZ",0,0,0,0,0,0,3,"",{"$f":"MIN(IF(W425=$W$9:$W$2128,$E$9:$E$2128))","v":0},{"$f":"MAX(IF(W425=$W$9:$W$2128,$E$9:$E$2128))","v":0},417,1,1,null,null,1,null,"ZZ00000","00ZZ000",null,{"$f":"ABS(OR(C425=0,AND(MaxInput>1,M425=INDEX(FFilter,AO$5))))","v":1},{"$f":"ABS(OR(C425=0,AND(MaxInput>1,N425=INDEX(FFilter,AP$5))))","v":1},{"$f":"ABS(OR(C425=0,AND(MaxInput>1,O425=INDEX(FFilter,AQ$5))))","v":1},null,null,null,null,null,null,null,null,null,null,{"$f":"ROW()","v":425}]
[418,"",null,null,null,null,null,null,null,null,null,null,"",{"$f":"IF(C426=0,\"\",INDEX(Objekt_Text,D426+1,2))","v":""},{"$f":"IF(C426=0,\"\",INDEX(Objekt_Text,D426+1,3))","v":""},"","",{"$f":"INDEX(Visum_Liste,F426+1)&\"\"","v":""},"","ZZ",0,0,0,0,0,0,3,"",{"$f":"MIN(IF(W426=$W$9:$W$2128,$E$9:$E$2128))","v":0},{"$f":"MAX(IF(W426=$W$9:$W$2128,$E$9:$E$2128))","v":0},418,1,1,null,null,1,null,"ZZ00000","00ZZ000",null,{"$f":"ABS(OR(C426=0,AND(MaxInput>1,M426=INDEX(FFilter,AO$5))))","v":1},{"$f":"ABS(OR(C426=0,AND(MaxInput>1,N426=INDEX(FFilter,AP$5))))","v":1},{"$f":"ABS(OR(C426=0,AND(MaxInput>1,O426=INDEX(FFilter,AQ$5))))","v":1},null,null,null,null,null,null,null,null,null,null,{"$f":"ROW()","v":426}]
[419,"",null,null,null,null,null,null,null,null,null,null,"",{"$f":"IF(C427=0,\"\",INDEX(Objekt_Text,D427+1,2))","v":""},{"$f":"IF(C427=0,\"\",INDEX(Objekt_Text,D427+1,3))","v":""},"","",{"$f":"INDEX(Visum_Liste,F427+1)&\"\"","v":""},"","ZZ",0,0,0,0,0,0,3,"",{"$f":"MIN(IF(W427=$W$9:$W$2128,$E$9:$E$2128))","v":0},{"$f":"MAX(IF(W427=$W$9:$W$2128,$E$9:$E$2128))","v":0},419,1,1,null,null,1,null,"ZZ00000","00ZZ000",null,{"$f":"ABS(OR(C427=0,AND(MaxInput>1,M427=INDEX(FFilter,AO$5))))","v":1},{"$f":"ABS(OR(C427=0,AND(MaxInput>1,N427=INDEX(FFilter,AP$5))))","v":1},{"$f":"ABS(OR(C427=0,AND(MaxInput>1,O427=INDEX(FFilter,AQ$5))))","v":1},null,null,null,null,null,null,null,null,null,null,{"$f":"ROW()","v":427}]
[420,"",null,null,null,null,null,null,null,null,null,null,"",{"$f":"IF(C428=0,\"\",INDEX(Objekt_Text,D428+1,2))","v":""},{"$f":"IF(C428=0,\"\",INDEX(Objekt_Text,D428+1,3))","v":""},"","",{"$f":"INDEX(Visum_Liste,F428+1)&\"\"","v":""},"","ZZ",0,0,0,0,0,0,3,"",{"$f":"MIN(IF(W428=$W$9:$W$2128,$E$9:$E$2128))","v":0},{"$f":"MAX(IF(W428=$W$9:$W$2128,$E$9:$E$2128))","v":0},420,1,1,null,null,1,null,"ZZ00000","00ZZ000",null,{"$f":"ABS(OR(C428=0,AND(MaxInput>1,M428=INDEX(FFilter,AO$5))))","v":1},{"$f":"ABS(OR(C428=0,AND(MaxInput>1,N428=INDEX(FFilter,AP$5))))","v":1},{"$f":"ABS(OR(C428=0,AND(MaxInput>1,O428=INDEX(FFilter,AQ$5))))","v":1},null,null,null,null,null,null,null,null,null,null,{"$f":"ROW()","v":428}]
[421,"",null,null,null,null,null,null,null,null,null,null,"",{"$f":"IF(C429=0,\"\",INDEX(Objekt_Text,D429+1,2))","v":""},{"$f":"IF(C429=0,\"\",INDEX(Objekt_Text,D429+1,3))","v":""},"","",{"$f":"INDEX(Visum_Liste,F429+1)&\"\"","v":""},"","ZZ",0,0,0,0,0,0,3,"",{"$f":"MIN(IF(W429=$W$9:$W$2128,$E$9:$E$2128))","v":0},{"$f":"MAX(IF(W429=$W$9:$W$2128,$E$9:$E$2128))","v":0},421,1,1,null,null,1,null,"ZZ00000","00ZZ000",null,{"$f":"ABS(OR(C429=0,AND(MaxInput>1,M429=INDEX(FFilter,AO$5))))","v":1},{"$f":"ABS(OR(C429=0,AND(MaxInput>1,N429=INDEX(FFilter,AP$5))))","v":1},{"$f":"ABS(OR(C429=0,AND(MaxInput>1,O429=INDEX(FFilter,AQ$5))))","v":1},null,null,null,null,null,null,null,null,null,null,{"$f":"ROW()","v":429}]
[422,"",null,null,null,null,null,null,null,null,null,null,"",{"$f":"IF(C430=0,\"\",INDEX(Objekt_Text,D430+1,2))","v":""},{"$f":"IF(C430=0,\"\",INDEX(Objekt_Text,D430+1,3))","v":""},"","",{"$f":"INDEX(Visum_Liste,F430+1)&\"\"","v":""},"","ZZ",0,0,0,0,0,0,3,"",{"$f":"MIN(IF(W430=$W$9:$W$2128,$E$9:$E$2128))","v":0},{"$f":"MAX(IF(W430=$W$9:$W$2128,$E$9:$E$2128))","v":0},422,1,1,null,null,1,null,"ZZ00000","00ZZ000",null,{"$f":"ABS(OR(C430=0,AND(MaxInput>1,M430=INDEX(FFilter,AO$5))))","v":1},{"$f":"ABS(OR(C430=0,AND(MaxInput>1,N430=INDEX(FFilter,AP$5))))","v":1},{"$f":"ABS(OR(C430=0,AND(MaxInput>1,O430=INDEX(FFilter,AQ$5))))","v":1},null,null,null,null,null,null,null,null,null,null,{"$f":"ROW()","v":430}]
[423,"",null,null,null,null,null,null,null,null,null,null,"",{"$f":"IF(C431=0,\"\",INDEX(Objekt_Text,D431+1,2))","v":""},{"$f":"IF(C431=0,\"\",INDEX(Objekt_Text,D431+1,3))","v":""},"","",{"$f":"INDEX(Visum_Liste,F431+1)&\"\"","v":""},"","ZZ",0,0,0,0,0,0,3,"",{"$f":"MIN(IF(W431=$W$9:$W$2128,$E$9:$E$2128))","v":0},{"$f":"MAX(IF(W431=$W$9:$W$2128,$E$9:$E$2128))","v":0},423,1,1,null,null,1,null,"ZZ00000","00ZZ000",null,{"$f":"ABS(OR(C431=0,AND(MaxInput>1,M431=INDEX(FFilter,AO$5))))","v":1},{"$f":"ABS(OR(C431=0,AND(MaxInput>1,N431=INDEX(FFilter,AP$5))))","v":1},{"$f":"ABS(OR(C431=0,AND(MaxInput>1,O431=INDEX(FFilter,AQ$5))))","v":1},null,null,null,null,null,null,null,null,null,null,{"$f":"ROW()","v":431}]
[424,"",null,null,null,null,null,null,null,null,null,null,"",{"$f":"IF(C432=0,\"\",INDEX(Objekt_Text,D432+1,2))","v":""},{"$f":"IF(C432=0,\"\",INDEX(Objekt_Text,D432+1,3))","v":""},"","",{"$f":"INDEX(Visum_Liste,F432+1)&\"\"","v":""},"","ZZ",0,0,0,0,0,0,3,"",{"$f":"MIN(IF(W432=$W$9:$W$2128,$E$9:$E$2128))","v":0},{"$f":"MAX(IF(W432=$W$9:$W$2128,$E$9:$E$2128))","v":0},424,1,1,null,null,1,null,"ZZ00000","00ZZ000",null,{"$f":"ABS(OR(C432=0,AND(MaxInput>1,M432=INDEX(FFilter,AO$5))))","v":1},{"$f":"ABS(OR(C432=0,AND(MaxInput>1,N432=INDEX(FFilter,AP$5))))","v":1},{"$f":"ABS(OR(C432=0,AND(MaxInput>1,O432=INDEX(FFilter,AQ$5))))","v":1},null,null,null,null,null,null,null,null,null,null,{"$f":"ROW()","v":432}]
[425,"",null,null,null,null,null,null,null,null,null,null,"",{"$f":"IF(C433=0,\"\",INDEX(Objekt_Text,D433+1,2))","v":""},{"$f":"IF(C433=0,\"\",INDEX(Objekt_Text,D433+1,3))","v":""},"","",{"$f":"INDEX(Visum_Liste,F433+1)&\"\"","v":""},"","ZZ",0,0,0,0,0,0,3,"",{"$f":"MIN(IF(W433=$W$9:$W$2128,$E$9:$E$2128))","v":0},{"$f":"MAX(IF(W433=$W$9:$W$2128,$E$9:$E$2128))","v":0},425,1,1,null,null,1,null,"ZZ00000","00ZZ000",null,{"$f":"ABS(OR(C433=0,AND(MaxInput>1,M433=INDEX(FFilter,AO$5))))","v":1},{"$f":"ABS(OR(C433=0,AND(MaxInput>1,N433=INDEX(FFilter,AP$5))))","v":1},{"$f":"ABS(OR(C433=0,AND(MaxInput>1,O433=INDEX(FFilter,AQ$5))))","v":1},null,null,null,null,null,null,null,null,null,null,{"$f":"ROW()","v":433}]
[426,"",null,null,null,null,null,null,null,null,null,null,"",{"$f":"IF(C434=0,\"\",INDEX(Objekt_Text,D434+1,2))","v":""},{"$f":"IF(C434=0,\"\",INDEX(Objekt_Text,D434+1,3))","v":""},"","",{"$f":"INDEX(Visum_Liste,F434+1)&\"\"","v":""},"","ZZ",0,0,0,0,0,0,3,"",{"$f":"MIN(IF(W434=$W$9:$W$2128,$E$9:$E$2128))","v":0},{"$f":"MAX(IF(W434=$W$9:$W$2128,$E$9:$E$2128))","v":0},426,1,1,null,null,1,null,"ZZ00000","00ZZ000",null,{"$f":"ABS(OR(C434=0,AND(MaxInput>1,M434=INDEX(FFilter,AO$5))))","v":1},{"$f":"ABS(OR(C434=0,AND(MaxInput>1,N434=INDEX(FFilter,AP$5))))","v":1},{"$f":"ABS(OR(C434=0,AND(MaxInput>1,O434=INDEX(FFilter,AQ$5))))","v":1},null,null,null,null,null,null,null,null,null,null,{"$f":"ROW()","v":434}]
[427,"",null,null,null,null,null,null,null,null,null,null,"",{"$f":"IF(C435=0,\"\",INDEX(Objekt_Text,D435+1,2))","v":""},{"$f":"IF(C435=0,\"\",INDEX(Objekt_Text,D435+1,3))","v":""},"","",{"$f":"INDEX(Visum_Liste,F435+1)&\"\"","v":""},"","ZZ",0,0,0,0,0,0,3,"",{"$f":"MIN(IF(W435=$W$9:$W$2128,$E$9:$E$2128))","v":0},{"$f":"MAX(IF(W435=$W$9:$W$2128,$E$9:$E$2128))","v":0},427,1,1,null,null,1,null,"ZZ00000","00ZZ000",null,{"$f":"ABS(OR(C435=0,AND(MaxInput>1,M435=INDEX(FFilter,AO$5))))","v":1},{"$f":"ABS(OR(C435=0,AND(MaxInput>1,N435=INDEX(FFilter,AP$5))))","v":1},{"$f":"ABS(OR(C435=0,AND(MaxInput>1,O435=INDEX(FFilter,AQ$5))))","v":1},null,null,null,null,null,null,null,null,null,null,{"$f":"ROW()","v":435}]
[428,"",null,null,null,null,null,null,null,null,null,null,"",{"$f":"IF(C436=0,\"\",INDEX(Objekt_Text,D436+1,2))","v":""},{"$f":"IF(C436=0,\"\",INDEX(Objekt_Text,D436+1,3))","v":""},"","",{"$f":"INDEX(Visum_Liste,F436+1)&\"\"","v":""},"","ZZ",0,0,0,0,0,0,3,"",{"$f":"MIN(IF(W436=$W$9:$W$2128,$E$9:$E$2128))","v":0},{"$f":"MAX(IF(W436=$W$9:$W$2128,$E$9:$E$2128))","v":0},428,1,1,null,null,1,null,"ZZ00000","00ZZ000",null,{"$f":"ABS(OR(C436=0,AND(MaxInput>1,M436=INDEX(FFilter,AO$5))))","v":1},{"$f":"ABS(OR(C436=0,AND(MaxInput>1,N436=INDEX(FFilter,AP$5))))","v":1},{"$f":"ABS(OR(C436=0,AND(MaxInput>1,O436=INDEX(FFilter,AQ$5))))","v":1},null,null,null,null,null,null,null,null,null,null,{"$f":"ROW()","v":436}]
[429,"",null,null,null,null,null,null,null,null,null,null,"",{"$f":"IF(C437=0,\"\",INDEX(Objekt_Text,D437+1,2))","v":""},{"$f":"IF(C437=0,\"\",INDEX(Objekt_Text,D437+1,3))","v":""},"","",{"$f":"INDEX(Visum_Liste,F437+1)&\"\"","v":""},"","ZZ",0,0,0,0,0,0,3,"",{"$f":"MIN(IF(W437=$W$9:$W$2128,$E$9:$E$2128))","v":0},{"$f":"MAX(IF(W437=$W$9:$W$2128,$E$9:$E$2128))","v":0},429,1,1,null,null,1,null,"ZZ00000","00ZZ000",null,{"$f":"ABS(OR(C437=0,AND(MaxInput>1,M437=INDEX(FFilter,AO$5))))","v":1},{"$f":"ABS(OR(C437=0,AND(MaxInput>1,N437=INDEX(FFilter,AP$5))))","v":1},{"$f":"ABS(OR(C437=0,AND(MaxInput>1,O437=INDEX(FFilter,AQ$5))))","v":1},null,null,null,null,null,null,null,null,null,null,{"$f":"ROW()","v":437}]
[430,"",null,null,null,null,null,null,null,null,null,null,"",{"$f":"IF(C438=0,\"\",INDEX(Objekt_Text,D438+1,2))","v":""},{"$f":"IF(C438=0,\"\",INDEX(Objekt_Text,D438+1,3))","v":""},"","",{"$f":"INDEX(Visum_Liste,F438+1)&\"\"","v":""},"","ZZ",0,0,0,0,0,0,3,"",{"$f":"MIN(IF(W438=$W$9:$W$2128,$E$9:$E$2128))","v":0},{"$f":"MAX(IF(W438=$W$9:$W$2128,$E$9:$E$2128))","v":0},430,1,1,null,null,1,null,"ZZ00000","00ZZ000",null,{"$f":"ABS(OR(C438=0,AND(MaxInput>1,M438=INDEX(FFilter,AO$5))))","v":1},{"$f":"ABS(OR(C438=0,AND(MaxInput>1,N438=INDEX(FFilter,AP$5))))","v":1},{"$f":"ABS(OR(C438=0,AND(MaxInput>1,O438=INDEX(FFilter,AQ$5))))","v":1},null,null,null,null,null,null,null,null,null,null,{"$f":"ROW()","v":438}]
[431,"",null,null,null,null,null,null,null,null,null,null,"",{"$f":"IF(C439=0,\"\",INDEX(Objekt_Text,D439+1,2))","v":""},{"$f":"IF(C439=0,\"\",INDEX(Objekt_Text,D439+1,3))","v":""},"","",{"$f":"INDEX(Visum_Liste,F439+1)&\"\"","v":""},"","ZZ",0,0,0,0,0,0,3,"",{"$f":"MIN(IF(W439=$W$9:$W$2128,$E$9:$E$2128))","v":0},{"$f":"MAX(IF(W439=$W$9:$W$2128,$E$9:$E$2128))","v":0},431,1,1,null,null,1,null,"ZZ00000","00ZZ000",null,{"$f":"ABS(OR(C439=0,AND(MaxInput>1,M439=INDEX(FFilter,AO$5))))","v":1},{"$f":"ABS(OR(C439=0,AND(MaxInput>1,N439=INDEX(FFilter,AP$5))))","v":1},{"$f":"ABS(OR(C439=0,AND(MaxInput>1,O439=INDEX(FFilter,AQ$5))))","v":1},null,null,null,null,null,null,null,null,null,null,{"$f":"ROW()","v":439}]
[432,"",null,null,null,null,null,null,null,null,null,null,"",{"$f":"IF(C440=0,\"\",INDEX(Objekt_Text,D440+1,2))","v":""},{"$f":"IF(C440=0,\"\",INDEX(Objekt_Text,D440+1,3))","v":""},"","",{"$f":"INDEX(Visum_Liste,F440+1)&\"\"","v":""},"","ZZ",0,0,0,0,0,0,3,"",{"$f":"MIN(IF(W440=$W$9:$W$2128,$E$9:$E$2128))","v":0},{"$f":"MAX(IF(W440=$W$9:$W$2128,$E$9:$E$2128))","v":0},432,1,1,null,null,1,null,"ZZ00000","00ZZ000",null,{"$f":"ABS(OR(C440=0,AND(MaxInput>1,M440=INDEX(FFilter,AO$5))))","v":1},{"$f":"ABS(OR(C440=0,AND(MaxInput>1,N440=INDEX(FFilter,AP$5))))","v":1},{"$f":"ABS(OR(C440=0,AND(MaxInput>1,O440=INDEX(FFilter,AQ$5))))","v":1},null,null,null,null,null,null,null,null,null,null,{"$f":"ROW()","v":440}]
[433,"",null,null,null,null,null,null,null,null,null,null,"",{"$f":"IF(C441=0,\"\",INDEX(Objekt_Text,D441+1,2))","v":""},{"$f":"IF(C441=0,\"\",INDEX(Objekt_Text,D441+1,3))","v":""},"","",{"$f":"INDEX(Visum_Liste,F441+1)&\"\"","v":""},"","ZZ",0,0,0,0,0,0,3,"",{"$f":"MIN(IF(W441=$W$9:$W$2128,$E$9:$E$2128))","v":0},{"$f":"MAX(IF(W441=$W$9:$W$2128,$E$9:$E$2128))","v":0},433,1,1,null,null,1,null,"ZZ00000","00ZZ000",null,{"$f":"ABS(OR(C441=0,AND(MaxInput>1,M441=INDEX(FFilter,AO$5))))","v":1},{"$f":"ABS(OR(C441=0,AND(MaxInput>1,N441=INDEX(FFilter,AP$5))))","v":1},{"$f":"ABS(OR(C441=0,AND(MaxInput>1,O441=INDEX(FFilter,AQ$5))))","v":1},null,null,null,null,null,null,null,null,null,null,{"$f":"ROW()","v":441}]
[434,"",null,null,null,null,null,null,null,null,null,null,"",{"$f":"IF(C442=0,\"\",INDEX(Objekt_Text,D442+1,2))","v":""},{"$f":"IF(C442=0,\"\",INDEX(Objekt_Text,D442+1,3))","v":""},"","",{"$f":"INDEX(Visum_Liste,F442+1)&\"\"","v":""},"","ZZ",0,0,0,0,0,0,3,"",{"$f":"MIN(IF(W442=$W$9:$W$2128,$E$9:$E$2128))","v":0},{"$f":"MAX(IF(W442=$W$9:$W$2128,$E$9:$E$2128))","v":0},434,1,1,null,null,1,null,"ZZ00000","00ZZ000",null,{"$f":"ABS(OR(C442=0,AND(MaxInput>1,M442=INDEX(FFilter,AO$5))))","v":1},{"$f":"ABS(OR(C442=0,AND(MaxInput>1,N442=INDEX(FFilter,AP$5))))","v":1},{"$f":"ABS(OR(C442=0,AND(MaxInput>1,O442=INDEX(FFilter,AQ$5))))","v":1},null,null,null,null,null,null,null,null,null,null,{"$f":"ROW()","v":442}]
[435,"",null,null,null,null,null,null,null,null,null,null,"",{"$f":"IF(C443=0,\"\",INDEX(Objekt_Text,D443+1,2))","v":""},{"$f":"IF(C443=0,\"\",INDEX(Objekt_Text,D443+1,3))","v":""},"","",{"$f":"INDEX(Visum_Liste,F443+1)&\"\"","v":""},"","ZZ",0,0,0,0,0,0,3,"",{"$f":"MIN(IF(W443=$W$9:$W$2128,$E$9:$E$2128))","v":0},{"$f":"MAX(IF(W443=$W$9:$W$2128,$E$9:$E$2128))","v":0},435,1,1,null,null,1,null,"ZZ00000","00ZZ000",null,{"$f":"ABS(OR(C443=0,AND(MaxInput>1,M443=INDEX(FFilter,AO$5))))","v":1},{"$f":"ABS(OR(C443=0,AND(MaxInput>1,N443=INDEX(FFilter,AP$5))))","v":1},{"$f":"ABS(OR(C443=0,AND(MaxInput>1,O443=INDEX(FFilter,AQ$5))))","v":1},null,null,null,null,null,null,null,null,null,null,{"$f":"ROW()","v":443}]
[436,"",null,null,null,null,null,null,null,null,null,null,"",{"$f":"IF(C444=0,\"\",INDEX(Objekt_Text,D444+1,2))","v":""},{"$f":"IF(C444=0,\"\",INDEX(Objekt_Text,D444+1,3))","v":""},"","",{"$f":"INDEX(Visum_Liste,F444+1)&\"\"","v":""},"","ZZ",0,0,0,0,0,0,3,"",{"$f":"MIN(IF(W444=$W$9:$W$2128,$E$9:$E$2128))","v":0},{"$f":"MAX(IF(W444=$W$9:$W$2128,$E$9:$E$2128))","v":0},436,1,1,null,null,1,null,"ZZ00000","00ZZ000",null,{"$f":"ABS(OR(C444=0,AND(MaxInput>1,M444=INDEX(FFilter,AO$5))))","v":1},{"$f":"ABS(OR(C444=0,AND(MaxInput>1,N444=INDEX(FFilter,AP$5))))","v":1},{"$f":"ABS(OR(C444=0,AND(MaxInput>1,O444=INDEX(FFilter,AQ$5))))","v":1},null,null,null,null,null,null,null,null,null,null,{"$f":"ROW()","v":444}]
[437,"",null,null,null,null,null,null,null,null,null,null,"",{"$f":"IF(C445=0,\"\",INDEX(Objekt_Text,D445+1,2))","v":""},{"$f":"IF(C445=0,\"\",INDEX(Objekt_Text,D445+1,3))","v":""},"","",{"$f":"INDEX(Visum_Liste,F445+1)&\"\"","v":""},"","ZZ",0,0,0,0,0,0,3,"",{"$f":"MIN(IF(W445=$W$9:$W$2128,$E$9:$E$2128))","v":0},{"$f":"MAX(IF(W445=$W$9:$W$2128,$E$9:$E$2128))","v":0},437,1,1,null,null,1,null,"ZZ00000","00ZZ000",null,{"$f":"ABS(OR(C445=0,AND(MaxInput>1,M445=INDEX(FFilter,AO$5))))","v":1},{"$f":"ABS(OR(C445=0,AND(MaxInput>1,N445=INDEX(FFilter,AP$5))))","v":1},{"$f":"ABS(OR(C445=0,AND(MaxInput>1,O445=INDEX(FFilter,AQ$5))))","v":1},null,null,null,null,null,null,null,null,null,null,{"$f":"ROW()","v":445}]
[438,"",null,null,null,null,null,null,null,null,null,null,"",{"$f":"IF(C446=0,\"\",INDEX(Objekt_Text,D446+1,2))","v":""},{"$f":"IF(C446=0,\"\",INDEX(Objekt_Text,D446+1,3))","v":""},"","",{"$f":"INDEX(Visum_Liste,F446+1)&\"\"","v":""},"","ZZ",0,0,0,0,0,0,3,"",{"$f":"MIN(IF(W446=$W$9:$W$2128,$E$9:$E$2128))","v":0},{"$f":"MAX(IF(W446=$W$9:$W$2128,$E$9:$E$2128))","v":0},438,1,1,null,null,1,null,"ZZ00000","00ZZ000",null,{"$f":"ABS(OR(C446=0,AND(MaxInput>1,M446=INDEX(FFilter,AO$5))))","v":1},{"$f":"ABS(OR(C446=0,AND(MaxInput>1,N446=INDEX(FFilter,AP$5))))","v":1},{"$f":"ABS(OR(C446=0,AND(MaxInput>1,O446=INDEX(FFilter,AQ$5))))","v":1},null,null,null,null,null,null,null,null,null,null,{"$f":"ROW()","v":446}]
[439,"",null,null,null,null,null,null,null,null,null,null,"",{"$f":"IF(C447=0,\"\",INDEX(Objekt_Text,D447+1,2))","v":""},{"$f":"IF(C447=0,\"\",INDEX(Objekt_Text,D447+1,3))","v":""},"","",{"$f":"INDEX(Visum_Liste,F447+1)&\"\"","v":""},"","ZZ",0,0,0,0,0,0,3,"",{"$f":"MIN(IF(W447=$W$9:$W$2128,$E$9:$E$2128))","v":0},{"$f":"MAX(IF(W447=$W$9:$W$2128,$E$9:$E$2128))","v":0},439,1,1,null,null,1,null,"ZZ00000","00ZZ000",null,{"$f":"ABS(OR(C447=0,AND(MaxInput>1,M447=INDEX(FFilter,AO$5))))","v":1},{"$f":"ABS(OR(C447=0,AND(MaxInput>1,N447=INDEX(FFilter,AP$5))))","v":1},{"$f":"ABS(OR(C447=0,AND(MaxInput>1,O447=INDEX(FFilter,AQ$5))))","v":1},null,null,null,null,null,null,null,null,null,null,{"$f":"ROW()","v":447}]
[440,"",null,null,null,null,null,null,null,null,null,null,"",{"$f":"IF(C448=0,\"\",INDEX(Objekt_Text,D448+1,2))","v":""},{"$f":"IF(C448=0,\"\",INDEX(Objekt_Text,D448+1,3))","v":""},"","",{"$f":"INDEX(Visum_Liste,F448+1)&\"\"","v":""},"","ZZ",0,0,0,0,0,0,3,"",{"$f":"MIN(IF(W448=$W$9:$W$2128,$E$9:$E$2128))","v":0},{"$f":"MAX(IF(W448=$W$9:$W$2128,$E$9:$E$2128))","v":0},440,1,1,null,null,1,null,"ZZ00000","00ZZ000",null,{"$f":"ABS(OR(C448=0,AND(MaxInput>1,M448=INDEX(FFilter,AO$5))))","v":1},{"$f":"ABS(OR(C448=0,AND(MaxInput>1,N448=INDEX(FFilter,AP$5))))","v":1},{"$f":"ABS(OR(C448=0,AND(MaxInput>1,O448=INDEX(FFilter,AQ$5))))","v":1},null,null,null,null,null,null,null,null,null,null,{"$f":"ROW()","v":448}]
[441,"",null,null,null,null,null,null,null,null,null,null,"",{"$f":"IF(C449=0,\"\",INDEX(Objekt_Text,D449+1,2))","v":""},{"$f":"IF(C449=0,\"\",INDEX(Objekt_Text,D449+1,3))","v":""},"","",{"$f":"INDEX(Visum_Liste,F449+1)&\"\"","v":""},"","ZZ",0,0,0,0,0,0,3,"",{"$f":"MIN(IF(W449=$W$9:$W$2128,$E$9:$E$2128))","v":0},{"$f":"MAX(IF(W449=$W$9:$W$2128,$E$9:$E$2128))","v":0},441,1,1,null,null,1,null,"ZZ00000","00ZZ000",null,{"$f":"ABS(OR(C449=0,AND(MaxInput>1,M449=INDEX(FFilter,AO$5))))","v":1},{"$f":"ABS(OR(C449=0,AND(MaxInput>1,N449=INDEX(FFilter,AP$5))))","v":1},{"$f":"ABS(OR(C449=0,AND(MaxInput>1,O449=INDEX(FFilter,AQ$5))))","v":1},null,null,null,null,null,null,null,null,null,null,{"$f":"ROW()","v":449}]
[442,"",null,null,null,null,null,null,null,null,null,null,"",{"$f":"IF(C450=0,\"\",INDEX(Objekt_Text,D450+1,2))","v":""},{"$f":"IF(C450=0,\"\",INDEX(Objekt_Text,D450+1,3))","v":""},"","",{"$f":"INDEX(Visum_Liste,F450+1)&\"\"","v":""},"","ZZ",0,0,0,0,0,0,3,"",{"$f":"MIN(IF(W450=$W$9:$W$2128,$E$9:$E$2128))","v":0},{"$f":"MAX(IF(W450=$W$9:$W$2128,$E$9:$E$2128))","v":0},442,1,1,null,null,1,null,"ZZ00000","00ZZ000",null,{"$f":"ABS(OR(C450=0,AND(MaxInput>1,M450=INDEX(FFilter,AO$5))))","v":1},{"$f":"ABS(OR(C450=0,AND(MaxInput>1,N450=INDEX(FFilter,AP$5))))","v":1},{"$f":"ABS(OR(C450=0,AND(MaxInput>1,O450=INDEX(FFilter,AQ$5))))","v":1},null,null,null,null,null,null,null,null,null,null,{"$f":"ROW()","v":450}]
[443,"",null,null,null,null,null,null,null,null,null,null,"",{"$f":"IF(C451=0,\"\",INDEX(Objekt_Text,D451+1,2))","v":""},{"$f":"IF(C451=0,\"\",INDEX(Objekt_Text,D451+1,3))","v":""},"","",{"$f":"INDEX(Visum_Liste,F451+1)&\"\"","v":""},"","ZZ",0,0,0,0,0,0,3,"",{"$f":"MIN(IF(W451=$W$9:$W$2128,$E$9:$E$2128))","v":0},{"$f":"MAX(IF(W451=$W$9:$W$2128,$E$9:$E$2128))","v":0},443,1,1,null,null,1,null,"ZZ00000","00ZZ000",null,{"$f":"ABS(OR(C451=0,AND(MaxInput>1,M451=INDEX(FFilter,AO$5))))","v":1},{"$f":"ABS(OR(C451=0,AND(MaxInput>1,N451=INDEX(FFilter,AP$5))))","v":1},{"$f":"ABS(OR(C451=0,AND(MaxInput>1,O451=INDEX(FFilter,AQ$5))))","v":1},null,null,null,null,null,null,null,null,null,null,{"$f":"ROW()","v":451}]
[444,"",null,null,null,null,null,null,null,null,null,null,"",{"$f":"IF(C452=0,\"\",INDEX(Objekt_Text,D452+1,2))","v":""},{"$f":"IF(C452=0,\"\",INDEX(Objekt_Text,D452+1,3))","v":""},"","",{"$f":"INDEX(Visum_Liste,F452+1)&\"\"","v":""},"","ZZ",0,0,0,0,0,0,3,"",{"$f":"MIN(IF(W452=$W$9:$W$2128,$E$9:$E$2128))","v":0},{"$f":"MAX(IF(W452=$W$9:$W$2128,$E$9:$E$2128))","v":0},444,1,1,null,null,1,null,"ZZ00000","00ZZ000",null,{"$f":"ABS(OR(C452=0,AND(MaxInput>1,M452=INDEX(FFilter,AO$5))))","v":1},{"$f":"ABS(OR(C452=0,AND(MaxInput>1,N452=INDEX(FFilter,AP$5))))","v":1},{"$f":"ABS(OR(C452=0,AND(MaxInput>1,O452=INDEX(FFilter,AQ$5))))","v":1},null,null,null,null,null,null,null,null,null,null,{"$f":"ROW()","v":452}]
[445,"",null,null,null,null,null,null,null,null,null,null,"",{"$f":"IF(C453=0,\"\",INDEX(Objekt_Text,D453+1,2))","v":""},{"$f":"IF(C453=0,\"\",INDEX(Objekt_Text,D453+1,3))","v":""},"","",{"$f":"INDEX(Visum_Liste,F453+1)&\"\"","v":""},"","ZZ",0,0,0,0,0,0,3,"",{"$f":"MIN(IF(W453=$W$9:$W$2128,$E$9:$E$2128))","v":0},{"$f":"MAX(IF(W453=$W$9:$W$2128,$E$9:$E$2128))","v":0},445,1,1,null,null,1,null,"ZZ00000","00ZZ000",null,{"$f":"ABS(OR(C453=0,AND(MaxInput>1,M453=INDEX(FFilter,AO$5))))","v":1},{"$f":"ABS(OR(C453=0,AND(MaxInput>1,N453=INDEX(FFilter,AP$5))))","v":1},{"$f":"ABS(OR(C453=0,AND(MaxInput>1,O453=INDEX(FFilter,AQ$5))))","v":1},null,null,null,null,null,null,null,null,null,null,{"$f":"ROW()","v":453}]
[446,"",null,null,null,null,null,null,null,null,null,null,"",{"$f":"IF(C454=0,\"\",INDEX(Objekt_Text,D454+1,2))","v":""},{"$f":"IF(C454=0,\"\",INDEX(Objekt_Text,D454+1,3))","v":""},"","",{"$f":"INDEX(Visum_Liste,F454+1)&\"\"","v":""},"","ZZ",0,0,0,0,0,0,3,"",{"$f":"MIN(IF(W454=$W$9:$W$2128,$E$9:$E$2128))","v":0},{"$f":"MAX(IF(W454=$W$9:$W$2128,$E$9:$E$2128))","v":0},446,1,1,null,null,1,null,"ZZ00000","00ZZ000",null,{"$f":"ABS(OR(C454=0,AND(MaxInput>1,M454=INDEX(FFilter,AO$5))))","v":1},{"$f":"ABS(OR(C454=0,AND(MaxInput>1,N454=INDEX(FFilter,AP$5))))","v":1},{"$f":"ABS(OR(C454=0,AND(MaxInput>1,O454=INDEX(FFilter,AQ$5))))","v":1},null,null,null,null,null,null,null,null,null,null,{"$f":"ROW()","v":454}]
[447,"",null,null,null,null,null,null,null,null,null,null,"",{"$f":"IF(C455=0,\"\",INDEX(Objekt_Text,D455+1,2))","v":""},{"$f":"IF(C455=0,\"\",INDEX(Objekt_Text,D455+1,3))","v":""},"","",{"$f":"INDEX(Visum_Liste,F455+1)&\"\"","v":""},"","ZZ",0,0,0,0,0,0,3,"",{"$f":"MIN(IF(W455=$W$9:$W$2128,$E$9:$E$2128))","v":0},{"$f":"MAX(IF(W455=$W$9:$W$2128,$E$9:$E$2128))","v":0},447,1,1,null,null,1,null,"ZZ00000","00ZZ000",null,{"$f":"ABS(OR(C455=0,AND(MaxInput>1,M455=INDEX(FFilter,AO$5))))","v":1},{"$f":"ABS(OR(C455=0,AND(MaxInput>1,N455=INDEX(FFilter,AP$5))))","v":1},{"$f":"ABS(OR(C455=0,AND(MaxInput>1,O455=INDEX(FFilter,AQ$5))))","v":1},null,null,null,null,null,null,null,null,null,null,{"$f":"ROW()","v":455}]
[448,"",null,null,null,null,null,null,null,null,null,null,"",{"$f":"IF(C456=0,\"\",INDEX(Objekt_Text,D456+1,2))","v":""},{"$f":"IF(C456=0,\"\",INDEX(Objekt_Text,D456+1,3))","v":""},"","",{"$f":"INDEX(Visum_Liste,F456+1)&\"\"","v":""},"","ZZ",0,0,0,0,0,0,3,"",{"$f":"MIN(IF(W456=$W$9:$W$2128,$E$9:$E$2128))","v":0},{"$f":"MAX(IF(W456=$W$9:$W$2128,$E$9:$E$2128))","v":0},448,1,1,null,null,1,null,"ZZ00000","00ZZ000",null,{"$f":"ABS(OR(C456=0,AND(MaxInput>1,M456=INDEX(FFilter,AO$5))))","v":1},{"$f":"ABS(OR(C456=0,AND(MaxInput>1,N456=INDEX(FFilter,AP$5))))","v":1},{"$f":"ABS(OR(C456=0,AND(MaxInput>1,O456=INDEX(FFilter,AQ$5))))","v":1},null,null,null,null,null,null,null,null,null,null,{"$f":"ROW()","v":456}]
[449,{"$f":"IF(C457>0,ROW()-8,\"\")","v":""},null,null,null,null,null,null,null,null,null,null,{"$f":"IF(C457=0,\"\",IFERROR(VLOOKUP($C457,SLTabelle,cSLName,FALSE),\"\"))","v":""},{"$f":"IF(C457=0,\"\",INDEX(Objekt_Text,D457+1,2))","v":""},{"$f":"IF(C457=0,\"\",INDEX(Objekt_Text,D457+1,3))","v":""},{"$f":"IF($H457=\"\",\"\",$H457)","v":""},{"$f":"IF($I457=\"\",\"\",$I457)","v":""},{"$f":"INDEX(Visum_Liste,F457+1)&\"\"","v":""},{"$f":"IF($J457=\"\",\"\",$J457)","v":""},{"$f":"IF(M457=\"\",\"ZZ\",M457)","v":"ZZ"},{"$f":"IF(C457>0,COUNTIF($W$9:$W$2128,W457),0)","v":0},{"$f":"SUMIFS($E$9:$E$2128,$W$9:$W$2128,W457)","v":0},{"$f":"C457*100+D457","v":0},{"$f":"AND(C457>0,E457=AD457)*1","v":0},{"$f":"(COUNT(P457:Q457)=2)*1","v":0},{"$f":"F457*10+X457","v":0},{"$f":"IF(X457=0,3,X457*F457)","v":3},{"$f":"IF(OR((C457>0),ROW()<LastRow+8),\"A\",\"\")","v":""},{"$f":"MIN(IF(W457=$W$9:$W$2128,$E$9:$E$2128))","v":0},{"$f":"MAX(IF(W457=$W$9:$W$2128,$E$9:$E$2128))","v":0},449,1,1,null,null,1,null,{"$f":"T457&TEXT(D457,\"00\")&TEXT(E457,\"000\")","v":"ZZ00000"},{"$f":"TEXT(D457,\"00\")&T457&TEXT(E457,\"000\")","v":"00ZZ000"},null,{"$f":"ABS(OR(C457=0,AND(MaxInput>1,M457=INDEX(FFilter,AO$5))))","v":1},{"$f":"ABS(OR(C457=0,AND(MaxInput>1,N457=INDEX(FFilter,AP$5))))","v":1},{"$f":"ABS(OR(C457=0,AND(MaxInput>1,O457=INDEX(FFilter,AQ$5))))","v":1},null,null,null,null,null,null,null,null,null,null,{"$f":"ROW()","v":457}]
[450,"",null,null,null,null,null,null,null,null,null,null,"",{"$f":"IF(C458=0,\"\",INDEX(Objekt_Text,D458+1,2))","v":""},{"$f":"IF(C458=0,\"\",INDEX(Objekt_Text,D458+1,3))","v":""},"","",{"$f":"INDEX(Visum_Liste,F458+1)&\"\"","v":""},"","ZZ",0,0,0,0,0,0,3,"",{"$f":"MIN(IF(W458=$W$9:$W$2128,$E$9:$E$2128))","v":0},{"$f":"MAX(IF(W458=$W$9:$W$2128,$E$9:$E$2128))","v":0},450,1,1,null,null,{"$f":"OR(L458<=L457,B458=\"\")*1","v":1},null,"ZZ00000","00ZZ000",null,{"$f":"ABS(OR(C458=0,AND(MaxInput>1,M458=INDEX(FFilter,AO$5))))","v":1},{"$f":"ABS(OR(C458=0,AND(MaxInput>1,N458=INDEX(FFilter,AP$5))))","v":1},{"$f":"ABS(OR(C458=0,AND(MaxInput>1,O458=INDEX(FFilter,AQ$5))))","v":1},null,null,null,null,null,null,null,null,null,null,{"$f":"ROW()","v":458}]
[451,"",null,null,null,null,null,null,null,null,null,null,"",{"$f":"IF(C459=0,\"\",INDEX(Objekt_Text,D459+1,2))","v":""},{"$f":"IF(C459=0,\"\",INDEX(Objekt_Text,D459+1,3))","v":""},"","",{"$f":"INDEX(Visum_Liste,F459+1)&\"\"","v":""},"","ZZ",0,0,0,0,0,0,3,"",{"$f":"MIN(IF(W459=$W$9:$W$2128,$E$9:$E$2128))","v":0},{"$f":"MAX(IF(W459=$W$9:$W$2128,$E$9:$E$2128))","v":0},451,1,1,null,null,1,null,"ZZ00000","00ZZ000",null,{"$f":"ABS(OR(C459=0,AND(MaxInput>1,M459=INDEX(FFilter,AO$5))))","v":1},{"$f":"ABS(OR(C459=0,AND(MaxInput>1,N459=INDEX(FFilter,AP$5))))","v":1},{"$f":"ABS(OR(C459=0,AND(MaxInput>1,O459=INDEX(FFilter,AQ$5))))","v":1},null,null,null,null,null,null,null,null,null,null,{"$f":"ROW()","v":459}]
[452,"",null,null,null,null,null,null,null,null,null,null,"",{"$f":"IF(C460=0,\"\",INDEX(Objekt_Text,D460+1,2))","v":""},{"$f":"IF(C460=0,\"\",INDEX(Objekt_Text,D460+1,3))","v":""},"","",{"$f":"INDEX(Visum_Liste,F460+1)&\"\"","v":""},"","ZZ",0,0,0,0,0,0,3,"",{"$f":"MIN(IF(W460=$W$9:$W$2128,$E$9:$E$2128))","v":0},{"$f":"MAX(IF(W460=$W$9:$W$2128,$E$9:$E$2128))","v":0},452,1,1,null,null,1,null,"ZZ00000","00ZZ000",null,{"$f":"ABS(OR(C460=0,AND(MaxInput>1,M460=INDEX(FFilter,AO$5))))","v":1},{"$f":"ABS(OR(C460=0,AND(MaxInput>1,N460=INDEX(FFilter,AP$5))))","v":1},{"$f":"ABS(OR(C460=0,AND(MaxInput>1,O460=INDEX(FFilter,AQ$5))))","v":1},null,null,null,null,null,null,null,null,null,null,{"$f":"ROW()","v":460}]
[453,"",null,null,null,null,null,null,null,null,null,null,"",{"$f":"IF(C461=0,\"\",INDEX(Objekt_Text,D461+1,2))","v":""},{"$f":"IF(C461=0,\"\",INDEX(Objekt_Text,D461+1,3))","v":""},"","",{"$f":"INDEX(Visum_Liste,F461+1)&\"\"","v":""},"","ZZ",0,0,0,0,0,0,3,"",{"$f":"MIN(IF(W461=$W$9:$W$2128,$E$9:$E$2128))","v":0},{"$f":"MAX(IF(W461=$W$9:$W$2128,$E$9:$E$2128))","v":0},453,{"$f":"OR(AL461>=AL460,B461=\"\")*1","v":1},{"$f":"OR(AM461>=AM460,B461=\"\")*1","v":1},null,null,1,null,"ZZ00000","00ZZ000",null,{"$f":"ABS(OR(C461=0,AND(MaxInput>1,M461=INDEX(FFilter,AO$5))))","v":1},{"$f":"ABS(OR(C461=0,AND(MaxInput>1,N461=INDEX(FFilter,AP$5))))","v":1},{"$f":"ABS(OR(C461=0,AND(MaxInput>1,O461=INDEX(FFilter,AQ$5))))","v":1},null,null,null,null,null,null,null,null,null,null,{"$f":"ROW()","v":461}]
[454,"",null,null,null,null,null,null,null,null,null,null,"",{"$f":"IF(C462=0,\"\",INDEX(Objekt_Text,D462+1,2))","v":""},{"$f":"IF(C462=0,\"\",INDEX(Objekt_Text,D462+1,3))","v":""},"","",{"$f":"INDEX(Visum_Liste,F462+1)&\"\"","v":""},"","ZZ",0,0,0,0,0,0,3,"",{"$f":"MIN(IF(W462=$W$9:$W$2128,$E$9:$E$2128))","v":0},{"$f":"MAX(IF(W462=$W$9:$W$2128,$E$9:$E$2128))","v":0},454,1,1,null,null,1,null,"ZZ00000","00ZZ000",null,{"$f":"ABS(OR(C462=0,AND(MaxInput>1,M462=INDEX(FFilter,AO$5))))","v":1},{"$f":"ABS(OR(C462=0,AND(MaxInput>1,N462=INDEX(FFilter,AP$5))))","v":1},{"$f":"ABS(OR(C462=0,AND(MaxInput>1,O462=INDEX(FFilter,AQ$5))))","v":1},null,null,null,null,null,null,null,null,null,null,{"$f":"ROW()","v":462}]
[455,"",null,null,null,null,null,null,null,null,null,null,"",{"$f":"IF(C463=0,\"\",INDEX(Objekt_Text,D463+1,2))","v":""},{"$f":"IF(C463=0,\"\",INDEX(Objekt_Text,D463+1,3))","v":""},"","",{"$f":"INDEX(Visum_Liste,F463+1)&\"\"","v":""},"","ZZ",0,0,0,0,0,0,3,"",{"$f":"MIN(IF(W463=$W$9:$W$2128,$E$9:$E$2128))","v":0},{"$f":"MAX(IF(W463=$W$9:$W$2128,$E$9:$E$2128))","v":0},455,1,1,null,null,1,null,"ZZ00000","00ZZ000",null,{"$f":"ABS(OR(C463=0,AND(MaxInput>1,M463=INDEX(FFilter,AO$5))))","v":1},{"$f":"ABS(OR(C463=0,AND(MaxInput>1,N463=INDEX(FFilter,AP$5))))","v":1},{"$f":"ABS(OR(C463=0,AND(MaxInput>1,O463=INDEX(FFilter,AQ$5))))","v":1},null,null,null,null,null,null,null,null,null,null,{"$f":"ROW()","v":463}]
[456,"",null,null,null,null,null,null,null,null,null,null,"",{"$f":"IF(C464=0,\"\",INDEX(Objekt_Text,D464+1,2))","v":""},{"$f":"IF(C464=0,\"\",INDEX(Objekt_Text,D464+1,3))","v":""},"","",{"$f":"INDEX(Visum_Liste,F464+1)&\"\"","v":""},"","ZZ",0,0,0,0,0,0,3,"",{"$f":"MIN(IF(W464=$W$9:$W$2128,$E$9:$E$2128))","v":0},{"$f":"MAX(IF(W464=$W$9:$W$2128,$E$9:$E$2128))","v":0},456,1,1,null,null,1,null,"ZZ00000","00ZZ000",null,{"$f":"ABS(OR(C464=0,AND(MaxInput>1,M464=INDEX(FFilter,AO$5))))","v":1},{"$f":"ABS(OR(C464=0,AND(MaxInput>1,N464=INDEX(FFilter,AP$5))))","v":1},{"$f":"ABS(OR(C464=0,AND(MaxInput>1,O464=INDEX(FFilter,AQ$5))))","v":1},null,null,null,null,null,null,null,null,null,null,{"$f":"ROW()","v":464}]
[457,"",null,null,null,null,null,null,null,null,null,null,"",{"$f":"IF(C465=0,\"\",INDEX(Objekt_Text,D465+1,2))","v":""},{"$f":"IF(C465=0,\"\",INDEX(Objekt_Text,D465+1,3))","v":""},"","",{"$f":"INDEX(Visum_Liste,F465+1)&\"\"","v":""},"","ZZ",0,0,0,0,0,0,3,"",{"$f":"MIN(IF(W465=$W$9:$W$2128,$E$9:$E$2128))","v":0},{"$f":"MAX(IF(W465=$W$9:$W$2128,$E$9:$E$2128))","v":0},457,1,1,null,null,1,null,"ZZ00000","00ZZ000",null,{"$f":"ABS(OR(C465=0,AND(MaxInput>1,M465=INDEX(FFilter,AO$5))))","v":1},{"$f":"ABS(OR(C465=0,AND(MaxInput>1,N465=INDEX(FFilter,AP$5))))","v":1},{"$f":"ABS(OR(C465=0,AND(MaxInput>1,O465=INDEX(FFilter,AQ$5))))","v":1},null,null,null,null,null,null,null,null,null,null,{"$f":"ROW()","v":465}]
[458,"",null,null,null,null,null,null,null,null,null,null,"",{"$f":"IF(C466=0,\"\",INDEX(Objekt_Text,D466+1,2))","v":""},{"$f":"IF(C466=0,\"\",INDEX(Objekt_Text,D466+1,3))","v":""},"","",{"$f":"INDEX(Visum_Liste,F466+1)&\"\"","v":""},"","ZZ",0,0,0,0,0,0,3,"",{"$f":"MIN(IF(W466=$W$9:$W$2128,$E$9:$E$2128))","v":0},{"$f":"MAX(IF(W466=$W$9:$W$2128,$E$9:$E$2128))","v":0},458,1,1,null,null,1,null,"ZZ00000","00ZZ000",null,{"$f":"ABS(OR(C466=0,AND(MaxInput>1,M466=INDEX(FFilter,AO$5))))","v":1},{"$f":"ABS(OR(C466=0,AND(MaxInput>1,N466=INDEX(FFilter,AP$5))))","v":1},{"$f":"ABS(OR(C466=0,AND(MaxInput>1,O466=INDEX(FFilter,AQ$5))))","v":1},null,null,null,null,null,null,null,null,null,null,{"$f":"ROW()","v":466}]
[459,"",null,null,null,null,null,null,null,null,null,null,"",{"$f":"IF(C467=0,\"\",INDEX(Objekt_Text,D467+1,2))","v":""},{"$f":"IF(C467=0,\"\",INDEX(Objekt_Text,D467+1,3))","v":""},"","",{"$f":"INDEX(Visum_Liste,F467+1)&\"\"","v":""},"","ZZ",0,0,0,0,0,0,3,"",{"$f":"MIN(IF(W467=$W$9:$W$2128,$E$9:$E$2128))","v":0},{"$f":"MAX(IF(W467=$W$9:$W$2128,$E$9:$E$2128))","v":0},459,1,1,null,null,1,null,"ZZ00000","00ZZ000",null,{"$f":"ABS(OR(C467=0,AND(MaxInput>1,M467=INDEX(FFilter,AO$5))))","v":1},{"$f":"ABS(OR(C467=0,AND(MaxInput>1,N467=INDEX(FFilter,AP$5))))","v":1},{"$f":"ABS(OR(C467=0,AND(MaxInput>1,O467=INDEX(FFilter,AQ$5))))","v":1},null,null,null,null,null,null,null,null,null,null,{"$f":"ROW()","v":467}]
[460,"",null,null,null,null,null,null,null,null,null,null,"",{"$f":"IF(C468=0,\"\",INDEX(Objekt_Text,D468+1,2))","v":""},{"$f":"IF(C468=0,\"\",INDEX(Objekt_Text,D468+1,3))","v":""},"","",{"$f":"INDEX(Visum_Liste,F468+1)&\"\"","v":""},"","ZZ",0,0,0,0,0,0,3,"",{"$f":"MIN(IF(W468=$W$9:$W$2128,$E$9:$E$2128))","v":0},{"$f":"MAX(IF(W468=$W$9:$W$2128,$E$9:$E$2128))","v":0},460,1,1,null,null,1,null,"ZZ00000","00ZZ000",null,{"$f":"ABS(OR(C468=0,AND(MaxInput>1,M468=INDEX(FFilter,AO$5))))","v":1},{"$f":"ABS(OR(C468=0,AND(MaxInput>1,N468=INDEX(FFilter,AP$5))))","v":1},{"$f":"ABS(OR(C468=0,AND(MaxInput>1,O468=INDEX(FFilter,AQ$5))))","v":1},null,null,null,null,null,null,null,null,null,null,{"$f":"ROW()","v":468}]
[461,"",null,null,null,null,null,null,null,null,null,null,"",{"$f":"IF(C469=0,\"\",INDEX(Objekt_Text,D469+1,2))","v":""},{"$f":"IF(C469=0,\"\",INDEX(Objekt_Text,D469+1,3))","v":""},"","",{"$f":"INDEX(Visum_Liste,F469+1)&\"\"","v":""},"","ZZ",0,0,0,0,0,0,3,"",{"$f":"MIN(IF(W469=$W$9:$W$2128,$E$9:$E$2128))","v":0},{"$f":"MAX(IF(W469=$W$9:$W$2128,$E$9:$E$2128))","v":0},461,1,1,null,null,1,null,"ZZ00000","00ZZ000",null,{"$f":"ABS(OR(C469=0,AND(MaxInput>1,M469=INDEX(FFilter,AO$5))))","v":1},{"$f":"ABS(OR(C469=0,AND(MaxInput>1,N469=INDEX(FFilter,AP$5))))","v":1},{"$f":"ABS(OR(C469=0,AND(MaxInput>1,O469=INDEX(FFilter,AQ$5))))","v":1},null,null,null,null,null,null,null,null,null,null,{"$f":"ROW()","v":469}]
[462,"",null,null,null,null,null,null,null,null,null,null,"",{"$f":"IF(C470=0,\"\",INDEX(Objekt_Text,D470+1,2))","v":""},{"$f":"IF(C470=0,\"\",INDEX(Objekt_Text,D470+1,3))","v":""},"","",{"$f":"INDEX(Visum_Liste,F470+1)&\"\"","v":""},"","ZZ",0,0,0,0,0,0,3,"",{"$f":"MIN(IF(W470=$W$9:$W$2128,$E$9:$E$2128))","v":0},{"$f":"MAX(IF(W470=$W$9:$W$2128,$E$9:$E$2128))","v":0},462,1,1,null,null,1,null,"ZZ00000","00ZZ000",null,{"$f":"ABS(OR(C470=0,AND(MaxInput>1,M470=INDEX(FFilter,AO$5))))","v":1},{"$f":"ABS(OR(C470=0,AND(MaxInput>1,N470=INDEX(FFilter,AP$5))))","v":1},{"$f":"ABS(OR(C470=0,AND(MaxInput>1,O470=INDEX(FFilter,AQ$5))))","v":1},null,null,null,null,null,null,null,null,null,null,{"$f":"ROW()","v":470}]
[463,"",null,null,null,null,null,null,null,null,null,null,"",{"$f":"IF(C471=0,\"\",INDEX(Objekt_Text,D471+1,2))","v":""},{"$f":"IF(C471=0,\"\",INDEX(Objekt_Text,D471+1,3))","v":""},"","",{"$f":"INDEX(Visum_Liste,F471+1)&\"\"","v":""},"","ZZ",0,0,0,0,0,0,3,"",{"$f":"MIN(IF(W471=$W$9:$W$2128,$E$9:$E$2128))","v":0},{"$f":"MAX(IF(W471=$W$9:$W$2128,$E$9:$E$2128))","v":0},463,1,1,null,null,1,null,"ZZ00000","00ZZ000",null,{"$f":"ABS(OR(C471=0,AND(MaxInput>1,M471=INDEX(FFilter,AO$5))))","v":1},{"$f":"ABS(OR(C471=0,AND(MaxInput>1,N471=INDEX(FFilter,AP$5))))","v":1},{"$f":"ABS(OR(C471=0,AND(MaxInput>1,O471=INDEX(FFilter,AQ$5))))","v":1},null,null,null,null,null,null,null,null,null,null,{"$f":"ROW()","v":471}]
[464,"",null,null,null,null,null,null,null,null,null,null,"",{"$f":"IF(C472=0,\"\",INDEX(Objekt_Text,D472+1,2))","v":""},{"$f":"IF(C472=0,\"\",INDEX(Objekt_Text,D472+1,3))","v":""},"","",{"$f":"INDEX(Visum_Liste,F472+1)&\"\"","v":""},"","ZZ",0,0,0,0,0,0,3,"",{"$f":"MIN(IF(W472=$W$9:$W$2128,$E$9:$E$2128))","v":0},{"$f":"MAX(IF(W472=$W$9:$W$2128,$E$9:$E$2128))","v":0},464,1,1,null,null,1,null,"ZZ00000","00ZZ000",null,{"$f":"ABS(OR(C472=0,AND(MaxInput>1,M472=INDEX(FFilter,AO$5))))","v":1},{"$f":"ABS(OR(C472=0,AND(MaxInput>1,N472=INDEX(FFilter,AP$5))))","v":1},{"$f":"ABS(OR(C472=0,AND(MaxInput>1,O472=INDEX(FFilter,AQ$5))))","v":1},null,null,null,null,null,null,null,null,null,null,{"$f":"ROW()","v":472}]
[465,"",null,null,null,null,null,null,null,null,null,null,"",{"$f":"IF(C473=0,\"\",INDEX(Objekt_Text,D473+1,2))","v":""},{"$f":"IF(C473=0,\"\",INDEX(Objekt_Text,D473+1,3))","v":""},"","",{"$f":"INDEX(Visum_Liste,F473+1)&\"\"","v":""},"","ZZ",0,0,0,0,0,0,3,"",{"$f":"MIN(IF(W473=$W$9:$W$2128,$E$9:$E$2128))","v":0},{"$f":"MAX(IF(W473=$W$9:$W$2128,$E$9:$E$2128))","v":0},465,1,1,null,null,1,null,"ZZ00000","00ZZ000",null,{"$f":"ABS(OR(C473=0,AND(MaxInput>1,M473=INDEX(FFilter,AO$5))))","v":1},{"$f":"ABS(OR(C473=0,AND(MaxInput>1,N473=INDEX(FFilter,AP$5))))","v":1},{"$f":"ABS(OR(C473=0,AND(MaxInput>1,O473=INDEX(FFilter,AQ$5))))","v":1},null,null,null,null,null,null,null,null,null,null,{"$f":"ROW()","v":473}]
[466,"",null,null,null,null,null,null,null,null,null,null,"",{"$f":"IF(C474=0,\"\",INDEX(Objekt_Text,D474+1,2))","v":""},{"$f":"IF(C474=0,\"\",INDEX(Objekt_Text,D474+1,3))","v":""},"","",{"$f":"INDEX(Visum_Liste,F474+1)&\"\"","v":""},"","ZZ",0,0,0,0,0,0,3,"",{"$f":"MIN(IF(W474=$W$9:$W$2128,$E$9:$E$2128))","v":0},{"$f":"MAX(IF(W474=$W$9:$W$2128,$E$9:$E$2128))","v":0},466,1,1,null,null,1,null,"ZZ00000","00ZZ000",null,{"$f":"ABS(OR(C474=0,AND(MaxInput>1,M474=INDEX(FFilter,AO$5))))","v":1},{"$f":"ABS(OR(C474=0,AND(MaxInput>1,N474=INDEX(FFilter,AP$5))))","v":1},{"$f":"ABS(OR(C474=0,AND(MaxInput>1,O474=INDEX(FFilter,AQ$5))))","v":1},null,null,null,null,null,null,null,null,null,null,{"$f":"ROW()","v":474}]
[467,"",null,null,null,null,null,null,null,null,null,null,"",{"$f":"IF(C475=0,\"\",INDEX(Objekt_Text,D475+1,2))","v":""},{"$f":"IF(C475=0,\"\",INDEX(Objekt_Text,D475+1,3))","v":""},"","",{"$f":"INDEX(Visum_Liste,F475+1)&\"\"","v":""},"","ZZ",0,0,0,0,0,0,3,"",{"$f":"MIN(IF(W475=$W$9:$W$2128,$E$9:$E$2128))","v":0},{"$f":"MAX(IF(W475=$W$9:$W$2128,$E$9:$E$2128))","v":0},467,1,1,null,null,1,null,"ZZ00000","00ZZ000",null,{"$f":"ABS(OR(C475=0,AND(MaxInput>1,M475=INDEX(FFilter,AO$5))))","v":1},{"$f":"ABS(OR(C475=0,AND(MaxInput>1,N475=INDEX(FFilter,AP$5))))","v":1},{"$f":"ABS(OR(C475=0,AND(MaxInput>1,O475=INDEX(FFilter,AQ$5))))","v":1},null,null,null,null,null,null,null,null,null,null,{"$f":"ROW()","v":475}]
[468,"",null,null,null,null,null,null,null,null,null,null,"",{"$f":"IF(C476=0,\"\",INDEX(Objekt_Text,D476+1,2))","v":""},{"$f":"IF(C476=0,\"\",INDEX(Objekt_Text,D476+1,3))","v":""},"","",{"$f":"INDEX(Visum_Liste,F476+1)&\"\"","v":""},"","ZZ",0,0,0,0,0,0,3,"",{"$f":"MIN(IF(W476=$W$9:$W$2128,$E$9:$E$2128))","v":0},{"$f":"MAX(IF(W476=$W$9:$W$2128,$E$9:$E$2128))","v":0},468,1,1,null,null,1,null,"ZZ00000","00ZZ000",null,{"$f":"ABS(OR(C476=0,AND(MaxInput>1,M476=INDEX(FFilter,AO$5))))","v":1},{"$f":"ABS(OR(C476=0,AND(MaxInput>1,N476=INDEX(FFilter,AP$5))))","v":1},{"$f":"ABS(OR(C476=0,AND(MaxInput>1,O476=INDEX(FFilter,AQ$5))))","v":1},null,null,null,null,null,null,null,null,null,null,{"$f":"ROW()","v":476}]
[469,"",null,null,null,null,null,null,null,null,null,null,"",{"$f":"IF(C477=0,\"\",INDEX(Objekt_Text,D477+1,2))","v":""},{"$f":"IF(C477=0,\"\",INDEX(Objekt_Text,D477+1,3))","v":""},"","",{"$f":"INDEX(Visum_Liste,F477+1)&\"\"","v":""},"","ZZ",0,0,0,0,0,0,3,"",{"$f":"MIN(IF(W477=$W$9:$W$2128,$E$9:$E$2128))","v":0},{"$f":"MAX(IF(W477=$W$9:$W$2128,$E$9:$E$2128))","v":0},469,1,1,null,null,1,null,"ZZ00000","00ZZ000",null,{"$f":"ABS(OR(C477=0,AND(MaxInput>1,M477=INDEX(FFilter,AO$5))))","v":1},{"$f":"ABS(OR(C477=0,AND(MaxInput>1,N477=INDEX(FFilter,AP$5))))","v":1},{"$f":"ABS(OR(C477=0,AND(MaxInput>1,O477=INDEX(FFilter,AQ$5))))","v":1},null,null,null,null,null,null,null,null,null,null,{"$f":"ROW()","v":477}]
[470,"",null,null,null,null,null,null,null,null,null,null,"",{"$f":"IF(C478=0,\"\",INDEX(Objekt_Text,D478+1,2))","v":""},{"$f":"IF(C478=0,\"\",INDEX(Objekt_Text,D478+1,3))","v":""},"","",{"$f":"INDEX(Visum_Liste,F478+1)&\"\"","v":""},"","ZZ",0,0,0,0,0,0,3,"",{"$f":"MIN(IF(W478=$W$9:$W$2128,$E$9:$E$2128))","v":0},{"$f":"MAX(IF(W478=$W$9:$W$2128,$E$9:$E$2128))","v":0},470,1,1,null,null,1,null,"ZZ00000","00ZZ000",null,{"$f":"ABS(OR(C478=0,AND(MaxInput>1,M478=INDEX(FFilter,AO$5))))","v":1},{"$f":"ABS(OR(C478=0,AND(MaxInput>1,N478=INDEX(FFilter,AP$5))))","v":1},{"$f":"ABS(OR(C478=0,AND(MaxInput>1,O478=INDEX(FFilter,AQ$5))))","v":1},null,null,null,null,null,null,null,null,null,null,{"$f":"ROW()","v":478}]
[471,"",null,null,null,null,null,null,null,null,null,null,"",{"$f":"IF(C479=0,\"\",INDEX(Objekt_Text,D479+1,2))","v":""},{"$f":"IF(C479=0,\"\",INDEX(Objekt_Text,D479+1,3))","v":""},"","",{"$f":"INDEX(Visum_Liste,F479+1)&\"\"","v":""},"","ZZ",0,0,0,0,0,0,3,"",{"$f":"MIN(IF(W479=$W$9:$W$2128,$E$9:$E$2128))","v":0},{"$f":"MAX(IF(W479=$W$9:$W$2128,$E$9:$E$2128))","v":0},471,1,1,null,null,1,null,"ZZ00000","00ZZ000",null,{"$f":"ABS(OR(C479=0,AND(MaxInput>1,M479=INDEX(FFilter,AO$5))))","v":1},{"$f":"ABS(OR(C479=0,AND(MaxInput>1,N479=INDEX(FFilter,AP$5))))","v":1},{"$f":"ABS(OR(C479=0,AND(MaxInput>1,O479=INDEX(FFilter,AQ$5))))","v":1},null,null,null,null,null,null,null,null,null,null,{"$f":"ROW()","v":479}]
[472,"",null,null,null,null,null,null,null,null,null,null,"",{"$f":"IF(C480=0,\"\",INDEX(Objekt_Text,D480+1,2))","v":""},{"$f":"IF(C480=0,\"\",INDEX(Objekt_Text,D480+1,3))","v":""},"","",{"$f":"INDEX(Visum_Liste,F480+1)&\"\"","v":""},"","ZZ",0,0,0,0,0,0,3,"",{"$f":"MIN(IF(W480=$W$9:$W$2128,$E$9:$E$2128))","v":0},{"$f":"MAX(IF(W480=$W$9:$W$2128,$E$9:$E$2128))","v":0},472,1,1,null,null,1,null,"ZZ00000","00ZZ000",null,{"$f":"ABS(OR(C480=0,AND(MaxInput>1,M480=INDEX(FFilter,AO$5))))","v":1},{"$f":"ABS(OR(C480=0,AND(MaxInput>1,N480=INDEX(FFilter,AP$5))))","v":1},{"$f":"ABS(OR(C480=0,AND(MaxInput>1,O480=INDEX(FFilter,AQ$5))))","v":1},null,null,null,null,null,null,null,null,null,null,{"$f":"ROW()","v":480}]
[473,"",null,null,null,null,null,null,null,null,null,null,"",{"$f":"IF(C481=0,\"\",INDEX(Objekt_Text,D481+1,2))","v":""},{"$f":"IF(C481=0,\"\",INDEX(Objekt_Text,D481+1,3))","v":""},"","",{"$f":"INDEX(Visum_Liste,F481+1)&\"\"","v":""},"","ZZ",0,0,0,0,0,0,3,"",{"$f":"MIN(IF(W481=$W$9:$W$2128,$E$9:$E$2128))","v":0},{"$f":"MAX(IF(W481=$W$9:$W$2128,$E$9:$E$2128))","v":0},473,1,1,null,null,1,null,"ZZ00000","00ZZ000",null,{"$f":"ABS(OR(C481=0,AND(MaxInput>1,M481=INDEX(FFilter,AO$5))))","v":1},{"$f":"ABS(OR(C481=0,AND(MaxInput>1,N481=INDEX(FFilter,AP$5))))","v":1},{"$f":"ABS(OR(C481=0,AND(MaxInput>1,O481=INDEX(FFilter,AQ$5))))","v":1},null,null,null,null,null,null,null,null,null,null,{"$f":"ROW()","v":481}]
[474,"",null,null,null,null,null,null,null,null,null,null,"",{"$f":"IF(C482=0,\"\",INDEX(Objekt_Text,D482+1,2))","v":""},{"$f":"IF(C482=0,\"\",INDEX(Objekt_Text,D482+1,3))","v":""},"","",{"$f":"INDEX(Visum_Liste,F482+1)&\"\"","v":""},"","ZZ",0,0,0,0,0,0,3,"",{"$f":"MIN(IF(W482=$W$9:$W$2128,$E$9:$E$2128))","v":0},{"$f":"MAX(IF(W482=$W$9:$W$2128,$E$9:$E$2128))","v":0},474,1,1,null,null,1,null,"ZZ00000","00ZZ000",null,{"$f":"ABS(OR(C482=0,AND(MaxInput>1,M482=INDEX(FFilter,AO$5))))","v":1},{"$f":"ABS(OR(C482=0,AND(MaxInput>1,N482=INDEX(FFilter,AP$5))))","v":1},{"$f":"ABS(OR(C482=0,AND(MaxInput>1,O482=INDEX(FFilter,AQ$5))))","v":1},null,null,null,null,null,null,null,null,null,null,{"$f":"ROW()","v":482}]
[475,"",null,null,null,null,null,null,null,null,null,null,"",{"$f":"IF(C483=0,\"\",INDEX(Objekt_Text,D483+1,2))","v":""},{"$f":"IF(C483=0,\"\",INDEX(Objekt_Text,D483+1,3))","v":""},"","",{"$f":"INDEX(Visum_Liste,F483+1)&\"\"","v":""},"","ZZ",0,0,0,0,0,0,3,"",{"$f":"MIN(IF(W483=$W$9:$W$2128,$E$9:$E$2128))","v":0},{"$f":"MAX(IF(W483=$W$9:$W$2128,$E$9:$E$2128))","v":0},475,1,1,null,null,1,null,"ZZ00000","00ZZ000",null,{"$f":"ABS(OR(C483=0,AND(MaxInput>1,M483=INDEX(FFilter,AO$5))))","v":1},{"$f":"ABS(OR(C483=0,AND(MaxInput>1,N483=INDEX(FFilter,AP$5))))","v":1},{"$f":"ABS(OR(C483=0,AND(MaxInput>1,O483=INDEX(FFilter,AQ$5))))","v":1},null,null,null,null,null,null,null,null,null,null,{"$f":"ROW()","v":483}]
[476,"",null,null,null,null,null,null,null,null,null,null,"",{"$f":"IF(C484=0,\"\",INDEX(Objekt_Text,D484+1,2))","v":""},{"$f":"IF(C484=0,\"\",INDEX(Objekt_Text,D484+1,3))","v":""},"","",{"$f":"INDEX(Visum_Liste,F484+1)&\"\"","v":""},"","ZZ",0,0,0,0,0,0,3,"",{"$f":"MIN(IF(W484=$W$9:$W$2128,$E$9:$E$2128))","v":0},{"$f":"MAX(IF(W484=$W$9:$W$2128,$E$9:$E$2128))","v":0},476,1,1,null,null,1,null,"ZZ00000","00ZZ000",null,{"$f":"ABS(OR(C484=0,AND(MaxInput>1,M484=INDEX(FFilter,AO$5))))","v":1},{"$f":"ABS(OR(C484=0,AND(MaxInput>1,N484=INDEX(FFilter,AP$5))))","v":1},{"$f":"ABS(OR(C484=0,AND(MaxInput>1,O484=INDEX(FFilter,AQ$5))))","v":1},null,null,null,null,null,null,null,null,null,null,{"$f":"ROW()","v":484}]
[477,"",null,null,null,null,null,null,null,null,null,null,"",{"$f":"IF(C485=0,\"\",INDEX(Objekt_Text,D485+1,2))","v":""},{"$f":"IF(C485=0,\"\",INDEX(Objekt_Text,D485+1,3))","v":""},"","",{"$f":"INDEX(Visum_Liste,F485+1)&\"\"","v":""},"","ZZ",0,0,0,0,0,0,3,"",{"$f":"MIN(IF(W485=$W$9:$W$2128,$E$9:$E$2128))","v":0},{"$f":"MAX(IF(W485=$W$9:$W$2128,$E$9:$E$2128))","v":0},477,1,1,null,null,1,null,"ZZ00000","00ZZ000",null,{"$f":"ABS(OR(C485=0,AND(MaxInput>1,M485=INDEX(FFilter,AO$5))))","v":1},{"$f":"ABS(OR(C485=0,AND(MaxInput>1,N485=INDEX(FFilter,AP$5))))","v":1},{"$f":"ABS(OR(C485=0,AND(MaxInput>1,O485=INDEX(FFilter,AQ$5))))","v":1},null,null,null,null,null,null,null,null,null,null,{"$f":"ROW()","v":485}]
[478,"",null,null,null,null,null,null,null,null,null,null,"",{"$f":"IF(C486=0,\"\",INDEX(Objekt_Text,D486+1,2))","v":""},{"$f":"IF(C486=0,\"\",INDEX(Objekt_Text,D486+1,3))","v":""},"","",{"$f":"INDEX(Visum_Liste,F486+1)&\"\"","v":""},"","ZZ",0,0,0,0,0,0,3,"",{"$f":"MIN(IF(W486=$W$9:$W$2128,$E$9:$E$2128))","v":0},{"$f":"MAX(IF(W486=$W$9:$W$2128,$E$9:$E$2128))","v":0},478,1,1,null,null,1,null,"ZZ00000","00ZZ000",null,{"$f":"ABS(OR(C486=0,AND(MaxInput>1,M486=INDEX(FFilter,AO$5))))","v":1},{"$f":"ABS(OR(C486=0,AND(MaxInput>1,N486=INDEX(FFilter,AP$5))))","v":1},{"$f":"ABS(OR(C486=0,AND(MaxInput>1,O486=INDEX(FFilter,AQ$5))))","v":1},null,null,null,null,null,null,null,null,null,null,{"$f":"ROW()","v":486}]
[479,"",null,null,null,null,null,null,null,null,null,null,"",{"$f":"IF(C487=0,\"\",INDEX(Objekt_Text,D487+1,2))","v":""},{"$f":"IF(C487=0,\"\",INDEX(Objekt_Text,D487+1,3))","v":""},"","",{"$f":"INDEX(Visum_Liste,F487+1)&\"\"","v":""},"","ZZ",0,0,0,0,0,0,3,"",{"$f":"MIN(IF(W487=$W$9:$W$2128,$E$9:$E$2128))","v":0},{"$f":"MAX(IF(W487=$W$9:$W$2128,$E$9:$E$2128))","v":0},479,1,1,null,null,1,null,"ZZ00000","00ZZ000",null,{"$f":"ABS(OR(C487=0,AND(MaxInput>1,M487=INDEX(FFilter,AO$5))))","v":1},{"$f":"ABS(OR(C487=0,AND(MaxInput>1,N487=INDEX(FFilter,AP$5))))","v":1},{"$f":"ABS(OR(C487=0,AND(MaxInput>1,O487=INDEX(FFilter,AQ$5))))","v":1},null,null,null,null,null,null,null,null,null,null,{"$f":"ROW()","v":487}]
[480,"",null,null,null,null,null,null,null,null,null,null,"",{"$f":"IF(C488=0,\"\",INDEX(Objekt_Text,D488+1,2))","v":""},{"$f":"IF(C488=0,\"\",INDEX(Objekt_Text,D488+1,3))","v":""},"","",{"$f":"INDEX(Visum_Liste,F488+1)&\"\"","v":""},"","ZZ",0,0,0,0,0,0,3,"",{"$f":"MIN(IF(W488=$W$9:$W$2128,$E$9:$E$2128))","v":0},{"$f":"MAX(IF(W488=$W$9:$W$2128,$E$9:$E$2128))","v":0},480,1,1,null,null,1,null,"ZZ00000","00ZZ000",null,{"$f":"ABS(OR(C488=0,AND(MaxInput>1,M488=INDEX(FFilter,AO$5))))","v":1},{"$f":"ABS(OR(C488=0,AND(MaxInput>1,N488=INDEX(FFilter,AP$5))))","v":1},{"$f":"ABS(OR(C488=0,AND(MaxInput>1,O488=INDEX(FFilter,AQ$5))))","v":1},null,null,null,null,null,null,null,null,null,null,{"$f":"ROW()","v":488}]
[481,"",null,null,null,null,null,null,null,null,null,null,"",{"$f":"IF(C489=0,\"\",INDEX(Objekt_Text,D489+1,2))","v":""},{"$f":"IF(C489=0,\"\",INDEX(Objekt_Text,D489+1,3))","v":""},"","",{"$f":"INDEX(Visum_Liste,F489+1)&\"\"","v":""},"","ZZ",0,0,0,0,0,0,3,"",{"$f":"MIN(IF(W489=$W$9:$W$2128,$E$9:$E$2128))","v":0},{"$f":"MAX(IF(W489=$W$9:$W$2128,$E$9:$E$2128))","v":0},481,1,1,null,null,1,null,"ZZ00000","00ZZ000",null,{"$f":"ABS(OR(C489=0,AND(MaxInput>1,M489=INDEX(FFilter,AO$5))))","v":1},{"$f":"ABS(OR(C489=0,AND(MaxInput>1,N489=INDEX(FFilter,AP$5))))","v":1},{"$f":"ABS(OR(C489=0,AND(MaxInput>1,O489=INDEX(FFilter,AQ$5))))","v":1},null,null,null,null,null,null,null,null,null,null,{"$f":"ROW()","v":489}]
[482,"",null,null,null,null,null,null,null,null,null,null,"",{"$f":"IF(C490=0,\"\",INDEX(Objekt_Text,D490+1,2))","v":""},{"$f":"IF(C490=0,\"\",INDEX(Objekt_Text,D490+1,3))","v":""},"","",{"$f":"INDEX(Visum_Liste,F490+1)&\"\"","v":""},"","ZZ",0,0,0,0,0,0,3,"",{"$f":"MIN(IF(W490=$W$9:$W$2128,$E$9:$E$2128))","v":0},{"$f":"MAX(IF(W490=$W$9:$W$2128,$E$9:$E$2128))","v":0},482,1,1,null,null,1,null,"ZZ00000","00ZZ000",null,{"$f":"ABS(OR(C490=0,AND(MaxInput>1,M490=INDEX(FFilter,AO$5))))","v":1},{"$f":"ABS(OR(C490=0,AND(MaxInput>1,N490=INDEX(FFilter,AP$5))))","v":1},{"$f":"ABS(OR(C490=0,AND(MaxInput>1,O490=INDEX(FFilter,AQ$5))))","v":1},null,null,null,null,null,null,null,null,null,null,{"$f":"ROW()","v":490}]
[483,"",null,null,null,null,null,null,null,null,null,null,"",{"$f":"IF(C491=0,\"\",INDEX(Objekt_Text,D491+1,2))","v":""},{"$f":"IF(C491=0,\"\",INDEX(Objekt_Text,D491+1,3))","v":""},"","",{"$f":"INDEX(Visum_Liste,F491+1)&\"\"","v":""},"","ZZ",0,0,0,0,0,0,3,"",{"$f":"MIN(IF(W491=$W$9:$W$2128,$E$9:$E$2128))","v":0},{"$f":"MAX(IF(W491=$W$9:$W$2128,$E$9:$E$2128))","v":0},483,1,1,null,null,1,null,"ZZ00000","00ZZ000",null,{"$f":"ABS(OR(C491=0,AND(MaxInput>1,M491=INDEX(FFilter,AO$5))))","v":1},{"$f":"ABS(OR(C491=0,AND(MaxInput>1,N491=INDEX(FFilter,AP$5))))","v":1},{"$f":"ABS(OR(C491=0,AND(MaxInput>1,O491=INDEX(FFilter,AQ$5))))","v":1},null,null,null,null,null,null,null,null,null,null,{"$f":"ROW()","v":491}]
[484,"",null,null,null,null,null,null,null,null,null,null,"",{"$f":"IF(C492=0,\"\",INDEX(Objekt_Text,D492+1,2))","v":""},{"$f":"IF(C492=0,\"\",INDEX(Objekt_Text,D492+1,3))","v":""},"","",{"$f":"INDEX(Visum_Liste,F492+1)&\"\"","v":""},"","ZZ",0,0,0,0,0,0,3,"",{"$f":"MIN(IF(W492=$W$9:$W$2128,$E$9:$E$2128))","v":0},{"$f":"MAX(IF(W492=$W$9:$W$2128,$E$9:$E$2128))","v":0},484,1,1,null,null,1,null,"ZZ00000","00ZZ000",null,{"$f":"ABS(OR(C492=0,AND(MaxInput>1,M492=INDEX(FFilter,AO$5))))","v":1},{"$f":"ABS(OR(C492=0,AND(MaxInput>1,N492=INDEX(FFilter,AP$5))))","v":1},{"$f":"ABS(OR(C492=0,AND(MaxInput>1,O492=INDEX(FFilter,AQ$5))))","v":1},null,null,null,null,null,null,null,null,null,null,{"$f":"ROW()","v":492}]
[485,"",null,null,null,null,null,null,null,null,null,null,"",{"$f":"IF(C493=0,\"\",INDEX(Objekt_Text,D493+1,2))","v":""},{"$f":"IF(C493=0,\"\",INDEX(Objekt_Text,D493+1,3))","v":""},"","",{"$f":"INDEX(Visum_Liste,F493+1)&\"\"","v":""},"","ZZ",0,0,0,0,0,0,3,"",{"$f":"MIN(IF(W493=$W$9:$W$2128,$E$9:$E$2128))","v":0},{"$f":"MAX(IF(W493=$W$9:$W$2128,$E$9:$E$2128))","v":0},485,1,1,null,null,1,null,"ZZ00000","00ZZ000",null,{"$f":"ABS(OR(C493=0,AND(MaxInput>1,M493=INDEX(FFilter,AO$5))))","v":1},{"$f":"ABS(OR(C493=0,AND(MaxInput>1,N493=INDEX(FFilter,AP$5))))","v":1},{"$f":"ABS(OR(C493=0,AND(MaxInput>1,O493=INDEX(FFilter,AQ$5))))","v":1},null,null,null,null,null,null,null,null,null,null,{"$f":"ROW()","v":493}]
[486,"",null,null,null,null,null,null,null,null,null,null,"",{"$f":"IF(C494=0,\"\",INDEX(Objekt_Text,D494+1,2))","v":""},{"$f":"IF(C494=0,\"\",INDEX(Objekt_Text,D494+1,3))","v":""},"","",{"$f":"INDEX(Visum_Liste,F494+1)&\"\"","v":""},"","ZZ",0,0,0,0,0,0,3,"",{"$f":"MIN(IF(W494=$W$9:$W$2128,$E$9:$E$2128))","v":0},{"$f":"MAX(IF(W494=$W$9:$W$2128,$E$9:$E$2128))","v":0},486,1,1,null,null,1,null,"ZZ00000","00ZZ000",null,{"$f":"ABS(OR(C494=0,AND(MaxInput>1,M494=INDEX(FFilter,AO$5))))","v":1},{"$f":"ABS(OR(C494=0,AND(MaxInput>1,N494=INDEX(FFilter,AP$5))))","v":1},{"$f":"ABS(OR(C494=0,AND(MaxInput>1,O494=INDEX(FFilter,AQ$5))))","v":1},null,null,null,null,null,null,null,null,null,null,{"$f":"ROW()","v":494}]
[487,"",null,null,null,null,null,null,null,null,null,null,"",{"$f":"IF(C495=0,\"\",INDEX(Objekt_Text,D495+1,2))","v":""},{"$f":"IF(C495=0,\"\",INDEX(Objekt_Text,D495+1,3))","v":""},"","",{"$f":"INDEX(Visum_Liste,F495+1)&\"\"","v":""},"","ZZ",0,0,0,0,0,0,3,"",{"$f":"MIN(IF(W495=$W$9:$W$2128,$E$9:$E$2128))","v":0},{"$f":"MAX(IF(W495=$W$9:$W$2128,$E$9:$E$2128))","v":0},487,1,1,null,null,1,null,"ZZ00000","00ZZ000",null,{"$f":"ABS(OR(C495=0,AND(MaxInput>1,M495=INDEX(FFilter,AO$5))))","v":1},{"$f":"ABS(OR(C495=0,AND(MaxInput>1,N495=INDEX(FFilter,AP$5))))","v":1},{"$f":"ABS(OR(C495=0,AND(MaxInput>1,O495=INDEX(FFilter,AQ$5))))","v":1},null,null,null,null,null,null,null,null,null,null,{"$f":"ROW()","v":495}]
[488,"",null,null,null,null,null,null,null,null,null,null,"",{"$f":"IF(C496=0,\"\",INDEX(Objekt_Text,D496+1,2))","v":""},{"$f":"IF(C496=0,\"\",INDEX(Objekt_Text,D496+1,3))","v":""},"","",{"$f":"INDEX(Visum_Liste,F496+1)&\"\"","v":""},"","ZZ",0,0,0,0,0,0,3,"",{"$f":"MIN(IF(W496=$W$9:$W$2128,$E$9:$E$2128))","v":0},{"$f":"MAX(IF(W496=$W$9:$W$2128,$E$9:$E$2128))","v":0},488,1,1,null,null,1,null,"ZZ00000","00ZZ000",null,{"$f":"ABS(OR(C496=0,AND(MaxInput>1,M496=INDEX(FFilter,AO$5))))","v":1},{"$f":"ABS(OR(C496=0,AND(MaxInput>1,N496=INDEX(FFilter,AP$5))))","v":1},{"$f":"ABS(OR(C496=0,AND(MaxInput>1,O496=INDEX(FFilter,AQ$5))))","v":1},null,null,null,null,null,null,null,null,null,null,{"$f":"ROW()","v":496}]
[489,"",null,null,null,null,null,null,null,null,null,null,"",{"$f":"IF(C497=0,\"\",INDEX(Objekt_Text,D497+1,2))","v":""},{"$f":"IF(C497=0,\"\",INDEX(Objekt_Text,D497+1,3))","v":""},"","",{"$f":"INDEX(Visum_Liste,F497+1)&\"\"","v":""},"","ZZ",0,0,0,0,0,0,3,"",{"$f":"MIN(IF(W497=$W$9:$W$2128,$E$9:$E$2128))","v":0},{"$f":"MAX(IF(W497=$W$9:$W$2128,$E$9:$E$2128))","v":0},489,1,1,null,null,1,null,"ZZ00000","00ZZ000",null,{"$f":"ABS(OR(C497=0,AND(MaxInput>1,M497=INDEX(FFilter,AO$5))))","v":1},{"$f":"ABS(OR(C497=0,AND(MaxInput>1,N497=INDEX(FFilter,AP$5))))","v":1},{"$f":"ABS(OR(C497=0,AND(MaxInput>1,O497=INDEX(FFilter,AQ$5))))","v":1},null,null,null,null,null,null,null,null,null,null,{"$f":"ROW()","v":497}]
[490,"",null,null,null,null,null,null,null,null,null,null,"",{"$f":"IF(C498=0,\"\",INDEX(Objekt_Text,D498+1,2))","v":""},{"$f":"IF(C498=0,\"\",INDEX(Objekt_Text,D498+1,3))","v":""},"","",{"$f":"INDEX(Visum_Liste,F498+1)&\"\"","v":""},"","ZZ",0,0,0,0,0,0,3,"",{"$f":"MIN(IF(W498=$W$9:$W$2128,$E$9:$E$2128))","v":0},{"$f":"MAX(IF(W498=$W$9:$W$2128,$E$9:$E$2128))","v":0},490,1,1,null,null,1,null,"ZZ00000","00ZZ000",null,{"$f":"ABS(OR(C498=0,AND(MaxInput>1,M498=INDEX(FFilter,AO$5))))","v":1},{"$f":"ABS(OR(C498=0,AND(MaxInput>1,N498=INDEX(FFilter,AP$5))))","v":1},{"$f":"ABS(OR(C498=0,AND(MaxInput>1,O498=INDEX(FFilter,AQ$5))))","v":1},null,null,null,null,null,null,null,null,null,null,{"$f":"ROW()","v":498}]
[491,"",null,null,null,null,null,null,null,null,null,null,"",{"$f":"IF(C499=0,\"\",INDEX(Objekt_Text,D499+1,2))","v":""},{"$f":"IF(C499=0,\"\",INDEX(Objekt_Text,D499+1,3))","v":""},"","",{"$f":"INDEX(Visum_Liste,F499+1)&\"\"","v":""},"","ZZ",0,0,0,0,0,0,3,"",{"$f":"MIN(IF(W499=$W$9:$W$2128,$E$9:$E$2128))","v":0},{"$f":"MAX(IF(W499=$W$9:$W$2128,$E$9:$E$2128))","v":0},491,1,1,null,null,1,null,"ZZ00000","00ZZ000",null,{"$f":"ABS(OR(C499=0,AND(MaxInput>1,M499=INDEX(FFilter,AO$5))))","v":1},{"$f":"ABS(OR(C499=0,AND(MaxInput>1,N499=INDEX(FFilter,AP$5))))","v":1},{"$f":"ABS(OR(C499=0,AND(MaxInput>1,O499=INDEX(FFilter,AQ$5))))","v":1},null,null,null,null,null,null,null,null,null,null,{"$f":"ROW()","v":499}]
[492,"",null,null,null,null,null,null,null,null,null,null,"",{"$f":"IF(C500=0,\"\",INDEX(Objekt_Text,D500+1,2))","v":""},{"$f":"IF(C500=0,\"\",INDEX(Objekt_Text,D500+1,3))","v":""},"","",{"$f":"INDEX(Visum_Liste,F500+1)&\"\"","v":""},"","ZZ",0,0,0,0,0,0,3,"",{"$f":"MIN(IF(W500=$W$9:$W$2128,$E$9:$E$2128))","v":0},{"$f":"MAX(IF(W500=$W$9:$W$2128,$E$9:$E$2128))","v":0},492,1,1,null,null,1,null,"ZZ00000","00ZZ000",null,{"$f":"ABS(OR(C500=0,AND(MaxInput>1,M500=INDEX(FFilter,AO$5))))","v":1},{"$f":"ABS(OR(C500=0,AND(MaxInput>1,N500=INDEX(FFilter,AP$5))))","v":1},{"$f":"ABS(OR(C500=0,AND(MaxInput>1,O500=INDEX(FFilter,AQ$5))))","v":1},null,null,null,null,null,null,null,null,null,null,{"$f":"ROW()","v":500}]
[493,"",null,null,null,null,null,null,null,null,null,null,"",{"$f":"IF(C501=0,\"\",INDEX(Objekt_Text,D501+1,2))","v":""},{"$f":"IF(C501=0,\"\",INDEX(Objekt_Text,D501+1,3))","v":""},"","",{"$f":"INDEX(Visum_Liste,F501+1)&\"\"","v":""},"","ZZ",0,0,0,0,0,0,3,"",{"$f":"MIN(IF(W501=$W$9:$W$2128,$E$9:$E$2128))","v":0},{"$f":"MAX(IF(W501=$W$9:$W$2128,$E$9:$E$2128))","v":0},493,1,1,null,null,1,null,"ZZ00000","00ZZ000",null,{"$f":"ABS(OR(C501=0,AND(MaxInput>1,M501=INDEX(FFilter,AO$5))))","v":1},{"$f":"ABS(OR(C501=0,AND(MaxInput>1,N501=INDEX(FFilter,AP$5))))","v":1},{"$f":"ABS(OR(C501=0,AND(MaxInput>1,O501=INDEX(FFilter,AQ$5))))","v":1},null,null,null,null,null,null,null,null,null,null,{"$f":"ROW()","v":501}]
[497,"",null,null,null,null,null,null,null,null,null,null,"",{"$f":"IF(C505=0,\"\",INDEX(Objekt_Text,D505+1,2))","v":""},{"$f":"IF(C505=0,\"\",INDEX(Objekt_Text,D505+1,3))","v":""},"","",{"$f":"INDEX(Visum_Liste,F505+1)&\"\"","v":""},"","ZZ",0,0,0,0,0,0,3,"",{"$f":"MIN(IF(W505=$W$9:$W$2128,$E$9:$E$2128))","v":0},{"$f":"MAX(IF(W505=$W$9:$W$2128,$E$9:$E$2128))","v":0},497,1,1,null,null,1,null,"ZZ00000","00ZZ000",null,{"$f":"ABS(OR(C505=0,AND(MaxInput>1,M505=INDEX(FFilter,AO$5))))","v":1},{"$f":"ABS(OR(C505=0,AND(MaxInput>1,N505=INDEX(FFilter,AP$5))))","v":1},{"$f":"ABS(OR(C505=0,AND(MaxInput>1,O505=INDEX(FFilter,AQ$5))))","v":1},null,null,null,null,null,null,null,null,null,null,{"$f":"ROW()","v":505}]
[500,"",null,null,null,null,null,null,null,null,null,null,"",{"$f":"IF(C508=0,\"\",INDEX(Objekt_Text,D508+1,2))","v":""},{"$f":"IF(C508=0,\"\",INDEX(Objekt_Text,D508+1,3))","v":""},"","",{"$f":"INDEX(Visum_Liste,F508+1)&\"\"","v":""},"","ZZ",0,0,0,0,0,0,3,"",{"$f":"MIN(IF(W508=$W$9:$W$2128,$E$9:$E$2128))","v":0},{"$f":"MAX(IF(W508=$W$9:$W$2128,$E$9:$E$2128))","v":0},500,1,1,null,null,1,null,"ZZ00000","00ZZ000",null,{"$f":"ABS(OR(C508=0,AND(MaxInput>1,M508=INDEX(FFilter,AO$5))))","v":1},{"$f":"ABS(OR(C508=0,AND(MaxInput>1,N508=INDEX(FFilter,AP$5))))","v":1},{"$f":"ABS(OR(C508=0,AND(MaxInput>1,O508=INDEX(FFilter,AQ$5))))","v":1},null,null,null,null,null,null,null,null,null,null,{"$f":"ROW()","v":508}]
[504,"",null,null,null,null,null,null,null,null,null,null,"",{"$f":"IF(C512=0,\"\",INDEX(Objekt_Text,D512+1,2))","v":""},{"$f":"IF(C512=0,\"\",INDEX(Objekt_Text,D512+1,3))","v":""},"","",{"$f":"INDEX(Visum_Liste,F512+1)&\"\"","v":""},"","ZZ",0,0,0,0,0,0,3,"",{"$f":"MIN(IF(W512=$W$9:$W$2128,$E$9:$E$2128))","v":0},{"$f":"MAX(IF(W512=$W$9:$W$2128,$E$9:$E$2128))","v":0},504,1,1,null,null,1,null,"ZZ00000","00ZZ000",null,{"$f":"ABS(OR(C512=0,AND(MaxInput>1,M512=INDEX(FFilter,AO$5))))","v":1},{"$f":"ABS(OR(C512=0,AND(MaxInput>1,N512=INDEX(FFilter,AP$5))))","v":1},{"$f":"ABS(OR(C512=0,AND(MaxInput>1,O512=INDEX(FFilter,AQ$5))))","v":1},null,null,null,null,null,null,null,null,null,null,{"$f":"ROW()","v":512}]
[507,"",null,null,null,null,null,null,null,null,null,null,"",{"$f":"IF(C515=0,\"\",INDEX(Objekt_Text,D515+1,2))","v":""},{"$f":"IF(C515=0,\"\",INDEX(Objekt_Text,D515+1,3))","v":""},"","",{"$f":"INDEX(Visum_Liste,F515+1)&\"\"","v":""},"","ZZ",0,0,0,0,0,0,3,"",{"$f":"MIN(IF(W515=$W$9:$W$2128,$E$9:$E$2128))","v":0},{"$f":"MAX(IF(W515=$W$9:$W$2128,$E$9:$E$2128))","v":0},507,1,1,null,null,1,null,"ZZ00000","00ZZ000",null,{"$f":"ABS(OR(C515=0,AND(MaxInput>1,M515=INDEX(FFilter,AO$5))))","v":1},{"$f":"ABS(OR(C515=0,AND(MaxInput>1,N515=INDEX(FFilter,AP$5))))","v":1},{"$f":"ABS(OR(C515=0,AND(MaxInput>1,O515=INDEX(FFilter,AQ$5))))","v":1},null,null,null,null,null,null,null,null,null,null,{"$f":"ROW()","v":515}]
[510,"",null,null,null,null,null,null,null,null,null,null,"",{"$f":"IF(C518=0,\"\",INDEX(Objekt_Text,D518+1,2))","v":""},{"$f":"IF(C518=0,\"\",INDEX(Objekt_Text,D518+1,3))","v":""},"","",{"$f":"INDEX(Visum_Liste,F518+1)&\"\"","v":""},"","ZZ",0,0,0,0,0,0,3,"",{"$f":"MIN(IF(W518=$W$9:$W$2128,$E$9:$E$2128))","v":0},{"$f":"MAX(IF(W518=$W$9:$W$2128,$E$9:$E$2128))","v":0},510,1,1,null,null,1,null,"ZZ00000","00ZZ000",null,{"$f":"ABS(OR(C518=0,AND(MaxInput>1,M518=INDEX(FFilter,AO$5))))","v":1},{"$f":"ABS(OR(C518=0,AND(MaxInput>1,N518=INDEX(FFilter,AP$5))))","v":1},{"$f":"ABS(OR(C518=0,AND(MaxInput>1,O518=INDEX(FFilter,AQ$5))))","v":1},null,null,null,null,null,null,null,null,null,null,{"$f":"ROW()","v":518}]
[511,"",null,null,null,null,null,null,null,null,null,null,"",{"$f":"IF(C519=0,\"\",INDEX(Objekt_Text,D519+1,2))","v":""},{"$f":"IF(C519=0,\"\",INDEX(Objekt_Text,D519+1,3))","v":""},"","",{"$f":"INDEX(Visum_Liste,F519+1)&\"\"","v":""},"","ZZ",0,0,0,0,0,0,3,"",{"$f":"MIN(IF(W519=$W$9:$W$2128,$E$9:$E$2128))","v":0},{"$f":"MAX(IF(W519=$W$9:$W$2128,$E$9:$E$2128))","v":0},511,1,1,null,null,1,null,"ZZ00000","00ZZ000",null,{"$f":"ABS(OR(C519=0,AND(MaxInput>1,M519=INDEX(FFilter,AO$5))))","v":1},{"$f":"ABS(OR(C519=0,AND(MaxInput>1,N519=INDEX(FFilter,AP$5))))","v":1},{"$f":"ABS(OR(C519=0,AND(MaxInput>1,O519=INDEX(FFilter,AQ$5))))","v":1},null,null,null,null,null,null,null,null,null,null,{"$f":"ROW()","v":519}]
[514,"",null,null,null,null,null,null,null,null,null,null,"",{"$f":"IF(C522=0,\"\",INDEX(Objekt_Text,D522+1,2))","v":""},{"$f":"IF(C522=0,\"\",INDEX(Objekt_Text,D522+1,3))","v":""},"","",{"$f":"INDEX(Visum_Liste,F522+1)&\"\"","v":""},"","ZZ",0,0,0,0,0,0,3,"",{"$f":"MIN(IF(W522=$W$9:$W$2128,$E$9:$E$2128))","v":0},{"$f":"MAX(IF(W522=$W$9:$W$2128,$E$9:$E$2128))","v":0},514,1,1,null,null,{"$f":"OR(L522<=L521,B522=\"\")*1","v":1},null,"ZZ00000","00ZZ000",null,{"$f":"ABS(OR(C522=0,AND(MaxInput>1,M522=INDEX(FFilter,AO$5))))","v":1},{"$f":"ABS(OR(C522=0,AND(MaxInput>1,N522=INDEX(FFilter,AP$5))))","v":1},{"$f":"ABS(OR(C522=0,AND(MaxInput>1,O522=INDEX(FFilter,AQ$5))))","v":1},null,null,null,null,null,null,null,null,null,null,{"$f":"ROW()","v":522}]
[518,"",null,null,null,null,null,null,null,null,null,null,"",{"$f":"IF(C526=0,\"\",INDEX(Objekt_Text,D526+1,2))","v":""},{"$f":"IF(C526=0,\"\",INDEX(Objekt_Text,D526+1,3))","v":""},"","",{"$f":"INDEX(Visum_Liste,F526+1)&\"\"","v":""},"","ZZ",0,0,0,0,0,0,3,"",{"$f":"MIN(IF(W526=$W$9:$W$2128,$E$9:$E$2128))","v":0},{"$f":"MAX(IF(W526=$W$9:$W$2128,$E$9:$E$2128))","v":0},518,1,1,null,null,1,null,"ZZ00000","00ZZ000",null,{"$f":"ABS(OR(C526=0,AND(MaxInput>1,M526=INDEX(FFilter,AO$5))))","v":1},{"$f":"ABS(OR(C526=0,AND(MaxInput>1,N526=INDEX(FFilter,AP$5))))","v":1},{"$f":"ABS(OR(C526=0,AND(MaxInput>1,O526=INDEX(FFilter,AQ$5))))","v":1},null,null,null,null,null,null,null,null,null,null,{"$f":"ROW()","v":526}]
[521,"",null,null,null,null,null,null,null,null,null,null,"",{"$f":"IF(C529=0,\"\",INDEX(Objekt_Text,D529+1,2))","v":""},{"$f":"IF(C529=0,\"\",INDEX(Objekt_Text,D529+1,3))","v":""},"","",{"$f":"INDEX(Visum_Liste,F529+1)&\"\"","v":""},"","ZZ",0,0,0,0,0,0,3,"",{"$f":"MIN(IF(W529=$W$9:$W$2128,$E$9:$E$2128))","v":0},{"$f":"MAX(IF(W529=$W$9:$W$2128,$E$9:$E$2128))","v":0},521,1,1,null,null,1,null,"ZZ00000","00ZZ000",null,{"$f":"ABS(OR(C529=0,AND(MaxInput>1,M529=INDEX(FFilter,AO$5))))","v":1},{"$f":"ABS(OR(C529=0,AND(MaxInput>1,N529=INDEX(FFilter,AP$5))))","v":1},{"$f":"ABS(OR(C529=0,AND(MaxInput>1,O529=INDEX(FFilter,AQ$5))))","v":1},null,null,null,null,null,null,null,null,null,null,{"$f":"ROW()","v":529}]
[524,"",null,null,null,null,null,null,null,null,null,null,"",{"$f":"IF(C532=0,\"\",INDEX(Objekt_Text,D532+1,2))","v":""},{"$f":"IF(C532=0,\"\",INDEX(Objekt_Text,D532+1,3))","v":""},"","",{"$f":"INDEX(Visum_Liste,F532+1)&\"\"","v":""},"","ZZ",0,0,0,0,0,0,3,"",{"$f":"MIN(IF(W532=$W$9:$W$2128,$E$9:$E$2128))","v":0},{"$f":"MAX(IF(W532=$W$9:$W$2128,$E$9:$E$2128))","v":0},524,1,1,null,null,1,null,"ZZ00000","00ZZ000",null,{"$f":"ABS(OR(C532=0,AND(MaxInput>1,M532=INDEX(FFilter,AO$5))))","v":1},{"$f":"ABS(OR(C532=0,AND(MaxInput>1,N532=INDEX(FFilter,AP$5))))","v":1},{"$f":"ABS(OR(C532=0,AND(MaxInput>1,O532=INDEX(FFilter,AQ$5))))","v":1},null,null,null,null,null,null,null,null,null,null,{"$f":"ROW()","v":532}]
[528,"",null,null,null,null,null,null,null,null,null,null,"",{"$f":"IF(C536=0,\"\",INDEX(Objekt_Text,D536+1,2))","v":""},{"$f":"IF(C536=0,\"\",INDEX(Objekt_Text,D536+1,3))","v":""},"","",{"$f":"INDEX(Visum_Liste,F536+1)&\"\"","v":""},"","ZZ",0,0,0,0,0,0,3,"",{"$f":"MIN(IF(W536=$W$9:$W$2128,$E$9:$E$2128))","v":0},{"$f":"MAX(IF(W536=$W$9:$W$2128,$E$9:$E$2128))","v":0},528,1,1,null,null,1,null,"ZZ00000","00ZZ000",null,{"$f":"ABS(OR(C536=0,AND(MaxInput>1,M536=INDEX(FFilter,AO$5))))","v":1},{"$f":"ABS(OR(C536=0,AND(MaxInput>1,N536=INDEX(FFilter,AP$5))))","v":1},{"$f":"ABS(OR(C536=0,AND(MaxInput>1,O536=INDEX(FFilter,AQ$5))))","v":1},null,null,null,null,null,null,null,null,null,null,{"$f":"ROW()","v":536}]
[531,"",null,null,null,null,null,null,null,null,null,null,"",{"$f":"IF(C539=0,\"\",INDEX(Objekt_Text,D539+1,2))","v":""},{"$f":"IF(C539=0,\"\",INDEX(Objekt_Text,D539+1,3))","v":""},"","",{"$f":"INDEX(Visum_Liste,F539+1)&\"\"","v":""},"","ZZ",0,0,0,0,0,0,3,"",{"$f":"MIN(IF(W539=$W$9:$W$2128,$E$9:$E$2128))","v":0},{"$f":"MAX(IF(W539=$W$9:$W$2128,$E$9:$E$2128))","v":0},531,1,1,null,null,1,null,"ZZ00000","00ZZ000",null,{"$f":"ABS(OR(C539=0,AND(MaxInput>1,M539=INDEX(FFilter,AO$5))))","v":1},{"$f":"ABS(OR(C539=0,AND(MaxInput>1,N539=INDEX(FFilter,AP$5))))","v":1},{"$f":"ABS(OR(C539=0,AND(MaxInput>1,O539=INDEX(FFilter,AQ$5))))","v":1},null,null,null,null,null,null,null,null,null,null,{"$f":"ROW()","v":539}]
[534,"",null,null,null,null,null,null,null,null,null,null,"",{"$f":"IF(C542=0,\"\",INDEX(Objekt_Text,D542+1,2))","v":""},{"$f":"IF(C542=0,\"\",INDEX(Objekt_Text,D542+1,3))","v":""},"","",{"$f":"INDEX(Visum_Liste,F542+1)&\"\"","v":""},"","ZZ",0,0,0,0,0,0,3,"",{"$f":"MIN(IF(W542=$W$9:$W$2128,$E$9:$E$2128))","v":0},{"$f":"MAX(IF(W542=$W$9:$W$2128,$E$9:$E$2128))","v":0},534,1,1,null,null,1,null,"ZZ00000","00ZZ000",null,{"$f":"ABS(OR(C542=0,AND(MaxInput>1,M542=INDEX(FFilter,AO$5))))","v":1},{"$f":"ABS(OR(C542=0,AND(MaxInput>1,N542=INDEX(FFilter,AP$5))))","v":1},{"$f":"ABS(OR(C542=0,AND(MaxInput>1,O542=INDEX(FFilter,AQ$5))))","v":1},null,null,null,null,null,null,null,null,null,null,{"$f":"ROW()","v":542}]
[535,"",null,null,null,null,null,null,null,null,null,null,"",{"$f":"IF(C543=0,\"\",INDEX(Objekt_Text,D543+1,2))","v":""},{"$f":"IF(C543=0,\"\",INDEX(Objekt_Text,D543+1,3))","v":""},"","",{"$f":"INDEX(Visum_Liste,F543+1)&\"\"","v":""},"","ZZ",0,0,0,0,0,0,3,"",{"$f":"MIN(IF(W543=$W$9:$W$2128,$E$9:$E$2128))","v":0},{"$f":"MAX(IF(W543=$W$9:$W$2128,$E$9:$E$2128))","v":0},535,1,1,null,null,1,null,"ZZ00000","00ZZ000",null,{"$f":"ABS(OR(C543=0,AND(MaxInput>1,M543=INDEX(FFilter,AO$5))))","v":1},{"$f":"ABS(OR(C543=0,AND(MaxInput>1,N543=INDEX(FFilter,AP$5))))","v":1},{"$f":"ABS(OR(C543=0,AND(MaxInput>1,O543=INDEX(FFilter,AQ$5))))","v":1},null,null,null,null,null,null,null,null,null,null,{"$f":"ROW()","v":543}]
[538,"",null,null,null,null,null,null,null,null,null,null,"",{"$f":"IF(C546=0,\"\",INDEX(Objekt_Text,D546+1,2))","v":""},{"$f":"IF(C546=0,\"\",INDEX(Objekt_Text,D546+1,3))","v":""},"","",{"$f":"INDEX(Visum_Liste,F546+1)&\"\"","v":""},"","ZZ",0,0,0,0,0,0,3,"",{"$f":"MIN(IF(W546=$W$9:$W$2128,$E$9:$E$2128))","v":0},{"$f":"MAX(IF(W546=$W$9:$W$2128,$E$9:$E$2128))","v":0},538,1,1,null,null,1,null,"ZZ00000","00ZZ000",null,{"$f":"ABS(OR(C546=0,AND(MaxInput>1,M546=INDEX(FFilter,AO$5))))","v":1},{"$f":"ABS(OR(C546=0,AND(MaxInput>1,N546=INDEX(FFilter,AP$5))))","v":1},{"$f":"ABS(OR(C546=0,AND(MaxInput>1,O546=INDEX(FFilter,AQ$5))))","v":1},null,null,null,null,null,null,null,null,null,null,{"$f":"ROW()","v":546}]
[542,"",null,null,null,null,null,null,null,null,null,null,"",{"$f":"IF(C550=0,\"\",INDEX(Objekt_Text,D550+1,2))","v":""},{"$f":"IF(C550=0,\"\",INDEX(Objekt_Text,D550+1,3))","v":""},"","",{"$f":"INDEX(Visum_Liste,F550+1)&\"\"","v":""},"","ZZ",0,0,0,0,0,0,3,"",{"$f":"MIN(IF(W550=$W$9:$W$2128,$E$9:$E$2128))","v":0},{"$f":"MAX(IF(W550=$W$9:$W$2128,$E$9:$E$2128))","v":0},542,1,1,null,null,1,null,"ZZ00000","00ZZ000",null,{"$f":"ABS(OR(C550=0,AND(MaxInput>1,M550=INDEX(FFilter,AO$5))))","v":1},{"$f":"ABS(OR(C550=0,AND(MaxInput>1,N550=INDEX(FFilter,AP$5))))","v":1},{"$f":"ABS(OR(C550=0,AND(MaxInput>1,O550=INDEX(FFilter,AQ$5))))","v":1},null,null,null,null,null,null,null,null,null,null,{"$f":"ROW()","v":550}]
[545,"",null,null,null,null,null,null,null,null,null,null,"",{"$f":"IF(C553=0,\"\",INDEX(Objekt_Text,D553+1,2))","v":""},{"$f":"IF(C553=0,\"\",INDEX(Objekt_Text,D553+1,3))","v":""},"","",{"$f":"INDEX(Visum_Liste,F553+1)&\"\"","v":""},"","ZZ",0,0,0,0,0,0,3,"",{"$f":"MIN(IF(W553=$W$9:$W$2128,$E$9:$E$2128))","v":0},{"$f":"MAX(IF(W553=$W$9:$W$2128,$E$9:$E$2128))","v":0},545,1,1,null,null,1,null,"ZZ00000","00ZZ000",null,{"$f":"ABS(OR(C553=0,AND(MaxInput>1,M553=INDEX(FFilter,AO$5))))","v":1},{"$f":"ABS(OR(C553=0,AND(MaxInput>1,N553=INDEX(FFilter,AP$5))))","v":1},{"$f":"ABS(OR(C553=0,AND(MaxInput>1,O553=INDEX(FFilter,AQ$5))))","v":1},null,null,null,null,null,null,null,null,null,null,{"$f":"ROW()","v":553}]
[548,"",null,null,null,null,null,null,null,null,null,null,"",{"$f":"IF(C556=0,\"\",INDEX(Objekt_Text,D556+1,2))","v":""},{"$f":"IF(C556=0,\"\",INDEX(Objekt_Text,D556+1,3))","v":""},"","",{"$f":"INDEX(Visum_Liste,F556+1)&\"\"","v":""},"","ZZ",0,0,0,0,0,0,3,"",{"$f":"MIN(IF(W556=$W$9:$W$2128,$E$9:$E$2128))","v":0},{"$f":"MAX(IF(W556=$W$9:$W$2128,$E$9:$E$2128))","v":0},548,1,1,null,null,1,null,"ZZ00000","00ZZ000",null,{"$f":"ABS(OR(C556=0,AND(MaxInput>1,M556=INDEX(FFilter,AO$5))))","v":1},{"$f":"ABS(OR(C556=0,AND(MaxInput>1,N556=INDEX(FFilter,AP$5))))","v":1},{"$f":"ABS(OR(C556=0,AND(MaxInput>1,O556=INDEX(FFilter,AQ$5))))","v":1},null,null,null,null,null,null,null,null,null,null,{"$f":"ROW()","v":556}]
[552,"",null,null,null,null,null,null,null,null,null,null,"",{"$f":"IF(C560=0,\"\",INDEX(Objekt_Text,D560+1,2))","v":""},{"$f":"IF(C560=0,\"\",INDEX(Objekt_Text,D560+1,3))","v":""},"","",{"$f":"INDEX(Visum_Liste,F560+1)&\"\"","v":""},"","ZZ",0,0,0,0,0,0,3,"",{"$f":"MIN(IF(W560=$W$9:$W$2128,$E$9:$E$2128))","v":0},{"$f":"MAX(IF(W560=$W$9:$W$2128,$E$9:$E$2128))","v":0},552,1,1,null,null,1,null,"ZZ00000","00ZZ000",null,{"$f":"ABS(OR(C560=0,AND(MaxInput>1,M560=INDEX(FFilter,AO$5))))","v":1},{"$f":"ABS(OR(C560=0,AND(MaxInput>1,N560=INDEX(FFilter,AP$5))))","v":1},{"$f":"ABS(OR(C560=0,AND(MaxInput>1,O560=INDEX(FFilter,AQ$5))))","v":1},null,null,null,null,null,null,null,null,null,null,{"$f":"ROW()","v":560}]
[555,"",null,null,null,null,null,null,null,null,null,null,"",{"$f":"IF(C563=0,\"\",INDEX(Objekt_Text,D563+1,2))","v":""},{"$f":"IF(C563=0,\"\",INDEX(Objekt_Text,D563+1,3))","v":""},"","",{"$f":"INDEX(Visum_Liste,F563+1)&\"\"","v":""},"","ZZ",0,0,0,0,0,0,3,"",{"$f":"MIN(IF(W563=$W$9:$W$2128,$E$9:$E$2128))","v":0},{"$f":"MAX(IF(W563=$W$9:$W$2128,$E$9:$E$2128))","v":0},555,1,1,null,null,1,null,"ZZ00000","00ZZ000",null,{"$f":"ABS(OR(C563=0,AND(MaxInput>1,M563=INDEX(FFilter,AO$5))))","v":1},{"$f":"ABS(OR(C563=0,AND(MaxInput>1,N563=INDEX(FFilter,AP$5))))","v":1},{"$f":"ABS(OR(C563=0,AND(MaxInput>1,O563=INDEX(FFilter,AQ$5))))","v":1},null,null,null,null,null,null,null,null,null,null,{"$f":"ROW()","v":563}]
[556,"",null,null,null,null,null,null,null,null,null,null,"",{"$f":"IF(C564=0,\"\",INDEX(Objekt_Text,D564+1,2))","v":""},{"$f":"IF(C564=0,\"\",INDEX(Objekt_Text,D564+1,3))","v":""},"","",{"$f":"INDEX(Visum_Liste,F564+1)&\"\"","v":""},"","ZZ",0,0,0,0,0,0,3,"",{"$f":"MIN(IF(W564=$W$9:$W$2128,$E$9:$E$2128))","v":0},{"$f":"MAX(IF(W564=$W$9:$W$2128,$E$9:$E$2128))","v":0},556,1,1,null,null,1,null,"ZZ00000","00ZZ000",null,{"$f":"ABS(OR(C564=0,AND(MaxInput>1,M564=INDEX(FFilter,AO$5))))","v":1},{"$f":"ABS(OR(C564=0,AND(MaxInput>1,N564=INDEX(FFilter,AP$5))))","v":1},{"$f":"ABS(OR(C564=0,AND(MaxInput>1,O564=INDEX(FFilter,AQ$5))))","v":1},null,null,null,null,null,null,null,null,null,null,{"$f":"ROW()","v":564}]
[559,"",null,null,null,null,null,null,null,null,null,null,"",{"$f":"IF(C567=0,\"\",INDEX(Objekt_Text,D567+1,2))","v":""},{"$f":"IF(C567=0,\"\",INDEX(Objekt_Text,D567+1,3))","v":""},"","",{"$f":"INDEX(Visum_Liste,F567+1)&\"\"","v":""},"","ZZ",0,0,0,0,0,0,3,"",{"$f":"MIN(IF(W567=$W$9:$W$2128,$E$9:$E$2128))","v":0},{"$f":"MAX(IF(W567=$W$9:$W$2128,$E$9:$E$2128))","v":0},559,1,1,null,null,1,null,"ZZ00000","00ZZ000",null,{"$f":"ABS(OR(C567=0,AND(MaxInput>1,M567=INDEX(FFilter,AO$5))))","v":1},{"$f":"ABS(OR(C567=0,AND(MaxInput>1,N567=INDEX(FFilter,AP$5))))","v":1},{"$f":"ABS(OR(C567=0,AND(MaxInput>1,O567=INDEX(FFilter,AQ$5))))","v":1},null,null,null,null,null,null,null,null,null,null,{"$f":"ROW()","v":567}]
[562,"",null,null,null,null,null,null,null,null,null,null,"",{"$f":"IF(C570=0,\"\",INDEX(Objekt_Text,D570+1,2))","v":""},{"$f":"IF(C570=0,\"\",INDEX(Objekt_Text,D570+1,3))","v":""},"","",{"$f":"INDEX(Visum_Liste,F570+1)&\"\"","v":""},"","ZZ",0,0,0,0,0,0,3,"",{"$f":"MIN(IF(W570=$W$9:$W$2128,$E$9:$E$2128))","v":0},{"$f":"MAX(IF(W570=$W$9:$W$2128,$E$9:$E$2128))","v":0},562,1,1,null,null,1,null,"ZZ00000","00ZZ000",null,{"$f":"ABS(OR(C570=0,AND(MaxInput>1,M570=INDEX(FFilter,AO$5))))","v":1},{"$f":"ABS(OR(C570=0,AND(MaxInput>1,N570=INDEX(FFilter,AP$5))))","v":1},{"$f":"ABS(OR(C570=0,AND(MaxInput>1,O570=INDEX(FFilter,AQ$5))))","v":1},null,null,null,null,null,null,null,null,null,null,{"$f":"ROW()","v":570}]
[566,"",null,null,null,null,null,null,null,null,null,null,"",{"$f":"IF(C574=0,\"\",INDEX(Objekt_Text,D574+1,2))","v":""},{"$f":"IF(C574=0,\"\",INDEX(Objekt_Text,D574+1,3))","v":""},"","",{"$f":"INDEX(Visum_Liste,F574+1)&\"\"","v":""},"","ZZ",0,0,0,0,0,0,3,"",{"$f":"MIN(IF(W574=$W$9:$W$2128,$E$9:$E$2128))","v":0},{"$f":"MAX(IF(W574=$W$9:$W$2128,$E$9:$E$2128))","v":0},566,1,1,null,null,1,null,"ZZ00000","00ZZ000",null,{"$f":"ABS(OR(C574=0,AND(MaxInput>1,M574=INDEX(FFilter,AO$5))))","v":1},{"$f":"ABS(OR(C574=0,AND(MaxInput>1,N574=INDEX(FFilter,AP$5))))","v":1},{"$f":"ABS(OR(C574=0,AND(MaxInput>1,O574=INDEX(FFilter,AQ$5))))","v":1},null,null,null,null,null,null,null,null,null,null,{"$f":"ROW()","v":574}]
[569,"",null,null,null,null,null,null,null,null,null,null,"",{"$f":"IF(C577=0,\"\",INDEX(Objekt_Text,D577+1,2))","v":""},{"$f":"IF(C577=0,\"\",INDEX(Objekt_Text,D577+1,3))","v":""},"","",{"$f":"INDEX(Visum_Liste,F577+1)&\"\"","v":""},"","ZZ",0,0,0,0,0,0,3,"",{"$f":"MIN(IF(W577=$W$9:$W$2128,$E$9:$E$2128))","v":0},{"$f":"MAX(IF(W577=$W$9:$W$2128,$E$9:$E$2128))","v":0},569,1,1,null,null,1,null,"ZZ00000","00ZZ000",null,{"$f":"ABS(OR(C577=0,AND(MaxInput>1,M577=INDEX(FFilter,AO$5))))","v":1},{"$f":"ABS(OR(C577=0,AND(MaxInput>1,N577=INDEX(FFilter,AP$5))))","v":1},{"$f":"ABS(OR(C577=0,AND(MaxInput>1,O577=INDEX(FFilter,AQ$5))))","v":1},null,null,null,null,null,null,null,null,null,null,{"$f":"ROW()","v":577}]
[572,"",null,null,null,null,null,null,null,null,null,null,"",{"$f":"IF(C580=0,\"\",INDEX(Objekt_Text,D580+1,2))","v":""},{"$f":"IF(C580=0,\"\",INDEX(Objekt_Text,D580+1,3))","v":""},"","",{"$f":"INDEX(Visum_Liste,F580+1)&\"\"","v":""},"","ZZ",0,0,0,0,0,0,3,"",{"$f":"MIN(IF(W580=$W$9:$W$2128,$E$9:$E$2128))","v":0},{"$f":"MAX(IF(W580=$W$9:$W$2128,$E$9:$E$2128))","v":0},572,1,1,null,null,1,null,"ZZ00000","00ZZ000",null,{"$f":"ABS(OR(C580=0,AND(MaxInput>1,M580=INDEX(FFilter,AO$5))))","v":1},{"$f":"ABS(OR(C580=0,AND(MaxInput>1,N580=INDEX(FFilter,AP$5))))","v":1},{"$f":"ABS(OR(C580=0,AND(MaxInput>1,O580=INDEX(FFilter,AQ$5))))","v":1},null,null,null,null,null,null,null,null,null,null,{"$f":"ROW()","v":580}]
[576,"",null,null,null,null,null,null,null,null,null,null,"",{"$f":"IF(C584=0,\"\",INDEX(Objekt_Text,D584+1,2))","v":""},{"$f":"IF(C584=0,\"\",INDEX(Objekt_Text,D584+1,3))","v":""},"","",{"$f":"INDEX(Visum_Liste,F584+1)&\"\"","v":""},"","ZZ",0,0,0,0,0,0,3,"",{"$f":"MIN(IF(W584=$W$9:$W$2128,$E$9:$E$2128))","v":0},{"$f":"MAX(IF(W584=$W$9:$W$2128,$E$9:$E$2128))","v":0},576,1,1,null,null,1,null,"ZZ00000","00ZZ000",null,{"$f":"ABS(OR(C584=0,AND(MaxInput>1,M584=INDEX(FFilter,AO$5))))","v":1},{"$f":"ABS(OR(C584=0,AND(MaxInput>1,N584=INDEX(FFilter,AP$5))))","v":1},{"$f":"ABS(OR(C584=0,AND(MaxInput>1,O584=INDEX(FFilter,AQ$5))))","v":1},null,null,null,null,null,null,null,null,null,null,{"$f":"ROW()","v":584}]
[579,"",null,null,null,null,null,null,null,null,null,null,"",{"$f":"IF(C587=0,\"\",INDEX(Objekt_Text,D587+1,2))","v":""},{"$f":"IF(C587=0,\"\",INDEX(Objekt_Text,D587+1,3))","v":""},"","",{"$f":"INDEX(Visum_Liste,F587+1)&\"\"","v":""},"","ZZ",0,0,0,0,0,0,3,"",{"$f":"MIN(IF(W587=$W$9:$W$2128,$E$9:$E$2128))","v":0},{"$f":"MAX(IF(W587=$W$9:$W$2128,$E$9:$E$2128))","v":0},579,1,1,null,null,1,null,"ZZ00000","00ZZ000",null,{"$f":"ABS(OR(C587=0,AND(MaxInput>1,M587=INDEX(FFilter,AO$5))))","v":1},{"$f":"ABS(OR(C587=0,AND(MaxInput>1,N587=INDEX(FFilter,AP$5))))","v":1},{"$f":"ABS(OR(C587=0,AND(MaxInput>1,O587=INDEX(FFilter,AQ$5))))","v":1},null,null,null,null,null,null,null,null,null,null,{"$f":"ROW()","v":587}]
[580,"",null,null,null,null,null,null,null,null,null,null,"",{"$f":"IF(C588=0,\"\",INDEX(Objekt_Text,D588+1,2))","v":""},{"$f":"IF(C588=0,\"\",INDEX(Objekt_Text,D588+1,3))","v":""},"","",{"$f":"INDEX(Visum_Liste,F588+1)&\"\"","v":""},"","ZZ",0,0,0,0,0,0,3,"",{"$f":"MIN(IF(W588=$W$9:$W$2128,$E$9:$E$2128))","v":0},{"$f":"MAX(IF(W588=$W$9:$W$2128,$E$9:$E$2128))","v":0},580,1,1,null,null,1,null,"ZZ00000","00ZZ000",null,{"$f":"ABS(OR(C588=0,AND(MaxInput>1,M588=INDEX(FFilter,AO$5))))","v":1},{"$f":"ABS(OR(C588=0,AND(MaxInput>1,N588=INDEX(FFilter,AP$5))))","v":1},{"$f":"ABS(OR(C588=0,AND(MaxInput>1,O588=INDEX(FFilter,AQ$5))))","v":1},null,null,null,null,null,null,null,null,null,null,{"$f":"ROW()","v":588}]
[583,"",null,null,null,null,null,null,null,null,null,null,"",{"$f":"IF(C591=0,\"\",INDEX(Objekt_Text,D591+1,2))","v":""},{"$f":"IF(C591=0,\"\",INDEX(Objekt_Text,D591+1,3))","v":""},"","",{"$f":"INDEX(Visum_Liste,F591+1)&\"\"","v":""},"","ZZ",0,0,0,0,0,0,3,"",{"$f":"MIN(IF(W591=$W$9:$W$2128,$E$9:$E$2128))","v":0},{"$f":"MAX(IF(W591=$W$9:$W$2128,$E$9:$E$2128))","v":0},583,1,1,null,null,1,null,"ZZ00000","00ZZ000",null,{"$f":"ABS(OR(C591=0,AND(MaxInput>1,M591=INDEX(FFilter,AO$5))))","v":1},{"$f":"ABS(OR(C591=0,AND(MaxInput>1,N591=INDEX(FFilter,AP$5))))","v":1},{"$f":"ABS(OR(C591=0,AND(MaxInput>1,O591=INDEX(FFilter,AQ$5))))","v":1},null,null,null,null,null,null,null,null,null,null,{"$f":"ROW()","v":591}]
[586,"",null,null,null,null,null,null,null,null,null,null,"",{"$f":"IF(C594=0,\"\",INDEX(Objekt_Text,D594+1,2))","v":""},{"$f":"IF(C594=0,\"\",INDEX(Objekt_Text,D594+1,3))","v":""},"","",{"$f":"INDEX(Visum_Liste,F594+1)&\"\"","v":""},"","ZZ",0,0,0,0,0,0,3,"",{"$f":"MIN(IF(W594=$W$9:$W$2128,$E$9:$E$2128))","v":0},{"$f":"MAX(IF(W594=$W$9:$W$2128,$E$9:$E$2128))","v":0},586,1,1,null,null,1,null,"ZZ00000","00ZZ000",null,{"$f":"ABS(OR(C594=0,AND(MaxInput>1,M594=INDEX(FFilter,AO$5))))","v":1},{"$f":"ABS(OR(C594=0,AND(MaxInput>1,N594=INDEX(FFilter,AP$5))))","v":1},{"$f":"ABS(OR(C594=0,AND(MaxInput>1,O594=INDEX(FFilter,AQ$5))))","v":1},null,null,null,null,null,null,null,null,null,null,{"$f":"ROW()","v":594}]
[590,"",null,null,null,null,null,null,null,null,null,null,"",{"$f":"IF(C598=0,\"\",INDEX(Objekt_Text,D598+1,2))","v":""},{"$f":"IF(C598=0,\"\",INDEX(Objekt_Text,D598+1,3))","v":""},"","",{"$f":"INDEX(Visum_Liste,F598+1)&\"\"","v":""},"","ZZ",0,0,0,0,0,0,3,"",{"$f":"MIN(IF(W598=$W$9:$W$2128,$E$9:$E$2128))","v":0},{"$f":"MAX(IF(W598=$W$9:$W$2128,$E$9:$E$2128))","v":0},590,1,1,null,null,1,null,"ZZ00000","00ZZ000",null,{"$f":"ABS(OR(C598=0,AND(MaxInput>1,M598=INDEX(FFilter,AO$5))))","v":1},{"$f":"ABS(OR(C598=0,AND(MaxInput>1,N598=INDEX(FFilter,AP$5))))","v":1},{"$f":"ABS(OR(C598=0,AND(MaxInput>1,O598=INDEX(FFilter,AQ$5))))","v":1},null,null,null,null,null,null,null,null,null,null,{"$f":"ROW()","v":598}]
[593,"",null,null,null,null,null,null,null,null,null,null,"",{"$f":"IF(C601=0,\"\",INDEX(Objekt_Text,D601+1,2))","v":""},{"$f":"IF(C601=0,\"\",INDEX(Objekt_Text,D601+1,3))","v":""},"","",{"$f":"INDEX(Visum_Liste,F601+1)&\"\"","v":""},"","ZZ",0,0,0,0,0,0,3,"",{"$f":"MIN(IF(W601=$W$9:$W$2128,$E$9:$E$2128))","v":0},{"$f":"MAX(IF(W601=$W$9:$W$2128,$E$9:$E$2128))","v":0},593,1,1,null,null,1,null,"ZZ00000","00ZZ000",null,{"$f":"ABS(OR(C601=0,AND(MaxInput>1,M601=INDEX(FFilter,AO$5))))","v":1},{"$f":"ABS(OR(C601=0,AND(MaxInput>1,N601=INDEX(FFilter,AP$5))))","v":1},{"$f":"ABS(OR(C601=0,AND(MaxInput>1,O601=INDEX(FFilter,AQ$5))))","v":1},null,null,null,null,null,null,null,null,null,null,{"$f":"ROW()","v":601}]
[596,"",null,null,null,null,null,null,null,null,null,null,"",{"$f":"IF(C604=0,\"\",INDEX(Objekt_Text,D604+1,2))","v":""},{"$f":"IF(C604=0,\"\",INDEX(Objekt_Text,D604+1,3))","v":""},"","",{"$f":"INDEX(Visum_Liste,F604+1)&\"\"","v":""},"","ZZ",0,0,0,0,0,0,3,"",{"$f":"MIN(IF(W604=$W$9:$W$2128,$E$9:$E$2128))","v":0},{"$f":"MAX(IF(W604=$W$9:$W$2128,$E$9:$E$2128))","v":0},596,1,1,null,null,1,null,"ZZ00000","00ZZ000",null,{"$f":"ABS(OR(C604=0,AND(MaxInput>1,M604=INDEX(FFilter,AO$5))))","v":1},{"$f":"ABS(OR(C604=0,AND(MaxInput>1,N604=INDEX(FFilter,AP$5))))","v":1},{"$f":"ABS(OR(C604=0,AND(MaxInput>1,O604=INDEX(FFilter,AQ$5))))","v":1},null,null,null,null,null,null,null,null,null,null,{"$f":"ROW()","v":604}]
[600,"",null,null,null,null,null,null,null,null,null,null,"",{"$f":"IF(C608=0,\"\",INDEX(Objekt_Text,D608+1,2))","v":""},{"$f":"IF(C608=0,\"\",INDEX(Objekt_Text,D608+1,3))","v":""},"","",{"$f":"INDEX(Visum_Liste,F608+1)&\"\"","v":""},"","ZZ",0,0,0,0,0,0,3,"",{"$f":"MIN(IF(W608=$W$9:$W$2128,$E$9:$E$2128))","v":0},{"$f":"MAX(IF(W608=$W$9:$W$2128,$E$9:$E$2128))","v":0},600,1,1,null,null,1,null,"ZZ00000","00ZZ000",null,{"$f":"ABS(OR(C608=0,AND(MaxInput>1,M608=INDEX(FFilter,AO$5))))","v":1},{"$f":"ABS(OR(C608=0,AND(MaxInput>1,N608=INDEX(FFilter,AP$5))))","v":1},{"$f":"ABS(OR(C608=0,AND(MaxInput>1,O608=INDEX(FFilter,AQ$5))))","v":1},null,null,null,null,null,null,null,null,null,null,{"$f":"ROW()","v":608}]
[603,"",null,null,null,null,null,null,null,null,null,null,"",{"$f":"IF(C611=0,\"\",INDEX(Objekt_Text,D611+1,2))","v":""},{"$f":"IF(C611=0,\"\",INDEX(Objekt_Text,D611+1,3))","v":""},"","",{"$f":"INDEX(Visum_Liste,F611+1)&\"\"","v":""},"","ZZ",0,0,0,0,0,0,3,"",{"$f":"MIN(IF(W611=$W$9:$W$2128,$E$9:$E$2128))","v":0},{"$f":"MAX(IF(W611=$W$9:$W$2128,$E$9:$E$2128))","v":0},603,1,1,null,null,1,null,"ZZ00000","00ZZ000",null,{"$f":"ABS(OR(C611=0,AND(MaxInput>1,M611=INDEX(FFilter,AO$5))))","v":1},{"$f":"ABS(OR(C611=0,AND(MaxInput>1,N611=INDEX(FFilter,AP$5))))","v":1},{"$f":"ABS(OR(C611=0,AND(MaxInput>1,O611=INDEX(FFilter,AQ$5))))","v":1},null,null,null,null,null,null,null,null,null,null,{"$f":"ROW()","v":611}]
[604,"",null,null,null,null,null,null,null,null,null,null,"",{"$f":"IF(C612=0,\"\",INDEX(Objekt_Text,D612+1,2))","v":""},{"$f":"IF(C612=0,\"\",INDEX(Objekt_Text,D612+1,3))","v":""},"","",{"$f":"INDEX(Visum_Liste,F612+1)&\"\"","v":""},"","ZZ",0,0,0,0,0,0,3,"",{"$f":"MIN(IF(W612=$W$9:$W$2128,$E$9:$E$2128))","v":0},{"$f":"MAX(IF(W612=$W$9:$W$2128,$E$9:$E$2128))","v":0},604,1,1,null,null,1,null,"ZZ00000","00ZZ000",null,{"$f":"ABS(OR(C612=0,AND(MaxInput>1,M612=INDEX(FFilter,AO$5))))","v":1},{"$f":"ABS(OR(C612=0,AND(MaxInput>1,N612=INDEX(FFilter,AP$5))))","v":1},{"$f":"ABS(OR(C612=0,AND(MaxInput>1,O612=INDEX(FFilter,AQ$5))))","v":1},null,null,null,null,null,null,null,null,null,null,{"$f":"ROW()","v":612}]
[607,"",null,null,null,null,null,null,null,null,null,null,"",{"$f":"IF(C615=0,\"\",INDEX(Objekt_Text,D615+1,2))","v":""},{"$f":"IF(C615=0,\"\",INDEX(Objekt_Text,D615+1,3))","v":""},"","",{"$f":"INDEX(Visum_Liste,F615+1)&\"\"","v":""},"","ZZ",0,0,0,0,0,0,3,"",{"$f":"MIN(IF(W615=$W$9:$W$2128,$E$9:$E$2128))","v":0},{"$f":"MAX(IF(W615=$W$9:$W$2128,$E$9:$E$2128))","v":0},607,1,1,null,null,1,null,"ZZ00000","00ZZ000",null,{"$f":"ABS(OR(C615=0,AND(MaxInput>1,M615=INDEX(FFilter,AO$5))))","v":1},{"$f":"ABS(OR(C615=0,AND(MaxInput>1,N615=INDEX(FFilter,AP$5))))","v":1},{"$f":"ABS(OR(C615=0,AND(MaxInput>1,O615=INDEX(FFilter,AQ$5))))","v":1},null,null,null,null,null,null,null,null,null,null,{"$f":"ROW()","v":615}]
[610,"",null,null,null,null,null,null,null,null,null,null,"",{"$f":"IF(C618=0,\"\",INDEX(Objekt_Text,D618+1,2))","v":""},{"$f":"IF(C618=0,\"\",INDEX(Objekt_Text,D618+1,3))","v":""},"","",{"$f":"INDEX(Visum_Liste,F618+1)&\"\"","v":""},"","ZZ",0,0,0,0,0,0,3,"",{"$f":"MIN(IF(W618=$W$9:$W$2128,$E$9:$E$2128))","v":0},{"$f":"MAX(IF(W618=$W$9:$W$2128,$E$9:$E$2128))","v":0},610,1,1,null,null,1,null,"ZZ00000","00ZZ000",null,{"$f":"ABS(OR(C618=0,AND(MaxInput>1,M618=INDEX(FFilter,AO$5))))","v":1},{"$f":"ABS(OR(C618=0,AND(MaxInput>1,N618=INDEX(FFilter,AP$5))))","v":1},{"$f":"ABS(OR(C618=0,AND(MaxInput>1,O618=INDEX(FFilter,AQ$5))))","v":1},null,null,null,null,null,null,null,null,null,null,{"$f":"ROW()","v":618}]
[614,"",null,null,null,null,null,null,null,null,null,null,"",{"$f":"IF(C622=0,\"\",INDEX(Objekt_Text,D622+1,2))","v":""},{"$f":"IF(C622=0,\"\",INDEX(Objekt_Text,D622+1,3))","v":""},"","",{"$f":"INDEX(Visum_Liste,F622+1)&\"\"","v":""},"","ZZ",0,0,0,0,0,0,3,"",{"$f":"MIN(IF(W622=$W$9:$W$2128,$E$9:$E$2128))","v":0},{"$f":"MAX(IF(W622=$W$9:$W$2128,$E$9:$E$2128))","v":0},614,1,1,null,null,1,null,"ZZ00000","00ZZ000",null,{"$f":"ABS(OR(C622=0,AND(MaxInput>1,M622=INDEX(FFilter,AO$5))))","v":1},{"$f":"ABS(OR(C622=0,AND(MaxInput>1,N622=INDEX(FFilter,AP$5))))","v":1},{"$f":"ABS(OR(C622=0,AND(MaxInput>1,O622=INDEX(FFilter,AQ$5))))","v":1},null,null,null,null,null,null,null,null,null,null,{"$f":"ROW()","v":622}]
[617,"",null,null,null,null,null,null,null,null,null,null,"",{"$f":"IF(C625=0,\"\",INDEX(Objekt_Text,D625+1,2))","v":""},{"$f":"IF(C625=0,\"\",INDEX(Objekt_Text,D625+1,3))","v":""},"","",{"$f":"INDEX(Visum_Liste,F625+1)&\"\"","v":""},"","ZZ",0,0,0,0,0,0,3,"",{"$f":"MIN(IF(W625=$W$9:$W$2128,$E$9:$E$2128))","v":0},{"$f":"MAX(IF(W625=$W$9:$W$2128,$E$9:$E$2128))","v":0},617,1,1,null,null,1,null,"ZZ00000","00ZZ000",null,{"$f":"ABS(OR(C625=0,AND(MaxInput>1,M625=INDEX(FFilter,AO$5))))","v":1},{"$f":"ABS(OR(C625=0,AND(MaxInput>1,N625=INDEX(FFilter,AP$5))))","v":1},{"$f":"ABS(OR(C625=0,AND(MaxInput>1,O625=INDEX(FFilter,AQ$5))))","v":1},null,null,null,null,null,null,null,null,null,null,{"$f":"ROW()","v":625}]
[621,"",null,null,null,null,null,null,null,null,null,null,"",{"$f":"IF(C629=0,\"\",INDEX(Objekt_Text,D629+1,2))","v":""},{"$f":"IF(C629=0,\"\",INDEX(Objekt_Text,D629+1,3))","v":""},"","",{"$f":"INDEX(Visum_Liste,F629+1)&\"\"","v":""},"","ZZ",0,0,0,0,0,0,3,"",{"$f":"MIN(IF(W629=$W$9:$W$2128,$E$9:$E$2128))","v":0},{"$f":"MAX(IF(W629=$W$9:$W$2128,$E$9:$E$2128))","v":0},621,1,1,null,null,1,null,"ZZ00000","00ZZ000",null,{"$f":"ABS(OR(C629=0,AND(MaxInput>1,M629=INDEX(FFilter,AO$5))))","v":1},{"$f":"ABS(OR(C629=0,AND(MaxInput>1,N629=INDEX(FFilter,AP$5))))","v":1},{"$f":"ABS(OR(C629=0,AND(MaxInput>1,O629=INDEX(FFilter,AQ$5))))","v":1},null,null,null,null,null,null,null,null,null,null,{"$f":"ROW()","v":629}]
[624,"",null,null,null,null,null,null,null,null,null,null,"",{"$f":"IF(C632=0,\"\",INDEX(Objekt_Text,D632+1,2))","v":""},{"$f":"IF(C632=0,\"\",INDEX(Objekt_Text,D632+1,3))","v":""},"","",{"$f":"INDEX(Visum_Liste,F632+1)&\"\"","v":""},"","ZZ",0,0,0,0,0,0,3,"",{"$f":"MIN(IF(W632=$W$9:$W$2128,$E$9:$E$2128))","v":0},{"$f":"MAX(IF(W632=$W$9:$W$2128,$E$9:$E$2128))","v":0},624,1,1,null,null,1,null,"ZZ00000","00ZZ000",null,{"$f":"ABS(OR(C632=0,AND(MaxInput>1,M632=INDEX(FFilter,AO$5))))","v":1},{"$f":"ABS(OR(C632=0,AND(MaxInput>1,N632=INDEX(FFilter,AP$5))))","v":1},{"$f":"ABS(OR(C632=0,AND(MaxInput>1,O632=INDEX(FFilter,AQ$5))))","v":1},null,null,null,null,null,null,null,null,null,null,{"$f":"ROW()","v":632}]
[627,"",null,null,null,null,null,null,null,null,null,null,"",{"$f":"IF(C635=0,\"\",INDEX(Objekt_Text,D635+1,2))","v":""},{"$f":"IF(C635=0,\"\",INDEX(Objekt_Text,D635+1,3))","v":""},"","",{"$f":"INDEX(Visum_Liste,F635+1)&\"\"","v":""},"","ZZ",0,0,0,0,0,0,3,"",{"$f":"MIN(IF(W635=$W$9:$W$2128,$E$9:$E$2128))","v":0},{"$f":"MAX(IF(W635=$W$9:$W$2128,$E$9:$E$2128))","v":0},627,1,1,null,null,1,null,"ZZ00000","00ZZ000",null,{"$f":"ABS(OR(C635=0,AND(MaxInput>1,M635=INDEX(FFilter,AO$5))))","v":1},{"$f":"ABS(OR(C635=0,AND(MaxInput>1,N635=INDEX(FFilter,AP$5))))","v":1},{"$f":"ABS(OR(C635=0,AND(MaxInput>1,O635=INDEX(FFilter,AQ$5))))","v":1},null,null,null,null,null,null,null,null,null,null,{"$f":"ROW()","v":635}]
[628,"",null,null,null,null,null,null,null,null,null,null,"",{"$f":"IF(C636=0,\"\",INDEX(Objekt_Text,D636+1,2))","v":""},{"$f":"IF(C636=0,\"\",INDEX(Objekt_Text,D636+1,3))","v":""},"","",{"$f":"INDEX(Visum_Liste,F636+1)&\"\"","v":""},"","ZZ",0,0,0,0,0,0,3,"",{"$f":"MIN(IF(W636=$W$9:$W$2128,$E$9:$E$2128))","v":0},{"$f":"MAX(IF(W636=$W$9:$W$2128,$E$9:$E$2128))","v":0},628,1,1,null,null,1,null,"ZZ00000","00ZZ000",null,{"$f":"ABS(OR(C636=0,AND(MaxInput>1,M636=INDEX(FFilter,AO$5))))","v":1},{"$f":"ABS(OR(C636=0,AND(MaxInput>1,N636=INDEX(FFilter,AP$5))))","v":1},{"$f":"ABS(OR(C636=0,AND(MaxInput>1,O636=INDEX(FFilter,AQ$5))))","v":1},null,null,null,null,null,null,null,null,null,null,{"$f":"ROW()","v":636}]
[631,"",null,null,null,null,null,null,null,null,null,null,"",{"$f":"IF(C639=0,\"\",INDEX(Objekt_Text,D639+1,2))","v":""},{"$f":"IF(C639=0,\"\",INDEX(Objekt_Text,D639+1,3))","v":""},"","",{"$f":"INDEX(Visum_Liste,F639+1)&\"\"","v":""},"","ZZ",0,0,0,0,0,0,3,"",{"$f":"MIN(IF(W639=$W$9:$W$2128,$E$9:$E$2128))","v":0},{"$f":"MAX(IF(W639=$W$9:$W$2128,$E$9:$E$2128))","v":0},631,1,1,null,null,1,null,"ZZ00000","00ZZ000",null,{"$f":"ABS(OR(C639=0,AND(MaxInput>1,M639=INDEX(FFilter,AO$5))))","v":1},{"$f":"ABS(OR(C639=0,AND(MaxInput>1,N639=INDEX(FFilter,AP$5))))","v":1},{"$f":"ABS(OR(C639=0,AND(MaxInput>1,O639=INDEX(FFilter,AQ$5))))","v":1},null,null,null,null,null,null,null,null,null,null,{"$f":"ROW()","v":639}]
[634,"",null,null,null,null,null,null,null,null,null,null,"",{"$f":"IF(C642=0,\"\",INDEX(Objekt_Text,D642+1,2))","v":""},{"$f":"IF(C642=0,\"\",INDEX(Objekt_Text,D642+1,3))","v":""},"","",{"$f":"INDEX(Visum_Liste,F642+1)&\"\"","v":""},"","ZZ",0,0,0,0,0,0,3,"",{"$f":"MIN(IF(W642=$W$9:$W$2128,$E$9:$E$2128))","v":0},{"$f":"MAX(IF(W642=$W$9:$W$2128,$E$9:$E$2128))","v":0},634,1,1,null,null,1,null,"ZZ00000","00ZZ000",null,{"$f":"ABS(OR(C642=0,AND(MaxInput>1,M642=INDEX(FFilter,AO$5))))","v":1},{"$f":"ABS(OR(C642=0,AND(MaxInput>1,N642=INDEX(FFilter,AP$5))))","v":1},{"$f":"ABS(OR(C642=0,AND(MaxInput>1,O642=INDEX(FFilter,AQ$5))))","v":1},null,null,null,null,null,null,null,null,null,null,{"$f":"ROW()","v":642}]
[638,"",null,null,null,null,null,null,null,null,null,null,"",{"$f":"IF(C646=0,\"\",INDEX(Objekt_Text,D646+1,2))","v":""},{"$f":"IF(C646=0,\"\",INDEX(Objekt_Text,D646+1,3))","v":""},"","",{"$f":"INDEX(Visum_Liste,F646+1)&\"\"","v":""},"","ZZ",0,0,0,0,0,0,3,"",{"$f":"MIN(IF(W646=$W$9:$W$2128,$E$9:$E$2128))","v":0},{"$f":"MAX(IF(W646=$W$9:$W$2128,$E$9:$E$2128))","v":0},638,1,1,null,null,1,null,"ZZ00000","00ZZ000",null,{"$f":"ABS(OR(C646=0,AND(MaxInput>1,M646=INDEX(FFilter,AO$5))))","v":1},{"$f":"ABS(OR(C646=0,AND(MaxInput>1,N646=INDEX(FFilter,AP$5))))","v":1},{"$f":"ABS(OR(C646=0,AND(MaxInput>1,O646=INDEX(FFilter,AQ$5))))","v":1},null,null,null,null,null,null,null,null,null,null,{"$f":"ROW()","v":646}]
[642,"",null,null,null,null,null,null,null,null,null,null,"",{"$f":"IF(C650=0,\"\",INDEX(Objekt_Text,D650+1,2))","v":""},{"$f":"IF(C650=0,\"\",INDEX(Objekt_Text,D650+1,3))","v":""},"","",{"$f":"INDEX(Visum_Liste,F650+1)&\"\"","v":""},"","ZZ",0,0,0,0,0,0,3,"",{"$f":"MIN(IF(W650=$W$9:$W$2128,$E$9:$E$2128))","v":0},{"$f":"MAX(IF(W650=$W$9:$W$2128,$E$9:$E$2128))","v":0},642,1,1,null,null,{"$f":"OR(L650<=L649,B650=\"\")*1","v":1},null,"ZZ00000","00ZZ000",null,{"$f":"ABS(OR(C650=0,AND(MaxInput>1,M650=INDEX(FFilter,AO$5))))","v":1},{"$f":"ABS(OR(C650=0,AND(MaxInput>1,N650=INDEX(FFilter,AP$5))))","v":1},{"$f":"ABS(OR(C650=0,AND(MaxInput>1,O650=INDEX(FFilter,AQ$5))))","v":1},null,null,null,null,null,null,null,null,null,null,{"$f":"ROW()","v":650}]
[646,"",null,null,null,null,null,null,null,null,null,null,"",{"$f":"IF(C654=0,\"\",INDEX(Objekt_Text,D654+1,2))","v":""},{"$f":"IF(C654=0,\"\",INDEX(Objekt_Text,D654+1,3))","v":""},"","",{"$f":"INDEX(Visum_Liste,F654+1)&\"\"","v":""},"","ZZ",0,0,0,0,0,0,3,"",{"$f":"MIN(IF(W654=$W$9:$W$2128,$E$9:$E$2128))","v":0},{"$f":"MAX(IF(W654=$W$9:$W$2128,$E$9:$E$2128))","v":0},646,1,1,null,null,1,null,"ZZ00000","00ZZ000",null,{"$f":"ABS(OR(C654=0,AND(MaxInput>1,M654=INDEX(FFilter,AO$5))))","v":1},{"$f":"ABS(OR(C654=0,AND(MaxInput>1,N654=INDEX(FFilter,AP$5))))","v":1},{"$f":"ABS(OR(C654=0,AND(MaxInput>1,O654=INDEX(FFilter,AQ$5))))","v":1},null,null,null,null,null,null,null,null,null,null,{"$f":"ROW()","v":654}]
[649,"",null,null,null,null,null,null,null,null,null,null,"",{"$f":"IF(C657=0,\"\",INDEX(Objekt_Text,D657+1,2))","v":""},{"$f":"IF(C657=0,\"\",INDEX(Objekt_Text,D657+1,3))","v":""},"","",{"$f":"INDEX(Visum_Liste,F657+1)&\"\"","v":""},"","ZZ",0,0,0,0,0,0,3,"",{"$f":"MIN(IF(W657=$W$9:$W$2128,$E$9:$E$2128))","v":0},{"$f":"MAX(IF(W657=$W$9:$W$2128,$E$9:$E$2128))","v":0},649,1,1,null,null,1,null,"ZZ00000","00ZZ000",null,{"$f":"ABS(OR(C657=0,AND(MaxInput>1,M657=INDEX(FFilter,AO$5))))","v":1},{"$f":"ABS(OR(C657=0,AND(MaxInput>1,N657=INDEX(FFilter,AP$5))))","v":1},{"$f":"ABS(OR(C657=0,AND(MaxInput>1,O657=INDEX(FFilter,AQ$5))))","v":1},null,null,null,null,null,null,null,null,null,null,{"$f":"ROW()","v":657}]
[652,"",null,null,null,null,null,null,null,null,null,null,"",{"$f":"IF(C660=0,\"\",INDEX(Objekt_Text,D660+1,2))","v":""},{"$f":"IF(C660=0,\"\",INDEX(Objekt_Text,D660+1,3))","v":""},"","",{"$f":"INDEX(Visum_Liste,F660+1)&\"\"","v":""},"","ZZ",0,0,0,0,0,0,3,"",{"$f":"MIN(IF(W660=$W$9:$W$2128,$E$9:$E$2128))","v":0},{"$f":"MAX(IF(W660=$W$9:$W$2128,$E$9:$E$2128))","v":0},652,1,1,null,null,1,null,"ZZ00000","00ZZ000",null,{"$f":"ABS(OR(C660=0,AND(MaxInput>1,M660=INDEX(FFilter,AO$5))))","v":1},{"$f":"ABS(OR(C660=0,AND(MaxInput>1,N660=INDEX(FFilter,AP$5))))","v":1},{"$f":"ABS(OR(C660=0,AND(MaxInput>1,O660=INDEX(FFilter,AQ$5))))","v":1},null,null,null,null,null,null,null,null,null,null,{"$f":"ROW()","v":660}]
[653,"",null,null,null,null,null,null,null,null,null,null,"",{"$f":"IF(C661=0,\"\",INDEX(Objekt_Text,D661+1,2))","v":""},{"$f":"IF(C661=0,\"\",INDEX(Objekt_Text,D661+1,3))","v":""},"","",{"$f":"INDEX(Visum_Liste,F661+1)&\"\"","v":""},"","ZZ",0,0,0,0,0,0,3,"",{"$f":"MIN(IF(W661=$W$9:$W$2128,$E$9:$E$2128))","v":0},{"$f":"MAX(IF(W661=$W$9:$W$2128,$E$9:$E$2128))","v":0},653,1,1,null,null,1,null,"ZZ00000","00ZZ000",null,{"$f":"ABS(OR(C661=0,AND(MaxInput>1,M661=INDEX(FFilter,AO$5))))","v":1},{"$f":"ABS(OR(C661=0,AND(MaxInput>1,N661=INDEX(FFilter,AP$5))))","v":1},{"$f":"ABS(OR(C661=0,AND(MaxInput>1,O661=INDEX(FFilter,AQ$5))))","v":1},null,null,null,null,null,null,null,null,null,null,{"$f":"ROW()","v":661}]
[656,"",null,null,null,null,null,null,null,null,null,null,"",{"$f":"IF(C664=0,\"\",INDEX(Objekt_Text,D664+1,2))","v":""},{"$f":"IF(C664=0,\"\",INDEX(Objekt_Text,D664+1,3))","v":""},"","",{"$f":"INDEX(Visum_Liste,F664+1)&\"\"","v":""},"","ZZ",0,0,0,0,0,0,3,"",{"$f":"MIN(IF(W664=$W$9:$W$2128,$E$9:$E$2128))","v":0},{"$f":"MAX(IF(W664=$W$9:$W$2128,$E$9:$E$2128))","v":0},656,1,1,null,null,1,null,"ZZ00000","00ZZ000",null,{"$f":"ABS(OR(C664=0,AND(MaxInput>1,M664=INDEX(FFilter,AO$5))))","v":1},{"$f":"ABS(OR(C664=0,AND(MaxInput>1,N664=INDEX(FFilter,AP$5))))","v":1},{"$f":"ABS(OR(C664=0,AND(MaxInput>1,O664=INDEX(FFilter,AQ$5))))","v":1},null,null,null,null,null,null,null,null,null,null,{"$f":"ROW()","v":664}]
[660,"",null,null,null,null,null,null,null,null,null,null,"",{"$f":"IF(C668=0,\"\",INDEX(Objekt_Text,D668+1,2))","v":""},{"$f":"IF(C668=0,\"\",INDEX(Objekt_Text,D668+1,3))","v":""},"","",{"$f":"INDEX(Visum_Liste,F668+1)&\"\"","v":""},"","ZZ",0,0,0,0,0,0,3,"",{"$f":"MIN(IF(W668=$W$9:$W$2128,$E$9:$E$2128))","v":0},{"$f":"MAX(IF(W668=$W$9:$W$2128,$E$9:$E$2128))","v":0},660,1,1,null,null,1,null,"ZZ00000","00ZZ000",null,{"$f":"ABS(OR(C668=0,AND(MaxInput>1,M668=INDEX(FFilter,AO$5))))","v":1},{"$f":"ABS(OR(C668=0,AND(MaxInput>1,N668=INDEX(FFilter,AP$5))))","v":1},{"$f":"ABS(OR(C668=0,AND(MaxInput>1,O668=INDEX(FFilter,AQ$5))))","v":1},null,null,null,null,null,null,null,null,null,null,{"$f":"ROW()","v":668}]
[663,"",null,null,null,null,null,null,null,null,null,null,"",{"$f":"IF(C671=0,\"\",INDEX(Objekt_Text,D671+1,2))","v":""},{"$f":"IF(C671=0,\"\",INDEX(Objekt_Text,D671+1,3))","v":""},"","",{"$f":"INDEX(Visum_Liste,F671+1)&\"\"","v":""},"","ZZ",0,0,0,0,0,0,3,"",{"$f":"MIN(IF(W671=$W$9:$W$2128,$E$9:$E$2128))","v":0},{"$f":"MAX(IF(W671=$W$9:$W$2128,$E$9:$E$2128))","v":0},663,1,1,null,null,1,null,"ZZ00000","00ZZ000",null,{"$f":"ABS(OR(C671=0,AND(MaxInput>1,M671=INDEX(FFilter,AO$5))))","v":1},{"$f":"ABS(OR(C671=0,AND(MaxInput>1,N671=INDEX(FFilter,AP$5))))","v":1},{"$f":"ABS(OR(C671=0,AND(MaxInput>1,O671=INDEX(FFilter,AQ$5))))","v":1},null,null,null,null,null,null,null,null,null,null,{"$f":"ROW()","v":671}]
[666,"",null,null,null,null,null,null,null,null,null,null,"",{"$f":"IF(C674=0,\"\",INDEX(Objekt_Text,D674+1,2))","v":""},{"$f":"IF(C674=0,\"\",INDEX(Objekt_Text,D674+1,3))","v":""},"","",{"$f":"INDEX(Visum_Liste,F674+1)&\"\"","v":""},"","ZZ",0,0,0,0,0,0,3,"",{"$f":"MIN(IF(W674=$W$9:$W$2128,$E$9:$E$2128))","v":0},{"$f":"MAX(IF(W674=$W$9:$W$2128,$E$9:$E$2128))","v":0},666,1,1,null,null,1,null,"ZZ00000","00ZZ000",null,{"$f":"ABS(OR(C674=0,AND(MaxInput>1,M674=INDEX(FFilter,AO$5))))","v":1},{"$f":"ABS(OR(C674=0,AND(MaxInput>1,N674=INDEX(FFilter,AP$5))))","v":1},{"$f":"ABS(OR(C674=0,AND(MaxInput>1,O674=INDEX(FFilter,AQ$5))))","v":1},null,null,null,null,null,null,null,null,null,null,{"$f":"ROW()","v":674}]
[670,"",null,null,null,null,null,null,null,null,null,null,"",{"$f":"IF(C678=0,\"\",INDEX(Objekt_Text,D678+1,2))","v":""},{"$f":"IF(C678=0,\"\",INDEX(Objekt_Text,D678+1,3))","v":""},"","",{"$f":"INDEX(Visum_Liste,F678+1)&\"\"","v":""},"","ZZ",0,0,0,0,0,0,3,"",{"$f":"MIN(IF(W678=$W$9:$W$2128,$E$9:$E$2128))","v":0},{"$f":"MAX(IF(W678=$W$9:$W$2128,$E$9:$E$2128))","v":0},670,1,1,null,null,1,null,"ZZ00000","00ZZ000",null,{"$f":"ABS(OR(C678=0,AND(MaxInput>1,M678=INDEX(FFilter,AO$5))))","v":1},{"$f":"ABS(OR(C678=0,AND(MaxInput>1,N678=INDEX(FFilter,AP$5))))","v":1},{"$f":"ABS(OR(C678=0,AND(MaxInput>1,O678=INDEX(FFilter,AQ$5))))","v":1},null,null,null,null,null,null,null,null,null,null,{"$f":"ROW()","v":678}]
[673,"",null,null,null,null,null,null,null,null,null,null,"",{"$f":"IF(C681=0,\"\",INDEX(Objekt_Text,D681+1,2))","v":""},{"$f":"IF(C681=0,\"\",INDEX(Objekt_Text,D681+1,3))","v":""},"","",{"$f":"INDEX(Visum_Liste,F681+1)&\"\"","v":""},"","ZZ",0,0,0,0,0,0,3,"",{"$f":"MIN(IF(W681=$W$9:$W$2128,$E$9:$E$2128))","v":0},{"$f":"MAX(IF(W681=$W$9:$W$2128,$E$9:$E$2128))","v":0},673,1,1,null,null,1,null,"ZZ00000","00ZZ000",null,{"$f":"ABS(OR(C681=0,AND(MaxInput>1,M681=INDEX(FFilter,AO$5))))","v":1},{"$f":"ABS(OR(C681=0,AND(MaxInput>1,N681=INDEX(FFilter,AP$5))))","v":1},{"$f":"ABS(OR(C681=0,AND(MaxInput>1,O681=INDEX(FFilter,AQ$5))))","v":1},null,null,null,null,null,null,null,null,null,null,{"$f":"ROW()","v":681}]
[676,"",null,null,null,null,null,null,null,null,null,null,"",{"$f":"IF(C684=0,\"\",INDEX(Objekt_Text,D684+1,2))","v":""},{"$f":"IF(C684=0,\"\",INDEX(Objekt_Text,D684+1,3))","v":""},"","",{"$f":"INDEX(Visum_Liste,F684+1)&\"\"","v":""},"","ZZ",0,0,0,0,0,0,3,"",{"$f":"MIN(IF(W684=$W$9:$W$2128,$E$9:$E$2128))","v":0},{"$f":"MAX(IF(W684=$W$9:$W$2128,$E$9:$E$2128))","v":0},676,1,1,null,null,1,null,"ZZ00000","00ZZ000",null,{"$f":"ABS(OR(C684=0,AND(MaxInput>1,M684=INDEX(FFilter,AO$5))))","v":1},{"$f":"ABS(OR(C684=0,AND(MaxInput>1,N684=INDEX(FFilter,AP$5))))","v":1},{"$f":"ABS(OR(C684=0,AND(MaxInput>1,O684=INDEX(FFilter,AQ$5))))","v":1},null,null,null,null,null,null,null,null,null,null,{"$f":"ROW()","v":684}]
[677,"",null,null,null,null,null,null,null,null,null,null,"",{"$f":"IF(C685=0,\"\",INDEX(Objekt_Text,D685+1,2))","v":""},{"$f":"IF(C685=0,\"\",INDEX(Objekt_Text,D685+1,3))","v":""},"","",{"$f":"INDEX(Visum_Liste,F685+1)&\"\"","v":""},"","ZZ",0,0,0,0,0,0,3,"",{"$f":"MIN(IF(W685=$W$9:$W$2128,$E$9:$E$2128))","v":0},{"$f":"MAX(IF(W685=$W$9:$W$2128,$E$9:$E$2128))","v":0},677,1,1,null,null,1,null,"ZZ00000","00ZZ000",null,{"$f":"ABS(OR(C685=0,AND(MaxInput>1,M685=INDEX(FFilter,AO$5))))","v":1},{"$f":"ABS(OR(C685=0,AND(MaxInput>1,N685=INDEX(FFilter,AP$5))))","v":1},{"$f":"ABS(OR(C685=0,AND(MaxInput>1,O685=INDEX(FFilter,AQ$5))))","v":1},null,null,null,null,null,null,null,null,null,null,{"$f":"ROW()","v":685}]
[680,"",null,null,null,null,null,null,null,null,null,null,"",{"$f":"IF(C688=0,\"\",INDEX(Objekt_Text,D688+1,2))","v":""},{"$f":"IF(C688=0,\"\",INDEX(Objekt_Text,D688+1,3))","v":""},"","",{"$f":"INDEX(Visum_Liste,F688+1)&\"\"","v":""},"","ZZ",0,0,0,0,0,0,3,"",{"$f":"MIN(IF(W688=$W$9:$W$2128,$E$9:$E$2128))","v":0},{"$f":"MAX(IF(W688=$W$9:$W$2128,$E$9:$E$2128))","v":0},680,1,1,null,null,1,null,"ZZ00000","00ZZ000",null,{"$f":"ABS(OR(C688=0,AND(MaxInput>1,M688=INDEX(FFilter,AO$5))))","v":1},{"$f":"ABS(OR(C688=0,AND(MaxInput>1,N688=INDEX(FFilter,AP$5))))","v":1},{"$f":"ABS(OR(C688=0,AND(MaxInput>1,O688=INDEX(FFilter,AQ$5))))","v":1},null,null,null,null,null,null,null,null,null,null,{"$f":"ROW()","v":688}]
[684,"",null,null,null,null,null,null,null,null,null,null,"",{"$f":"IF(C692=0,\"\",INDEX(Objekt_Text,D692+1,2))","v":""},{"$f":"IF(C692=0,\"\",INDEX(Objekt_Text,D692+1,3))","v":""},"","",{"$f":"INDEX(Visum_Liste,F692+1)&\"\"","v":""},"","ZZ",0,0,0,0,0,0,3,"",{"$f":"MIN(IF(W692=$W$9:$W$2128,$E$9:$E$2128))","v":0},{"$f":"MAX(IF(W692=$W$9:$W$2128,$E$9:$E$2128))","v":0},684,1,1,null,null,1,null,"ZZ00000","00ZZ000",null,{"$f":"ABS(OR(C692=0,AND(MaxInput>1,M692=INDEX(FFilter,AO$5))))","v":1},{"$f":"ABS(OR(C692=0,AND(MaxInput>1,N692=INDEX(FFilter,AP$5))))","v":1},{"$f":"ABS(OR(C692=0,AND(MaxInput>1,O692=INDEX(FFilter,AQ$5))))","v":1},null,null,null,null,null,null,null,null,null,null,{"$f":"ROW()","v":692}]
[687,"",null,null,null,null,null,null,null,null,null,null,"",{"$f":"IF(C695=0,\"\",INDEX(Objekt_Text,D695+1,2))","v":""},{"$f":"IF(C695=0,\"\",INDEX(Objekt_Text,D695+1,3))","v":""},"","",{"$f":"INDEX(Visum_Liste,F695+1)&\"\"","v":""},"","ZZ",0,0,0,0,0,0,3,"",{"$f":"MIN(IF(W695=$W$9:$W$2128,$E$9:$E$2128))","v":0},{"$f":"MAX(IF(W695=$W$9:$W$2128,$E$9:$E$2128))","v":0},687,1,1,null,null,1,null,"ZZ00000","00ZZ000",null,{"$f":"ABS(OR(C695=0,AND(MaxInput>1,M695=INDEX(FFilter,AO$5))))","v":1},{"$f":"ABS(OR(C695=0,AND(MaxInput>1,N695=INDEX(FFilter,AP$5))))","v":1},{"$f":"ABS(OR(C695=0,AND(MaxInput>1,O695=INDEX(FFilter,AQ$5))))","v":1},null,null,null,null,null,null,null,null,null,null,{"$f":"ROW()","v":695}]
[690,"",null,null,null,null,null,null,null,null,null,null,"",{"$f":"IF(C698=0,\"\",INDEX(Objekt_Text,D698+1,2))","v":""},{"$f":"IF(C698=0,\"\",INDEX(Objekt_Text,D698+1,3))","v":""},"","",{"$f":"INDEX(Visum_Liste,F698+1)&\"\"","v":""},"","ZZ",0,0,0,0,0,0,3,"",{"$f":"MIN(IF(W698=$W$9:$W$2128,$E$9:$E$2128))","v":0},{"$f":"MAX(IF(W698=$W$9:$W$2128,$E$9:$E$2128))","v":0},690,1,1,null,null,1,null,"ZZ00000","00ZZ000",null,{"$f":"ABS(OR(C698=0,AND(MaxInput>1,M698=INDEX(FFilter,AO$5))))","v":1},{"$f":"ABS(OR(C698=0,AND(MaxInput>1,N698=INDEX(FFilter,AP$5))))","v":1},{"$f":"ABS(OR(C698=0,AND(MaxInput>1,O698=INDEX(FFilter,AQ$5))))","v":1},null,null,null,null,null,null,null,null,null,null,{"$f":"ROW()","v":698}]
[694,"",null,null,null,null,null,null,null,null,null,null,"",{"$f":"IF(C702=0,\"\",INDEX(Objekt_Text,D702+1,2))","v":""},{"$f":"IF(C702=0,\"\",INDEX(Objekt_Text,D702+1,3))","v":""},"","",{"$f":"INDEX(Visum_Liste,F702+1)&\"\"","v":""},"","ZZ",0,0,0,0,0,0,3,"",{"$f":"MIN(IF(W702=$W$9:$W$2128,$E$9:$E$2128))","v":0},{"$f":"MAX(IF(W702=$W$9:$W$2128,$E$9:$E$2128))","v":0},694,1,1,null,null,1,null,"ZZ00000","00ZZ000",null,{"$f":"ABS(OR(C702=0,AND(MaxInput>1,M702=INDEX(FFilter,AO$5))))","v":1},{"$f":"ABS(OR(C702=0,AND(MaxInput>1,N702=INDEX(FFilter,AP$5))))","v":1},{"$f":"ABS(OR(C702=0,AND(MaxInput>1,O702=INDEX(FFilter,AQ$5))))","v":1},null,null,null,null,null,null,null,null,null,null,{"$f":"ROW()","v":702}]
[697,"",null,null,null,null,null,null,null,null,null,null,"",{"$f":"IF(C705=0,\"\",INDEX(Objekt_Text,D705+1,2))","v":""},{"$f":"IF(C705=0,\"\",INDEX(Objekt_Text,D705+1,3))","v":""},"","",{"$f":"INDEX(Visum_Liste,F705+1)&\"\"","v":""},"","ZZ",0,0,0,0,0,0,3,"",{"$f":"MIN(IF(W705=$W$9:$W$2128,$E$9:$E$2128))","v":0},{"$f":"MAX(IF(W705=$W$9:$W$2128,$E$9:$E$2128))","v":0},697,1,1,null,null,1,null,"ZZ00000","00ZZ000",null,{"$f":"ABS(OR(C705=0,AND(MaxInput>1,M705=INDEX(FFilter,AO$5))))","v":1},{"$f":"ABS(OR(C705=0,AND(MaxInput>1,N705=INDEX(FFilter,AP$5))))","v":1},{"$f":"ABS(OR(C705=0,AND(MaxInput>1,O705=INDEX(FFilter,AQ$5))))","v":1},null,null,null,null,null,null,null,null,null,null,{"$f":"ROW()","v":705}]
[700,"",null,null,null,null,null,null,null,null,null,null,"",{"$f":"IF(C708=0,\"\",INDEX(Objekt_Text,D708+1,2))","v":""},{"$f":"IF(C708=0,\"\",INDEX(Objekt_Text,D708+1,3))","v":""},"","",{"$f":"INDEX(Visum_Liste,F708+1)&\"\"","v":""},"","ZZ",0,0,0,0,0,0,3,"",{"$f":"MIN(IF(W708=$W$9:$W$2128,$E$9:$E$2128))","v":0},{"$f":"MAX(IF(W708=$W$9:$W$2128,$E$9:$E$2128))","v":0},700,1,1,null,null,1,null,"ZZ00000","00ZZ000",null,{"$f":"ABS(OR(C708=0,AND(MaxInput>1,M708=INDEX(FFilter,AO$5))))","v":1},{"$f":"ABS(OR(C708=0,AND(MaxInput>1,N708=INDEX(FFilter,AP$5))))","v":1},{"$f":"ABS(OR(C708=0,AND(MaxInput>1,O708=INDEX(FFilter,AQ$5))))","v":1},null,null,null,null,null,null,null,null,null,null,{"$f":"ROW()","v":708}]
[701,"",null,null,null,null,null,null,null,null,null,null,"",{"$f":"IF(C709=0,\"\",INDEX(Objekt_Text,D709+1,2))","v":""},{"$f":"IF(C709=0,\"\",INDEX(Objekt_Text,D709+1,3))","v":""},"","",{"$f":"INDEX(Visum_Liste,F709+1)&\"\"","v":""},"","ZZ",0,0,0,0,0,0,3,"",{"$f":"MIN(IF(W709=$W$9:$W$2128,$E$9:$E$2128))","v":0},{"$f":"MAX(IF(W709=$W$9:$W$2128,$E$9:$E$2128))","v":0},701,1,1,null,null,1,null,"ZZ00000","00ZZ000",null,{"$f":"ABS(OR(C709=0,AND(MaxInput>1,M709=INDEX(FFilter,AO$5))))","v":1},{"$f":"ABS(OR(C709=0,AND(MaxInput>1,N709=INDEX(FFilter,AP$5))))","v":1},{"$f":"ABS(OR(C709=0,AND(MaxInput>1,O709=INDEX(FFilter,AQ$5))))","v":1},null,null,null,null,null,null,null,null,null,null,{"$f":"ROW()","v":709}]
[704,"",null,null,null,null,null,null,null,null,null,null,"",{"$f":"IF(C712=0,\"\",INDEX(Objekt_Text,D712+1,2))","v":""},{"$f":"IF(C712=0,\"\",INDEX(Objekt_Text,D712+1,3))","v":""},"","",{"$f":"INDEX(Visum_Liste,F712+1)&\"\"","v":""},"","ZZ",0,0,0,0,0,0,3,"",{"$f":"MIN(IF(W712=$W$9:$W$2128,$E$9:$E$2128))","v":0},{"$f":"MAX(IF(W712=$W$9:$W$2128,$E$9:$E$2128))","v":0},704,1,1,null,null,1,null,"ZZ00000","00ZZ000",null,{"$f":"ABS(OR(C712=0,AND(MaxInput>1,M712=INDEX(FFilter,AO$5))))","v":1},{"$f":"ABS(OR(C712=0,AND(MaxInput>1,N712=INDEX(FFilter,AP$5))))","v":1},{"$f":"ABS(OR(C712=0,AND(MaxInput>1,O712=INDEX(FFilter,AQ$5))))","v":1},null,null,null,null,null,null,null,null,null,null,{"$f":"ROW()","v":712}]
[708,"",null,null,null,null,null,null,null,null,null,null,"",{"$f":"IF(C716=0,\"\",INDEX(Objekt_Text,D716+1,2))","v":""},{"$f":"IF(C716=0,\"\",INDEX(Objekt_Text,D716+1,3))","v":""},"","",{"$f":"INDEX(Visum_Liste,F716+1)&\"\"","v":""},"","ZZ",0,0,0,0,0,0,3,"",{"$f":"MIN(IF(W716=$W$9:$W$2128,$E$9:$E$2128))","v":0},{"$f":"MAX(IF(W716=$W$9:$W$2128,$E$9:$E$2128))","v":0},708,1,1,null,null,1,null,"ZZ00000","00ZZ000",null,{"$f":"ABS(OR(C716=0,AND(MaxInput>1,M716=INDEX(FFilter,AO$5))))","v":1},{"$f":"ABS(OR(C716=0,AND(MaxInput>1,N716=INDEX(FFilter,AP$5))))","v":1},{"$f":"ABS(OR(C716=0,AND(MaxInput>1,O716=INDEX(FFilter,AQ$5))))","v":1},null,null,null,null,null,null,null,null,null,null,{"$f":"ROW()","v":716}]
[711,"",null,null,null,null,null,null,null,null,null,null,"",{"$f":"IF(C719=0,\"\",INDEX(Objekt_Text,D719+1,2))","v":""},{"$f":"IF(C719=0,\"\",INDEX(Objekt_Text,D719+1,3))","v":""},"","",{"$f":"INDEX(Visum_Liste,F719+1)&\"\"","v":""},"","ZZ",0,0,0,0,0,0,3,"",{"$f":"MIN(IF(W719=$W$9:$W$2128,$E$9:$E$2128))","v":0},{"$f":"MAX(IF(W719=$W$9:$W$2128,$E$9:$E$2128))","v":0},711,1,1,null,null,1,null,"ZZ00000","00ZZ000",null,{"$f":"ABS(OR(C719=0,AND(MaxInput>1,M719=INDEX(FFilter,AO$5))))","v":1},{"$f":"ABS(OR(C719=0,AND(MaxInput>1,N719=INDEX(FFilter,AP$5))))","v":1},{"$f":"ABS(OR(C719=0,AND(MaxInput>1,O719=INDEX(FFilter,AQ$5))))","v":1},null,null,null,null,null,null,null,null,null,null,{"$f":"ROW()","v":719}]
[714,"",null,null,null,null,null,null,null,null,null,null,"",{"$f":"IF(C722=0,\"\",INDEX(Objekt_Text,D722+1,2))","v":""},{"$f":"IF(C722=0,\"\",INDEX(Objekt_Text,D722+1,3))","v":""},"","",{"$f":"INDEX(Visum_Liste,F722+1)&\"\"","v":""},"","ZZ",0,0,0,0,0,0,3,"",{"$f":"MIN(IF(W722=$W$9:$W$2128,$E$9:$E$2128))","v":0},{"$f":"MAX(IF(W722=$W$9:$W$2128,$E$9:$E$2128))","v":0},714,1,1,null,null,1,null,"ZZ00000","00ZZ000",null,{"$f":"ABS(OR(C722=0,AND(MaxInput>1,M722=INDEX(FFilter,AO$5))))","v":1},{"$f":"ABS(OR(C722=0,AND(MaxInput>1,N722=INDEX(FFilter,AP$5))))","v":1},{"$f":"ABS(OR(C722=0,AND(MaxInput>1,O722=INDEX(FFilter,AQ$5))))","v":1},null,null,null,null,null,null,null,null,null,null,{"$f":"ROW()","v":722}]
[718,"",null,null,null,null,null,null,null,null,null,null,"",{"$f":"IF(C726=0,\"\",INDEX(Objekt_Text,D726+1,2))","v":""},{"$f":"IF(C726=0,\"\",INDEX(Objekt_Text,D726+1,3))","v":""},"","",{"$f":"INDEX(Visum_Liste,F726+1)&\"\"","v":""},"","ZZ",0,0,0,0,0,0,3,"",{"$f":"MIN(IF(W726=$W$9:$W$2128,$E$9:$E$2128))","v":0},{"$f":"MAX(IF(W726=$W$9:$W$2128,$E$9:$E$2128))","v":0},718,1,1,null,null,1,null,"ZZ00000","00ZZ000",null,{"$f":"ABS(OR(C726=0,AND(MaxInput>1,M726=INDEX(FFilter,AO$5))))","v":1},{"$f":"ABS(OR(C726=0,AND(MaxInput>1,N726=INDEX(FFilter,AP$5))))","v":1},{"$f":"ABS(OR(C726=0,AND(MaxInput>1,O726=INDEX(FFilter,AQ$5))))","v":1},null,null,null,null,null,null,null,null,null,null,{"$f":"ROW()","v":726}]
[721,"",null,null,null,null,null,null,null,null,null,null,"",{"$f":"IF(C729=0,\"\",INDEX(Objekt_Text,D729+1,2))","v":""},{"$f":"IF(C729=0,\"\",INDEX(Objekt_Text,D729+1,3))","v":""},"","",{"$f":"INDEX(Visum_Liste,F729+1)&\"\"","v":""},"","ZZ",0,0,0,0,0,0,3,"",{"$f":"MIN(IF(W729=$W$9:$W$2128,$E$9:$E$2128))","v":0},{"$f":"MAX(IF(W729=$W$9:$W$2128,$E$9:$E$2128))","v":0},721,1,1,null,null,1,null,"ZZ00000","00ZZ000",null,{"$f":"ABS(OR(C729=0,AND(MaxInput>1,M729=INDEX(FFilter,AO$5))))","v":1},{"$f":"ABS(OR(C729=0,AND(MaxInput>1,N729=INDEX(FFilter,AP$5))))","v":1},{"$f":"ABS(OR(C729=0,AND(MaxInput>1,O729=INDEX(FFilter,AQ$5))))","v":1},null,null,null,null,null,null,null,null,null,null,{"$f":"ROW()","v":729}]
[722,"",null,null,null,null,null,null,null,null,null,null,"",{"$f":"IF(C730=0,\"\",INDEX(Objekt_Text,D730+1,2))","v":""},{"$f":"IF(C730=0,\"\",INDEX(Objekt_Text,D730+1,3))","v":""},"","",{"$f":"INDEX(Visum_Liste,F730+1)&\"\"","v":""},"","ZZ",0,0,0,0,0,0,3,"",{"$f":"MIN(IF(W730=$W$9:$W$2128,$E$9:$E$2128))","v":0},{"$f":"MAX(IF(W730=$W$9:$W$2128,$E$9:$E$2128))","v":0},722,1,1,null,null,1,null,"ZZ00000","00ZZ000",null,{"$f":"ABS(OR(C730=0,AND(MaxInput>1,M730=INDEX(FFilter,AO$5))))","v":1},{"$f":"ABS(OR(C730=0,AND(MaxInput>1,N730=INDEX(FFilter,AP$5))))","v":1},{"$f":"ABS(OR(C730=0,AND(MaxInput>1,O730=INDEX(FFilter,AQ$5))))","v":1},null,null,null,null,null,null,null,null,null,null,{"$f":"ROW()","v":730}]
[725,"",null,null,null,null,null,null,null,null,null,null,"",{"$f":"IF(C733=0,\"\",INDEX(Objekt_Text,D733+1,2))","v":""},{"$f":"IF(C733=0,\"\",INDEX(Objekt_Text,D733+1,3))","v":""},"","",{"$f":"INDEX(Visum_Liste,F733+1)&\"\"","v":""},"","ZZ",0,0,0,0,0,0,3,"",{"$f":"MIN(IF(W733=$W$9:$W$2128,$E$9:$E$2128))","v":0},{"$f":"MAX(IF(W733=$W$9:$W$2128,$E$9:$E$2128))","v":0},725,1,1,null,null,1,null,"ZZ00000","00ZZ000",null,{"$f":"ABS(OR(C733=0,AND(MaxInput>1,M733=INDEX(FFilter,AO$5))))","v":1},{"$f":"ABS(OR(C733=0,AND(MaxInput>1,N733=INDEX(FFilter,AP$5))))","v":1},{"$f":"ABS(OR(C733=0,AND(MaxInput>1,O733=INDEX(FFilter,AQ$5))))","v":1},null,null,null,null,null,null,null,null,null,null,{"$f":"ROW()","v":733}]
[728,"",null,null,null,null,null,null,null,null,null,null,"",{"$f":"IF(C736=0,\"\",INDEX(Objekt_Text,D736+1,2))","v":""},{"$f":"IF(C736=0,\"\",INDEX(Objekt_Text,D736+1,3))","v":""},"","",{"$f":"INDEX(Visum_Liste,F736+1)&\"\"","v":""},"","ZZ",0,0,0,0,0,0,3,"",{"$f":"MIN(IF(W736=$W$9:$W$2128,$E$9:$E$2128))","v":0},{"$f":"MAX(IF(W736=$W$9:$W$2128,$E$9:$E$2128))","v":0},728,1,1,null,null,1,null,"ZZ00000","00ZZ000",null,{"$f":"ABS(OR(C736=0,AND(MaxInput>1,M736=INDEX(FFilter,AO$5))))","v":1},{"$f":"ABS(OR(C736=0,AND(MaxInput>1,N736=INDEX(FFilter,AP$5))))","v":1},{"$f":"ABS(OR(C736=0,AND(MaxInput>1,O736=INDEX(FFilter,AQ$5))))","v":1},null,null,null,null,null,null,null,null,null,null,{"$f":"ROW()","v":736}]
[732,"",null,null,null,null,null,null,null,null,null,null,"",{"$f":"IF(C740=0,\"\",INDEX(Objekt_Text,D740+1,2))","v":""},{"$f":"IF(C740=0,\"\",INDEX(Objekt_Text,D740+1,3))","v":""},"","",{"$f":"INDEX(Visum_Liste,F740+1)&\"\"","v":""},"","ZZ",0,0,0,0,0,0,3,"",{"$f":"MIN(IF(W740=$W$9:$W$2128,$E$9:$E$2128))","v":0},{"$f":"MAX(IF(W740=$W$9:$W$2128,$E$9:$E$2128))","v":0},732,1,1,null,null,1,null,"ZZ00000","00ZZ000",null,{"$f":"ABS(OR(C740=0,AND(MaxInput>1,M740=INDEX(FFilter,AO$5))))","v":1},{"$f":"ABS(OR(C740=0,AND(MaxInput>1,N740=INDEX(FFilter,AP$5))))","v":1},{"$f":"ABS(OR(C740=0,AND(MaxInput>1,O740=INDEX(FFilter,AQ$5))))","v":1},null,null,null,null,null,null,null,null,null,null,{"$f":"ROW()","v":740}]
[735,"",null,null,null,null,null,null,null,null,null,null,"",{"$f":"IF(C743=0,\"\",INDEX(Objekt_Text,D743+1,2))","v":""},{"$f":"IF(C743=0,\"\",INDEX(Objekt_Text,D743+1,3))","v":""},"","",{"$f":"INDEX(Visum_Liste,F743+1)&\"\"","v":""},"","ZZ",0,0,0,0,0,0,3,"",{"$f":"MIN(IF(W743=$W$9:$W$2128,$E$9:$E$2128))","v":0},{"$f":"MAX(IF(W743=$W$9:$W$2128,$E$9:$E$2128))","v":0},735,1,1,null,null,1,null,"ZZ00000","00ZZ000",null,{"$f":"ABS(OR(C743=0,AND(MaxInput>1,M743=INDEX(FFilter,AO$5))))","v":1},{"$f":"ABS(OR(C743=0,AND(MaxInput>1,N743=INDEX(FFilter,AP$5))))","v":1},{"$f":"ABS(OR(C743=0,AND(MaxInput>1,O743=INDEX(FFilter,AQ$5))))","v":1},null,null,null,null,null,null,null,null,null,null,{"$f":"ROW()","v":743}]
[738,"",null,null,null,null,null,null,null,null,null,null,"",{"$f":"IF(C746=0,\"\",INDEX(Objekt_Text,D746+1,2))","v":""},{"$f":"IF(C746=0,\"\",INDEX(Objekt_Text,D746+1,3))","v":""},"","",{"$f":"INDEX(Visum_Liste,F746+1)&\"\"","v":""},"","ZZ",0,0,0,0,0,0,3,"",{"$f":"MIN(IF(W746=$W$9:$W$2128,$E$9:$E$2128))","v":0},{"$f":"MAX(IF(W746=$W$9:$W$2128,$E$9:$E$2128))","v":0},738,1,1,null,null,1,null,"ZZ00000","00ZZ000",null,{"$f":"ABS(OR(C746=0,AND(MaxInput>1,M746=INDEX(FFilter,AO$5))))","v":1},{"$f":"ABS(OR(C746=0,AND(MaxInput>1,N746=INDEX(FFilter,AP$5))))","v":1},{"$f":"ABS(OR(C746=0,AND(MaxInput>1,O746=INDEX(FFilter,AQ$5))))","v":1},null,null,null,null,null,null,null,null,null,null,{"$f":"ROW()","v":746}]
[742,"",null,null,null,null,null,null,null,null,null,null,"",{"$f":"IF(C750=0,\"\",INDEX(Objekt_Text,D750+1,2))","v":""},{"$f":"IF(C750=0,\"\",INDEX(Objekt_Text,D750+1,3))","v":""},"","",{"$f":"INDEX(Visum_Liste,F750+1)&\"\"","v":""},"","ZZ",0,0,0,0,0,0,3,"",{"$f":"MIN(IF(W750=$W$9:$W$2128,$E$9:$E$2128))","v":0},{"$f":"MAX(IF(W750=$W$9:$W$2128,$E$9:$E$2128))","v":0},742,1,1,null,null,1,null,"ZZ00000","00ZZ000",null,{"$f":"ABS(OR(C750=0,AND(MaxInput>1,M750=INDEX(FFilter,AO$5))))","v":1},{"$f":"ABS(OR(C750=0,AND(MaxInput>1,N750=INDEX(FFilter,AP$5))))","v":1},{"$f":"ABS(OR(C750=0,AND(MaxInput>1,O750=INDEX(FFilter,AQ$5))))","v":1},null,null,null,null,null,null,null,null,null,null,{"$f":"ROW()","v":750}]
[745,"",null,null,null,null,null,null,null,null,null,null,"",{"$f":"IF(C753=0,\"\",INDEX(Objekt_Text,D753+1,2))","v":""},{"$f":"IF(C753=0,\"\",INDEX(Objekt_Text,D753+1,3))","v":""},"","",{"$f":"INDEX(Visum_Liste,F753+1)&\"\"","v":""},"","ZZ",0,0,0,0,0,0,3,"",{"$f":"MIN(IF(W753=$W$9:$W$2128,$E$9:$E$2128))","v":0},{"$f":"MAX(IF(W753=$W$9:$W$2128,$E$9:$E$2128))","v":0},745,1,1,null,null,1,null,"ZZ00000","00ZZ000",null,{"$f":"ABS(OR(C753=0,AND(MaxInput>1,M753=INDEX(FFilter,AO$5))))","v":1},{"$f":"ABS(OR(C753=0,AND(MaxInput>1,N753=INDEX(FFilter,AP$5))))","v":1},{"$f":"ABS(OR(C753=0,AND(MaxInput>1,O753=INDEX(FFilter,AQ$5))))","v":1},null,null,null,null,null,null,null,null,null,null,{"$f":"ROW()","v":753}]
[746,"",null,null,null,null,null,null,null,null,null,null,"",{"$f":"IF(C754=0,\"\",INDEX(Objekt_Text,D754+1,2))","v":""},{"$f":"IF(C754=0,\"\",INDEX(Objekt_Text,D754+1,3))","v":""},"","",{"$f":"INDEX(Visum_Liste,F754+1)&\"\"","v":""},"","ZZ",0,0,0,0,0,0,3,"",{"$f":"MIN(IF(W754=$W$9:$W$2128,$E$9:$E$2128))","v":0},{"$f":"MAX(IF(W754=$W$9:$W$2128,$E$9:$E$2128))","v":0},746,1,1,null,null,1,null,"ZZ00000","00ZZ000",null,{"$f":"ABS(OR(C754=0,AND(MaxInput>1,M754=INDEX(FFilter,AO$5))))","v":1},{"$f":"ABS(OR(C754=0,AND(MaxInput>1,N754=INDEX(FFilter,AP$5))))","v":1},{"$f":"ABS(OR(C754=0,AND(MaxInput>1,O754=INDEX(FFilter,AQ$5))))","v":1},null,null,null,null,null,null,null,null,null,null,{"$f":"ROW()","v":754}]
[749,"",null,null,null,null,null,null,null,null,null,null,"",{"$f":"IF(C757=0,\"\",INDEX(Objekt_Text,D757+1,2))","v":""},{"$f":"IF(C757=0,\"\",INDEX(Objekt_Text,D757+1,3))","v":""},"","",{"$f":"INDEX(Visum_Liste,F757+1)&\"\"","v":""},"","ZZ",0,0,0,0,0,0,3,"",{"$f":"MIN(IF(W757=$W$9:$W$2128,$E$9:$E$2128))","v":0},{"$f":"MAX(IF(W757=$W$9:$W$2128,$E$9:$E$2128))","v":0},749,1,1,null,null,1,null,"ZZ00000","00ZZ000",null,{"$f":"ABS(OR(C757=0,AND(MaxInput>1,M757=INDEX(FFilter,AO$5))))","v":1},{"$f":"ABS(OR(C757=0,AND(MaxInput>1,N757=INDEX(FFilter,AP$5))))","v":1},{"$f":"ABS(OR(C757=0,AND(MaxInput>1,O757=INDEX(FFilter,AQ$5))))","v":1},null,null,null,null,null,null,null,null,null,null,{"$f":"ROW()","v":757}]
[752,"",null,null,null,null,null,null,null,null,null,null,"",{"$f":"IF(C760=0,\"\",INDEX(Objekt_Text,D760+1,2))","v":""},{"$f":"IF(C760=0,\"\",INDEX(Objekt_Text,D760+1,3))","v":""},"","",{"$f":"INDEX(Visum_Liste,F760+1)&\"\"","v":""},"","ZZ",0,0,0,0,0,0,3,"",{"$f":"MIN(IF(W760=$W$9:$W$2128,$E$9:$E$2128))","v":0},{"$f":"MAX(IF(W760=$W$9:$W$2128,$E$9:$E$2128))","v":0},752,1,1,null,null,1,null,"ZZ00000","00ZZ000",null,{"$f":"ABS(OR(C760=0,AND(MaxInput>1,M760=INDEX(FFilter,AO$5))))","v":1},{"$f":"ABS(OR(C760=0,AND(MaxInput>1,N760=INDEX(FFilter,AP$5))))","v":1},{"$f":"ABS(OR(C760=0,AND(MaxInput>1,O760=INDEX(FFilter,AQ$5))))","v":1},null,null,null,null,null,null,null,null,null,null,{"$f":"ROW()","v":760}]
[756,"",null,null,null,null,null,null,null,null,null,null,"",{"$f":"IF(C764=0,\"\",INDEX(Objekt_Text,D764+1,2))","v":""},{"$f":"IF(C764=0,\"\",INDEX(Objekt_Text,D764+1,3))","v":""},"","",{"$f":"INDEX(Visum_Liste,F764+1)&\"\"","v":""},"","ZZ",0,0,0,0,0,0,3,"",{"$f":"MIN(IF(W764=$W$9:$W$2128,$E$9:$E$2128))","v":0},{"$f":"MAX(IF(W764=$W$9:$W$2128,$E$9:$E$2128))","v":0},756,1,1,null,null,1,null,"ZZ00000","00ZZ000",null,{"$f":"ABS(OR(C764=0,AND(MaxInput>1,M764=INDEX(FFilter,AO$5))))","v":1},{"$f":"ABS(OR(C764=0,AND(MaxInput>1,N764=INDEX(FFilter,AP$5))))","v":1},{"$f":"ABS(OR(C764=0,AND(MaxInput>1,O764=INDEX(FFilter,AQ$5))))","v":1},null,null,null,null,null,null,null,null,null,null,{"$f":"ROW()","v":764}]
[759,"",null,null,null,null,null,null,null,null,null,null,"",{"$f":"IF(C767=0,\"\",INDEX(Objekt_Text,D767+1,2))","v":""},{"$f":"IF(C767=0,\"\",INDEX(Objekt_Text,D767+1,3))","v":""},"","",{"$f":"INDEX(Visum_Liste,F767+1)&\"\"","v":""},"","ZZ",0,0,0,0,0,0,3,"",{"$f":"MIN(IF(W767=$W$9:$W$2128,$E$9:$E$2128))","v":0},{"$f":"MAX(IF(W767=$W$9:$W$2128,$E$9:$E$2128))","v":0},759,1,1,null,null,1,null,"ZZ00000","00ZZ000",null,{"$f":"ABS(OR(C767=0,AND(MaxInput>1,M767=INDEX(FFilter,AO$5))))","v":1},{"$f":"ABS(OR(C767=0,AND(MaxInput>1,N767=INDEX(FFilter,AP$5))))","v":1},{"$f":"ABS(OR(C767=0,AND(MaxInput>1,O767=INDEX(FFilter,AQ$5))))","v":1},null,null,null,null,null,null,null,null,null,null,{"$f":"ROW()","v":767}]
[762,"",null,null,null,null,null,null,null,null,null,null,"",{"$f":"IF(C770=0,\"\",INDEX(Objekt_Text,D770+1,2))","v":""},{"$f":"IF(C770=0,\"\",INDEX(Objekt_Text,D770+1,3))","v":""},"","",{"$f":"INDEX(Visum_Liste,F770+1)&\"\"","v":""},"","ZZ",0,0,0,0,0,0,3,"",{"$f":"MIN(IF(W770=$W$9:$W$2128,$E$9:$E$2128))","v":0},{"$f":"MAX(IF(W770=$W$9:$W$2128,$E$9:$E$2128))","v":0},762,1,1,null,null,1,null,"ZZ00000","00ZZ000",null,{"$f":"ABS(OR(C770=0,AND(MaxInput>1,M770=INDEX(FFilter,AO$5))))","v":1},{"$f":"ABS(OR(C770=0,AND(MaxInput>1,N770=INDEX(FFilter,AP$5))))","v":1},{"$f":"ABS(OR(C770=0,AND(MaxInput>1,O770=INDEX(FFilter,AQ$5))))","v":1},null,null,null,null,null,null,null,null,null,null,{"$f":"ROW()","v":770}]
[766,"",null,null,null,null,null,null,null,null,null,null,"",{"$f":"IF(C774=0,\"\",INDEX(Objekt_Text,D774+1,2))","v":""},{"$f":"IF(C774=0,\"\",INDEX(Objekt_Text,D774+1,3))","v":""},"","",{"$f":"INDEX(Visum_Liste,F774+1)&\"\"","v":""},"","ZZ",0,0,0,0,0,0,3,"",{"$f":"MIN(IF(W774=$W$9:$W$2128,$E$9:$E$2128))","v":0},{"$f":"MAX(IF(W774=$W$9:$W$2128,$E$9:$E$2128))","v":0},766,1,1,null,null,1,null,"ZZ00000","00ZZ000",null,{"$f":"ABS(OR(C774=0,AND(MaxInput>1,M774=INDEX(FFilter,AO$5))))","v":1},{"$f":"ABS(OR(C774=0,AND(MaxInput>1,N774=INDEX(FFilter,AP$5))))","v":1},{"$f":"ABS(OR(C774=0,AND(MaxInput>1,O774=INDEX(FFilter,AQ$5))))","v":1},null,null,null,null,null,null,null,null,null,null,{"$f":"ROW()","v":774}]
[769,{"$f":"IF(C777>0,ROW()-8,\"\")","v":""},null,null,null,null,null,null,null,null,null,null,{"$f":"IF(C777=0,\"\",IFERROR(VLOOKUP($C777,SLTabelle,cSLName,FALSE),\"\"))","v":""},{"$f":"IF(C777=0,\"\",INDEX(Objekt_Text,D777+1,2))","v":""},{"$f":"IF(C777=0,\"\",INDEX(Objekt_Text,D777+1,3))","v":""},{"$f":"IF($H777=\"\",\"\",$H777)","v":""},{"$f":"IF($I777=\"\",\"\",$I777)","v":""},{"$f":"INDEX(Visum_Liste,F777+1)&\"\"","v":""},{"$f":"IF($J777=\"\",\"\",$J777)","v":""},{"$f":"IF(M777=\"\",\"ZZ\",M777)","v":"ZZ"},{"$f":"IF(C777>0,COUNTIF($W$9:$W$2128,W777),0)","v":0},{"$f":"SUMIFS($E$9:$E$2128,$W$9:$W$2128,W777)","v":0},{"$f":"C777*100+D777","v":0},{"$f":"AND(C777>0,E777=AD777)*1","v":0},{"$f":"(COUNT(P777:Q777)=2)*1","v":0},{"$f":"F777*10+X777","v":0},{"$f":"IF(X777=0,3,X777*F777)","v":3},{"$f":"IF(OR((C777>0),ROW()<LastRow+8),\"A\",\"\")","v":""},{"$f":"MIN(IF(W777=$W$9:$W$2128,$E$9:$E$2128))","v":0},{"$f":"MAX(IF(W777=$W$9:$W$2128,$E$9:$E$2128))","v":0},769,1,1,null,null,1,null,{"$f":"T777&TEXT(D777,\"00\")&TEXT(E777,\"000\")","v":"ZZ00000"},{"$f":"TEXT(D777,\"00\")&T777&TEXT(E777,\"000\")","v":"00ZZ000"},null,{"$f":"ABS(OR(C777=0,AND(MaxInput>1,M777=INDEX(FFilter,AO$5))))","v":1},{"$f":"ABS(OR(C777=0,AND(MaxInput>1,N777=INDEX(FFilter,AP$5))))","v":1},{"$f":"ABS(OR(C777=0,AND(MaxInput>1,O777=INDEX(FFilter,AQ$5))))","v":1},null,null,null,null,null,null,null,null,null,null,{"$f":"ROW()","v":777}]
[770,"",null,null,null,null,null,null,null,null,null,null,"",{"$f":"IF(C778=0,\"\",INDEX(Objekt_Text,D778+1,2))","v":""},{"$f":"IF(C778=0,\"\",INDEX(Objekt_Text,D778+1,3))","v":""},"","",{"$f":"INDEX(Visum_Liste,F778+1)&\"\"","v":""},"","ZZ",0,0,0,0,0,0,3,"",{"$f":"MIN(IF(W778=$W$9:$W$2128,$E$9:$E$2128))","v":0},{"$f":"MAX(IF(W778=$W$9:$W$2128,$E$9:$E$2128))","v":0},770,1,1,null,null,{"$f":"OR(L778<=L777,B778=\"\")*1","v":1},null,"ZZ00000","00ZZ000",null,{"$f":"ABS(OR(C778=0,AND(MaxInput>1,M778=INDEX(FFilter,AO$5))))","v":1},{"$f":"ABS(OR(C778=0,AND(MaxInput>1,N778=INDEX(FFilter,AP$5))))","v":1},{"$f":"ABS(OR(C778=0,AND(MaxInput>1,O778=INDEX(FFilter,AQ$5))))","v":1},null,null,null,null,null,null,null,null,null,null,{"$f":"ROW()","v":778}]
[773,"",null,null,null,null,null,null,null,null,null,null,"",{"$f":"IF(C781=0,\"\",INDEX(Objekt_Text,D781+1,2))","v":""},{"$f":"IF(C781=0,\"\",INDEX(Objekt_Text,D781+1,3))","v":""},"","",{"$f":"INDEX(Visum_Liste,F781+1)&\"\"","v":""},"","ZZ",0,0,0,0,0,0,3,"",{"$f":"MIN(IF(W781=$W$9:$W$2128,$E$9:$E$2128))","v":0},{"$f":"MAX(IF(W781=$W$9:$W$2128,$E$9:$E$2128))","v":0},773,{"$f":"OR(AL781>=AL780,B781=\"\")*1","v":1},{"$f":"OR(AM781>=AM780,B781=\"\")*1","v":1},null,null,1,null,"ZZ00000","00ZZ000",null,{"$f":"ABS(OR(C781=0,AND(MaxInput>1,M781=INDEX(FFilter,AO$5))))","v":1},{"$f":"ABS(OR(C781=0,AND(MaxInput>1,N781=INDEX(FFilter,AP$5))))","v":1},{"$f":"ABS(OR(C781=0,AND(MaxInput>1,O781=INDEX(FFilter,AQ$5))))","v":1},null,null,null,null,null,null,null,null,null,null,{"$f":"ROW()","v":781}]
[776,"",null,null,null,null,null,null,null,null,null,null,"",{"$f":"IF(C784=0,\"\",INDEX(Objekt_Text,D784+1,2))","v":""},{"$f":"IF(C784=0,\"\",INDEX(Objekt_Text,D784+1,3))","v":""},"","",{"$f":"INDEX(Visum_Liste,F784+1)&\"\"","v":""},"","ZZ",0,0,0,0,0,0,3,"",{"$f":"MIN(IF(W784=$W$9:$W$2128,$E$9:$E$2128))","v":0},{"$f":"MAX(IF(W784=$W$9:$W$2128,$E$9:$E$2128))","v":0},776,1,1,null,null,1,null,"ZZ00000","00ZZ000",null,{"$f":"ABS(OR(C784=0,AND(MaxInput>1,M784=INDEX(FFilter,AO$5))))","v":1},{"$f":"ABS(OR(C784=0,AND(MaxInput>1,N784=INDEX(FFilter,AP$5))))","v":1},{"$f":"ABS(OR(C784=0,AND(MaxInput>1,O784=INDEX(FFilter,AQ$5))))","v":1},null,null,null,null,null,null,null,null,null,null,{"$f":"ROW()","v":784}]
[780,"",null,null,null,null,null,null,null,null,null,null,"",{"$f":"IF(C788=0,\"\",INDEX(Objekt_Text,D788+1,2))","v":""},{"$f":"IF(C788=0,\"\",INDEX(Objekt_Text,D788+1,3))","v":""},"","",{"$f":"INDEX(Visum_Liste,F788+1)&\"\"","v":""},"","ZZ",0,0,0,0,0,0,3,"",{"$f":"MIN(IF(W788=$W$9:$W$2128,$E$9:$E$2128))","v":0},{"$f":"MAX(IF(W788=$W$9:$W$2128,$E$9:$E$2128))","v":0},780,1,1,null,null,1,null,"ZZ00000","00ZZ000",null,{"$f":"ABS(OR(C788=0,AND(MaxInput>1,M788=INDEX(FFilter,AO$5))))","v":1},{"$f":"ABS(OR(C788=0,AND(MaxInput>1,N788=INDEX(FFilter,AP$5))))","v":1},{"$f":"ABS(OR(C788=0,AND(MaxInput>1,O788=INDEX(FFilter,AQ$5))))","v":1},null,null,null,null,null,null,null,null,null,null,{"$f":"ROW()","v":788}]
[783,"",null,null,null,null,null,null,null,null,null,null,"",{"$f":"IF(C791=0,\"\",INDEX(Objekt_Text,D791+1,2))","v":""},{"$f":"IF(C791=0,\"\",INDEX(Objekt_Text,D791+1,3))","v":""},"","",{"$f":"INDEX(Visum_Liste,F791+1)&\"\"","v":""},"","ZZ",0,0,0,0,0,0,3,"",{"$f":"MIN(IF(W791=$W$9:$W$2128,$E$9:$E$2128))","v":0},{"$f":"MAX(IF(W791=$W$9:$W$2128,$E$9:$E$2128))","v":0},783,1,1,null,null,1,null,"ZZ00000","00ZZ000",null,{"$f":"ABS(OR(C791=0,AND(MaxInput>1,M791=INDEX(FFilter,AO$5))))","v":1},{"$f":"ABS(OR(C791=0,AND(MaxInput>1,N791=INDEX(FFilter,AP$5))))","v":1},{"$f":"ABS(OR(C791=0,AND(MaxInput>1,O791=INDEX(FFilter,AQ$5))))","v":1},null,null,null,null,null,null,null,null,null,null,{"$f":"ROW()","v":791}]
[787,"",null,null,null,null,null,null,null,null,null,null,"",{"$f":"IF(C795=0,\"\",INDEX(Objekt_Text,D795+1,2))","v":""},{"$f":"IF(C795=0,\"\",INDEX(Objekt_Text,D795+1,3))","v":""},"","",{"$f":"INDEX(Visum_Liste,F795+1)&\"\"","v":""},"","ZZ",0,0,0,0,0,0,3,"",{"$f":"MIN(IF(W795=$W$9:$W$2128,$E$9:$E$2128))","v":0},{"$f":"MAX(IF(W795=$W$9:$W$2128,$E$9:$E$2128))","v":0},787,1,1,null,null,1,null,"ZZ00000","00ZZ000",null,{"$f":"ABS(OR(C795=0,AND(MaxInput>1,M795=INDEX(FFilter,AO$5))))","v":1},{"$f":"ABS(OR(C795=0,AND(MaxInput>1,N795=INDEX(FFilter,AP$5))))","v":1},{"$f":"ABS(OR(C795=0,AND(MaxInput>1,O795=INDEX(FFilter,AQ$5))))","v":1},null,null,null,null,null,null,null,null,null,null,{"$f":"ROW()","v":795}]
[790,"",null,null,null,null,null,null,null,null,null,null,"",{"$f":"IF(C798=0,\"\",INDEX(Objekt_Text,D798+1,2))","v":""},{"$f":"IF(C798=0,\"\",INDEX(Objekt_Text,D798+1,3))","v":""},"","",{"$f":"INDEX(Visum_Liste,F798+1)&\"\"","v":""},"","ZZ",0,0,0,0,0,0,3,"",{"$f":"MIN(IF(W798=$W$9:$W$2128,$E$9:$E$2128))","v":0},{"$f":"MAX(IF(W798=$W$9:$W$2128,$E$9:$E$2128))","v":0},790,1,1,null,null,1,null,"ZZ00000","00ZZ000",null,{"$f":"ABS(OR(C798=0,AND(MaxInput>1,M798=INDEX(FFilter,AO$5))))","v":1},{"$f":"ABS(OR(C798=0,AND(MaxInput>1,N798=INDEX(FFilter,AP$5))))","v":1},{"$f":"ABS(OR(C798=0,AND(MaxInput>1,O798=INDEX(FFilter,AQ$5))))","v":1},null,null,null,null,null,null,null,null,null,null,{"$f":"ROW()","v":798}]
[791,"",null,null,null,null,null,null,null,null,null,null,"",{"$f":"IF(C799=0,\"\",INDEX(Objekt_Text,D799+1,2))","v":""},{"$f":"IF(C799=0,\"\",INDEX(Objekt_Text,D799+1,3))","v":""},"","",{"$f":"INDEX(Visum_Liste,F799+1)&\"\"","v":""},"","ZZ",0,0,0,0,0,0,3,"",{"$f":"MIN(IF(W799=$W$9:$W$2128,$E$9:$E$2128))","v":0},{"$f":"MAX(IF(W799=$W$9:$W$2128,$E$9:$E$2128))","v":0},791,1,1,null,null,1,null,"ZZ00000","00ZZ000",null,{"$f":"ABS(OR(C799=0,AND(MaxInput>1,M799=INDEX(FFilter,AO$5))))","v":1},{"$f":"ABS(OR(C799=0,AND(MaxInput>1,N799=INDEX(FFilter,AP$5))))","v":1},{"$f":"ABS(OR(C799=0,AND(MaxInput>1,O799=INDEX(FFilter,AQ$5))))","v":1},null,null,null,null,null,null,null,null,null,null,{"$f":"ROW()","v":799}]
[795,"",null,null,null,null,null,null,null,null,null,null,"",{"$f":"IF(C803=0,\"\",INDEX(Objekt_Text,D803+1,2))","v":""},{"$f":"IF(C803=0,\"\",INDEX(Objekt_Text,D803+1,3))","v":""},"","",{"$f":"INDEX(Visum_Liste,F803+1)&\"\"","v":""},"","ZZ",0,0,0,0,0,0,3,"",{"$f":"MIN(IF(W803=$W$9:$W$2128,$E$9:$E$2128))","v":0},{"$f":"MAX(IF(W803=$W$9:$W$2128,$E$9:$E$2128))","v":0},795,1,1,null,null,1,null,"ZZ00000","00ZZ000",null,{"$f":"ABS(OR(C803=0,AND(MaxInput>1,M803=INDEX(FFilter,AO$5))))","v":1},{"$f":"ABS(OR(C803=0,AND(MaxInput>1,N803=INDEX(FFilter,AP$5))))","v":1},{"$f":"ABS(OR(C803=0,AND(MaxInput>1,O803=INDEX(FFilter,AQ$5))))","v":1},null,null,null,null,null,null,null,null,null,null,{"$f":"ROW()","v":803}]
[798,"",null,null,null,null,null,null,null,null,null,null,"",{"$f":"IF(C806=0,\"\",INDEX(Objekt_Text,D806+1,2))","v":""},{"$f":"IF(C806=0,\"\",INDEX(Objekt_Text,D806+1,3))","v":""},"","",{"$f":"INDEX(Visum_Liste,F806+1)&\"\"","v":""},"","ZZ",0,0,0,0,0,0,3,"",{"$f":"MIN(IF(W806=$W$9:$W$2128,$E$9:$E$2128))","v":0},{"$f":"MAX(IF(W806=$W$9:$W$2128,$E$9:$E$2128))","v":0},798,1,1,null,null,1,null,"ZZ00000","00ZZ000",null,{"$f":"ABS(OR(C806=0,AND(MaxInput>1,M806=INDEX(FFilter,AO$5))))","v":1},{"$f":"ABS(OR(C806=0,AND(MaxInput>1,N806=INDEX(FFilter,AP$5))))","v":1},{"$f":"ABS(OR(C806=0,AND(MaxInput>1,O806=INDEX(FFilter,AQ$5))))","v":1},null,null,null,null,null,null,null,null,null,null,{"$f":"ROW()","v":806}]
[801,"",null,null,null,null,null,null,null,null,null,null,"",{"$f":"IF(C809=0,\"\",INDEX(Objekt_Text,D809+1,2))","v":""},{"$f":"IF(C809=0,\"\",INDEX(Objekt_Text,D809+1,3))","v":""},"","",{"$f":"INDEX(Visum_Liste,F809+1)&\"\"","v":""},"","ZZ",0,0,0,0,0,0,3,"",{"$f":"MIN(IF(W809=$W$9:$W$2128,$E$9:$E$2128))","v":0},{"$f":"MAX(IF(W809=$W$9:$W$2128,$E$9:$E$2128))","v":0},801,1,1,null,null,1,null,"ZZ00000","00ZZ000",null,{"$f":"ABS(OR(C809=0,AND(MaxInput>1,M809=INDEX(FFilter,AO$5))))","v":1},{"$f":"ABS(OR(C809=0,AND(MaxInput>1,N809=INDEX(FFilter,AP$5))))","v":1},{"$f":"ABS(OR(C809=0,AND(MaxInput>1,O809=INDEX(FFilter,AQ$5))))","v":1},null,null,null,null,null,null,null,null,null,null,{"$f":"ROW()","v":809}]
[805,"",null,null,null,null,null,null,null,null,null,null,"",{"$f":"IF(C813=0,\"\",INDEX(Objekt_Text,D813+1,2))","v":""},{"$f":"IF(C813=0,\"\",INDEX(Objekt_Text,D813+1,3))","v":""},"","",{"$f":"INDEX(Visum_Liste,F813+1)&\"\"","v":""},"","ZZ",0,0,0,0,0,0,3,"",{"$f":"MIN(IF(W813=$W$9:$W$2128,$E$9:$E$2128))","v":0},{"$f":"MAX(IF(W813=$W$9:$W$2128,$E$9:$E$2128))","v":0},805,1,1,null,null,1,null,"ZZ00000","00ZZ000",null,{"$f":"ABS(OR(C813=0,AND(MaxInput>1,M813=INDEX(FFilter,AO$5))))","v":1},{"$f":"ABS(OR(C813=0,AND(MaxInput>1,N813=INDEX(FFilter,AP$5))))","v":1},{"$f":"ABS(OR(C813=0,AND(MaxInput>1,O813=INDEX(FFilter,AQ$5))))","v":1},null,null,null,null,null,null,null,null,null,null,{"$f":"ROW()","v":813}]
[808,"",null,null,null,null,null,null,null,null,null,null,"",{"$f":"IF(C816=0,\"\",INDEX(Objekt_Text,D816+1,2))","v":""},{"$f":"IF(C816=0,\"\",INDEX(Objekt_Text,D816+1,3))","v":""},"","",{"$f":"INDEX(Visum_Liste,F816+1)&\"\"","v":""},"","ZZ",0,0,0,0,0,0,3,"",{"$f":"MIN(IF(W816=$W$9:$W$2128,$E$9:$E$2128))","v":0},{"$f":"MAX(IF(W816=$W$9:$W$2128,$E$9:$E$2128))","v":0},808,1,1,null,null,1,null,"ZZ00000","00ZZ000",null,{"$f":"ABS(OR(C816=0,AND(MaxInput>1,M816=INDEX(FFilter,AO$5))))","v":1},{"$f":"ABS(OR(C816=0,AND(MaxInput>1,N816=INDEX(FFilter,AP$5))))","v":1},{"$f":"ABS(OR(C816=0,AND(MaxInput>1,O816=INDEX(FFilter,AQ$5))))","v":1},null,null,null,null,null,null,null,null,null,null,{"$f":"ROW()","v":816}]
[812,"",null,null,null,null,null,null,null,null,null,null,"",{"$f":"IF(C820=0,\"\",INDEX(Objekt_Text,D820+1,2))","v":""},{"$f":"IF(C820=0,\"\",INDEX(Objekt_Text,D820+1,3))","v":""},"","",{"$f":"INDEX(Visum_Liste,F820+1)&\"\"","v":""},"","ZZ",0,0,0,0,0,0,3,"",{"$f":"MIN(IF(W820=$W$9:$W$2128,$E$9:$E$2128))","v":0},{"$f":"MAX(IF(W820=$W$9:$W$2128,$E$9:$E$2128))","v":0},812,1,1,null,null,1,null,"ZZ00000","00ZZ000",null,{"$f":"ABS(OR(C820=0,AND(MaxInput>1,M820=INDEX(FFilter,AO$5))))","v":1},{"$f":"ABS(OR(C820=0,AND(MaxInput>1,N820=INDEX(FFilter,AP$5))))","v":1},{"$f":"ABS(OR(C820=0,AND(MaxInput>1,O820=INDEX(FFilter,AQ$5))))","v":1},null,null,null,null,null,null,null,null,null,null,{"$f":"ROW()","v":820}]
[815,"",null,null,null,null,null,null,null,null,null,null,"",{"$f":"IF(C823=0,\"\",INDEX(Objekt_Text,D823+1,2))","v":""},{"$f":"IF(C823=0,\"\",INDEX(Objekt_Text,D823+1,3))","v":""},"","",{"$f":"INDEX(Visum_Liste,F823+1)&\"\"","v":""},"","ZZ",0,0,0,0,0,0,3,"",{"$f":"MIN(IF(W823=$W$9:$W$2128,$E$9:$E$2128))","v":0},{"$f":"MAX(IF(W823=$W$9:$W$2128,$E$9:$E$2128))","v":0},815,1,1,null,null,1,null,"ZZ00000","00ZZ000",null,{"$f":"ABS(OR(C823=0,AND(MaxInput>1,M823=INDEX(FFilter,AO$5))))","v":1},{"$f":"ABS(OR(C823=0,AND(MaxInput>1,N823=INDEX(FFilter,AP$5))))","v":1},{"$f":"ABS(OR(C823=0,AND(MaxInput>1,O823=INDEX(FFilter,AQ$5))))","v":1},null,null,null,null,null,null,null,null,null,null,{"$f":"ROW()","v":823}]
[818,"",null,null,null,null,null,null,null,null,null,null,"",{"$f":"IF(C826=0,\"\",INDEX(Objekt_Text,D826+1,2))","v":""},{"$f":"IF(C826=0,\"\",INDEX(Objekt_Text,D826+1,3))","v":""},"","",{"$f":"INDEX(Visum_Liste,F826+1)&\"\"","v":""},"","ZZ",0,0,0,0,0,0,3,"",{"$f":"MIN(IF(W826=$W$9:$W$2128,$E$9:$E$2128))","v":0},{"$f":"MAX(IF(W826=$W$9:$W$2128,$E$9:$E$2128))","v":0},818,1,1,null,null,1,null,"ZZ00000","00ZZ000",null,{"$f":"ABS(OR(C826=0,AND(MaxInput>1,M826=INDEX(FFilter,AO$5))))","v":1},{"$f":"ABS(OR(C826=0,AND(MaxInput>1,N826=INDEX(FFilter,AP$5))))","v":1},{"$f":"ABS(OR(C826=0,AND(MaxInput>1,O826=INDEX(FFilter,AQ$5))))","v":1},null,null,null,null,null,null,null,null,null,null,{"$f":"ROW()","v":826}]
[819,"",null,null,null,null,null,null,null,null,null,null,"",{"$f":"IF(C827=0,\"\",INDEX(Objekt_Text,D827+1,2))","v":""},{"$f":"IF(C827=0,\"\",INDEX(Objekt_Text,D827+1,3))","v":""},"","",{"$f":"INDEX(Visum_Liste,F827+1)&\"\"","v":""},"","ZZ",0,0,0,0,0,0,3,"",{"$f":"MIN(IF(W827=$W$9:$W$2128,$E$9:$E$2128))","v":0},{"$f":"MAX(IF(W827=$W$9:$W$2128,$E$9:$E$2128))","v":0},819,1,1,null,null,1,null,"ZZ00000","00ZZ000",null,{"$f":"ABS(OR(C827=0,AND(MaxInput>1,M827=INDEX(FFilter,AO$5))))","v":1},{"$f":"ABS(OR(C827=0,AND(MaxInput>1,N827=INDEX(FFilter,AP$5))))","v":1},{"$f":"ABS(OR(C827=0,AND(MaxInput>1,O827=INDEX(FFilter,AQ$5))))","v":1},null,null,null,null,null,null,null,null,null,null,{"$f":"ROW()","v":827}]
[822,"",null,null,null,null,null,null,null,null,null,null,"",{"$f":"IF(C830=0,\"\",INDEX(Objekt_Text,D830+1,2))","v":""},{"$f":"IF(C830=0,\"\",INDEX(Objekt_Text,D830+1,3))","v":""},"","",{"$f":"INDEX(Visum_Liste,F830+1)&\"\"","v":""},"","ZZ",0,0,0,0,0,0,3,"",{"$f":"MIN(IF(W830=$W$9:$W$2128,$E$9:$E$2128))","v":0},{"$f":"MAX(IF(W830=$W$9:$W$2128,$E$9:$E$2128))","v":0},822,1,1,null,null,1,null,"ZZ00000","00ZZ000",null,{"$f":"ABS(OR(C830=0,AND(MaxInput>1,M830=INDEX(FFilter,AO$5))))","v":1},{"$f":"ABS(OR(C830=0,AND(MaxInput>1,N830=INDEX(FFilter,AP$5))))","v":1},{"$f":"ABS(OR(C830=0,AND(MaxInput>1,O830=INDEX(FFilter,AQ$5))))","v":1},null,null,null,null,null,null,null,null,null,null,{"$f":"ROW()","v":830}]
[826,"",null,null,null,null,null,null,null,null,null,null,"",{"$f":"IF(C834=0,\"\",INDEX(Objekt_Text,D834+1,2))","v":""},{"$f":"IF(C834=0,\"\",INDEX(Objekt_Text,D834+1,3))","v":""},"","",{"$f":"INDEX(Visum_Liste,F834+1)&\"\"","v":""},"","ZZ",0,0,0,0,0,0,3,"",{"$f":"MIN(IF(W834=$W$9:$W$2128,$E$9:$E$2128))","v":0},{"$f":"MAX(IF(W834=$W$9:$W$2128,$E$9:$E$2128))","v":0},826,1,1,null,null,1,null,"ZZ00000","00ZZ000",null,{"$f":"ABS(OR(C834=0,AND(MaxInput>1,M834=INDEX(FFilter,AO$5))))","v":1},{"$f":"ABS(OR(C834=0,AND(MaxInput>1,N834=INDEX(FFilter,AP$5))))","v":1},{"$f":"ABS(OR(C834=0,AND(MaxInput>1,O834=INDEX(FFilter,AQ$5))))","v":1},null,null,null,null,null,null,null,null,null,null,{"$f":"ROW()","v":834}]
[829,"",null,null,null,null,null,null,null,null,null,null,"",{"$f":"IF(C837=0,\"\",INDEX(Objekt_Text,D837+1,2))","v":""},{"$f":"IF(C837=0,\"\",INDEX(Objekt_Text,D837+1,3))","v":""},"","",{"$f":"INDEX(Visum_Liste,F837+1)&\"\"","v":""},"","ZZ",0,0,0,0,0,0,3,"",{"$f":"MIN(IF(W837=$W$9:$W$2128,$E$9:$E$2128))","v":0},{"$f":"MAX(IF(W837=$W$9:$W$2128,$E$9:$E$2128))","v":0},829,1,1,null,null,1,null,"ZZ00000","00ZZ000",null,{"$f":"ABS(OR(C837=0,AND(MaxInput>1,M837=INDEX(FFilter,AO$5))))","v":1},{"$f":"ABS(OR(C837=0,AND(MaxInput>1,N837=INDEX(FFilter,AP$5))))","v":1},{"$f":"ABS(OR(C837=0,AND(MaxInput>1,O837=INDEX(FFilter,AQ$5))))","v":1},null,null,null,null,null,null,null,null,null,null,{"$f":"ROW()","v":837}]
[832,"",null,null,null,null,null,null,null,null,null,null,"",{"$f":"IF(C840=0,\"\",INDEX(Objekt_Text,D840+1,2))","v":""},{"$f":"IF(C840=0,\"\",INDEX(Objekt_Text,D840+1,3))","v":""},"","",{"$f":"INDEX(Visum_Liste,F840+1)&\"\"","v":""},"","ZZ",0,0,0,0,0,0,3,"",{"$f":"MIN(IF(W840=$W$9:$W$2128,$E$9:$E$2128))","v":0},{"$f":"MAX(IF(W840=$W$9:$W$2128,$E$9:$E$2128))","v":0},832,1,1,null,null,1,null,"ZZ00000","00ZZ000",null,{"$f":"ABS(OR(C840=0,AND(MaxInput>1,M840=INDEX(FFilter,AO$5))))","v":1},{"$f":"ABS(OR(C840=0,AND(MaxInput>1,N840=INDEX(FFilter,AP$5))))","v":1},{"$f":"ABS(OR(C840=0,AND(MaxInput>1,O840=INDEX(FFilter,AQ$5))))","v":1},null,null,null,null,null,null,null,null,null,null,{"$f":"ROW()","v":840}]
[836,"",null,null,null,null,null,null,null,null,null,null,"",{"$f":"IF(C844=0,\"\",INDEX(Objekt_Text,D844+1,2))","v":""},{"$f":"IF(C844=0,\"\",INDEX(Objekt_Text,D844+1,3))","v":""},"","",{"$f":"INDEX(Visum_Liste,F844+1)&\"\"","v":""},"","ZZ",0,0,0,0,0,0,3,"",{"$f":"MIN(IF(W844=$W$9:$W$2128,$E$9:$E$2128))","v":0},{"$f":"MAX(IF(W844=$W$9:$W$2128,$E$9:$E$2128))","v":0},836,1,1,null,null,1,null,"ZZ00000","00ZZ000",null,{"$f":"ABS(OR(C844=0,AND(MaxInput>1,M844=INDEX(FFilter,AO$5))))","v":1},{"$f":"ABS(OR(C844=0,AND(MaxInput>1,N844=INDEX(FFilter,AP$5))))","v":1},{"$f":"ABS(OR(C844=0,AND(MaxInput>1,O844=INDEX(FFilter,AQ$5))))","v":1},null,null,null,null,null,null,null,null,null,null,{"$f":"ROW()","v":844}]
[839,"",null,null,null,null,null,null,null,null,null,null,"",{"$f":"IF(C847=0,\"\",INDEX(Objekt_Text,D847+1,2))","v":""},{"$f":"IF(C847=0,\"\",INDEX(Objekt_Text,D847+1,3))","v":""},"","",{"$f":"INDEX(Visum_Liste,F847+1)&\"\"","v":""},"","ZZ",0,0,0,0,0,0,3,"",{"$f":"MIN(IF(W847=$W$9:$W$2128,$E$9:$E$2128))","v":0},{"$f":"MAX(IF(W847=$W$9:$W$2128,$E$9:$E$2128))","v":0},839,1,1,null,null,1,null,"ZZ00000","00ZZ000",null,{"$f":"ABS(OR(C847=0,AND(MaxInput>1,M847=INDEX(FFilter,AO$5))))","v":1},{"$f":"ABS(OR(C847=0,AND(MaxInput>1,N847=INDEX(FFilter,AP$5))))","v":1},{"$f":"ABS(OR(C847=0,AND(MaxInput>1,O847=INDEX(FFilter,AQ$5))))","v":1},null,null,null,null,null,null,null,null,null,null,{"$f":"ROW()","v":847}]
[842,"",null,null,null,null,null,null,null,null,null,null,"",{"$f":"IF(C850=0,\"\",INDEX(Objekt_Text,D850+1,2))","v":""},{"$f":"IF(C850=0,\"\",INDEX(Objekt_Text,D850+1,3))","v":""},"","",{"$f":"INDEX(Visum_Liste,F850+1)&\"\"","v":""},"","ZZ",0,0,0,0,0,0,3,"",{"$f":"MIN(IF(W850=$W$9:$W$2128,$E$9:$E$2128))","v":0},{"$f":"MAX(IF(W850=$W$9:$W$2128,$E$9:$E$2128))","v":0},842,1,1,null,null,1,null,"ZZ00000","00ZZ000",null,{"$f":"ABS(OR(C850=0,AND(MaxInput>1,M850=INDEX(FFilter,AO$5))))","v":1},{"$f":"ABS(OR(C850=0,AND(MaxInput>1,N850=INDEX(FFilter,AP$5))))","v":1},{"$f":"ABS(OR(C850=0,AND(MaxInput>1,O850=INDEX(FFilter,AQ$5))))","v":1},null,null,null,null,null,null,null,null,null,null,{"$f":"ROW()","v":850}]
[843,"",null,null,null,null,null,null,null,null,null,null,"",{"$f":"IF(C851=0,\"\",INDEX(Objekt_Text,D851+1,2))","v":""},{"$f":"IF(C851=0,\"\",INDEX(Objekt_Text,D851+1,3))","v":""},"","",{"$f":"INDEX(Visum_Liste,F851+1)&\"\"","v":""},"","ZZ",0,0,0,0,0,0,3,"",{"$f":"MIN(IF(W851=$W$9:$W$2128,$E$9:$E$2128))","v":0},{"$f":"MAX(IF(W851=$W$9:$W$2128,$E$9:$E$2128))","v":0},843,1,1,null,null,1,null,"ZZ00000","00ZZ000",null,{"$f":"ABS(OR(C851=0,AND(MaxInput>1,M851=INDEX(FFilter,AO$5))))","v":1},{"$f":"ABS(OR(C851=0,AND(MaxInput>1,N851=INDEX(FFilter,AP$5))))","v":1},{"$f":"ABS(OR(C851=0,AND(MaxInput>1,O851=INDEX(FFilter,AQ$5))))","v":1},null,null,null,null,null,null,null,null,null,null,{"$f":"ROW()","v":851}]
[846,"",null,null,null,null,null,null,null,null,null,null,"",{"$f":"IF(C854=0,\"\",INDEX(Objekt_Text,D854+1,2))","v":""},{"$f":"IF(C854=0,\"\",INDEX(Objekt_Text,D854+1,3))","v":""},"","",{"$f":"INDEX(Visum_Liste,F854+1)&\"\"","v":""},"","ZZ",0,0,0,0,0,0,3,"",{"$f":"MIN(IF(W854=$W$9:$W$2128,$E$9:$E$2128))","v":0},{"$f":"MAX(IF(W854=$W$9:$W$2128,$E$9:$E$2128))","v":0},846,1,1,null,null,1,null,"ZZ00000","00ZZ000",null,{"$f":"ABS(OR(C854=0,AND(MaxInput>1,M854=INDEX(FFilter,AO$5))))","v":1},{"$f":"ABS(OR(C854=0,AND(MaxInput>1,N854=INDEX(FFilter,AP$5))))","v":1},{"$f":"ABS(OR(C854=0,AND(MaxInput>1,O854=INDEX(FFilter,AQ$5))))","v":1},null,null,null,null,null,null,null,null,null,null,{"$f":"ROW()","v":854}]
[850,"",null,null,null,null,null,null,null,null,null,null,"",{"$f":"IF(C858=0,\"\",INDEX(Objekt_Text,D858+1,2))","v":""},{"$f":"IF(C858=0,\"\",INDEX(Objekt_Text,D858+1,3))","v":""},"","",{"$f":"INDEX(Visum_Liste,F858+1)&\"\"","v":""},"","ZZ",0,0,0,0,0,0,3,"",{"$f":"MIN(IF(W858=$W$9:$W$2128,$E$9:$E$2128))","v":0},{"$f":"MAX(IF(W858=$W$9:$W$2128,$E$9:$E$2128))","v":0},850,1,1,null,null,1,null,"ZZ00000","00ZZ000",null,{"$f":"ABS(OR(C858=0,AND(MaxInput>1,M858=INDEX(FFilter,AO$5))))","v":1},{"$f":"ABS(OR(C858=0,AND(MaxInput>1,N858=INDEX(FFilter,AP$5))))","v":1},{"$f":"ABS(OR(C858=0,AND(MaxInput>1,O858=INDEX(FFilter,AQ$5))))","v":1},null,null,null,null,null,null,null,null,null,null,{"$f":"ROW()","v":858}]
[853,"",null,null,null,null,null,null,null,null,null,null,"",{"$f":"IF(C861=0,\"\",INDEX(Objekt_Text,D861+1,2))","v":""},{"$f":"IF(C861=0,\"\",INDEX(Objekt_Text,D861+1,3))","v":""},"","",{"$f":"INDEX(Visum_Liste,F861+1)&\"\"","v":""},"","ZZ",0,0,0,0,0,0,3,"",{"$f":"MIN(IF(W861=$W$9:$W$2128,$E$9:$E$2128))","v":0},{"$f":"MAX(IF(W861=$W$9:$W$2128,$E$9:$E$2128))","v":0},853,1,1,null,null,1,null,"ZZ00000","00ZZ000",null,{"$f":"ABS(OR(C861=0,AND(MaxInput>1,M861=INDEX(FFilter,AO$5))))","v":1},{"$f":"ABS(OR(C861=0,AND(MaxInput>1,N861=INDEX(FFilter,AP$5))))","v":1},{"$f":"ABS(OR(C861=0,AND(MaxInput>1,O861=INDEX(FFilter,AQ$5))))","v":1},null,null,null,null,null,null,null,null,null,null,{"$f":"ROW()","v":861}]
[856,"",null,null,null,null,null,null,null,null,null,null,"",{"$f":"IF(C864=0,\"\",INDEX(Objekt_Text,D864+1,2))","v":""},{"$f":"IF(C864=0,\"\",INDEX(Objekt_Text,D864+1,3))","v":""},"","",{"$f":"INDEX(Visum_Liste,F864+1)&\"\"","v":""},"","ZZ",0,0,0,0,0,0,3,"",{"$f":"MIN(IF(W864=$W$9:$W$2128,$E$9:$E$2128))","v":0},{"$f":"MAX(IF(W864=$W$9:$W$2128,$E$9:$E$2128))","v":0},856,1,1,null,null,1,null,"ZZ00000","00ZZ000",null,{"$f":"ABS(OR(C864=0,AND(MaxInput>1,M864=INDEX(FFilter,AO$5))))","v":1},{"$f":"ABS(OR(C864=0,AND(MaxInput>1,N864=INDEX(FFilter,AP$5))))","v":1},{"$f":"ABS(OR(C864=0,AND(MaxInput>1,O864=INDEX(FFilter,AQ$5))))","v":1},null,null,null,null,null,null,null,null,null,null,{"$f":"ROW()","v":864}]
[860,"",null,null,null,null,null,null,null,null,null,null,"",{"$f":"IF(C868=0,\"\",INDEX(Objekt_Text,D868+1,2))","v":""},{"$f":"IF(C868=0,\"\",INDEX(Objekt_Text,D868+1,3))","v":""},"","",{"$f":"INDEX(Visum_Liste,F868+1)&\"\"","v":""},"","ZZ",0,0,0,0,0,0,3,"",{"$f":"MIN(IF(W868=$W$9:$W$2128,$E$9:$E$2128))","v":0},{"$f":"MAX(IF(W868=$W$9:$W$2128,$E$9:$E$2128))","v":0},860,1,1,null,null,1,null,"ZZ00000","00ZZ000",null,{"$f":"ABS(OR(C868=0,AND(MaxInput>1,M868=INDEX(FFilter,AO$5))))","v":1},{"$f":"ABS(OR(C868=0,AND(MaxInput>1,N868=INDEX(FFilter,AP$5))))","v":1},{"$f":"ABS(OR(C868=0,AND(MaxInput>1,O868=INDEX(FFilter,AQ$5))))","v":1},null,null,null,null,null,null,null,null,null,null,{"$f":"ROW()","v":868}]
[863,"",null,null,null,null,null,null,null,null,null,null,"",{"$f":"IF(C871=0,\"\",INDEX(Objekt_Text,D871+1,2))","v":""},{"$f":"IF(C871=0,\"\",INDEX(Objekt_Text,D871+1,3))","v":""},"","",{"$f":"INDEX(Visum_Liste,F871+1)&\"\"","v":""},"","ZZ",0,0,0,0,0,0,3,"",{"$f":"MIN(IF(W871=$W$9:$W$2128,$E$9:$E$2128))","v":0},{"$f":"MAX(IF(W871=$W$9:$W$2128,$E$9:$E$2128))","v":0},863,1,1,null,null,1,null,"ZZ00000","00ZZ000",null,{"$f":"ABS(OR(C871=0,AND(MaxInput>1,M871=INDEX(FFilter,AO$5))))","v":1},{"$f":"ABS(OR(C871=0,AND(MaxInput>1,N871=INDEX(FFilter,AP$5))))","v":1},{"$f":"ABS(OR(C871=0,AND(MaxInput>1,O871=INDEX(FFilter,AQ$5))))","v":1},null,null,null,null,null,null,null,null,null,null,{"$f":"ROW()","v":871}]
[866,"",null,null,null,null,null,null,null,null,null,null,"",{"$f":"IF(C874=0,\"\",INDEX(Objekt_Text,D874+1,2))","v":""},{"$f":"IF(C874=0,\"\",INDEX(Objekt_Text,D874+1,3))","v":""},"","",{"$f":"INDEX(Visum_Liste,F874+1)&\"\"","v":""},"","ZZ",0,0,0,0,0,0,3,"",{"$f":"MIN(IF(W874=$W$9:$W$2128,$E$9:$E$2128))","v":0},{"$f":"MAX(IF(W874=$W$9:$W$2128,$E$9:$E$2128))","v":0},866,1,1,null,null,1,null,"ZZ00000","00ZZ000",null,{"$f":"ABS(OR(C874=0,AND(MaxInput>1,M874=INDEX(FFilter,AO$5))))","v":1},{"$f":"ABS(OR(C874=0,AND(MaxInput>1,N874=INDEX(FFilter,AP$5))))","v":1},{"$f":"ABS(OR(C874=0,AND(MaxInput>1,O874=INDEX(FFilter,AQ$5))))","v":1},null,null,null,null,null,null,null,null,null,null,{"$f":"ROW()","v":874}]
[867,"",null,null,null,null,null,null,null,null,null,null,"",{"$f":"IF(C875=0,\"\",INDEX(Objekt_Text,D875+1,2))","v":""},{"$f":"IF(C875=0,\"\",INDEX(Objekt_Text,D875+1,3))","v":""},"","",{"$f":"INDEX(Visum_Liste,F875+1)&\"\"","v":""},"","ZZ",0,0,0,0,0,0,3,"",{"$f":"MIN(IF(W875=$W$9:$W$2128,$E$9:$E$2128))","v":0},{"$f":"MAX(IF(W875=$W$9:$W$2128,$E$9:$E$2128))","v":0},867,1,1,null,null,1,null,"ZZ00000","00ZZ000",null,{"$f":"ABS(OR(C875=0,AND(MaxInput>1,M875=INDEX(FFilter,AO$5))))","v":1},{"$f":"ABS(OR(C875=0,AND(MaxInput>1,N875=INDEX(FFilter,AP$5))))","v":1},{"$f":"ABS(OR(C875=0,AND(MaxInput>1,O875=INDEX(FFilter,AQ$5))))","v":1},null,null,null,null,null,null,null,null,null,null,{"$f":"ROW()","v":875}]
[870,"",null,null,null,null,null,null,null,null,null,null,"",{"$f":"IF(C878=0,\"\",INDEX(Objekt_Text,D878+1,2))","v":""},{"$f":"IF(C878=0,\"\",INDEX(Objekt_Text,D878+1,3))","v":""},"","",{"$f":"INDEX(Visum_Liste,F878+1)&\"\"","v":""},"","ZZ",0,0,0,0,0,0,3,"",{"$f":"MIN(IF(W878=$W$9:$W$2128,$E$9:$E$2128))","v":0},{"$f":"MAX(IF(W878=$W$9:$W$2128,$E$9:$E$2128))","v":0},870,1,1,null,null,1,null,"ZZ00000","00ZZ000",null,{"$f":"ABS(OR(C878=0,AND(MaxInput>1,M878=INDEX(FFilter,AO$5))))","v":1},{"$f":"ABS(OR(C878=0,AND(MaxInput>1,N878=INDEX(FFilter,AP$5))))","v":1},{"$f":"ABS(OR(C878=0,AND(MaxInput>1,O878=INDEX(FFilter,AQ$5))))","v":1},null,null,null,null,null,null,null,null,null,null,{"$f":"ROW()","v":878}]
[874,"",null,null,null,null,null,null,null,null,null,null,"",{"$f":"IF(C882=0,\"\",INDEX(Objekt_Text,D882+1,2))","v":""},{"$f":"IF(C882=0,\"\",INDEX(Objekt_Text,D882+1,3))","v":""},"","",{"$f":"INDEX(Visum_Liste,F882+1)&\"\"","v":""},"","ZZ",0,0,0,0,0,0,3,"",{"$f":"MIN(IF(W882=$W$9:$W$2128,$E$9:$E$2128))","v":0},{"$f":"MAX(IF(W882=$W$9:$W$2128,$E$9:$E$2128))","v":0},874,1,1,null,null,1,null,"ZZ00000","00ZZ000",null,{"$f":"ABS(OR(C882=0,AND(MaxInput>1,M882=INDEX(FFilter,AO$5))))","v":1},{"$f":"ABS(OR(C882=0,AND(MaxInput>1,N882=INDEX(FFilter,AP$5))))","v":1},{"$f":"ABS(OR(C882=0,AND(MaxInput>1,O882=INDEX(FFilter,AQ$5))))","v":1},null,null,null,null,null,null,null,null,null,null,{"$f":"ROW()","v":882}]
[877,"",null,null,null,null,null,null,null,null,null,null,"",{"$f":"IF(C885=0,\"\",INDEX(Objekt_Text,D885+1,2))","v":""},{"$f":"IF(C885=0,\"\",INDEX(Objekt_Text,D885+1,3))","v":""},"","",{"$f":"INDEX(Visum_Liste,F885+1)&\"\"","v":""},"","ZZ",0,0,0,0,0,0,3,"",{"$f":"MIN(IF(W885=$W$9:$W$2128,$E$9:$E$2128))","v":0},{"$f":"MAX(IF(W885=$W$9:$W$2128,$E$9:$E$2128))","v":0},877,1,1,null,null,1,null,"ZZ00000","00ZZ000",null,{"$f":"ABS(OR(C885=0,AND(MaxInput>1,M885=INDEX(FFilter,AO$5))))","v":1},{"$f":"ABS(OR(C885=0,AND(MaxInput>1,N885=INDEX(FFilter,AP$5))))","v":1},{"$f":"ABS(OR(C885=0,AND(MaxInput>1,O885=INDEX(FFilter,AQ$5))))","v":1},null,null,null,null,null,null,null,null,null,null,{"$f":"ROW()","v":885}]
[880,"",null,null,null,null,null,null,null,null,null,null,"",{"$f":"IF(C888=0,\"\",INDEX(Objekt_Text,D888+1,2))","v":""},{"$f":"IF(C888=0,\"\",INDEX(Objekt_Text,D888+1,3))","v":""},"","",{"$f":"INDEX(Visum_Liste,F888+1)&\"\"","v":""},"","ZZ",0,0,0,0,0,0,3,"",{"$f":"MIN(IF(W888=$W$9:$W$2128,$E$9:$E$2128))","v":0},{"$f":"MAX(IF(W888=$W$9:$W$2128,$E$9:$E$2128))","v":0},880,1,1,null,null,1,null,"ZZ00000","00ZZ000",null,{"$f":"ABS(OR(C888=0,AND(MaxInput>1,M888=INDEX(FFilter,AO$5))))","v":1},{"$f":"ABS(OR(C888=0,AND(MaxInput>1,N888=INDEX(FFilter,AP$5))))","v":1},{"$f":"ABS(OR(C888=0,AND(MaxInput>1,O888=INDEX(FFilter,AQ$5))))","v":1},null,null,null,null,null,null,null,null,null,null,{"$f":"ROW()","v":888}]
[884,"",null,null,null,null,null,null,null,null,null,null,"",{"$f":"IF(C892=0,\"\",INDEX(Objekt_Text,D892+1,2))","v":""},{"$f":"IF(C892=0,\"\",INDEX(Objekt_Text,D892+1,3))","v":""},"","",{"$f":"INDEX(Visum_Liste,F892+1)&\"\"","v":""},"","ZZ",0,0,0,0,0,0,3,"",{"$f":"MIN(IF(W892=$W$9:$W$2128,$E$9:$E$2128))","v":0},{"$f":"MAX(IF(W892=$W$9:$W$2128,$E$9:$E$2128))","v":0},884,1,1,null,null,1,null,"ZZ00000","00ZZ000",null,{"$f":"ABS(OR(C892=0,AND(MaxInput>1,M892=INDEX(FFilter,AO$5))))","v":1},{"$f":"ABS(OR(C892=0,AND(MaxInput>1,N892=INDEX(FFilter,AP$5))))","v":1},{"$f":"ABS(OR(C892=0,AND(MaxInput>1,O892=INDEX(FFilter,AQ$5))))","v":1},null,null,null,null,null,null,null,null,null,null,{"$f":"ROW()","v":892}]
[887,"",null,null,null,null,null,null,null,null,null,null,"",{"$f":"IF(C895=0,\"\",INDEX(Objekt_Text,D895+1,2))","v":""},{"$f":"IF(C895=0,\"\",INDEX(Objekt_Text,D895+1,3))","v":""},"","",{"$f":"INDEX(Visum_Liste,F895+1)&\"\"","v":""},"","ZZ",0,0,0,0,0,0,3,"",{"$f":"MIN(IF(W895=$W$9:$W$2128,$E$9:$E$2128))","v":0},{"$f":"MAX(IF(W895=$W$9:$W$2128,$E$9:$E$2128))","v":0},887,1,1,null,null,1,null,"ZZ00000","00ZZ000",null,{"$f":"ABS(OR(C895=0,AND(MaxInput>1,M895=INDEX(FFilter,AO$5))))","v":1},{"$f":"ABS(OR(C895=0,AND(MaxInput>1,N895=INDEX(FFilter,AP$5))))","v":1},{"$f":"ABS(OR(C895=0,AND(MaxInput>1,O895=INDEX(FFilter,AQ$5))))","v":1},null,null,null,null,null,null,null,null,null,null,{"$f":"ROW()","v":895}]
[888,"",null,null,null,null,null,null,null,null,null,null,"",{"$f":"IF(C896=0,\"\",INDEX(Objekt_Text,D896+1,2))","v":""},{"$f":"IF(C896=0,\"\",INDEX(Objekt_Text,D896+1,3))","v":""},"","",{"$f":"INDEX(Visum_Liste,F896+1)&\"\"","v":""},"","ZZ",0,0,0,0,0,0,3,"",{"$f":"MIN(IF(W896=$W$9:$W$2128,$E$9:$E$2128))","v":0},{"$f":"MAX(IF(W896=$W$9:$W$2128,$E$9:$E$2128))","v":0},888,1,1,null,null,1,null,"ZZ00000","00ZZ000",null,{"$f":"ABS(OR(C896=0,AND(MaxInput>1,M896=INDEX(FFilter,AO$5))))","v":1},{"$f":"ABS(OR(C896=0,AND(MaxInput>1,N896=INDEX(FFilter,AP$5))))","v":1},{"$f":"ABS(OR(C896=0,AND(MaxInput>1,O896=INDEX(FFilter,AQ$5))))","v":1},null,null,null,null,null,null,null,null,null,null,{"$f":"ROW()","v":896}]
[891,"",null,null,null,null,null,null,null,null,null,null,"",{"$f":"IF(C899=0,\"\",INDEX(Objekt_Text,D899+1,2))","v":""},{"$f":"IF(C899=0,\"\",INDEX(Objekt_Text,D899+1,3))","v":""},"","",{"$f":"INDEX(Visum_Liste,F899+1)&\"\"","v":""},"","ZZ",0,0,0,0,0,0,3,"",{"$f":"MIN(IF(W899=$W$9:$W$2128,$E$9:$E$2128))","v":0},{"$f":"MAX(IF(W899=$W$9:$W$2128,$E$9:$E$2128))","v":0},891,1,1,null,null,1,null,"ZZ00000","00ZZ000",null,{"$f":"ABS(OR(C899=0,AND(MaxInput>1,M899=INDEX(FFilter,AO$5))))","v":1},{"$f":"ABS(OR(C899=0,AND(MaxInput>1,N899=INDEX(FFilter,AP$5))))","v":1},{"$f":"ABS(OR(C899=0,AND(MaxInput>1,O899=INDEX(FFilter,AQ$5))))","v":1},null,null,null,null,null,null,null,null,null,null,{"$f":"ROW()","v":899}]
[894,"",null,null,null,null,null,null,null,null,null,null,"",{"$f":"IF(C902=0,\"\",INDEX(Objekt_Text,D902+1,2))","v":""},{"$f":"IF(C902=0,\"\",INDEX(Objekt_Text,D902+1,3))","v":""},"","",{"$f":"INDEX(Visum_Liste,F902+1)&\"\"","v":""},"","ZZ",0,0,0,0,0,0,3,"",{"$f":"MIN(IF(W902=$W$9:$W$2128,$E$9:$E$2128))","v":0},{"$f":"MAX(IF(W902=$W$9:$W$2128,$E$9:$E$2128))","v":0},894,1,1,null,null,1,null,"ZZ00000","00ZZ000",null,{"$f":"ABS(OR(C902=0,AND(MaxInput>1,M902=INDEX(FFilter,AO$5))))","v":1},{"$f":"ABS(OR(C902=0,AND(MaxInput>1,N902=INDEX(FFilter,AP$5))))","v":1},{"$f":"ABS(OR(C902=0,AND(MaxInput>1,O902=INDEX(FFilter,AQ$5))))","v":1},null,null,null,null,null,null,null,null,null,null,{"$f":"ROW()","v":902}]
[898,"",null,null,null,null,null,null,null,null,null,null,"",{"$f":"IF(C906=0,\"\",INDEX(Objekt_Text,D906+1,2))","v":""},{"$f":"IF(C906=0,\"\",INDEX(Objekt_Text,D906+1,3))","v":""},"","",{"$f":"INDEX(Visum_Liste,F906+1)&\"\"","v":""},"","ZZ",0,0,0,0,0,0,3,"",{"$f":"MIN(IF(W906=$W$9:$W$2128,$E$9:$E$2128))","v":0},{"$f":"MAX(IF(W906=$W$9:$W$2128,$E$9:$E$2128))","v":0},898,1,1,null,null,{"$f":"OR(L906<=L905,B906=\"\")*1","v":1},null,"ZZ00000","00ZZ000",null,{"$f":"ABS(OR(C906=0,AND(MaxInput>1,M906=INDEX(FFilter,AO$5))))","v":1},{"$f":"ABS(OR(C906=0,AND(MaxInput>1,N906=INDEX(FFilter,AP$5))))","v":1},{"$f":"ABS(OR(C906=0,AND(MaxInput>1,O906=INDEX(FFilter,AQ$5))))","v":1},null,null,null,null,null,null,null,null,null,null,{"$f":"ROW()","v":906}]
[901,"",null,null,null,null,null,null,null,null,null,null,"",{"$f":"IF(C909=0,\"\",INDEX(Objekt_Text,D909+1,2))","v":""},{"$f":"IF(C909=0,\"\",INDEX(Objekt_Text,D909+1,3))","v":""},"","",{"$f":"INDEX(Visum_Liste,F909+1)&\"\"","v":""},"","ZZ",0,0,0,0,0,0,3,"",{"$f":"MIN(IF(W909=$W$9:$W$2128,$E$9:$E$2128))","v":0},{"$f":"MAX(IF(W909=$W$9:$W$2128,$E$9:$E$2128))","v":0},901,{"$f":"OR(AL909>=AL908,B909=\"\")*1","v":1},{"$f":"OR(AM909>=AM908,B909=\"\")*1","v":1},null,null,1,null,"ZZ00000","00ZZ000",null,{"$f":"ABS(OR(C909=0,AND(MaxInput>1,M909=INDEX(FFilter,AO$5))))","v":1},{"$f":"ABS(OR(C909=0,AND(MaxInput>1,N909=INDEX(FFilter,AP$5))))","v":1},{"$f":"ABS(OR(C909=0,AND(MaxInput>1,O909=INDEX(FFilter,AQ$5))))","v":1},null,null,null,null,null,null,null,null,null,null,{"$f":"ROW()","v":909}]
[904,"",null,null,null,null,null,null,null,null,null,null,"",{"$f":"IF(C912=0,\"\",INDEX(Objekt_Text,D912+1,2))","v":""},{"$f":"IF(C912=0,\"\",INDEX(Objekt_Text,D912+1,3))","v":""},"","",{"$f":"INDEX(Visum_Liste,F912+1)&\"\"","v":""},"","ZZ",0,0,0,0,0,0,3,"",{"$f":"MIN(IF(W912=$W$9:$W$2128,$E$9:$E$2128))","v":0},{"$f":"MAX(IF(W912=$W$9:$W$2128,$E$9:$E$2128))","v":0},904,1,1,null,null,1,null,"ZZ00000","00ZZ000",null,{"$f":"ABS(OR(C912=0,AND(MaxInput>1,M912=INDEX(FFilter,AO$5))))","v":1},{"$f":"ABS(OR(C912=0,AND(MaxInput>1,N912=INDEX(FFilter,AP$5))))","v":1},{"$f":"ABS(OR(C912=0,AND(MaxInput>1,O912=INDEX(FFilter,AQ$5))))","v":1},null,null,null,null,null,null,null,null,null,null,{"$f":"ROW()","v":912}]
[908,"",null,null,null,null,null,null,null,null,null,null,"",{"$f":"IF(C916=0,\"\",INDEX(Objekt_Text,D916+1,2))","v":""},{"$f":"IF(C916=0,\"\",INDEX(Objekt_Text,D916+1,3))","v":""},"","",{"$f":"INDEX(Visum_Liste,F916+1)&\"\"","v":""},"","ZZ",0,0,0,0,0,0,3,"",{"$f":"MIN(IF(W916=$W$9:$W$2128,$E$9:$E$2128))","v":0},{"$f":"MAX(IF(W916=$W$9:$W$2128,$E$9:$E$2128))","v":0},908,1,1,null,null,1,null,"ZZ00000","00ZZ000",null,{"$f":"ABS(OR(C916=0,AND(MaxInput>1,M916=INDEX(FFilter,AO$5))))","v":1},{"$f":"ABS(OR(C916=0,AND(MaxInput>1,N916=INDEX(FFilter,AP$5))))","v":1},{"$f":"ABS(OR(C916=0,AND(MaxInput>1,O916=INDEX(FFilter,AQ$5))))","v":1},null,null,null,null,null,null,null,null,null,null,{"$f":"ROW()","v":916}]
[911,"",null,null,null,null,null,null,null,null,null,null,"",{"$f":"IF(C919=0,\"\",INDEX(Objekt_Text,D919+1,2))","v":""},{"$f":"IF(C919=0,\"\",INDEX(Objekt_Text,D919+1,3))","v":""},"","",{"$f":"INDEX(Visum_Liste,F919+1)&\"\"","v":""},"","ZZ",0,0,0,0,0,0,3,"",{"$f":"MIN(IF(W919=$W$9:$W$2128,$E$9:$E$2128))","v":0},{"$f":"MAX(IF(W919=$W$9:$W$2128,$E$9:$E$2128))","v":0},911,1,1,null,null,1,null,"ZZ00000","00ZZ000",null,{"$f":"ABS(OR(C919=0,AND(MaxInput>1,M919=INDEX(FFilter,AO$5))))","v":1},{"$f":"ABS(OR(C919=0,AND(MaxInput>1,N919=INDEX(FFilter,AP$5))))","v":1},{"$f":"ABS(OR(C919=0,AND(MaxInput>1,O919=INDEX(FFilter,AQ$5))))","v":1},null,null,null,null,null,null,null,null,null,null,{"$f":"ROW()","v":919}]
[912,"",null,null,null,null,null,null,null,null,null,null,"",{"$f":"IF(C920=0,\"\",INDEX(Objekt_Text,D920+1,2))","v":""},{"$f":"IF(C920=0,\"\",INDEX(Objekt_Text,D920+1,3))","v":""},"","",{"$f":"INDEX(Visum_Liste,F920+1)&\"\"","v":""},"","ZZ",0,0,0,0,0,0,3,"",{"$f":"MIN(IF(W920=$W$9:$W$2128,$E$9:$E$2128))","v":0},{"$f":"MAX(IF(W920=$W$9:$W$2128,$E$9:$E$2128))","v":0},912,1,1,null,null,1,null,"ZZ00000","00ZZ000",null,{"$f":"ABS(OR(C920=0,AND(MaxInput>1,M920=INDEX(FFilter,AO$5))))","v":1},{"$f":"ABS(OR(C920=0,AND(MaxInput>1,N920=INDEX(FFilter,AP$5))))","v":1},{"$f":"ABS(OR(C920=0,AND(MaxInput>1,O920=INDEX(FFilter,AQ$5))))","v":1},null,null,null,null,null,null,null,null,null,null,{"$f":"ROW()","v":920}]
[915,"",null,null,null,null,null,null,null,null,null,null,"",{"$f":"IF(C923=0,\"\",INDEX(Objekt_Text,D923+1,2))","v":""},{"$f":"IF(C923=0,\"\",INDEX(Objekt_Text,D923+1,3))","v":""},"","",{"$f":"INDEX(Visum_Liste,F923+1)&\"\"","v":""},"","ZZ",0,0,0,0,0,0,3,"",{"$f":"MIN(IF(W923=$W$9:$W$2128,$E$9:$E$2128))","v":0},{"$f":"MAX(IF(W923=$W$9:$W$2128,$E$9:$E$2128))","v":0},915,1,1,null,null,1,null,"ZZ00000","00ZZ000",null,{"$f":"ABS(OR(C923=0,AND(MaxInput>1,M923=INDEX(FFilter,AO$5))))","v":1},{"$f":"ABS(OR(C923=0,AND(MaxInput>1,N923=INDEX(FFilter,AP$5))))","v":1},{"$f":"ABS(OR(C923=0,AND(MaxInput>1,O923=INDEX(FFilter,AQ$5))))","v":1},null,null,null,null,null,null,null,null,null,null,{"$f":"ROW()","v":923}]
[918,"",null,null,null,null,null,null,null,null,null,null,"",{"$f":"IF(C926=0,\"\",INDEX(Objekt_Text,D926+1,2))","v":""},{"$f":"IF(C926=0,\"\",INDEX(Objekt_Text,D926+1,3))","v":""},"","",{"$f":"INDEX(Visum_Liste,F926+1)&\"\"","v":""},"","ZZ",0,0,0,0,0,0,3,"",{"$f":"MIN(IF(W926=$W$9:$W$2128,$E$9:$E$2128))","v":0},{"$f":"MAX(IF(W926=$W$9:$W$2128,$E$9:$E$2128))","v":0},918,1,1,null,null,1,null,"ZZ00000","00ZZ000",null,{"$f":"ABS(OR(C926=0,AND(MaxInput>1,M926=INDEX(FFilter,AO$5))))","v":1},{"$f":"ABS(OR(C926=0,AND(MaxInput>1,N926=INDEX(FFilter,AP$5))))","v":1},{"$f":"ABS(OR(C926=0,AND(MaxInput>1,O926=INDEX(FFilter,AQ$5))))","v":1},null,null,null,null,null,null,null,null,null,null,{"$f":"ROW()","v":926}]
[922,"",null,null,null,null,null,null,null,null,null,null,"",{"$f":"IF(C930=0,\"\",INDEX(Objekt_Text,D930+1,2))","v":""},{"$f":"IF(C930=0,\"\",INDEX(Objekt_Text,D930+1,3))","v":""},"","",{"$f":"INDEX(Visum_Liste,F930+1)&\"\"","v":""},"","ZZ",0,0,0,0,0,0,3,"",{"$f":"MIN(IF(W930=$W$9:$W$2128,$E$9:$E$2128))","v":0},{"$f":"MAX(IF(W930=$W$9:$W$2128,$E$9:$E$2128))","v":0},922,1,1,null,null,1,null,"ZZ00000","00ZZ000",null,{"$f":"ABS(OR(C930=0,AND(MaxInput>1,M930=INDEX(FFilter,AO$5))))","v":1},{"$f":"ABS(OR(C930=0,AND(MaxInput>1,N930=INDEX(FFilter,AP$5))))","v":1},{"$f":"ABS(OR(C930=0,AND(MaxInput>1,O930=INDEX(FFilter,AQ$5))))","v":1},null,null,null,null,null,null,null,null,null,null,{"$f":"ROW()","v":930}]
[925,"",null,null,null,null,null,null,null,null,null,null,"",{"$f":"IF(C933=0,\"\",INDEX(Objekt_Text,D933+1,2))","v":""},{"$f":"IF(C933=0,\"\",INDEX(Objekt_Text,D933+1,3))","v":""},"","",{"$f":"INDEX(Visum_Liste,F933+1)&\"\"","v":""},"","ZZ",0,0,0,0,0,0,3,"",{"$f":"MIN(IF(W933=$W$9:$W$2128,$E$9:$E$2128))","v":0},{"$f":"MAX(IF(W933=$W$9:$W$2128,$E$9:$E$2128))","v":0},925,1,1,null,null,1,null,"ZZ00000","00ZZ000",null,{"$f":"ABS(OR(C933=0,AND(MaxInput>1,M933=INDEX(FFilter,AO$5))))","v":1},{"$f":"ABS(OR(C933=0,AND(MaxInput>1,N933=INDEX(FFilter,AP$5))))","v":1},{"$f":"ABS(OR(C933=0,AND(MaxInput>1,O933=INDEX(FFilter,AQ$5))))","v":1},null,null,null,null,null,null,null,null,null,null,{"$f":"ROW()","v":933}]
[929,"",null,null,null,null,null,null,null,null,null,null,"",{"$f":"IF(C937=0,\"\",INDEX(Objekt_Text,D937+1,2))","v":""},{"$f":"IF(C937=0,\"\",INDEX(Objekt_Text,D937+1,3))","v":""},"","",{"$f":"INDEX(Visum_Liste,F937+1)&\"\"","v":""},"","ZZ",0,0,0,0,0,0,3,"",{"$f":"MIN(IF(W937=$W$9:$W$2128,$E$9:$E$2128))","v":0},{"$f":"MAX(IF(W937=$W$9:$W$2128,$E$9:$E$2128))","v":0},929,1,1,null,null,1,null,"ZZ00000","00ZZ000",null,{"$f":"ABS(OR(C937=0,AND(MaxInput>1,M937=INDEX(FFilter,AO$5))))","v":1},{"$f":"ABS(OR(C937=0,AND(MaxInput>1,N937=INDEX(FFilter,AP$5))))","v":1},{"$f":"ABS(OR(C937=0,AND(MaxInput>1,O937=INDEX(FFilter,AQ$5))))","v":1},null,null,null,null,null,null,null,null,null,null,{"$f":"ROW()","v":937}]
[932,"",null,null,null,null,null,null,null,null,null,null,"",{"$f":"IF(C940=0,\"\",INDEX(Objekt_Text,D940+1,2))","v":""},{"$f":"IF(C940=0,\"\",INDEX(Objekt_Text,D940+1,3))","v":""},"","",{"$f":"INDEX(Visum_Liste,F940+1)&\"\"","v":""},"","ZZ",0,0,0,0,0,0,3,"",{"$f":"MIN(IF(W940=$W$9:$W$2128,$E$9:$E$2128))","v":0},{"$f":"MAX(IF(W940=$W$9:$W$2128,$E$9:$E$2128))","v":0},932,1,1,null,null,1,null,"ZZ00000","00ZZ000",null,{"$f":"ABS(OR(C940=0,AND(MaxInput>1,M940=INDEX(FFilter,AO$5))))","v":1},{"$f":"ABS(OR(C940=0,AND(MaxInput>1,N940=INDEX(FFilter,AP$5))))","v":1},{"$f":"ABS(OR(C940=0,AND(MaxInput>1,O940=INDEX(FFilter,AQ$5))))","v":1},null,null,null,null,null,null,null,null,null,null,{"$f":"ROW()","v":940}]
[935,"",null,null,null,null,null,null,null,null,null,null,"",{"$f":"IF(C943=0,\"\",INDEX(Objekt_Text,D943+1,2))","v":""},{"$f":"IF(C943=0,\"\",INDEX(Objekt_Text,D943+1,3))","v":""},"","",{"$f":"INDEX(Visum_Liste,F943+1)&\"\"","v":""},"","ZZ",0,0,0,0,0,0,3,"",{"$f":"MIN(IF(W943=$W$9:$W$2128,$E$9:$E$2128))","v":0},{"$f":"MAX(IF(W943=$W$9:$W$2128,$E$9:$E$2128))","v":0},935,1,1,null,null,1,null,"ZZ00000","00ZZ000",null,{"$f":"ABS(OR(C943=0,AND(MaxInput>1,M943=INDEX(FFilter,AO$5))))","v":1},{"$f":"ABS(OR(C943=0,AND(MaxInput>1,N943=INDEX(FFilter,AP$5))))","v":1},{"$f":"ABS(OR(C943=0,AND(MaxInput>1,O943=INDEX(FFilter,AQ$5))))","v":1},null,null,null,null,null,null,null,null,null,null,{"$f":"ROW()","v":943}]
[936,"",null,null,null,null,null,null,null,null,null,null,"",{"$f":"IF(C944=0,\"\",INDEX(Objekt_Text,D944+1,2))","v":""},{"$f":"IF(C944=0,\"\",INDEX(Objekt_Text,D944+1,3))","v":""},"","",{"$f":"INDEX(Visum_Liste,F944+1)&\"\"","v":""},"","ZZ",0,0,0,0,0,0,3,"",{"$f":"MIN(IF(W944=$W$9:$W$2128,$E$9:$E$2128))","v":0},{"$f":"MAX(IF(W944=$W$9:$W$2128,$E$9:$E$2128))","v":0},936,1,1,null,null,1,null,"ZZ00000","00ZZ000",null,{"$f":"ABS(OR(C944=0,AND(MaxInput>1,M944=INDEX(FFilter,AO$5))))","v":1},{"$f":"ABS(OR(C944=0,AND(MaxInput>1,N944=INDEX(FFilter,AP$5))))","v":1},{"$f":"ABS(OR(C944=0,AND(MaxInput>1,O944=INDEX(FFilter,AQ$5))))","v":1},null,null,null,null,null,null,null,null,null,null,{"$f":"ROW()","v":944}]
[939,"",null,null,null,null,null,null,null,null,null,null,"",{"$f":"IF(C947=0,\"\",INDEX(Objekt_Text,D947+1,2))","v":""},{"$f":"IF(C947=0,\"\",INDEX(Objekt_Text,D947+1,3))","v":""},"","",{"$f":"INDEX(Visum_Liste,F947+1)&\"\"","v":""},"","ZZ",0,0,0,0,0,0,3,"",{"$f":"MIN(IF(W947=$W$9:$W$2128,$E$9:$E$2128))","v":0},{"$f":"MAX(IF(W947=$W$9:$W$2128,$E$9:$E$2128))","v":0},939,1,1,null,null,1,null,"ZZ00000","00ZZ000",null,{"$f":"ABS(OR(C947=0,AND(MaxInput>1,M947=INDEX(FFilter,AO$5))))","v":1},{"$f":"ABS(OR(C947=0,AND(MaxInput>1,N947=INDEX(FFilter,AP$5))))","v":1},{"$f":"ABS(OR(C947=0,AND(MaxInput>1,O947=INDEX(FFilter,AQ$5))))","v":1},null,null,null,null,null,null,null,null,null,null,{"$f":"ROW()","v":947}]
[944,"",null,null,null,null,null,null,null,null,null,null,"",{"$f":"IF(C952=0,\"\",INDEX(Objekt_Text,D952+1,2))","v":""},{"$f":"IF(C952=0,\"\",INDEX(Objekt_Text,D952+1,3))","v":""},"","",{"$f":"INDEX(Visum_Liste,F952+1)&\"\"","v":""},"","ZZ",0,0,0,0,0,0,3,"",{"$f":"MIN(IF(W952=$W$9:$W$2128,$E$9:$E$2128))","v":0},{"$f":"MAX(IF(W952=$W$9:$W$2128,$E$9:$E$2128))","v":0},944,1,1,null,null,1,null,"ZZ00000","00ZZ000",null,{"$f":"ABS(OR(C952=0,AND(MaxInput>1,M952=INDEX(FFilter,AO$5))))","v":1},{"$f":"ABS(OR(C952=0,AND(MaxInput>1,N952=INDEX(FFilter,AP$5))))","v":1},{"$f":"ABS(OR(C952=0,AND(MaxInput>1,O952=INDEX(FFilter,AQ$5))))","v":1},null,null,null,null,null,null,null,null,null,null,{"$f":"ROW()","v":952}]
[947,"",null,null,null,null,null,null,null,null,null,null,"",{"$f":"IF(C955=0,\"\",INDEX(Objekt_Text,D955+1,2))","v":""},{"$f":"IF(C955=0,\"\",INDEX(Objekt_Text,D955+1,3))","v":""},"","",{"$f":"INDEX(Visum_Liste,F955+1)&\"\"","v":""},"","ZZ",0,0,0,0,0,0,3,"",{"$f":"MIN(IF(W955=$W$9:$W$2128,$E$9:$E$2128))","v":0},{"$f":"MAX(IF(W955=$W$9:$W$2128,$E$9:$E$2128))","v":0},947,1,1,null,null,1,null,"ZZ00000","00ZZ000",null,{"$f":"ABS(OR(C955=0,AND(MaxInput>1,M955=INDEX(FFilter,AO$5))))","v":1},{"$f":"ABS(OR(C955=0,AND(MaxInput>1,N955=INDEX(FFilter,AP$5))))","v":1},{"$f":"ABS(OR(C955=0,AND(MaxInput>1,O955=INDEX(FFilter,AQ$5))))","v":1},null,null,null,null,null,null,null,null,null,null,{"$f":"ROW()","v":955}]
[950,"",null,null,null,null,null,null,null,null,null,null,"",{"$f":"IF(C958=0,\"\",INDEX(Objekt_Text,D958+1,2))","v":""},{"$f":"IF(C958=0,\"\",INDEX(Objekt_Text,D958+1,3))","v":""},"","",{"$f":"INDEX(Visum_Liste,F958+1)&\"\"","v":""},"","ZZ",0,0,0,0,0,0,3,"",{"$f":"MIN(IF(W958=$W$9:$W$2128,$E$9:$E$2128))","v":0},{"$f":"MAX(IF(W958=$W$9:$W$2128,$E$9:$E$2128))","v":0},950,1,1,null,null,1,null,"ZZ00000","00ZZ000",null,{"$f":"ABS(OR(C958=0,AND(MaxInput>1,M958=INDEX(FFilter,AO$5))))","v":1},{"$f":"ABS(OR(C958=0,AND(MaxInput>1,N958=INDEX(FFilter,AP$5))))","v":1},{"$f":"ABS(OR(C958=0,AND(MaxInput>1,O958=INDEX(FFilter,AQ$5))))","v":1},null,null,null,null,null,null,null,null,null,null,{"$f":"ROW()","v":958}]
[954,"",null,null,null,null,null,null,null,null,null,null,"",{"$f":"IF(C962=0,\"\",INDEX(Objekt_Text,D962+1,2))","v":""},{"$f":"IF(C962=0,\"\",INDEX(Objekt_Text,D962+1,3))","v":""},"","",{"$f":"INDEX(Visum_Liste,F962+1)&\"\"","v":""},"","ZZ",0,0,0,0,0,0,3,"",{"$f":"MIN(IF(W962=$W$9:$W$2128,$E$9:$E$2128))","v":0},{"$f":"MAX(IF(W962=$W$9:$W$2128,$E$9:$E$2128))","v":0},954,1,1,null,null,1,null,"ZZ00000","00ZZ000",null,{"$f":"ABS(OR(C962=0,AND(MaxInput>1,M962=INDEX(FFilter,AO$5))))","v":1},{"$f":"ABS(OR(C962=0,AND(MaxInput>1,N962=INDEX(FFilter,AP$5))))","v":1},{"$f":"ABS(OR(C962=0,AND(MaxInput>1,O962=INDEX(FFilter,AQ$5))))","v":1},null,null,null,null,null,null,null,null,null,null,{"$f":"ROW()","v":962}]
[957,"",null,null,null,null,null,null,null,null,null,null,"",{"$f":"IF(C965=0,\"\",INDEX(Objekt_Text,D965+1,2))","v":""},{"$f":"IF(C965=0,\"\",INDEX(Objekt_Text,D965+1,3))","v":""},"","",{"$f":"INDEX(Visum_Liste,F965+1)&\"\"","v":""},"","ZZ",0,0,0,0,0,0,3,"",{"$f":"MIN(IF(W965=$W$9:$W$2128,$E$9:$E$2128))","v":0},{"$f":"MAX(IF(W965=$W$9:$W$2128,$E$9:$E$2128))","v":0},957,1,1,null,null,1,null,"ZZ00000","00ZZ000",null,{"$f":"ABS(OR(C965=0,AND(MaxInput>1,M965=INDEX(FFilter,AO$5))))","v":1},{"$f":"ABS(OR(C965=0,AND(MaxInput>1,N965=INDEX(FFilter,AP$5))))","v":1},{"$f":"ABS(OR(C965=0,AND(MaxInput>1,O965=INDEX(FFilter,AQ$5))))","v":1},null,null,null,null,null,null,null,null,null,null,{"$f":"ROW()","v":965}]
[960,"",null,null,null,null,null,null,null,null,null,null,"",{"$f":"IF(C968=0,\"\",INDEX(Objekt_Text,D968+1,2))","v":""},{"$f":"IF(C968=0,\"\",INDEX(Objekt_Text,D968+1,3))","v":""},"","",{"$f":"INDEX(Visum_Liste,F968+1)&\"\"","v":""},"","ZZ",0,0,0,0,0,0,3,"",{"$f":"MIN(IF(W968=$W$9:$W$2128,$E$9:$E$2128))","v":0},{"$f":"MAX(IF(W968=$W$9:$W$2128,$E$9:$E$2128))","v":0},960,1,1,null,null,1,null,"ZZ00000","00ZZ000",null,{"$f":"ABS(OR(C968=0,AND(MaxInput>1,M968=INDEX(FFilter,AO$5))))","v":1},{"$f":"ABS(OR(C968=0,AND(MaxInput>1,N968=INDEX(FFilter,AP$5))))","v":1},{"$f":"ABS(OR(C968=0,AND(MaxInput>1,O968=INDEX(FFilter,AQ$5))))","v":1},null,null,null,null,null,null,null,null,null,null,{"$f":"ROW()","v":968}]
[961,{"$f":"IF(C969>0,ROW()-8,\"\")","v":""},null,null,null,null,null,null,null,null,null,null,{"$f":"IF(C969=0,\"\",IFERROR(VLOOKUP($C969,SLTabelle,cSLName,FALSE),\"\"))","v":""},{"$f":"IF(C969=0,\"\",INDEX(Objekt_Text,D969+1,2))","v":""},{"$f":"IF(C969=0,\"\",INDEX(Objekt_Text,D969+1,3))","v":""},{"$f":"IF($H969=\"\",\"\",$H969)","v":""},{"$f":"IF($I969=\"\",\"\",$I969)","v":""},{"$f":"INDEX(Visum_Liste,F969+1)&\"\"","v":""},{"$f":"IF($J969=\"\",\"\",$J969)","v":""},{"$f":"IF(M969=\"\",\"ZZ\",M969)","v":"ZZ"},{"$f":"IF(C969>0,COUNTIF($W$9:$W$2128,W969),0)","v":0},{"$f":"SUMIFS($E$9:$E$2128,$W$9:$W$2128,W969)","v":0},{"$f":"C969*100+D969","v":0},{"$f":"AND(C969>0,E969=AD969)*1","v":0},{"$f":"(COUNT(P969:Q969)=2)*1","v":0},{"$f":"F969*10+X969","v":0},{"$f":"IF(X969=0,3,X969*F969)","v":3},{"$f":"IF(OR((C969>0),ROW()<LastRow+8),\"A\",\"\")","v":""},{"$f":"MIN(IF(W969=$W$9:$W$2128,$E$9:$E$2128))","v":0},{"$f":"MAX(IF(W969=$W$9:$W$2128,$E$9:$E$2128))","v":0},961,1,1,null,null,1,null,{"$f":"T969&TEXT(D969,\"00\")&TEXT(E969,\"000\")","v":"ZZ00000"},{"$f":"TEXT(D969,\"00\")&T969&TEXT(E969,\"000\")","v":"00ZZ000"},null,{"$f":"ABS(OR(C969=0,AND(MaxInput>1,M969=INDEX(FFilter,AO$5))))","v":1},{"$f":"ABS(OR(C969=0,AND(MaxInput>1,N969=INDEX(FFilter,AP$5))))","v":1},{"$f":"ABS(OR(C969=0,AND(MaxInput>1,O969=INDEX(FFilter,AQ$5))))","v":1},null,null,null,null,null,null,null,null,null,null,{"$f":"ROW()","v":969}]
[964,"",null,null,null,null,null,null,null,null,null,null,"",{"$f":"IF(C972=0,\"\",INDEX(Objekt_Text,D972+1,2))","v":""},{"$f":"IF(C972=0,\"\",INDEX(Objekt_Text,D972+1,3))","v":""},"","",{"$f":"INDEX(Visum_Liste,F972+1)&\"\"","v":""},"","ZZ",0,0,0,0,0,0,3,"",{"$f":"MIN(IF(W972=$W$9:$W$2128,$E$9:$E$2128))","v":0},{"$f":"MAX(IF(W972=$W$9:$W$2128,$E$9:$E$2128))","v":0},964,1,1,null,null,1,null,"ZZ00000","00ZZ000",null,{"$f":"ABS(OR(C972=0,AND(MaxInput>1,M972=INDEX(FFilter,AO$5))))","v":1},{"$f":"ABS(OR(C972=0,AND(MaxInput>1,N972=INDEX(FFilter,AP$5))))","v":1},{"$f":"ABS(OR(C972=0,AND(MaxInput>1,O972=INDEX(FFilter,AQ$5))))","v":1},null,null,null,null,null,null,null,null,null,null,{"$f":"ROW()","v":972}]
[967,"",null,null,null,null,null,null,null,null,null,null,"",{"$f":"IF(C975=0,\"\",INDEX(Objekt_Text,D975+1,2))","v":""},{"$f":"IF(C975=0,\"\",INDEX(Objekt_Text,D975+1,3))","v":""},"","",{"$f":"INDEX(Visum_Liste,F975+1)&\"\"","v":""},"","ZZ",0,0,0,0,0,0,3,"",{"$f":"MIN(IF(W975=$W$9:$W$2128,$E$9:$E$2128))","v":0},{"$f":"MAX(IF(W975=$W$9:$W$2128,$E$9:$E$2128))","v":0},967,1,1,null,null,1,null,"ZZ00000","00ZZ000",null,{"$f":"ABS(OR(C975=0,AND(MaxInput>1,M975=INDEX(FFilter,AO$5))))","v":1},{"$f":"ABS(OR(C975=0,AND(MaxInput>1,N975=INDEX(FFilter,AP$5))))","v":1},{"$f":"ABS(OR(C975=0,AND(MaxInput>1,O975=INDEX(FFilter,AQ$5))))","v":1},null,null,null,null,null,null,null,null,null,null,{"$f":"ROW()","v":975}]
[971,"",null,null,null,null,null,null,null,null,null,null,"",{"$f":"IF(C979=0,\"\",INDEX(Objekt_Text,D979+1,2))","v":""},{"$f":"IF(C979=0,\"\",INDEX(Objekt_Text,D979+1,3))","v":""},"","",{"$f":"INDEX(Visum_Liste,F979+1)&\"\"","v":""},"","ZZ",0,0,0,0,0,0,3,"",{"$f":"MIN(IF(W979=$W$9:$W$2128,$E$9:$E$2128))","v":0},{"$f":"MAX(IF(W979=$W$9:$W$2128,$E$9:$E$2128))","v":0},971,1,1,null,null,1,null,"ZZ00000","00ZZ000",null,{"$f":"ABS(OR(C979=0,AND(MaxInput>1,M979=INDEX(FFilter,AO$5))))","v":1},{"$f":"ABS(OR(C979=0,AND(MaxInput>1,N979=INDEX(FFilter,AP$5))))","v":1},{"$f":"ABS(OR(C979=0,AND(MaxInput>1,O979=INDEX(FFilter,AQ$5))))","v":1},null,null,null,null,null,null,null,null,null,null,{"$f":"ROW()","v":979}]
[974,"",null,null,null,null,null,null,null,null,null,null,"",{"$f":"IF(C982=0,\"\",INDEX(Objekt_Text,D982+1,2))","v":""},{"$f":"IF(C982=0,\"\",INDEX(Objekt_Text,D982+1,3))","v":""},"","",{"$f":"INDEX(Visum_Liste,F982+1)&\"\"","v":""},"","ZZ",0,0,0,0,0,0,3,"",{"$f":"MIN(IF(W982=$W$9:$W$2128,$E$9:$E$2128))","v":0},{"$f":"MAX(IF(W982=$W$9:$W$2128,$E$9:$E$2128))","v":0},974,1,1,null,null,1,null,"ZZ00000","00ZZ000",null,{"$f":"ABS(OR(C982=0,AND(MaxInput>1,M982=INDEX(FFilter,AO$5))))","v":1},{"$f":"ABS(OR(C982=0,AND(MaxInput>1,N982=INDEX(FFilter,AP$5))))","v":1},{"$f":"ABS(OR(C982=0,AND(MaxInput>1,O982=INDEX(FFilter,AQ$5))))","v":1},null,null,null,null,null,null,null,null,null,null,{"$f":"ROW()","v":982}]
[978,"",null,null,null,null,null,null,null,null,null,null,"",{"$f":"IF(C986=0,\"\",INDEX(Objekt_Text,D986+1,2))","v":""},{"$f":"IF(C986=0,\"\",INDEX(Objekt_Text,D986+1,3))","v":""},"","",{"$f":"INDEX(Visum_Liste,F986+1)&\"\"","v":""},"","ZZ",0,0,0,0,0,0,3,"",{"$f":"MIN(IF(W986=$W$9:$W$2128,$E$9:$E$2128))","v":0},{"$f":"MAX(IF(W986=$W$9:$W$2128,$E$9:$E$2128))","v":0},978,1,1,null,null,1,null,"ZZ00000","00ZZ000",null,{"$f":"ABS(OR(C986=0,AND(MaxInput>1,M986=INDEX(FFilter,AO$5))))","v":1},{"$f":"ABS(OR(C986=0,AND(MaxInput>1,N986=INDEX(FFilter,AP$5))))","v":1},{"$f":"ABS(OR(C986=0,AND(MaxInput>1,O986=INDEX(FFilter,AQ$5))))","v":1},null,null,null,null,null,null,null,null,null,null,{"$f":"ROW()","v":986}]
[981,"",null,null,null,null,null,null,null,null,null,null,"",{"$f":"IF(C989=0,\"\",INDEX(Objekt_Text,D989+1,2))","v":""},{"$f":"IF(C989=0,\"\",INDEX(Objekt_Text,D989+1,3))","v":""},"","",{"$f":"INDEX(Visum_Liste,F989+1)&\"\"","v":""},"","ZZ",0,0,0,0,0,0,3,"",{"$f":"MIN(IF(W989=$W$9:$W$2128,$E$9:$E$2128))","v":0},{"$f":"MAX(IF(W989=$W$9:$W$2128,$E$9:$E$2128))","v":0},981,1,1,null,null,1,null,"ZZ00000","00ZZ000",null,{"$f":"ABS(OR(C989=0,AND(MaxInput>1,M989=INDEX(FFilter,AO$5))))","v":1},{"$f":"ABS(OR(C989=0,AND(MaxInput>1,N989=INDEX(FFilter,AP$5))))","v":1},{"$f":"ABS(OR(C989=0,AND(MaxInput>1,O989=INDEX(FFilter,AQ$5))))","v":1},null,null,null,null,null,null,null,null,null,null,{"$f":"ROW()","v":989}]
[984,"",null,null,null,null,null,null,null,null,null,null,"",{"$f":"IF(C992=0,\"\",INDEX(Objekt_Text,D992+1,2))","v":""},{"$f":"IF(C992=0,\"\",INDEX(Objekt_Text,D992+1,3))","v":""},"","",{"$f":"INDEX(Visum_Liste,F992+1)&\"\"","v":""},"","ZZ",0,0,0,0,0,0,3,"",{"$f":"MIN(IF(W992=$W$9:$W$2128,$E$9:$E$2128))","v":0},{"$f":"MAX(IF(W992=$W$9:$W$2128,$E$9:$E$2128))","v":0},984,1,1,null,null,1,null,"ZZ00000","00ZZ000",null,{"$f":"ABS(OR(C992=0,AND(MaxInput>1,M992=INDEX(FFilter,AO$5))))","v":1},{"$f":"ABS(OR(C992=0,AND(MaxInput>1,N992=INDEX(FFilter,AP$5))))","v":1},{"$f":"ABS(OR(C992=0,AND(MaxInput>1,O992=INDEX(FFilter,AQ$5))))","v":1},null,null,null,null,null,null,null,null,null,null,{"$f":"ROW()","v":992}]
[985,"",null,null,null,null,null,null,null,null,null,null,"",{"$f":"IF(C993=0,\"\",INDEX(Objekt_Text,D993+1,2))","v":""},{"$f":"IF(C993=0,\"\",INDEX(Objekt_Text,D993+1,3))","v":""},"","",{"$f":"INDEX(Visum_Liste,F993+1)&\"\"","v":""},"","ZZ",0,0,0,0,0,0,3,"",{"$f":"MIN(IF(W993=$W$9:$W$2128,$E$9:$E$2128))","v":0},{"$f":"MAX(IF(W993=$W$9:$W$2128,$E$9:$E$2128))","v":0},985,1,1,null,null,1,null,"ZZ00000","00ZZ000",null,{"$f":"ABS(OR(C993=0,AND(MaxInput>1,M993=INDEX(FFilter,AO$5))))","v":1},{"$f":"ABS(OR(C993=0,AND(MaxInput>1,N993=INDEX(FFilter,AP$5))))","v":1},{"$f":"ABS(OR(C993=0,AND(MaxInput>1,O993=INDEX(FFilter,AQ$5))))","v":1},null,null,null,null,null,null,null,null,null,null,{"$f":"ROW()","v":993}]
[988,"",null,null,null,null,null,null,null,null,null,null,"",{"$f":"IF(C996=0,\"\",INDEX(Objekt_Text,D996+1,2))","v":""},{"$f":"IF(C996=0,\"\",INDEX(Objekt_Text,D996+1,3))","v":""},"","",{"$f":"INDEX(Visum_Liste,F996+1)&\"\"","v":""},"","ZZ",0,0,0,0,0,0,3,"",{"$f":"MIN(IF(W996=$W$9:$W$2128,$E$9:$E$2128))","v":0},{"$f":"MAX(IF(W996=$W$9:$W$2128,$E$9:$E$2128))","v":0},988,1,1,null,null,1,null,"ZZ00000","00ZZ000",null,{"$f":"ABS(OR(C996=0,AND(MaxInput>1,M996=INDEX(FFilter,AO$5))))","v":1},{"$f":"ABS(OR(C996=0,AND(MaxInput>1,N996=INDEX(FFilter,AP$5))))","v":1},{"$f":"ABS(OR(C996=0,AND(MaxInput>1,O996=INDEX(FFilter,AQ$5))))","v":1},null,null,null,null,null,null,null,null,null,null,{"$f":"ROW()","v":996}]
[992,"",null,null,null,null,null,null,null,null,null,null,"",{"$f":"IF(C1000=0,\"\",INDEX(Objekt_Text,D1000+1,2))","v":""},{"$f":"IF(C1000=0,\"\",INDEX(Objekt_Text,D1000+1,3))","v":""},"","",{"$f":"INDEX(Visum_Liste,F1000+1)&\"\"","v":""},"","ZZ",0,0,0,0,0,0,3,"",{"$f":"MIN(IF(W1000=$W$9:$W$2128,$E$9:$E$2128))","v":0},{"$f":"MAX(IF(W1000=$W$9:$W$2128,$E$9:$E$2128))","v":0},992,1,1,null,null,1,null,"ZZ00000","00ZZ000",null,{"$f":"ABS(OR(C1000=0,AND(MaxInput>1,M1000=INDEX(FFilter,AO$5))))","v":1},{"$f":"ABS(OR(C1000=0,AND(MaxInput>1,N1000=INDEX(FFilter,AP$5))))","v":1},{"$f":"ABS(OR(C1000=0,AND(MaxInput>1,O1000=INDEX(FFilter,AQ$5))))","v":1},null,null,null,null,null,null,null,null,null,null,{"$f":"ROW()","v":1000}]
[995,"",null,null,null,null,null,null,null,null,null,null,"",{"$f":"IF(C1003=0,\"\",INDEX(Objekt_Text,D1003+1,2))","v":""},{"$f":"IF(C1003=0,\"\",INDEX(Objekt_Text,D1003+1,3))","v":""},"","",{"$f":"INDEX(Visum_Liste,F1003+1)&\"\"","v":""},"","ZZ",0,0,0,0,0,0,3,"",{"$f":"MIN(IF(W1003=$W$9:$W$2128,$E$9:$E$2128))","v":0},{"$f":"MAX(IF(W1003=$W$9:$W$2128,$E$9:$E$2128))","v":0},995,1,1,null,null,1,null,"ZZ00000","00ZZ000",null,{"$f":"ABS(OR(C1003=0,AND(MaxInput>1,M1003=INDEX(FFilter,AO$5))))","v":1},{"$f":"ABS(OR(C1003=0,AND(MaxInput>1,N1003=INDEX(FFilter,AP$5))))","v":1},{"$f":"ABS(OR(C1003=0,AND(MaxInput>1,O1003=INDEX(FFilter,AQ$5))))","v":1},null,null,null,null,null,null,null,null,null,null,{"$f":"ROW()","v":1003}]
[998,"",null,null,null,null,null,null,null,null,null,null,"",{"$f":"IF(C1006=0,\"\",INDEX(Objekt_Text,D1006+1,2))","v":""},{"$f":"IF(C1006=0,\"\",INDEX(Objekt_Text,D1006+1,3))","v":""},"","",{"$f":"INDEX(Visum_Liste,F1006+1)&\"\"","v":""},"","ZZ",0,0,0,0,0,0,3,"",{"$f":"MIN(IF(W1006=$W$9:$W$2128,$E$9:$E$2128))","v":0},{"$f":"MAX(IF(W1006=$W$9:$W$2128,$E$9:$E$2128))","v":0},998,1,1,null,null,1,null,"ZZ00000","00ZZ000",null,{"$f":"ABS(OR(C1006=0,AND(MaxInput>1,M1006=INDEX(FFilter,AO$5))))","v":1},{"$f":"ABS(OR(C1006=0,AND(MaxInput>1,N1006=INDEX(FFilter,AP$5))))","v":1},{"$f":"ABS(OR(C1006=0,AND(MaxInput>1,O1006=INDEX(FFilter,AQ$5))))","v":1},null,null,null,null,null,null,null,null,null,null,{"$f":"ROW()","v":1006}]
[1002,"",null,null,null,null,null,null,null,null,null,null,"",{"$f":"IF(C1010=0,\"\",INDEX(Objekt_Text,D1010+1,2))","v":""},{"$f":"IF(C1010=0,\"\",INDEX(Objekt_Text,D1010+1,3))","v":""},"","",{"$f":"INDEX(Visum_Liste,F1010+1)&\"\"","v":""},"","ZZ",0,0,0,0,0,0,3,"",{"$f":"MIN(IF(W1010=$W$9:$W$2128,$E$9:$E$2128))","v":0},{"$f":"MAX(IF(W1010=$W$9:$W$2128,$E$9:$E$2128))","v":0},1002,1,1,null,null,1,null,"ZZ00000","00ZZ000",null,{"$f":"ABS(OR(C1010=0,AND(MaxInput>1,M1010=INDEX(FFilter,AO$5))))","v":1},{"$f":"ABS(OR(C1010=0,AND(MaxInput>1,N1010=INDEX(FFilter,AP$5))))","v":1},{"$f":"ABS(OR(C1010=0,AND(MaxInput>1,O1010=INDEX(FFilter,AQ$5))))","v":1},null,null,null,null,null,null,null,null,null,null,{"$f":"ROW()","v":1010}]
[1005,"",null,null,null,null,null,null,null,null,null,null,"",{"$f":"IF(C1013=0,\"\",INDEX(Objekt_Text,D1013+1,2))","v":""},{"$f":"IF(C1013=0,\"\",INDEX(Objekt_Text,D1013+1,3))","v":""},"","",{"$f":"INDEX(Visum_Liste,F1013+1)&\"\"","v":""},"","ZZ",0,0,0,0,0,0,3,"",{"$f":"MIN(IF(W1013=$W$9:$W$2128,$E$9:$E$2128))","v":0},{"$f":"MAX(IF(W1013=$W$9:$W$2128,$E$9:$E$2128))","v":0},1005,1,1,null,null,1,null,"ZZ00000","00ZZ000",null,{"$f":"ABS(OR(C1013=0,AND(MaxInput>1,M1013=INDEX(FFilter,AO$5))))","v":1},{"$f":"ABS(OR(C1013=0,AND(MaxInput>1,N1013=INDEX(FFilter,AP$5))))","v":1},{"$f":"ABS(OR(C1013=0,AND(MaxInput>1,O1013=INDEX(FFilter,AQ$5))))","v":1},null,null,null,null,null,null,null,null,null,null,{"$f":"ROW()","v":1013}]
[1008,"",null,null,null,null,null,null,null,null,null,null,"",{"$f":"IF(C1016=0,\"\",INDEX(Objekt_Text,D1016+1,2))","v":""},{"$f":"IF(C1016=0,\"\",INDEX(Objekt_Text,D1016+1,3))","v":""},"","",{"$f":"INDEX(Visum_Liste,F1016+1)&\"\"","v":""},"","ZZ",0,0,0,0,0,0,3,"",{"$f":"MIN(IF(W1016=$W$9:$W$2128,$E$9:$E$2128))","v":0},{"$f":"MAX(IF(W1016=$W$9:$W$2128,$E$9:$E$2128))","v":0},1008,1,1,null,null,1,null,"ZZ00000","00ZZ000",null,{"$f":"ABS(OR(C1016=0,AND(MaxInput>1,M1016=INDEX(FFilter,AO$5))))","v":1},{"$f":"ABS(OR(C1016=0,AND(MaxInput>1,N1016=INDEX(FFilter,AP$5))))","v":1},{"$f":"ABS(OR(C1016=0,AND(MaxInput>1,O1016=INDEX(FFilter,AQ$5))))","v":1},null,null,null,null,null,null,null,null,null,null,{"$f":"ROW()","v":1016}]
[1009,"",null,null,null,null,null,null,null,null,null,null,"",{"$f":"IF(C1017=0,\"\",INDEX(Objekt_Text,D1017+1,2))","v":""},{"$f":"IF(C1017=0,\"\",INDEX(Objekt_Text,D1017+1,3))","v":""},"","",{"$f":"INDEX(Visum_Liste,F1017+1)&\"\"","v":""},"","ZZ",0,0,0,0,0,0,3,"",{"$f":"MIN(IF(W1017=$W$9:$W$2128,$E$9:$E$2128))","v":0},{"$f":"MAX(IF(W1017=$W$9:$W$2128,$E$9:$E$2128))","v":0},1009,1,1,null,null,1,null,"ZZ00000","00ZZ000",null,{"$f":"ABS(OR(C1017=0,AND(MaxInput>1,M1017=INDEX(FFilter,AO$5))))","v":1},{"$f":"ABS(OR(C1017=0,AND(MaxInput>1,N1017=INDEX(FFilter,AP$5))))","v":1},{"$f":"ABS(OR(C1017=0,AND(MaxInput>1,O1017=INDEX(FFilter,AQ$5))))","v":1},null,null,null,null,null,null,null,null,null,null,{"$f":"ROW()","v":1017}]
[1012,"",null,null,null,null,null,null,null,null,null,null,"",{"$f":"IF(C1020=0,\"\",INDEX(Objekt_Text,D1020+1,2))","v":""},{"$f":"IF(C1020=0,\"\",INDEX(Objekt_Text,D1020+1,3))","v":""},"","",{"$f":"INDEX(Visum_Liste,F1020+1)&\"\"","v":""},"","ZZ",0,0,0,0,0,0,3,"",{"$f":"MIN(IF(W1020=$W$9:$W$2128,$E$9:$E$2128))","v":0},{"$f":"MAX(IF(W1020=$W$9:$W$2128,$E$9:$E$2128))","v":0},1012,1,1,null,null,1,null,"ZZ00000","00ZZ000",null,{"$f":"ABS(OR(C1020=0,AND(MaxInput>1,M1020=INDEX(FFilter,AO$5))))","v":1},{"$f":"ABS(OR(C1020=0,AND(MaxInput>1,N1020=INDEX(FFilter,AP$5))))","v":1},{"$f":"ABS(OR(C1020=0,AND(MaxInput>1,O1020=INDEX(FFilter,AQ$5))))","v":1},null,null,null,null,null,null,null,null,null,null,{"$f":"ROW()","v":1020}]
[1016,"",null,null,null,null,null,null,null,null,null,null,"",{"$f":"IF(C1024=0,\"\",INDEX(Objekt_Text,D1024+1,2))","v":""},{"$f":"IF(C1024=0,\"\",INDEX(Objekt_Text,D1024+1,3))","v":""},"","",{"$f":"INDEX(Visum_Liste,F1024+1)&\"\"","v":""},"","ZZ",0,0,0,0,0,0,3,"",{"$f":"MIN(IF(W1024=$W$9:$W$2128,$E$9:$E$2128))","v":0},{"$f":"MAX(IF(W1024=$W$9:$W$2128,$E$9:$E$2128))","v":0},1016,1,1,null,null,1,null,"ZZ00000","00ZZ000",null,{"$f":"ABS(OR(C1024=0,AND(MaxInput>1,M1024=INDEX(FFilter,AO$5))))","v":1},{"$f":"ABS(OR(C1024=0,AND(MaxInput>1,N1024=INDEX(FFilter,AP$5))))","v":1},{"$f":"ABS(OR(C1024=0,AND(MaxInput>1,O1024=INDEX(FFilter,AQ$5))))","v":1},null,null,null,null,null,null,null,null,null,null,{"$f":"ROW()","v":1024}]
[1019,"",null,null,null,null,null,null,null,null,null,null,"",{"$f":"IF(C1027=0,\"\",INDEX(Objekt_Text,D1027+1,2))","v":""},{"$f":"IF(C1027=0,\"\",INDEX(Objekt_Text,D1027+1,3))","v":""},"","",{"$f":"INDEX(Visum_Liste,F1027+1)&\"\"","v":""},"","ZZ",0,0,0,0,0,0,3,"",{"$f":"MIN(IF(W1027=$W$9:$W$2128,$E$9:$E$2128))","v":0},{"$f":"MAX(IF(W1027=$W$9:$W$2128,$E$9:$E$2128))","v":0},1019,1,1,null,null,1,null,"ZZ00000","00ZZ000",null,{"$f":"ABS(OR(C1027=0,AND(MaxInput>1,M1027=INDEX(FFilter,AO$5))))","v":1},{"$f":"ABS(OR(C1027=0,AND(MaxInput>1,N1027=INDEX(FFilter,AP$5))))","v":1},{"$f":"ABS(OR(C1027=0,AND(MaxInput>1,O1027=INDEX(FFilter,AQ$5))))","v":1},null,null,null,null,null,null,null,null,null,null,{"$f":"ROW()","v":1027}]
[1022,"",null,null,null,null,null,null,null,null,null,null,"",{"$f":"IF(C1030=0,\"\",INDEX(Objekt_Text,D1030+1,2))","v":""},{"$f":"IF(C1030=0,\"\",INDEX(Objekt_Text,D1030+1,3))","v":""},"","",{"$f":"INDEX(Visum_Liste,F1030+1)&\"\"","v":""},"","ZZ",0,0,0,0,0,0,3,"",{"$f":"MIN(IF(W1030=$W$9:$W$2128,$E$9:$E$2128))","v":0},{"$f":"MAX(IF(W1030=$W$9:$W$2128,$E$9:$E$2128))","v":0},1022,1,1,null,null,1,null,"ZZ00000","00ZZ000",null,{"$f":"ABS(OR(C1030=0,AND(MaxInput>1,M1030=INDEX(FFilter,AO$5))))","v":1},{"$f":"ABS(OR(C1030=0,AND(MaxInput>1,N1030=INDEX(FFilter,AP$5))))","v":1},{"$f":"ABS(OR(C1030=0,AND(MaxInput>1,O1030=INDEX(FFilter,AQ$5))))","v":1},null,null,null,null,null,null,null,null,null,null,{"$f":"ROW()","v":1030}]
[1026,"",null,null,null,null,null,null,null,null,null,null,"",{"$f":"IF(C1034=0,\"\",INDEX(Objekt_Text,D1034+1,2))","v":""},{"$f":"IF(C1034=0,\"\",INDEX(Objekt_Text,D1034+1,3))","v":""},"","",{"$f":"INDEX(Visum_Liste,F1034+1)&\"\"","v":""},"","ZZ",0,0,0,0,0,0,3,"",{"$f":"MIN(IF(W1034=$W$9:$W$2128,$E$9:$E$2128))","v":0},{"$f":"MAX(IF(W1034=$W$9:$W$2128,$E$9:$E$2128))","v":0},1026,1,1,null,null,{"$f":"OR(L1034<=L1033,B1034=\"\")*1","v":1},null,"ZZ00000","00ZZ000",null,{"$f":"ABS(OR(C1034=0,AND(MaxInput>1,M1034=INDEX(FFilter,AO$5))))","v":1},{"$f":"ABS(OR(C1034=0,AND(MaxInput>1,N1034=INDEX(FFilter,AP$5))))","v":1},{"$f":"ABS(OR(C1034=0,AND(MaxInput>1,O1034=INDEX(FFilter,AQ$5))))","v":1},null,null,null,null,null,null,null,null,null,null,{"$f":"ROW()","v":1034}]
[1029,"",null,null,null,null,null,null,null,null,null,null,"",{"$f":"IF(C1037=0,\"\",INDEX(Objekt_Text,D1037+1,2))","v":""},{"$f":"IF(C1037=0,\"\",INDEX(Objekt_Text,D1037+1,3))","v":""},"","",{"$f":"INDEX(Visum_Liste,F1037+1)&\"\"","v":""},"","ZZ",0,0,0,0,0,0,3,"",{"$f":"MIN(IF(W1037=$W$9:$W$2128,$E$9:$E$2128))","v":0},{"$f":"MAX(IF(W1037=$W$9:$W$2128,$E$9:$E$2128))","v":0},1029,{"$f":"OR(AL1037>=AL1036,B1037=\"\")*1","v":1},{"$f":"OR(AM1037>=AM1036,B1037=\"\")*1","v":1},null,null,1,null,"ZZ00000","00ZZ000",null,{"$f":"ABS(OR(C1037=0,AND(MaxInput>1,M1037=INDEX(FFilter,AO$5))))","v":1},{"$f":"ABS(OR(C1037=0,AND(MaxInput>1,N1037=INDEX(FFilter,AP$5))))","v":1},{"$f":"ABS(OR(C1037=0,AND(MaxInput>1,O1037=INDEX(FFilter,AQ$5))))","v":1},null,null,null,null,null,null,null,null,null,null,{"$f":"ROW()","v":1037}]
[1032,"",null,null,null,null,null,null,null,null,null,null,"",{"$f":"IF(C1040=0,\"\",INDEX(Objekt_Text,D1040+1,2))","v":""},{"$f":"IF(C1040=0,\"\",INDEX(Objekt_Text,D1040+1,3))","v":""},"","",{"$f":"INDEX(Visum_Liste,F1040+1)&\"\"","v":""},"","ZZ",0,0,0,0,0,0,3,"",{"$f":"MIN(IF(W1040=$W$9:$W$2128,$E$9:$E$2128))","v":0},{"$f":"MAX(IF(W1040=$W$9:$W$2128,$E$9:$E$2128))","v":0},1032,1,1,null,null,1,null,"ZZ00000","00ZZ000",null,{"$f":"ABS(OR(C1040=0,AND(MaxInput>1,M1040=INDEX(FFilter,AO$5))))","v":1},{"$f":"ABS(OR(C1040=0,AND(MaxInput>1,N1040=INDEX(FFilter,AP$5))))","v":1},{"$f":"ABS(OR(C1040=0,AND(MaxInput>1,O1040=INDEX(FFilter,AQ$5))))","v":1},null,null,null,null,null,null,null,null,null,null,{"$f":"ROW()","v":1040}]
[1033,"",null,null,null,null,null,null,null,null,null,null,"",{"$f":"IF(C1041=0,\"\",INDEX(Objekt_Text,D1041+1,2))","v":""},{"$f":"IF(C1041=0,\"\",INDEX(Objekt_Text,D1041+1,3))","v":""},"","",{"$f":"INDEX(Visum_Liste,F1041+1)&\"\"","v":""},"","ZZ",0,0,0,0,0,0,3,"",{"$f":"MIN(IF(W1041=$W$9:$W$2128,$E$9:$E$2128))","v":0},{"$f":"MAX(IF(W1041=$W$9:$W$2128,$E$9:$E$2128))","v":0},1033,1,1,null,null,1,null,"ZZ00000","00ZZ000",null,{"$f":"ABS(OR(C1041=0,AND(MaxInput>1,M1041=INDEX(FFilter,AO$5))))","v":1},{"$f":"ABS(OR(C1041=0,AND(MaxInput>1,N1041=INDEX(FFilter,AP$5))))","v":1},{"$f":"ABS(OR(C1041=0,AND(MaxInput>1,O1041=INDEX(FFilter,AQ$5))))","v":1},null,null,null,null,null,null,null,null,null,null,{"$f":"ROW()","v":1041}]
[1036,"",null,null,null,null,null,null,null,null,null,null,"",{"$f":"IF(C1044=0,\"\",INDEX(Objekt_Text,D1044+1,2))","v":""},{"$f":"IF(C1044=0,\"\",INDEX(Objekt_Text,D1044+1,3))","v":""},"","",{"$f":"INDEX(Visum_Liste,F1044+1)&\"\"","v":""},"","ZZ",0,0,0,0,0,0,3,"",{"$f":"MIN(IF(W1044=$W$9:$W$2128,$E$9:$E$2128))","v":0},{"$f":"MAX(IF(W1044=$W$9:$W$2128,$E$9:$E$2128))","v":0},1036,1,1,null,null,1,null,"ZZ00000","00ZZ000",null,{"$f":"ABS(OR(C1044=0,AND(MaxInput>1,M1044=INDEX(FFilter,AO$5))))","v":1},{"$f":"ABS(OR(C1044=0,AND(MaxInput>1,N1044=INDEX(FFilter,AP$5))))","v":1},{"$f":"ABS(OR(C1044=0,AND(MaxInput>1,O1044=INDEX(FFilter,AQ$5))))","v":1},null,null,null,null,null,null,null,null,null,null,{"$f":"ROW()","v":1044}]
[1040,"",null,null,null,null,null,null,null,null,null,null,"",{"$f":"IF(C1048=0,\"\",INDEX(Objekt_Text,D1048+1,2))","v":""},{"$f":"IF(C1048=0,\"\",INDEX(Objekt_Text,D1048+1,3))","v":""},"","",{"$f":"INDEX(Visum_Liste,F1048+1)&\"\"","v":""},"","ZZ",0,0,0,0,0,0,3,"",{"$f":"MIN(IF(W1048=$W$9:$W$2128,$E$9:$E$2128))","v":0},{"$f":"MAX(IF(W1048=$W$9:$W$2128,$E$9:$E$2128))","v":0},1040,1,1,null,null,1,null,"ZZ00000","00ZZ000",null,{"$f":"ABS(OR(C1048=0,AND(MaxInput>1,M1048=INDEX(FFilter,AO$5))))","v":1},{"$f":"ABS(OR(C1048=0,AND(MaxInput>1,N1048=INDEX(FFilter,AP$5))))","v":1},{"$f":"ABS(OR(C1048=0,AND(MaxInput>1,O1048=INDEX(FFilter,AQ$5))))","v":1},null,null,null,null,null,null,null,null,null,null,{"$f":"ROW()","v":1048}]
[1043,"",null,null,null,null,null,null,null,null,null,null,"",{"$f":"IF(C1051=0,\"\",INDEX(Objekt_Text,D1051+1,2))","v":""},{"$f":"IF(C1051=0,\"\",INDEX(Objekt_Text,D1051+1,3))","v":""},"","",{"$f":"INDEX(Visum_Liste,F1051+1)&\"\"","v":""},"","ZZ",0,0,0,0,0,0,3,"",{"$f":"MIN(IF(W1051=$W$9:$W$2128,$E$9:$E$2128))","v":0},{"$f":"MAX(IF(W1051=$W$9:$W$2128,$E$9:$E$2128))","v":0},1043,1,1,null,null,1,null,"ZZ00000","00ZZ000",null,{"$f":"ABS(OR(C1051=0,AND(MaxInput>1,M1051=INDEX(FFilter,AO$5))))","v":1},{"$f":"ABS(OR(C1051=0,AND(MaxInput>1,N1051=INDEX(FFilter,AP$5))))","v":1},{"$f":"ABS(OR(C1051=0,AND(MaxInput>1,O1051=INDEX(FFilter,AQ$5))))","v":1},null,null,null,null,null,null,null,null,null,null,{"$f":"ROW()","v":1051}]
[1046,"",null,null,null,null,null,null,null,null,null,null,"",{"$f":"IF(C1054=0,\"\",INDEX(Objekt_Text,D1054+1,2))","v":""},{"$f":"IF(C1054=0,\"\",INDEX(Objekt_Text,D1054+1,3))","v":""},"","",{"$f":"INDEX(Visum_Liste,F1054+1)&\"\"","v":""},"","ZZ",0,0,0,0,0,0,3,"",{"$f":"MIN(IF(W1054=$W$9:$W$2128,$E$9:$E$2128))","v":0},{"$f":"MAX(IF(W1054=$W$9:$W$2128,$E$9:$E$2128))","v":0},1046,1,1,null,null,1,null,"ZZ00000","00ZZ000",null,{"$f":"ABS(OR(C1054=0,AND(MaxInput>1,M1054=INDEX(FFilter,AO$5))))","v":1},{"$f":"ABS(OR(C1054=0,AND(MaxInput>1,N1054=INDEX(FFilter,AP$5))))","v":1},{"$f":"ABS(OR(C1054=0,AND(MaxInput>1,O1054=INDEX(FFilter,AQ$5))))","v":1},null,null,null,null,null,null,null,null,null,null,{"$f":"ROW()","v":1054}]
[1050,"",null,null,null,null,null,null,null,null,null,null,"",{"$f":"IF(C1058=0,\"\",INDEX(Objekt_Text,D1058+1,2))","v":""},{"$f":"IF(C1058=0,\"\",INDEX(Objekt_Text,D1058+1,3))","v":""},"","",{"$f":"INDEX(Visum_Liste,F1058+1)&\"\"","v":""},"","ZZ",0,0,0,0,0,0,3,"",{"$f":"MIN(IF(W1058=$W$9:$W$2128,$E$9:$E$2128))","v":0},{"$f":"MAX(IF(W1058=$W$9:$W$2128,$E$9:$E$2128))","v":0},1050,1,1,null,null,1,null,"ZZ00000","00ZZ000",null,{"$f":"ABS(OR(C1058=0,AND(MaxInput>1,M1058=INDEX(FFilter,AO$5))))","v":1},{"$f":"ABS(OR(C1058=0,AND(MaxInput>1,N1058=INDEX(FFilter,AP$5))))","v":1},{"$f":"ABS(OR(C1058=0,AND(MaxInput>1,O1058=INDEX(FFilter,AQ$5))))","v":1},null,null,null,null,null,null,null,null,null,null,{"$f":"ROW()","v":1058}]
[1053,"",null,null,null,null,null,null,null,null,null,null,"",{"$f":"IF(C1061=0,\"\",INDEX(Objekt_Text,D1061+1,2))","v":""},{"$f":"IF(C1061=0,\"\",INDEX(Objekt_Text,D1061+1,3))","v":""},"","",{"$f":"INDEX(Visum_Liste,F1061+1)&\"\"","v":""},"","ZZ",0,0,0,0,0,0,3,"",{"$f":"MIN(IF(W1061=$W$9:$W$2128,$E$9:$E$2128))","v":0},{"$f":"MAX(IF(W1061=$W$9:$W$2128,$E$9:$E$2128))","v":0},1053,1,1,null,null,1,null,"ZZ00000","00ZZ000",null,{"$f":"ABS(OR(C1061=0,AND(MaxInput>1,M1061=INDEX(FFilter,AO$5))))","v":1},{"$f":"ABS(OR(C1061=0,AND(MaxInput>1,N1061=INDEX(FFilter,AP$5))))","v":1},{"$f":"ABS(OR(C1061=0,AND(MaxInput>1,O1061=INDEX(FFilter,AQ$5))))","v":1},null,null,null,null,null,null,null,null,null,null,{"$f":"ROW()","v":1061}]
[1054,"",null,null,null,null,null,null,null,null,null,null,"",{"$f":"IF(C1062=0,\"\",INDEX(Objekt_Text,D1062+1,2))","v":""},{"$f":"IF(C1062=0,\"\",INDEX(Objekt_Text,D1062+1,3))","v":""},"","",{"$f":"INDEX(Visum_Liste,F1062+1)&\"\"","v":""},"","ZZ",0,0,0,0,0,0,3,"",{"$f":"MIN(IF(W1062=$W$9:$W$2128,$E$9:$E$2128))","v":0},{"$f":"MAX(IF(W1062=$W$9:$W$2128,$E$9:$E$2128))","v":0},1054,1,1,null,null,1,null,"ZZ00000","00ZZ000",null,{"$f":"ABS(OR(C1062=0,AND(MaxInput>1,M1062=INDEX(FFilter,AO$5))))","v":1},{"$f":"ABS(OR(C1062=0,AND(MaxInput>1,N1062=INDEX(FFilter,AP$5))))","v":1},{"$f":"ABS(OR(C1062=0,AND(MaxInput>1,O1062=INDEX(FFilter,AQ$5))))","v":1},null,null,null,null,null,null,null,null,null,null,{"$f":"ROW()","v":1062}]
[1057,"",null,null,null,null,null,null,null,null,null,null,"",{"$f":"IF(C1065=0,\"\",INDEX(Objekt_Text,D1065+1,2))","v":""},{"$f":"IF(C1065=0,\"\",INDEX(Objekt_Text,D1065+1,3))","v":""},"","",{"$f":"INDEX(Visum_Liste,F1065+1)&\"\"","v":""},"","ZZ",0,0,0,0,0,0,3,"",{"$f":"MIN(IF(W1065=$W$9:$W$2128,$E$9:$E$2128))","v":0},{"$f":"MAX(IF(W1065=$W$9:$W$2128,$E$9:$E$2128))","v":0},1057,1,1,null,null,1,null,"ZZ00000","00ZZ000",null,{"$f":"ABS(OR(C1065=0,AND(MaxInput>1,M1065=INDEX(FFilter,AO$5))))","v":1},{"$f":"ABS(OR(C1065=0,AND(MaxInput>1,N1065=INDEX(FFilter,AP$5))))","v":1},{"$f":"ABS(OR(C1065=0,AND(MaxInput>1,O1065=INDEX(FFilter,AQ$5))))","v":1},null,null,null,null,null,null,null,null,null,null,{"$f":"ROW()","v":1065}]
[1060,"",null,null,null,null,null,null,null,null,null,null,"",{"$f":"IF(C1068=0,\"\",INDEX(Objekt_Text,D1068+1,2))","v":""},{"$f":"IF(C1068=0,\"\",INDEX(Objekt_Text,D1068+1,3))","v":""},"","",{"$f":"INDEX(Visum_Liste,F1068+1)&\"\"","v":""},"","ZZ",0,0,0,0,0,0,3,"",{"$f":"MIN(IF(W1068=$W$9:$W$2128,$E$9:$E$2128))","v":0},{"$f":"MAX(IF(W1068=$W$9:$W$2128,$E$9:$E$2128))","v":0},1060,1,1,null,null,1,null,"ZZ00000","00ZZ000",null,{"$f":"ABS(OR(C1068=0,AND(MaxInput>1,M1068=INDEX(FFilter,AO$5))))","v":1},{"$f":"ABS(OR(C1068=0,AND(MaxInput>1,N1068=INDEX(FFilter,AP$5))))","v":1},{"$f":"ABS(OR(C1068=0,AND(MaxInput>1,O1068=INDEX(FFilter,AQ$5))))","v":1},null,null,null,null,null,null,null,null,null,null,{"$f":"ROW()","v":1068}]
[1064,"",null,null,null,null,null,null,null,null,null,null,"",{"$f":"IF(C1072=0,\"\",INDEX(Objekt_Text,D1072+1,2))","v":""},{"$f":"IF(C1072=0,\"\",INDEX(Objekt_Text,D1072+1,3))","v":""},"","",{"$f":"INDEX(Visum_Liste,F1072+1)&\"\"","v":""},"","ZZ",0,0,0,0,0,0,3,"",{"$f":"MIN(IF(W1072=$W$9:$W$2128,$E$9:$E$2128))","v":0},{"$f":"MAX(IF(W1072=$W$9:$W$2128,$E$9:$E$2128))","v":0},1064,1,1,null,null,1,null,"ZZ00000","00ZZ000",null,{"$f":"ABS(OR(C1072=0,AND(MaxInput>1,M1072=INDEX(FFilter,AO$5))))","v":1},{"$f":"ABS(OR(C1072=0,AND(MaxInput>1,N1072=INDEX(FFilter,AP$5))))","v":1},{"$f":"ABS(OR(C1072=0,AND(MaxInput>1,O1072=INDEX(FFilter,AQ$5))))","v":1},null,null,null,null,null,null,null,null,null,null,{"$f":"ROW()","v":1072}]
[1067,"",null,null,null,null,null,null,null,null,null,null,"",{"$f":"IF(C1075=0,\"\",INDEX(Objekt_Text,D1075+1,2))","v":""},{"$f":"IF(C1075=0,\"\",INDEX(Objekt_Text,D1075+1,3))","v":""},"","",{"$f":"INDEX(Visum_Liste,F1075+1)&\"\"","v":""},"","ZZ",0,0,0,0,0,0,3,"",{"$f":"MIN(IF(W1075=$W$9:$W$2128,$E$9:$E$2128))","v":0},{"$f":"MAX(IF(W1075=$W$9:$W$2128,$E$9:$E$2128))","v":0},1067,1,1,null,null,1,null,"ZZ00000","00ZZ000",null,{"$f":"ABS(OR(C1075=0,AND(MaxInput>1,M1075=INDEX(FFilter,AO$5))))","v":1},{"$f":"ABS(OR(C1075=0,AND(MaxInput>1,N1075=INDEX(FFilter,AP$5))))","v":1},{"$f":"ABS(OR(C1075=0,AND(MaxInput>1,O1075=INDEX(FFilter,AQ$5))))","v":1},null,null,null,null,null,null,null,null,null,null,{"$f":"ROW()","v":1075}]
[1070,"",null,null,null,null,null,null,null,null,null,null,"",{"$f":"IF(C1078=0,\"\",INDEX(Objekt_Text,D1078+1,2))","v":""},{"$f":"IF(C1078=0,\"\",INDEX(Objekt_Text,D1078+1,3))","v":""},"","",{"$f":"INDEX(Visum_Liste,F1078+1)&\"\"","v":""},"","ZZ",0,0,0,0,0,0,3,"",{"$f":"MIN(IF(W1078=$W$9:$W$2128,$E$9:$E$2128))","v":0},{"$f":"MAX(IF(W1078=$W$9:$W$2128,$E$9:$E$2128))","v":0},1070,1,1,null,null,1,null,"ZZ00000","00ZZ000",null,{"$f":"ABS(OR(C1078=0,AND(MaxInput>1,M1078=INDEX(FFilter,AO$5))))","v":1},{"$f":"ABS(OR(C1078=0,AND(MaxInput>1,N1078=INDEX(FFilter,AP$5))))","v":1},{"$f":"ABS(OR(C1078=0,AND(MaxInput>1,O1078=INDEX(FFilter,AQ$5))))","v":1},null,null,null,null,null,null,null,null,null,null,{"$f":"ROW()","v":1078}]
[1074,"",null,null,null,null,null,null,null,null,null,null,"",{"$f":"IF(C1082=0,\"\",INDEX(Objekt_Text,D1082+1,2))","v":""},{"$f":"IF(C1082=0,\"\",INDEX(Objekt_Text,D1082+1,3))","v":""},"","",{"$f":"INDEX(Visum_Liste,F1082+1)&\"\"","v":""},"","ZZ",0,0,0,0,0,0,3,"",{"$f":"MIN(IF(W1082=$W$9:$W$2128,$E$9:$E$2128))","v":0},{"$f":"MAX(IF(W1082=$W$9:$W$2128,$E$9:$E$2128))","v":0},1074,1,1,null,null,1,null,"ZZ00000","00ZZ000",null,{"$f":"ABS(OR(C1082=0,AND(MaxInput>1,M1082=INDEX(FFilter,AO$5))))","v":1},{"$f":"ABS(OR(C1082=0,AND(MaxInput>1,N1082=INDEX(FFilter,AP$5))))","v":1},{"$f":"ABS(OR(C1082=0,AND(MaxInput>1,O1082=INDEX(FFilter,AQ$5))))","v":1},null,null,null,null,null,null,null,null,null,null,{"$f":"ROW()","v":1082}]
[1077,"",null,null,null,null,null,null,null,null,null,null,"",{"$f":"IF(C1085=0,\"\",INDEX(Objekt_Text,D1085+1,2))","v":""},{"$f":"IF(C1085=0,\"\",INDEX(Objekt_Text,D1085+1,3))","v":""},"","",{"$f":"INDEX(Visum_Liste,F1085+1)&\"\"","v":""},"","ZZ",0,0,0,0,0,0,3,"",{"$f":"MIN(IF(W1085=$W$9:$W$2128,$E$9:$E$2128))","v":0},{"$f":"MAX(IF(W1085=$W$9:$W$2128,$E$9:$E$2128))","v":0},1077,1,1,null,null,1,null,"ZZ00000","00ZZ000",null,{"$f":"ABS(OR(C1085=0,AND(MaxInput>1,M1085=INDEX(FFilter,AO$5))))","v":1},{"$f":"ABS(OR(C1085=0,AND(MaxInput>1,N1085=INDEX(FFilter,AP$5))))","v":1},{"$f":"ABS(OR(C1085=0,AND(MaxInput>1,O1085=INDEX(FFilter,AQ$5))))","v":1},null,null,null,null,null,null,null,null,null,null,{"$f":"ROW()","v":1085}]
[1078,"",null,null,null,null,null,null,null,null,null,null,"",{"$f":"IF(C1086=0,\"\",INDEX(Objekt_Text,D1086+1,2))","v":""},{"$f":"IF(C1086=0,\"\",INDEX(Objekt_Text,D1086+1,3))","v":""},"","",{"$f":"INDEX(Visum_Liste,F1086+1)&\"\"","v":""},"","ZZ",0,0,0,0,0,0,3,"",{"$f":"MIN(IF(W1086=$W$9:$W$2128,$E$9:$E$2128))","v":0},{"$f":"MAX(IF(W1086=$W$9:$W$2128,$E$9:$E$2128))","v":0},1078,1,1,null,null,1,null,"ZZ00000","00ZZ000",null,{"$f":"ABS(OR(C1086=0,AND(MaxInput>1,M1086=INDEX(FFilter,AO$5))))","v":1},{"$f":"ABS(OR(C1086=0,AND(MaxInput>1,N1086=INDEX(FFilter,AP$5))))","v":1},{"$f":"ABS(OR(C1086=0,AND(MaxInput>1,O1086=INDEX(FFilter,AQ$5))))","v":1},null,null,null,null,null,null,null,null,null,null,{"$f":"ROW()","v":1086}]
[1081,"",null,null,null,null,null,null,null,null,null,null,"",{"$f":"IF(C1089=0,\"\",INDEX(Objekt_Text,D1089+1,2))","v":""},{"$f":"IF(C1089=0,\"\",INDEX(Objekt_Text,D1089+1,3))","v":""},"","",{"$f":"INDEX(Visum_Liste,F1089+1)&\"\"","v":""},"","ZZ",0,0,0,0,0,0,3,"",{"$f":"MIN(IF(W1089=$W$9:$W$2128,$E$9:$E$2128))","v":0},{"$f":"MAX(IF(W1089=$W$9:$W$2128,$E$9:$E$2128))","v":0},1081,1,1,null,null,1,null,"ZZ00000","00ZZ000",null,{"$f":"ABS(OR(C1089=0,AND(MaxInput>1,M1089=INDEX(FFilter,AO$5))))","v":1},{"$f":"ABS(OR(C1089=0,AND(MaxInput>1,N1089=INDEX(FFilter,AP$5))))","v":1},{"$f":"ABS(OR(C1089=0,AND(MaxInput>1,O1089=INDEX(FFilter,AQ$5))))","v":1},null,null,null,null,null,null,null,null,null,null,{"$f":"ROW()","v":1089}]
[1084,"",null,null,null,null,null,null,null,null,null,null,"",{"$f":"IF(C1092=0,\"\",INDEX(Objekt_Text,D1092+1,2))","v":""},{"$f":"IF(C1092=0,\"\",INDEX(Objekt_Text,D1092+1,3))","v":""},"","",{"$f":"INDEX(Visum_Liste,F1092+1)&\"\"","v":""},"","ZZ",0,0,0,0,0,0,3,"",{"$f":"MIN(IF(W1092=$W$9:$W$2128,$E$9:$E$2128))","v":0},{"$f":"MAX(IF(W1092=$W$9:$W$2128,$E$9:$E$2128))","v":0},1084,1,1,null,null,1,null,"ZZ00000","00ZZ000",null,{"$f":"ABS(OR(C1092=0,AND(MaxInput>1,M1092=INDEX(FFilter,AO$5))))","v":1},{"$f":"ABS(OR(C1092=0,AND(MaxInput>1,N1092=INDEX(FFilter,AP$5))))","v":1},{"$f":"ABS(OR(C1092=0,AND(MaxInput>1,O1092=INDEX(FFilter,AQ$5))))","v":1},null,null,null,null,null,null,null,null,null,null,{"$f":"ROW()","v":1092}]
[1088,"",null,null,null,null,null,null,null,null,null,null,"",{"$f":"IF(C1096=0,\"\",INDEX(Objekt_Text,D1096+1,2))","v":""},{"$f":"IF(C1096=0,\"\",INDEX(Objekt_Text,D1096+1,3))","v":""},"","",{"$f":"INDEX(Visum_Liste,F1096+1)&\"\"","v":""},"","ZZ",0,0,0,0,0,0,3,"",{"$f":"MIN(IF(W1096=$W$9:$W$2128,$E$9:$E$2128))","v":0},{"$f":"MAX(IF(W1096=$W$9:$W$2128,$E$9:$E$2128))","v":0},1088,1,1,null,null,1,null,"ZZ00000","00ZZ000",null,{"$f":"ABS(OR(C1096=0,AND(MaxInput>1,M1096=INDEX(FFilter,AO$5))))","v":1},{"$f":"ABS(OR(C1096=0,AND(MaxInput>1,N1096=INDEX(FFilter,AP$5))))","v":1},{"$f":"ABS(OR(C1096=0,AND(MaxInput>1,O1096=INDEX(FFilter,AQ$5))))","v":1},null,null,null,null,null,null,null,null,null,null,{"$f":"ROW()","v":1096}]
[1091,"",null,null,null,null,null,null,null,null,null,null,"",{"$f":"IF(C1099=0,\"\",INDEX(Objekt_Text,D1099+1,2))","v":""},{"$f":"IF(C1099=0,\"\",INDEX(Objekt_Text,D1099+1,3))","v":""},"","",{"$f":"INDEX(Visum_Liste,F1099+1)&\"\"","v":""},"","ZZ",0,0,0,0,0,0,3,"",{"$f":"MIN(IF(W1099=$W$9:$W$2128,$E$9:$E$2128))","v":0},{"$f":"MAX(IF(W1099=$W$9:$W$2128,$E$9:$E$2128))","v":0},1091,1,1,null,null,1,null,"ZZ00000","00ZZ000",null,{"$f":"ABS(OR(C1099=0,AND(MaxInput>1,M1099=INDEX(FFilter,AO$5))))","v":1},{"$f":"ABS(OR(C1099=0,AND(MaxInput>1,N1099=INDEX(FFilter,AP$5))))","v":1},{"$f":"ABS(OR(C1099=0,AND(MaxInput>1,O1099=INDEX(FFilter,AQ$5))))","v":1},null,null,null,null,null,null,null,null,null,null,{"$f":"ROW()","v":1099}]
[1093,"",null,null,null,null,null,null,null,null,null,null,"",{"$f":"IF(C1101=0,\"\",INDEX(Objekt_Text,D1101+1,2))","v":""},{"$f":"IF(C1101=0,\"\",INDEX(Objekt_Text,D1101+1,3))","v":""},"","",{"$f":"INDEX(Visum_Liste,F1101+1)&\"\"","v":""},"","ZZ",0,0,0,0,0,0,3,"",{"$f":"MIN(IF(W1101=$W$9:$W$2128,$E$9:$E$2128))","v":0},{"$f":"MAX(IF(W1101=$W$9:$W$2128,$E$9:$E$2128))","v":0},1093,{"$f":"OR(AL1101>=AL1100,B1101=\"\")*1","v":1},{"$f":"OR(AM1101>=AM1100,B1101=\"\")*1","v":1},null,null,1,null,"ZZ00000","00ZZ000",null,{"$f":"ABS(OR(C1101=0,AND(MaxInput>1,M1101=INDEX(FFilter,AO$5))))","v":1},{"$f":"ABS(OR(C1101=0,AND(MaxInput>1,N1101=INDEX(FFilter,AP$5))))","v":1},{"$f":"ABS(OR(C1101=0,AND(MaxInput>1,O1101=INDEX(FFilter,AQ$5))))","v":1},null,null,null,null,null,null,null,null,null,null,{"$f":"ROW()","v":1101}]
[1099,"",null,null,null,null,null,null,null,null,null,null,"",{"$f":"IF(C1107=0,\"\",INDEX(Objekt_Text,D1107+1,2))","v":""},{"$f":"IF(C1107=0,\"\",INDEX(Objekt_Text,D1107+1,3))","v":""},"","",{"$f":"INDEX(Visum_Liste,F1107+1)&\"\"","v":""},"","ZZ",0,0,0,0,0,0,3,"",{"$f":"MIN(IF(W1107=$W$9:$W$2128,$E$9:$E$2128))","v":0},{"$f":"MAX(IF(W1107=$W$9:$W$2128,$E$9:$E$2128))","v":0},1099,1,1,null,null,1,null,"ZZ00000","00ZZ000",null,{"$f":"ABS(OR(C1107=0,AND(MaxInput>1,M1107=INDEX(FFilter,AO$5))))","v":1},{"$f":"ABS(OR(C1107=0,AND(MaxInput>1,N1107=INDEX(FFilter,AP$5))))","v":1},{"$f":"ABS(OR(C1107=0,AND(MaxInput>1,O1107=INDEX(FFilter,AQ$5))))","v":1},null,null,null,null,null,null,null,null,null,null,{"$f":"ROW()","v":1107}]
[1102,"",null,null,null,null,null,null,null,null,null,null,"",{"$f":"IF(C1110=0,\"\",INDEX(Objekt_Text,D1110+1,2))","v":""},{"$f":"IF(C1110=0,\"\",INDEX(Objekt_Text,D1110+1,3))","v":""},"","",{"$f":"INDEX(Visum_Liste,F1110+1)&\"\"","v":""},"","ZZ",0,0,0,0,0,0,3,"",{"$f":"MIN(IF(W1110=$W$9:$W$2128,$E$9:$E$2128))","v":0},{"$f":"MAX(IF(W1110=$W$9:$W$2128,$E$9:$E$2128))","v":0},1102,1,1,null,null,1,null,"ZZ00000","00ZZ000",null,{"$f":"ABS(OR(C1110=0,AND(MaxInput>1,M1110=INDEX(FFilter,AO$5))))","v":1},{"$f":"ABS(OR(C1110=0,AND(MaxInput>1,N1110=INDEX(FFilter,AP$5))))","v":1},{"$f":"ABS(OR(C1110=0,AND(MaxInput>1,O1110=INDEX(FFilter,AQ$5))))","v":1},null,null,null,null,null,null,null,null,null,null,{"$f":"ROW()","v":1110}]
[1103,"",null,null,null,null,null,null,null,null,null,null,"",{"$f":"IF(C1111=0,\"\",INDEX(Objekt_Text,D1111+1,2))","v":""},{"$f":"IF(C1111=0,\"\",INDEX(Objekt_Text,D1111+1,3))","v":""},"","",{"$f":"INDEX(Visum_Liste,F1111+1)&\"\"","v":""},"","ZZ",0,0,0,0,0,0,3,"",{"$f":"MIN(IF(W1111=$W$9:$W$2128,$E$9:$E$2128))","v":0},{"$f":"MAX(IF(W1111=$W$9:$W$2128,$E$9:$E$2128))","v":0},1103,1,1,null,null,1,null,"ZZ00000","00ZZ000",null,{"$f":"ABS(OR(C1111=0,AND(MaxInput>1,M1111=INDEX(FFilter,AO$5))))","v":1},{"$f":"ABS(OR(C1111=0,AND(MaxInput>1,N1111=INDEX(FFilter,AP$5))))","v":1},{"$f":"ABS(OR(C1111=0,AND(MaxInput>1,O1111=INDEX(FFilter,AQ$5))))","v":1},null,null,null,null,null,null,null,null,null,null,{"$f":"ROW()","v":1111}]
[1106,"",null,null,null,null,null,null,null,null,null,null,"",{"$f":"IF(C1114=0,\"\",INDEX(Objekt_Text,D1114+1,2))","v":""},{"$f":"IF(C1114=0,\"\",INDEX(Objekt_Text,D1114+1,3))","v":""},"","",{"$f":"INDEX(Visum_Liste,F1114+1)&\"\"","v":""},"","ZZ",0,0,0,0,0,0,3,"",{"$f":"MIN(IF(W1114=$W$9:$W$2128,$E$9:$E$2128))","v":0},{"$f":"MAX(IF(W1114=$W$9:$W$2128,$E$9:$E$2128))","v":0},1106,1,1,null,null,1,null,"ZZ00000","00ZZ000",null,{"$f":"ABS(OR(C1114=0,AND(MaxInput>1,M1114=INDEX(FFilter,AO$5))))","v":1},{"$f":"ABS(OR(C1114=0,AND(MaxInput>1,N1114=INDEX(FFilter,AP$5))))","v":1},{"$f":"ABS(OR(C1114=0,AND(MaxInput>1,O1114=INDEX(FFilter,AQ$5))))","v":1},null,null,null,null,null,null,null,null,null,null,{"$f":"ROW()","v":1114}]
[1109,"",null,null,null,null,null,null,null,null,null,null,"",{"$f":"IF(C1117=0,\"\",INDEX(Objekt_Text,D1117+1,2))","v":""},{"$f":"IF(C1117=0,\"\",INDEX(Objekt_Text,D1117+1,3))","v":""},"","",{"$f":"INDEX(Visum_Liste,F1117+1)&\"\"","v":""},"","ZZ",0,0,0,0,0,0,3,"",{"$f":"MIN(IF(W1117=$W$9:$W$2128,$E$9:$E$2128))","v":0},{"$f":"MAX(IF(W1117=$W$9:$W$2128,$E$9:$E$2128))","v":0},1109,1,1,null,null,1,null,"ZZ00000","00ZZ000",null,{"$f":"ABS(OR(C1117=0,AND(MaxInput>1,M1117=INDEX(FFilter,AO$5))))","v":1},{"$f":"ABS(OR(C1117=0,AND(MaxInput>1,N1117=INDEX(FFilter,AP$5))))","v":1},{"$f":"ABS(OR(C1117=0,AND(MaxInput>1,O1117=INDEX(FFilter,AQ$5))))","v":1},null,null,null,null,null,null,null,null,null,null,{"$f":"ROW()","v":1117}]
[1113,"",null,null,null,null,null,null,null,null,null,null,"",{"$f":"IF(C1121=0,\"\",INDEX(Objekt_Text,D1121+1,2))","v":""},{"$f":"IF(C1121=0,\"\",INDEX(Objekt_Text,D1121+1,3))","v":""},"","",{"$f":"INDEX(Visum_Liste,F1121+1)&\"\"","v":""},"","ZZ",0,0,0,0,0,0,3,"",{"$f":"MIN(IF(W1121=$W$9:$W$2128,$E$9:$E$2128))","v":0},{"$f":"MAX(IF(W1121=$W$9:$W$2128,$E$9:$E$2128))","v":0},1113,1,1,null,null,1,null,"ZZ00000","00ZZ000",null,{"$f":"ABS(OR(C1121=0,AND(MaxInput>1,M1121=INDEX(FFilter,AO$5))))","v":1},{"$f":"ABS(OR(C1121=0,AND(MaxInput>1,N1121=INDEX(FFilter,AP$5))))","v":1},{"$f":"ABS(OR(C1121=0,AND(MaxInput>1,O1121=INDEX(FFilter,AQ$5))))","v":1},null,null,null,null,null,null,null,null,null,null,{"$f":"ROW()","v":1121}]
[1116,"",null,null,null,null,null,null,null,null,null,null,"",{"$f":"IF(C1124=0,\"\",INDEX(Objekt_Text,D1124+1,2))","v":""},{"$f":"IF(C1124=0,\"\",INDEX(Objekt_Text,D1124+1,3))","v":""},"","",{"$f":"INDEX(Visum_Liste,F1124+1)&\"\"","v":""},"","ZZ",0,0,0,0,0,0,3,"",{"$f":"MIN(IF(W1124=$W$9:$W$2128,$E$9:$E$2128))","v":0},{"$f":"MAX(IF(W1124=$W$9:$W$2128,$E$9:$E$2128))","v":0},1116,1,1,null,null,1,null,"ZZ00000","00ZZ000",null,{"$f":"ABS(OR(C1124=0,AND(MaxInput>1,M1124=INDEX(FFilter,AO$5))))","v":1},{"$f":"ABS(OR(C1124=0,AND(MaxInput>1,N1124=INDEX(FFilter,AP$5))))","v":1},{"$f":"ABS(OR(C1124=0,AND(MaxInput>1,O1124=INDEX(FFilter,AQ$5))))","v":1},null,null,null,null,null,null,null,null,null,null,{"$f":"ROW()","v":1124}]
[1120,"",null,null,null,null,null,null,null,null,null,null,"",{"$f":"IF(C1128=0,\"\",INDEX(Objekt_Text,D1128+1,2))","v":""},{"$f":"IF(C1128=0,\"\",INDEX(Objekt_Text,D1128+1,3))","v":""},"","",{"$f":"INDEX(Visum_Liste,F1128+1)&\"\"","v":""},"","ZZ",0,0,0,0,0,0,3,"",{"$f":"MIN(IF(W1128=$W$9:$W$2128,$E$9:$E$2128))","v":0},{"$f":"MAX(IF(W1128=$W$9:$W$2128,$E$9:$E$2128))","v":0},1120,1,1,null,null,1,null,"ZZ00000","00ZZ000",null,{"$f":"ABS(OR(C1128=0,AND(MaxInput>1,M1128=INDEX(FFilter,AO$5))))","v":1},{"$f":"ABS(OR(C1128=0,AND(MaxInput>1,N1128=INDEX(FFilter,AP$5))))","v":1},{"$f":"ABS(OR(C1128=0,AND(MaxInput>1,O1128=INDEX(FFilter,AQ$5))))","v":1},null,null,null,null,null,null,null,null,null,null,{"$f":"ROW()","v":1128}]
[1123,"",null,null,null,null,null,null,null,null,null,null,"",{"$f":"IF(C1131=0,\"\",INDEX(Objekt_Text,D1131+1,2))","v":""},{"$f":"IF(C1131=0,\"\",INDEX(Objekt_Text,D1131+1,3))","v":""},"","",{"$f":"INDEX(Visum_Liste,F1131+1)&\"\"","v":""},"","ZZ",0,0,0,0,0,0,3,"",{"$f":"MIN(IF(W1131=$W$9:$W$2128,$E$9:$E$2128))","v":0},{"$f":"MAX(IF(W1131=$W$9:$W$2128,$E$9:$E$2128))","v":0},1123,1,1,null,null,1,null,"ZZ00000","00ZZ000",null,{"$f":"ABS(OR(C1131=0,AND(MaxInput>1,M1131=INDEX(FFilter,AO$5))))","v":1},{"$f":"ABS(OR(C1131=0,AND(MaxInput>1,N1131=INDEX(FFilter,AP$5))))","v":1},{"$f":"ABS(OR(C1131=0,AND(MaxInput>1,O1131=INDEX(FFilter,AQ$5))))","v":1},null,null,null,null,null,null,null,null,null,null,{"$f":"ROW()","v":1131}]
[1126,"",null,null,null,null,null,null,null,null,null,null,"",{"$f":"IF(C1134=0,\"\",INDEX(Objekt_Text,D1134+1,2))","v":""},{"$f":"IF(C1134=0,\"\",INDEX(Objekt_Text,D1134+1,3))","v":""},"","",{"$f":"INDEX(Visum_Liste,F1134+1)&\"\"","v":""},"","ZZ",0,0,0,0,0,0,3,"",{"$f":"MIN(IF(W1134=$W$9:$W$2128,$E$9:$E$2128))","v":0},{"$f":"MAX(IF(W1134=$W$9:$W$2128,$E$9:$E$2128))","v":0},1126,1,1,null,null,1,null,"ZZ00000","00ZZ000",null,{"$f":"ABS(OR(C1134=0,AND(MaxInput>1,M1134=INDEX(FFilter,AO$5))))","v":1},{"$f":"ABS(OR(C1134=0,AND(MaxInput>1,N1134=INDEX(FFilter,AP$5))))","v":1},{"$f":"ABS(OR(C1134=0,AND(MaxInput>1,O1134=INDEX(FFilter,AQ$5))))","v":1},null,null,null,null,null,null,null,null,null,null,{"$f":"ROW()","v":1134}]
[1127,"",null,null,null,null,null,null,null,null,null,null,"",{"$f":"IF(C1135=0,\"\",INDEX(Objekt_Text,D1135+1,2))","v":""},{"$f":"IF(C1135=0,\"\",INDEX(Objekt_Text,D1135+1,3))","v":""},"","",{"$f":"INDEX(Visum_Liste,F1135+1)&\"\"","v":""},"","ZZ",0,0,0,0,0,0,3,"",{"$f":"MIN(IF(W1135=$W$9:$W$2128,$E$9:$E$2128))","v":0},{"$f":"MAX(IF(W1135=$W$9:$W$2128,$E$9:$E$2128))","v":0},1127,1,1,null,null,1,null,"ZZ00000","00ZZ000",null,{"$f":"ABS(OR(C1135=0,AND(MaxInput>1,M1135=INDEX(FFilter,AO$5))))","v":1},{"$f":"ABS(OR(C1135=0,AND(MaxInput>1,N1135=INDEX(FFilter,AP$5))))","v":1},{"$f":"ABS(OR(C1135=0,AND(MaxInput>1,O1135=INDEX(FFilter,AQ$5))))","v":1},null,null,null,null,null,null,null,null,null,null,{"$f":"ROW()","v":1135}]
[1130,"",null,null,null,null,null,null,null,null,null,null,"",{"$f":"IF(C1138=0,\"\",INDEX(Objekt_Text,D1138+1,2))","v":""},{"$f":"IF(C1138=0,\"\",INDEX(Objekt_Text,D1138+1,3))","v":""},"","",{"$f":"INDEX(Visum_Liste,F1138+1)&\"\"","v":""},"","ZZ",0,0,0,0,0,0,3,"",{"$f":"MIN(IF(W1138=$W$9:$W$2128,$E$9:$E$2128))","v":0},{"$f":"MAX(IF(W1138=$W$9:$W$2128,$E$9:$E$2128))","v":0},1130,1,1,null,null,1,null,"ZZ00000","00ZZ000",null,{"$f":"ABS(OR(C1138=0,AND(MaxInput>1,M1138=INDEX(FFilter,AO$5))))","v":1},{"$f":"ABS(OR(C1138=0,AND(MaxInput>1,N1138=INDEX(FFilter,AP$5))))","v":1},{"$f":"ABS(OR(C1138=0,AND(MaxInput>1,O1138=INDEX(FFilter,AQ$5))))","v":1},null,null,null,null,null,null,null,null,null,null,{"$f":"ROW()","v":1138}]
[1133,"",null,null,null,null,null,null,null,null,null,null,"",{"$f":"IF(C1141=0,\"\",INDEX(Objekt_Text,D1141+1,2))","v":""},{"$f":"IF(C1141=0,\"\",INDEX(Objekt_Text,D1141+1,3))","v":""},"","",{"$f":"INDEX(Visum_Liste,F1141+1)&\"\"","v":""},"","ZZ",0,0,0,0,0,0,3,"",{"$f":"MIN(IF(W1141=$W$9:$W$2128,$E$9:$E$2128))","v":0},{"$f":"MAX(IF(W1141=$W$9:$W$2128,$E$9:$E$2128))","v":0},1133,1,1,null,null,1,null,"ZZ00000","00ZZ000",null,{"$f":"ABS(OR(C1141=0,AND(MaxInput>1,M1141=INDEX(FFilter,AO$5))))","v":1},{"$f":"ABS(OR(C1141=0,AND(MaxInput>1,N1141=INDEX(FFilter,AP$5))))","v":1},{"$f":"ABS(OR(C1141=0,AND(MaxInput>1,O1141=INDEX(FFilter,AQ$5))))","v":1},null,null,null,null,null,null,null,null,null,null,{"$f":"ROW()","v":1141}]
[1137,"",null,null,null,null,null,null,null,null,null,null,"",{"$f":"IF(C1145=0,\"\",INDEX(Objekt_Text,D1145+1,2))","v":""},{"$f":"IF(C1145=0,\"\",INDEX(Objekt_Text,D1145+1,3))","v":""},"","",{"$f":"INDEX(Visum_Liste,F1145+1)&\"\"","v":""},"","ZZ",0,0,0,0,0,0,3,"",{"$f":"MIN(IF(W1145=$W$9:$W$2128,$E$9:$E$2128))","v":0},{"$f":"MAX(IF(W1145=$W$9:$W$2128,$E$9:$E$2128))","v":0},1137,1,1,null,null,1,null,"ZZ00000","00ZZ000",null,{"$f":"ABS(OR(C1145=0,AND(MaxInput>1,M1145=INDEX(FFilter,AO$5))))","v":1},{"$f":"ABS(OR(C1145=0,AND(MaxInput>1,N1145=INDEX(FFilter,AP$5))))","v":1},{"$f":"ABS(OR(C1145=0,AND(MaxInput>1,O1145=INDEX(FFilter,AQ$5))))","v":1},null,null,null,null,null,null,null,null,null,null,{"$f":"ROW()","v":1145}]
[1140,"",null,null,null,null,null,null,null,null,null,null,"",{"$f":"IF(C1148=0,\"\",INDEX(Objekt_Text,D1148+1,2))","v":""},{"$f":"IF(C1148=0,\"\",INDEX(Objekt_Text,D1148+1,3))","v":""},"","",{"$f":"INDEX(Visum_Liste,F1148+1)&\"\"","v":""},"","ZZ",0,0,0,0,0,0,3,"",{"$f":"MIN(IF(W1148=$W$9:$W$2128,$E$9:$E$2128))","v":0},{"$f":"MAX(IF(W1148=$W$9:$W$2128,$E$9:$E$2128))","v":0},1140,1,1,null,null,1,null,"ZZ00000","00ZZ000",null,{"$f":"ABS(OR(C1148=0,AND(MaxInput>1,M1148=INDEX(FFilter,AO$5))))","v":1},{"$f":"ABS(OR(C1148=0,AND(MaxInput>1,N1148=INDEX(FFilter,AP$5))))","v":1},{"$f":"ABS(OR(C1148=0,AND(MaxInput>1,O1148=INDEX(FFilter,AQ$5))))","v":1},null,null,null,null,null,null,null,null,null,null,{"$f":"ROW()","v":1148}]
[1144,"",null,null,null,null,null,null,null,null,null,null,"",{"$f":"IF(C1152=0,\"\",INDEX(Objekt_Text,D1152+1,2))","v":""},{"$f":"IF(C1152=0,\"\",INDEX(Objekt_Text,D1152+1,3))","v":""},"","",{"$f":"INDEX(Visum_Liste,F1152+1)&\"\"","v":""},"","ZZ",0,0,0,0,0,0,3,"",{"$f":"MIN(IF(W1152=$W$9:$W$2128,$E$9:$E$2128))","v":0},{"$f":"MAX(IF(W1152=$W$9:$W$2128,$E$9:$E$2128))","v":0},1144,1,1,null,null,1,null,"ZZ00000","00ZZ000",null,{"$f":"ABS(OR(C1152=0,AND(MaxInput>1,M1152=INDEX(FFilter,AO$5))))","v":1},{"$f":"ABS(OR(C1152=0,AND(MaxInput>1,N1152=INDEX(FFilter,AP$5))))","v":1},{"$f":"ABS(OR(C1152=0,AND(MaxInput>1,O1152=INDEX(FFilter,AQ$5))))","v":1},null,null,null,null,null,null,null,null,null,null,{"$f":"ROW()","v":1152}]
[1147,"",null,null,null,null,null,null,null,null,null,null,"",{"$f":"IF(C1155=0,\"\",INDEX(Objekt_Text,D1155+1,2))","v":""},{"$f":"IF(C1155=0,\"\",INDEX(Objekt_Text,D1155+1,3))","v":""},"","",{"$f":"INDEX(Visum_Liste,F1155+1)&\"\"","v":""},"","ZZ",0,0,0,0,0,0,3,"",{"$f":"MIN(IF(W1155=$W$9:$W$2128,$E$9:$E$2128))","v":0},{"$f":"MAX(IF(W1155=$W$9:$W$2128,$E$9:$E$2128))","v":0},1147,1,1,null,null,1,null,"ZZ00000","00ZZ000",null,{"$f":"ABS(OR(C1155=0,AND(MaxInput>1,M1155=INDEX(FFilter,AO$5))))","v":1},{"$f":"ABS(OR(C1155=0,AND(MaxInput>1,N1155=INDEX(FFilter,AP$5))))","v":1},{"$f":"ABS(OR(C1155=0,AND(MaxInput>1,O1155=INDEX(FFilter,AQ$5))))","v":1},null,null,null,null,null,null,null,null,null,null,{"$f":"ROW()","v":1155}]
[1150,"",null,null,null,null,null,null,null,null,null,null,"",{"$f":"IF(C1158=0,\"\",INDEX(Objekt_Text,D1158+1,2))","v":""},{"$f":"IF(C1158=0,\"\",INDEX(Objekt_Text,D1158+1,3))","v":""},"","",{"$f":"INDEX(Visum_Liste,F1158+1)&\"\"","v":""},"","ZZ",0,0,0,0,0,0,3,"",{"$f":"MIN(IF(W1158=$W$9:$W$2128,$E$9:$E$2128))","v":0},{"$f":"MAX(IF(W1158=$W$9:$W$2128,$E$9:$E$2128))","v":0},1150,1,1,null,null,1,null,"ZZ00000","00ZZ000",null,{"$f":"ABS(OR(C1158=0,AND(MaxInput>1,M1158=INDEX(FFilter,AO$5))))","v":1},{"$f":"ABS(OR(C1158=0,AND(MaxInput>1,N1158=INDEX(FFilter,AP$5))))","v":1},{"$f":"ABS(OR(C1158=0,AND(MaxInput>1,O1158=INDEX(FFilter,AQ$5))))","v":1},null,null,null,null,null,null,null,null,null,null,{"$f":"ROW()","v":1158}]
[1151,"",null,null,null,null,null,null,null,null,null,null,"",{"$f":"IF(C1159=0,\"\",INDEX(Objekt_Text,D1159+1,2))","v":""},{"$f":"IF(C1159=0,\"\",INDEX(Objekt_Text,D1159+1,3))","v":""},"","",{"$f":"INDEX(Visum_Liste,F1159+1)&\"\"","v":""},"","ZZ",0,0,0,0,0,0,3,"",{"$f":"MIN(IF(W1159=$W$9:$W$2128,$E$9:$E$2128))","v":0},{"$f":"MAX(IF(W1159=$W$9:$W$2128,$E$9:$E$2128))","v":0},1151,1,1,null,null,1,null,"ZZ00000","00ZZ000",null,{"$f":"ABS(OR(C1159=0,AND(MaxInput>1,M1159=INDEX(FFilter,AO$5))))","v":1},{"$f":"ABS(OR(C1159=0,AND(MaxInput>1,N1159=INDEX(FFilter,AP$5))))","v":1},{"$f":"ABS(OR(C1159=0,AND(MaxInput>1,O1159=INDEX(FFilter,AQ$5))))","v":1},null,null,null,null,null,null,null,null,null,null,{"$f":"ROW()","v":1159}]
[1154,"",null,null,null,null,null,null,null,null,null,null,"",{"$f":"IF(C1162=0,\"\",INDEX(Objekt_Text,D1162+1,2))","v":""},{"$f":"IF(C1162=0,\"\",INDEX(Objekt_Text,D1162+1,3))","v":""},"","",{"$f":"INDEX(Visum_Liste,F1162+1)&\"\"","v":""},"","ZZ",0,0,0,0,0,0,3,"",{"$f":"MIN(IF(W1162=$W$9:$W$2128,$E$9:$E$2128))","v":0},{"$f":"MAX(IF(W1162=$W$9:$W$2128,$E$9:$E$2128))","v":0},1154,1,1,null,null,{"$f":"OR(L1162<=L1161,B1162=\"\")*1","v":1},null,"ZZ00000","00ZZ000",null,{"$f":"ABS(OR(C1162=0,AND(MaxInput>1,M1162=INDEX(FFilter,AO$5))))","v":1},{"$f":"ABS(OR(C1162=0,AND(MaxInput>1,N1162=INDEX(FFilter,AP$5))))","v":1},{"$f":"ABS(OR(C1162=0,AND(MaxInput>1,O1162=INDEX(FFilter,AQ$5))))","v":1},null,null,null,null,null,null,null,null,null,null,{"$f":"ROW()","v":1162}]
[1158,"",null,null,null,null,null,null,null,null,null,null,"",{"$f":"IF(C1166=0,\"\",INDEX(Objekt_Text,D1166+1,2))","v":""},{"$f":"IF(C1166=0,\"\",INDEX(Objekt_Text,D1166+1,3))","v":""},"","",{"$f":"INDEX(Visum_Liste,F1166+1)&\"\"","v":""},"","ZZ",0,0,0,0,0,0,3,"",{"$f":"MIN(IF(W1166=$W$9:$W$2128,$E$9:$E$2128))","v":0},{"$f":"MAX(IF(W1166=$W$9:$W$2128,$E$9:$E$2128))","v":0},1158,1,1,null,null,1,null,"ZZ00000","00ZZ000",null,{"$f":"ABS(OR(C1166=0,AND(MaxInput>1,M1166=INDEX(FFilter,AO$5))))","v":1},{"$f":"ABS(OR(C1166=0,AND(MaxInput>1,N1166=INDEX(FFilter,AP$5))))","v":1},{"$f":"ABS(OR(C1166=0,AND(MaxInput>1,O1166=INDEX(FFilter,AQ$5))))","v":1},null,null,null,null,null,null,null,null,null,null,{"$f":"ROW()","v":1166}]
[1161,"",null,null,null,null,null,null,null,null,null,null,"",{"$f":"IF(C1169=0,\"\",INDEX(Objekt_Text,D1169+1,2))","v":""},{"$f":"IF(C1169=0,\"\",INDEX(Objekt_Text,D1169+1,3))","v":""},"","",{"$f":"INDEX(Visum_Liste,F1169+1)&\"\"","v":""},"","ZZ",0,0,0,0,0,0,3,"",{"$f":"MIN(IF(W1169=$W$9:$W$2128,$E$9:$E$2128))","v":0},{"$f":"MAX(IF(W1169=$W$9:$W$2128,$E$9:$E$2128))","v":0},1161,1,1,null,null,1,null,"ZZ00000","00ZZ000",null,{"$f":"ABS(OR(C1169=0,AND(MaxInput>1,M1169=INDEX(FFilter,AO$5))))","v":1},{"$f":"ABS(OR(C1169=0,AND(MaxInput>1,N1169=INDEX(FFilter,AP$5))))","v":1},{"$f":"ABS(OR(C1169=0,AND(MaxInput>1,O1169=INDEX(FFilter,AQ$5))))","v":1},null,null,null,null,null,null,null,null,null,null,{"$f":"ROW()","v":1169}]
[1164,"",null,null,null,null,null,null,null,null,null,null,"",{"$f":"IF(C1172=0,\"\",INDEX(Objekt_Text,D1172+1,2))","v":""},{"$f":"IF(C1172=0,\"\",INDEX(Objekt_Text,D1172+1,3))","v":""},"","",{"$f":"INDEX(Visum_Liste,F1172+1)&\"\"","v":""},"","ZZ",0,0,0,0,0,0,3,"",{"$f":"MIN(IF(W1172=$W$9:$W$2128,$E$9:$E$2128))","v":0},{"$f":"MAX(IF(W1172=$W$9:$W$2128,$E$9:$E$2128))","v":0},1164,1,1,null,null,1,null,"ZZ00000","00ZZ000",null,{"$f":"ABS(OR(C1172=0,AND(MaxInput>1,M1172=INDEX(FFilter,AO$5))))","v":1},{"$f":"ABS(OR(C1172=0,AND(MaxInput>1,N1172=INDEX(FFilter,AP$5))))","v":1},{"$f":"ABS(OR(C1172=0,AND(MaxInput>1,O1172=INDEX(FFilter,AQ$5))))","v":1},null,null,null,null,null,null,null,null,null,null,{"$f":"ROW()","v":1172}]
[1168,"",null,null,null,null,null,null,null,null,null,null,"",{"$f":"IF(C1176=0,\"\",INDEX(Objekt_Text,D1176+1,2))","v":""},{"$f":"IF(C1176=0,\"\",INDEX(Objekt_Text,D1176+1,3))","v":""},"","",{"$f":"INDEX(Visum_Liste,F1176+1)&\"\"","v":""},"","ZZ",0,0,0,0,0,0,3,"",{"$f":"MIN(IF(W1176=$W$9:$W$2128,$E$9:$E$2128))","v":0},{"$f":"MAX(IF(W1176=$W$9:$W$2128,$E$9:$E$2128))","v":0},1168,1,1,null,null,1,null,"ZZ00000","00ZZ000",null,{"$f":"ABS(OR(C1176=0,AND(MaxInput>1,M1176=INDEX(FFilter,AO$5))))","v":1},{"$f":"ABS(OR(C1176=0,AND(MaxInput>1,N1176=INDEX(FFilter,AP$5))))","v":1},{"$f":"ABS(OR(C1176=0,AND(MaxInput>1,O1176=INDEX(FFilter,AQ$5))))","v":1},null,null,null,null,null,null,null,null,null,null,{"$f":"ROW()","v":1176}]
[1171,"",null,null,null,null,null,null,null,null,null,null,"",{"$f":"IF(C1179=0,\"\",INDEX(Objekt_Text,D1179+1,2))","v":""},{"$f":"IF(C1179=0,\"\",INDEX(Objekt_Text,D1179+1,3))","v":""},"","",{"$f":"INDEX(Visum_Liste,F1179+1)&\"\"","v":""},"","ZZ",0,0,0,0,0,0,3,"",{"$f":"MIN(IF(W1179=$W$9:$W$2128,$E$9:$E$2128))","v":0},{"$f":"MAX(IF(W1179=$W$9:$W$2128,$E$9:$E$2128))","v":0},1171,1,1,null,null,1,null,"ZZ00000","00ZZ000",null,{"$f":"ABS(OR(C1179=0,AND(MaxInput>1,M1179=INDEX(FFilter,AO$5))))","v":1},{"$f":"ABS(OR(C1179=0,AND(MaxInput>1,N1179=INDEX(FFilter,AP$5))))","v":1},{"$f":"ABS(OR(C1179=0,AND(MaxInput>1,O1179=INDEX(FFilter,AQ$5))))","v":1},null,null,null,null,null,null,null,null,null,null,{"$f":"ROW()","v":1179}]
[1174,"",null,null,null,null,null,null,null,null,null,null,"",{"$f":"IF(C1182=0,\"\",INDEX(Objekt_Text,D1182+1,2))","v":""},{"$f":"IF(C1182=0,\"\",INDEX(Objekt_Text,D1182+1,3))","v":""},"","",{"$f":"INDEX(Visum_Liste,F1182+1)&\"\"","v":""},"","ZZ",0,0,0,0,0,0,3,"",{"$f":"MIN(IF(W1182=$W$9:$W$2128,$E$9:$E$2128))","v":0},{"$f":"MAX(IF(W1182=$W$9:$W$2128,$E$9:$E$2128))","v":0},1174,1,1,null,null,1,null,"ZZ00000","00ZZ000",null,{"$f":"ABS(OR(C1182=0,AND(MaxInput>1,M1182=INDEX(FFilter,AO$5))))","v":1},{"$f":"ABS(OR(C1182=0,AND(MaxInput>1,N1182=INDEX(FFilter,AP$5))))","v":1},{"$f":"ABS(OR(C1182=0,AND(MaxInput>1,O1182=INDEX(FFilter,AQ$5))))","v":1},null,null,null,null,null,null,null,null,null,null,{"$f":"ROW()","v":1182}]
[1175,"",null,null,null,null,null,null,null,null,null,null,"",{"$f":"IF(C1183=0,\"\",INDEX(Objekt_Text,D1183+1,2))","v":""},{"$f":"IF(C1183=0,\"\",INDEX(Objekt_Text,D1183+1,3))","v":""},"","",{"$f":"INDEX(Visum_Liste,F1183+1)&\"\"","v":""},"","ZZ",0,0,0,0,0,0,3,"",{"$f":"MIN(IF(W1183=$W$9:$W$2128,$E$9:$E$2128))","v":0},{"$f":"MAX(IF(W1183=$W$9:$W$2128,$E$9:$E$2128))","v":0},1175,1,1,null,null,1,null,"ZZ00000","00ZZ000",null,{"$f":"ABS(OR(C1183=0,AND(MaxInput>1,M1183=INDEX(FFilter,AO$5))))","v":1},{"$f":"ABS(OR(C1183=0,AND(MaxInput>1,N1183=INDEX(FFilter,AP$5))))","v":1},{"$f":"ABS(OR(C1183=0,AND(MaxInput>1,O1183=INDEX(FFilter,AQ$5))))","v":1},null,null,null,null,null,null,null,null,null,null,{"$f":"ROW()","v":1183}]
[1178,"",null,null,null,null,null,null,null,null,null,null,"",{"$f":"IF(C1186=0,\"\",INDEX(Objekt_Text,D1186+1,2))","v":""},{"$f":"IF(C1186=0,\"\",INDEX(Objekt_Text,D1186+1,3))","v":""},"","",{"$f":"INDEX(Visum_Liste,F1186+1)&\"\"","v":""},"","ZZ",0,0,0,0,0,0,3,"",{"$f":"MIN(IF(W1186=$W$9:$W$2128,$E$9:$E$2128))","v":0},{"$f":"MAX(IF(W1186=$W$9:$W$2128,$E$9:$E$2128))","v":0},1178,1,1,null,null,1,null,"ZZ00000","00ZZ000",null,{"$f":"ABS(OR(C1186=0,AND(MaxInput>1,M1186=INDEX(FFilter,AO$5))))","v":1},{"$f":"ABS(OR(C1186=0,AND(MaxInput>1,N1186=INDEX(FFilter,AP$5))))","v":1},{"$f":"ABS(OR(C1186=0,AND(MaxInput>1,O1186=INDEX(FFilter,AQ$5))))","v":1},null,null,null,null,null,null,null,null,null,null,{"$f":"ROW()","v":1186}]
[1182,"",null,null,null,null,null,null,null,null,null,null,"",{"$f":"IF(C1190=0,\"\",INDEX(Objekt_Text,D1190+1,2))","v":""},{"$f":"IF(C1190=0,\"\",INDEX(Objekt_Text,D1190+1,3))","v":""},"","",{"$f":"INDEX(Visum_Liste,F1190+1)&\"\"","v":""},"","ZZ",0,0,0,0,0,0,3,"",{"$f":"MIN(IF(W1190=$W$9:$W$2128,$E$9:$E$2128))","v":0},{"$f":"MAX(IF(W1190=$W$9:$W$2128,$E$9:$E$2128))","v":0},1182,1,1,null,null,1,null,"ZZ00000","00ZZ000",null,{"$f":"ABS(OR(C1190=0,AND(MaxInput>1,M1190=INDEX(FFilter,AO$5))))","v":1},{"$f":"ABS(OR(C1190=0,AND(MaxInput>1,N1190=INDEX(FFilter,AP$5))))","v":1},{"$f":"ABS(OR(C1190=0,AND(MaxInput>1,O1190=INDEX(FFilter,AQ$5))))","v":1},null,null,null,null,null,null,null,null,null,null,{"$f":"ROW()","v":1190}]
[1185,"",null,null,null,null,null,null,null,null,null,null,"",{"$f":"IF(C1193=0,\"\",INDEX(Objekt_Text,D1193+1,2))","v":""},{"$f":"IF(C1193=0,\"\",INDEX(Objekt_Text,D1193+1,3))","v":""},"","",{"$f":"INDEX(Visum_Liste,F1193+1)&\"\"","v":""},"","ZZ",0,0,0,0,0,0,3,"",{"$f":"MIN(IF(W1193=$W$9:$W$2128,$E$9:$E$2128))","v":0},{"$f":"MAX(IF(W1193=$W$9:$W$2128,$E$9:$E$2128))","v":0},1185,1,1,null,null,1,null,"ZZ00000","00ZZ000",null,{"$f":"ABS(OR(C1193=0,AND(MaxInput>1,M1193=INDEX(FFilter,AO$5))))","v":1},{"$f":"ABS(OR(C1193=0,AND(MaxInput>1,N1193=INDEX(FFilter,AP$5))))","v":1},{"$f":"ABS(OR(C1193=0,AND(MaxInput>1,O1193=INDEX(FFilter,AQ$5))))","v":1},null,null,null,null,null,null,null,null,null,null,{"$f":"ROW()","v":1193}]
[1188,"",null,null,null,null,null,null,null,null,null,null,"",{"$f":"IF(C1196=0,\"\",INDEX(Objekt_Text,D1196+1,2))","v":""},{"$f":"IF(C1196=0,\"\",INDEX(Objekt_Text,D1196+1,3))","v":""},"","",{"$f":"INDEX(Visum_Liste,F1196+1)&\"\"","v":""},"","ZZ",0,0,0,0,0,0,3,"",{"$f":"MIN(IF(W1196=$W$9:$W$2128,$E$9:$E$2128))","v":0},{"$f":"MAX(IF(W1196=$W$9:$W$2128,$E$9:$E$2128))","v":0},1188,1,1,null,null,1,null,"ZZ00000","00ZZ000",null,{"$f":"ABS(OR(C1196=0,AND(MaxInput>1,M1196=INDEX(FFilter,AO$5))))","v":1},{"$f":"ABS(OR(C1196=0,AND(MaxInput>1,N1196=INDEX(FFilter,AP$5))))","v":1},{"$f":"ABS(OR(C1196=0,AND(MaxInput>1,O1196=INDEX(FFilter,AQ$5))))","v":1},null,null,null,null,null,null,null,null,null,null,{"$f":"ROW()","v":1196}]
[1192,"",null,null,null,null,null,null,null,null,null,null,"",{"$f":"IF(C1200=0,\"\",INDEX(Objekt_Text,D1200+1,2))","v":""},{"$f":"IF(C1200=0,\"\",INDEX(Objekt_Text,D1200+1,3))","v":""},"","",{"$f":"INDEX(Visum_Liste,F1200+1)&\"\"","v":""},"","ZZ",0,0,0,0,0,0,3,"",{"$f":"MIN(IF(W1200=$W$9:$W$2128,$E$9:$E$2128))","v":0},{"$f":"MAX(IF(W1200=$W$9:$W$2128,$E$9:$E$2128))","v":0},1192,1,1,null,null,1,null,"ZZ00000","00ZZ000",null,{"$f":"ABS(OR(C1200=0,AND(MaxInput>1,M1200=INDEX(FFilter,AO$5))))","v":1},{"$f":"ABS(OR(C1200=0,AND(MaxInput>1,N1200=INDEX(FFilter,AP$5))))","v":1},{"$f":"ABS(OR(C1200=0,AND(MaxInput>1,O1200=INDEX(FFilter,AQ$5))))","v":1},null,null,null,null,null,null,null,null,null,null,{"$f":"ROW()","v":1200}]
[1195,"",null,null,null,null,null,null,null,null,null,null,"",{"$f":"IF(C1203=0,\"\",INDEX(Objekt_Text,D1203+1,2))","v":""},{"$f":"IF(C1203=0,\"\",INDEX(Objekt_Text,D1203+1,3))","v":""},"","",{"$f":"INDEX(Visum_Liste,F1203+1)&\"\"","v":""},"","ZZ",0,0,0,0,0,0,3,"",{"$f":"MIN(IF(W1203=$W$9:$W$2128,$E$9:$E$2128))","v":0},{"$f":"MAX(IF(W1203=$W$9:$W$2128,$E$9:$E$2128))","v":0},1195,1,1,null,null,1,null,"ZZ00000","00ZZ000",null,{"$f":"ABS(OR(C1203=0,AND(MaxInput>1,M1203=INDEX(FFilter,AO$5))))","v":1},{"$f":"ABS(OR(C1203=0,AND(MaxInput>1,N1203=INDEX(FFilter,AP$5))))","v":1},{"$f":"ABS(OR(C1203=0,AND(MaxInput>1,O1203=INDEX(FFilter,AQ$5))))","v":1},null,null,null,null,null,null,null,null,null,null,{"$f":"ROW()","v":1203}]
[1198,"",null,null,null,null,null,null,null,null,null,null,"",{"$f":"IF(C1206=0,\"\",INDEX(Objekt_Text,D1206+1,2))","v":""},{"$f":"IF(C1206=0,\"\",INDEX(Objekt_Text,D1206+1,3))","v":""},"","",{"$f":"INDEX(Visum_Liste,F1206+1)&\"\"","v":""},"","ZZ",0,0,0,0,0,0,3,"",{"$f":"MIN(IF(W1206=$W$9:$W$2128,$E$9:$E$2128))","v":0},{"$f":"MAX(IF(W1206=$W$9:$W$2128,$E$9:$E$2128))","v":0},1198,1,1,null,null,1,null,"ZZ00000","00ZZ000",null,{"$f":"ABS(OR(C1206=0,AND(MaxInput>1,M1206=INDEX(FFilter,AO$5))))","v":1},{"$f":"ABS(OR(C1206=0,AND(MaxInput>1,N1206=INDEX(FFilter,AP$5))))","v":1},{"$f":"ABS(OR(C1206=0,AND(MaxInput>1,O1206=INDEX(FFilter,AQ$5))))","v":1},null,null,null,null,null,null,null,null,null,null,{"$f":"ROW()","v":1206}]
[1199,"",null,null,null,null,null,null,null,null,null,null,"",{"$f":"IF(C1207=0,\"\",INDEX(Objekt_Text,D1207+1,2))","v":""},{"$f":"IF(C1207=0,\"\",INDEX(Objekt_Text,D1207+1,3))","v":""},"","",{"$f":"INDEX(Visum_Liste,F1207+1)&\"\"","v":""},"","ZZ",0,0,0,0,0,0,3,"",{"$f":"MIN(IF(W1207=$W$9:$W$2128,$E$9:$E$2128))","v":0},{"$f":"MAX(IF(W1207=$W$9:$W$2128,$E$9:$E$2128))","v":0},1199,1,1,null,null,1,null,"ZZ00000","00ZZ000",null,{"$f":"ABS(OR(C1207=0,AND(MaxInput>1,M1207=INDEX(FFilter,AO$5))))","v":1},{"$f":"ABS(OR(C1207=0,AND(MaxInput>1,N1207=INDEX(FFilter,AP$5))))","v":1},{"$f":"ABS(OR(C1207=0,AND(MaxInput>1,O1207=INDEX(FFilter,AQ$5))))","v":1},null,null,null,null,null,null,null,null,null,null,{"$f":"ROW()","v":1207}]
[1202,"",null,null,null,null,null,null,null,null,null,null,"",{"$f":"IF(C1210=0,\"\",INDEX(Objekt_Text,D1210+1,2))","v":""},{"$f":"IF(C1210=0,\"\",INDEX(Objekt_Text,D1210+1,3))","v":""},"","",{"$f":"INDEX(Visum_Liste,F1210+1)&\"\"","v":""},"","ZZ",0,0,0,0,0,0,3,"",{"$f":"MIN(IF(W1210=$W$9:$W$2128,$E$9:$E$2128))","v":0},{"$f":"MAX(IF(W1210=$W$9:$W$2128,$E$9:$E$2128))","v":0},1202,1,1,null,null,1,null,"ZZ00000","00ZZ000",null,{"$f":"ABS(OR(C1210=0,AND(MaxInput>1,M1210=INDEX(FFilter,AO$5))))","v":1},{"$f":"ABS(OR(C1210=0,AND(MaxInput>1,N1210=INDEX(FFilter,AP$5))))","v":1},{"$f":"ABS(OR(C1210=0,AND(MaxInput>1,O1210=INDEX(FFilter,AQ$5))))","v":1},null,null,null,null,null,null,null,null,null,null,{"$f":"ROW()","v":1210}]
[1206,"",null,null,null,null,null,null,null,null,null,null,"",{"$f":"IF(C1214=0,\"\",INDEX(Objekt_Text,D1214+1,2))","v":""},{"$f":"IF(C1214=0,\"\",INDEX(Objekt_Text,D1214+1,3))","v":""},"","",{"$f":"INDEX(Visum_Liste,F1214+1)&\"\"","v":""},"","ZZ",0,0,0,0,0,0,3,"",{"$f":"MIN(IF(W1214=$W$9:$W$2128,$E$9:$E$2128))","v":0},{"$f":"MAX(IF(W1214=$W$9:$W$2128,$E$9:$E$2128))","v":0},1206,1,1,null,null,1,null,"ZZ00000","00ZZ000",null,{"$f":"ABS(OR(C1214=0,AND(MaxInput>1,M1214=INDEX(FFilter,AO$5))))","v":1},{"$f":"ABS(OR(C1214=0,AND(MaxInput>1,N1214=INDEX(FFilter,AP$5))))","v":1},{"$f":"ABS(OR(C1214=0,AND(MaxInput>1,O1214=INDEX(FFilter,AQ$5))))","v":1},null,null,null,null,null,null,null,null,null,null,{"$f":"ROW()","v":1214}]
[1209,"",null,null,null,null,null,null,null,null,null,null,"",{"$f":"IF(C1217=0,\"\",INDEX(Objekt_Text,D1217+1,2))","v":""},{"$f":"IF(C1217=0,\"\",INDEX(Objekt_Text,D1217+1,3))","v":""},"","",{"$f":"INDEX(Visum_Liste,F1217+1)&\"\"","v":""},"","ZZ",0,0,0,0,0,0,3,"",{"$f":"MIN(IF(W1217=$W$9:$W$2128,$E$9:$E$2128))","v":0},{"$f":"MAX(IF(W1217=$W$9:$W$2128,$E$9:$E$2128))","v":0},1209,1,1,null,null,1,null,"ZZ00000","00ZZ000",null,{"$f":"ABS(OR(C1217=0,AND(MaxInput>1,M1217=INDEX(FFilter,AO$5))))","v":1},{"$f":"ABS(OR(C1217=0,AND(MaxInput>1,N1217=INDEX(FFilter,AP$5))))","v":1},{"$f":"ABS(OR(C1217=0,AND(MaxInput>1,O1217=INDEX(FFilter,AQ$5))))","v":1},null,null,null,null,null,null,null,null,null,null,{"$f":"ROW()","v":1217}]
[1212,"",null,null,null,null,null,null,null,null,null,null,"",{"$f":"IF(C1220=0,\"\",INDEX(Objekt_Text,D1220+1,2))","v":""},{"$f":"IF(C1220=0,\"\",INDEX(Objekt_Text,D1220+1,3))","v":""},"","",{"$f":"INDEX(Visum_Liste,F1220+1)&\"\"","v":""},"","ZZ",0,0,0,0,0,0,3,"",{"$f":"MIN(IF(W1220=$W$9:$W$2128,$E$9:$E$2128))","v":0},{"$f":"MAX(IF(W1220=$W$9:$W$2128,$E$9:$E$2128))","v":0},1212,1,1,null,null,1,null,"ZZ00000","00ZZ000",null,{"$f":"ABS(OR(C1220=0,AND(MaxInput>1,M1220=INDEX(FFilter,AO$5))))","v":1},{"$f":"ABS(OR(C1220=0,AND(MaxInput>1,N1220=INDEX(FFilter,AP$5))))","v":1},{"$f":"ABS(OR(C1220=0,AND(MaxInput>1,O1220=INDEX(FFilter,AQ$5))))","v":1},null,null,null,null,null,null,null,null,null,null,{"$f":"ROW()","v":1220}]
[1216,"",null,null,null,null,null,null,null,null,null,null,"",{"$f":"IF(C1224=0,\"\",INDEX(Objekt_Text,D1224+1,2))","v":""},{"$f":"IF(C1224=0,\"\",INDEX(Objekt_Text,D1224+1,3))","v":""},"","",{"$f":"INDEX(Visum_Liste,F1224+1)&\"\"","v":""},"","ZZ",0,0,0,0,0,0,3,"",{"$f":"MIN(IF(W1224=$W$9:$W$2128,$E$9:$E$2128))","v":0},{"$f":"MAX(IF(W1224=$W$9:$W$2128,$E$9:$E$2128))","v":0},1216,1,1,null,null,1,null,"ZZ00000","00ZZ000",null,{"$f":"ABS(OR(C1224=0,AND(MaxInput>1,M1224=INDEX(FFilter,AO$5))))","v":1},{"$f":"ABS(OR(C1224=0,AND(MaxInput>1,N1224=INDEX(FFilter,AP$5))))","v":1},{"$f":"ABS(OR(C1224=0,AND(MaxInput>1,O1224=INDEX(FFilter,AQ$5))))","v":1},null,null,null,null,null,null,null,null,null,null,{"$f":"ROW()","v":1224}]
[1219,"",null,null,null,null,null,null,null,null,null,null,"",{"$f":"IF(C1227=0,\"\",INDEX(Objekt_Text,D1227+1,2))","v":""},{"$f":"IF(C1227=0,\"\",INDEX(Objekt_Text,D1227+1,3))","v":""},"","",{"$f":"INDEX(Visum_Liste,F1227+1)&\"\"","v":""},"","ZZ",0,0,0,0,0,0,3,"",{"$f":"MIN(IF(W1227=$W$9:$W$2128,$E$9:$E$2128))","v":0},{"$f":"MAX(IF(W1227=$W$9:$W$2128,$E$9:$E$2128))","v":0},1219,1,1,null,null,1,null,"ZZ00000","00ZZ000",null,{"$f":"ABS(OR(C1227=0,AND(MaxInput>1,M1227=INDEX(FFilter,AO$5))))","v":1},{"$f":"ABS(OR(C1227=0,AND(MaxInput>1,N1227=INDEX(FFilter,AP$5))))","v":1},{"$f":"ABS(OR(C1227=0,AND(MaxInput>1,O1227=INDEX(FFilter,AQ$5))))","v":1},null,null,null,null,null,null,null,null,null,null,{"$f":"ROW()","v":1227}]
[1220,"",null,null,null,null,null,null,null,null,null,null,"",{"$f":"IF(C1228=0,\"\",INDEX(Objekt_Text,D1228+1,2))","v":""},{"$f":"IF(C1228=0,\"\",INDEX(Objekt_Text,D1228+1,3))","v":""},"","",{"$f":"INDEX(Visum_Liste,F1228+1)&\"\"","v":""},"","ZZ",0,0,0,0,0,0,3,"",{"$f":"MIN(IF(W1228=$W$9:$W$2128,$E$9:$E$2128))","v":0},{"$f":"MAX(IF(W1228=$W$9:$W$2128,$E$9:$E$2128))","v":0},1220,1,1,null,null,1,null,"ZZ00000","00ZZ000",null,{"$f":"ABS(OR(C1228=0,AND(MaxInput>1,M1228=INDEX(FFilter,AO$5))))","v":1},{"$f":"ABS(OR(C1228=0,AND(MaxInput>1,N1228=INDEX(FFilter,AP$5))))","v":1},{"$f":"ABS(OR(C1228=0,AND(MaxInput>1,O1228=INDEX(FFilter,AQ$5))))","v":1},null,null,null,null,null,null,null,null,null,null,{"$f":"ROW()","v":1228}]
[1223,"",null,null,null,null,null,null,null,null,null,null,"",{"$f":"IF(C1231=0,\"\",INDEX(Objekt_Text,D1231+1,2))","v":""},{"$f":"IF(C1231=0,\"\",INDEX(Objekt_Text,D1231+1,3))","v":""},"","",{"$f":"INDEX(Visum_Liste,F1231+1)&\"\"","v":""},"","ZZ",0,0,0,0,0,0,3,"",{"$f":"MIN(IF(W1231=$W$9:$W$2128,$E$9:$E$2128))","v":0},{"$f":"MAX(IF(W1231=$W$9:$W$2128,$E$9:$E$2128))","v":0},1223,1,1,null,null,1,null,"ZZ00000","00ZZ000",null,{"$f":"ABS(OR(C1231=0,AND(MaxInput>1,M1231=INDEX(FFilter,AO$5))))","v":1},{"$f":"ABS(OR(C1231=0,AND(MaxInput>1,N1231=INDEX(FFilter,AP$5))))","v":1},{"$f":"ABS(OR(C1231=0,AND(MaxInput>1,O1231=INDEX(FFilter,AQ$5))))","v":1},null,null,null,null,null,null,null,null,null,null,{"$f":"ROW()","v":1231}]
[1226,"",null,null,null,null,null,null,null,null,null,null,"",{"$f":"IF(C1234=0,\"\",INDEX(Objekt_Text,D1234+1,2))","v":""},{"$f":"IF(C1234=0,\"\",INDEX(Objekt_Text,D1234+1,3))","v":""},"","",{"$f":"INDEX(Visum_Liste,F1234+1)&\"\"","v":""},"","ZZ",0,0,0,0,0,0,3,"",{"$f":"MIN(IF(W1234=$W$9:$W$2128,$E$9:$E$2128))","v":0},{"$f":"MAX(IF(W1234=$W$9:$W$2128,$E$9:$E$2128))","v":0},1226,1,1,null,null,1,null,"ZZ00000","00ZZ000",null,{"$f":"ABS(OR(C1234=0,AND(MaxInput>1,M1234=INDEX(FFilter,AO$5))))","v":1},{"$f":"ABS(OR(C1234=0,AND(MaxInput>1,N1234=INDEX(FFilter,AP$5))))","v":1},{"$f":"ABS(OR(C1234=0,AND(MaxInput>1,O1234=INDEX(FFilter,AQ$5))))","v":1},null,null,null,null,null,null,null,null,null,null,{"$f":"ROW()","v":1234}]
[1230,"",null,null,null,null,null,null,null,null,null,null,"",{"$f":"IF(C1238=0,\"\",INDEX(Objekt_Text,D1238+1,2))","v":""},{"$f":"IF(C1238=0,\"\",INDEX(Objekt_Text,D1238+1,3))","v":""},"","",{"$f":"INDEX(Visum_Liste,F1238+1)&\"\"","v":""},"","ZZ",0,0,0,0,0,0,3,"",{"$f":"MIN(IF(W1238=$W$9:$W$2128,$E$9:$E$2128))","v":0},{"$f":"MAX(IF(W1238=$W$9:$W$2128,$E$9:$E$2128))","v":0},1230,1,1,null,null,1,null,"ZZ00000","00ZZ000",null,{"$f":"ABS(OR(C1238=0,AND(MaxInput>1,M1238=INDEX(FFilter,AO$5))))","v":1},{"$f":"ABS(OR(C1238=0,AND(MaxInput>1,N1238=INDEX(FFilter,AP$5))))","v":1},{"$f":"ABS(OR(C1238=0,AND(MaxInput>1,O1238=INDEX(FFilter,AQ$5))))","v":1},null,null,null,null,null,null,null,null,null,null,{"$f":"ROW()","v":1238}]
[1233,"",null,null,null,null,null,null,null,null,null,null,"",{"$f":"IF(C1241=0,\"\",INDEX(Objekt_Text,D1241+1,2))","v":""},{"$f":"IF(C1241=0,\"\",INDEX(Objekt_Text,D1241+1,3))","v":""},"","",{"$f":"INDEX(Visum_Liste,F1241+1)&\"\"","v":""},"","ZZ",0,0,0,0,0,0,3,"",{"$f":"MIN(IF(W1241=$W$9:$W$2128,$E$9:$E$2128))","v":0},{"$f":"MAX(IF(W1241=$W$9:$W$2128,$E$9:$E$2128))","v":0},1233,1,1,null,null,1,null,"ZZ00000","00ZZ000",null,{"$f":"ABS(OR(C1241=0,AND(MaxInput>1,M1241=INDEX(FFilter,AO$5))))","v":1},{"$f":"ABS(OR(C1241=0,AND(MaxInput>1,N1241=INDEX(FFilter,AP$5))))","v":1},{"$f":"ABS(OR(C1241=0,AND(MaxInput>1,O1241=INDEX(FFilter,AQ$5))))","v":1},null,null,null,null,null,null,null,null,null,null,{"$f":"ROW()","v":1241}]
[1236,"",null,null,null,null,null,null,null,null,null,null,"",{"$f":"IF(C1244=0,\"\",INDEX(Objekt_Text,D1244+1,2))","v":""},{"$f":"IF(C1244=0,\"\",INDEX(Objekt_Text,D1244+1,3))","v":""},"","",{"$f":"INDEX(Visum_Liste,F1244+1)&\"\"","v":""},"","ZZ",0,0,0,0,0,0,3,"",{"$f":"MIN(IF(W1244=$W$9:$W$2128,$E$9:$E$2128))","v":0},{"$f":"MAX(IF(W1244=$W$9:$W$2128,$E$9:$E$2128))","v":0},1236,1,1,null,null,1,null,"ZZ00000","00ZZ000",null,{"$f":"ABS(OR(C1244=0,AND(MaxInput>1,M1244=INDEX(FFilter,AO$5))))","v":1},{"$f":"ABS(OR(C1244=0,AND(MaxInput>1,N1244=INDEX(FFilter,AP$5))))","v":1},{"$f":"ABS(OR(C1244=0,AND(MaxInput>1,O1244=INDEX(FFilter,AQ$5))))","v":1},null,null,null,null,null,null,null,null,null,null,{"$f":"ROW()","v":1244}]
[1240,"",null,null,null,null,null,null,null,null,null,null,"",{"$f":"IF(C1248=0,\"\",INDEX(Objekt_Text,D1248+1,2))","v":""},{"$f":"IF(C1248=0,\"\",INDEX(Objekt_Text,D1248+1,3))","v":""},"","",{"$f":"INDEX(Visum_Liste,F1248+1)&\"\"","v":""},"","ZZ",0,0,0,0,0,0,3,"",{"$f":"MIN(IF(W1248=$W$9:$W$2128,$E$9:$E$2128))","v":0},{"$f":"MAX(IF(W1248=$W$9:$W$2128,$E$9:$E$2128))","v":0},1240,1,1,null,null,1,null,"ZZ00000","00ZZ000",null,{"$f":"ABS(OR(C1248=0,AND(MaxInput>1,M1248=INDEX(FFilter,AO$5))))","v":1},{"$f":"ABS(OR(C1248=0,AND(MaxInput>1,N1248=INDEX(FFilter,AP$5))))","v":1},{"$f":"ABS(OR(C1248=0,AND(MaxInput>1,O1248=INDEX(FFilter,AQ$5))))","v":1},null,null,null,null,null,null,null,null,null,null,{"$f":"ROW()","v":1248}]
[1243,"",null,null,null,null,null,null,null,null,null,null,"",{"$f":"IF(C1251=0,\"\",INDEX(Objekt_Text,D1251+1,2))","v":""},{"$f":"IF(C1251=0,\"\",INDEX(Objekt_Text,D1251+1,3))","v":""},"","",{"$f":"INDEX(Visum_Liste,F1251+1)&\"\"","v":""},"","ZZ",0,0,0,0,0,0,3,"",{"$f":"MIN(IF(W1251=$W$9:$W$2128,$E$9:$E$2128))","v":0},{"$f":"MAX(IF(W1251=$W$9:$W$2128,$E$9:$E$2128))","v":0},1243,1,1,null,null,1,null,"ZZ00000","00ZZ000",null,{"$f":"ABS(OR(C1251=0,AND(MaxInput>1,M1251=INDEX(FFilter,AO$5))))","v":1},{"$f":"ABS(OR(C1251=0,AND(MaxInput>1,N1251=INDEX(FFilter,AP$5))))","v":1},{"$f":"ABS(OR(C1251=0,AND(MaxInput>1,O1251=INDEX(FFilter,AQ$5))))","v":1},null,null,null,null,null,null,null,null,null,null,{"$f":"ROW()","v":1251}]
[1246,"",null,null,null,null,null,null,null,null,null,null,"",{"$f":"IF(C1254=0,\"\",INDEX(Objekt_Text,D1254+1,2))","v":""},{"$f":"IF(C1254=0,\"\",INDEX(Objekt_Text,D1254+1,3))","v":""},"","",{"$f":"INDEX(Visum_Liste,F1254+1)&\"\"","v":""},"","ZZ",0,0,0,0,0,0,3,"",{"$f":"MIN(IF(W1254=$W$9:$W$2128,$E$9:$E$2128))","v":0},{"$f":"MAX(IF(W1254=$W$9:$W$2128,$E$9:$E$2128))","v":0},1246,1,1,null,null,1,null,"ZZ00000","00ZZ000",null,{"$f":"ABS(OR(C1254=0,AND(MaxInput>1,M1254=INDEX(FFilter,AO$5))))","v":1},{"$f":"ABS(OR(C1254=0,AND(MaxInput>1,N1254=INDEX(FFilter,AP$5))))","v":1},{"$f":"ABS(OR(C1254=0,AND(MaxInput>1,O1254=INDEX(FFilter,AQ$5))))","v":1},null,null,null,null,null,null,null,null,null,null,{"$f":"ROW()","v":1254}]
[1248,"",null,null,null,null,null,null,null,null,null,null,"",{"$f":"IF(C1256=0,\"\",INDEX(Objekt_Text,D1256+1,2))","v":""},{"$f":"IF(C1256=0,\"\",INDEX(Objekt_Text,D1256+1,3))","v":""},"","",{"$f":"INDEX(Visum_Liste,F1256+1)&\"\"","v":""},"","ZZ",0,0,0,0,0,0,3,"",{"$f":"MIN(IF(W1256=$W$9:$W$2128,$E$9:$E$2128))","v":0},{"$f":"MAX(IF(W1256=$W$9:$W$2128,$E$9:$E$2128))","v":0},1248,1,1,null,null,1,null,"ZZ00000","00ZZ000",null,{"$f":"ABS(OR(C1256=0,AND(MaxInput>1,M1256=INDEX(FFilter,AO$5))))","v":1},{"$f":"ABS(OR(C1256=0,AND(MaxInput>1,N1256=INDEX(FFilter,AP$5))))","v":1},{"$f":"ABS(OR(C1256=0,AND(MaxInput>1,O1256=INDEX(FFilter,AQ$5))))","v":1},null,null,null,null,null,null,null,null,null,null,{"$f":"ROW()","v":1256}]
[1251,"",null,null,null,null,null,null,null,null,null,null,"",{"$f":"IF(C1259=0,\"\",INDEX(Objekt_Text,D1259+1,2))","v":""},{"$f":"IF(C1259=0,\"\",INDEX(Objekt_Text,D1259+1,3))","v":""},"","",{"$f":"INDEX(Visum_Liste,F1259+1)&\"\"","v":""},"","ZZ",0,0,0,0,0,0,3,"",{"$f":"MIN(IF(W1259=$W$9:$W$2128,$E$9:$E$2128))","v":0},{"$f":"MAX(IF(W1259=$W$9:$W$2128,$E$9:$E$2128))","v":0},1251,1,1,null,null,1,null,"ZZ00000","00ZZ000",null,{"$f":"ABS(OR(C1259=0,AND(MaxInput>1,M1259=INDEX(FFilter,AO$5))))","v":1},{"$f":"ABS(OR(C1259=0,AND(MaxInput>1,N1259=INDEX(FFilter,AP$5))))","v":1},{"$f":"ABS(OR(C1259=0,AND(MaxInput>1,O1259=INDEX(FFilter,AQ$5))))","v":1},null,null,null,null,null,null,null,null,null,null,{"$f":"ROW()","v":1259}]
[1255,"",null,null,null,null,null,null,null,null,null,null,"",{"$f":"IF(C1263=0,\"\",INDEX(Objekt_Text,D1263+1,2))","v":""},{"$f":"IF(C1263=0,\"\",INDEX(Objekt_Text,D1263+1,3))","v":""},"","",{"$f":"INDEX(Visum_Liste,F1263+1)&\"\"","v":""},"","ZZ",0,0,0,0,0,0,3,"",{"$f":"MIN(IF(W1263=$W$9:$W$2128,$E$9:$E$2128))","v":0},{"$f":"MAX(IF(W1263=$W$9:$W$2128,$E$9:$E$2128))","v":0},1255,1,1,null,null,1,null,"ZZ00000","00ZZ000",null,{"$f":"ABS(OR(C1263=0,AND(MaxInput>1,M1263=INDEX(FFilter,AO$5))))","v":1},{"$f":"ABS(OR(C1263=0,AND(MaxInput>1,N1263=INDEX(FFilter,AP$5))))","v":1},{"$f":"ABS(OR(C1263=0,AND(MaxInput>1,O1263=INDEX(FFilter,AQ$5))))","v":1},null,null,null,null,null,null,null,null,null,null,{"$f":"ROW()","v":1263}]
[1258,"",null,null,null,null,null,null,null,null,null,null,"",{"$f":"IF(C1266=0,\"\",INDEX(Objekt_Text,D1266+1,2))","v":""},{"$f":"IF(C1266=0,\"\",INDEX(Objekt_Text,D1266+1,3))","v":""},"","",{"$f":"INDEX(Visum_Liste,F1266+1)&\"\"","v":""},"","ZZ",0,0,0,0,0,0,3,"",{"$f":"MIN(IF(W1266=$W$9:$W$2128,$E$9:$E$2128))","v":0},{"$f":"MAX(IF(W1266=$W$9:$W$2128,$E$9:$E$2128))","v":0},1258,1,1,null,null,1,null,"ZZ00000","00ZZ000",null,{"$f":"ABS(OR(C1266=0,AND(MaxInput>1,M1266=INDEX(FFilter,AO$5))))","v":1},{"$f":"ABS(OR(C1266=0,AND(MaxInput>1,N1266=INDEX(FFilter,AP$5))))","v":1},{"$f":"ABS(OR(C1266=0,AND(MaxInput>1,O1266=INDEX(FFilter,AQ$5))))","v":1},null,null,null,null,null,null,null,null,null,null,{"$f":"ROW()","v":1266}]
[1262,"",null,null,null,null,null,null,null,null,null,null,"",{"$f":"IF(C1270=0,\"\",INDEX(Objekt_Text,D1270+1,2))","v":""},{"$f":"IF(C1270=0,\"\",INDEX(Objekt_Text,D1270+1,3))","v":""},"","",{"$f":"INDEX(Visum_Liste,F1270+1)&\"\"","v":""},"","ZZ",0,0,0,0,0,0,3,"",{"$f":"MIN(IF(W1270=$W$9:$W$2128,$E$9:$E$2128))","v":0},{"$f":"MAX(IF(W1270=$W$9:$W$2128,$E$9:$E$2128))","v":0},1262,1,1,null,null,1,null,"ZZ00000","00ZZ000",null,{"$f":"ABS(OR(C1270=0,AND(MaxInput>1,M1270=INDEX(FFilter,AO$5))))","v":1},{"$f":"ABS(OR(C1270=0,AND(MaxInput>1,N1270=INDEX(FFilter,AP$5))))","v":1},{"$f":"ABS(OR(C1270=0,AND(MaxInput>1,O1270=INDEX(FFilter,AQ$5))))","v":1},null,null,null,null,null,null,null,null,null,null,{"$f":"ROW()","v":1270}]
[1265,"",null,null,null,null,null,null,null,null,null,null,"",{"$f":"IF(C1273=0,\"\",INDEX(Objekt_Text,D1273+1,2))","v":""},{"$f":"IF(C1273=0,\"\",INDEX(Objekt_Text,D1273+1,3))","v":""},"","",{"$f":"INDEX(Visum_Liste,F1273+1)&\"\"","v":""},"","ZZ",0,0,0,0,0,0,3,"",{"$f":"MIN(IF(W1273=$W$9:$W$2128,$E$9:$E$2128))","v":0},{"$f":"MAX(IF(W1273=$W$9:$W$2128,$E$9:$E$2128))","v":0},1265,1,1,null,null,1,null,"ZZ00000","00ZZ000",null,{"$f":"ABS(OR(C1273=0,AND(MaxInput>1,M1273=INDEX(FFilter,AO$5))))","v":1},{"$f":"ABS(OR(C1273=0,AND(MaxInput>1,N1273=INDEX(FFilter,AP$5))))","v":1},{"$f":"ABS(OR(C1273=0,AND(MaxInput>1,O1273=INDEX(FFilter,AQ$5))))","v":1},null,null,null,null,null,null,null,null,null,null,{"$f":"ROW()","v":1273}]
[1268,"",null,null,null,null,null,null,null,null,null,null,"",{"$f":"IF(C1276=0,\"\",INDEX(Objekt_Text,D1276+1,2))","v":""},{"$f":"IF(C1276=0,\"\",INDEX(Objekt_Text,D1276+1,3))","v":""},"","",{"$f":"INDEX(Visum_Liste,F1276+1)&\"\"","v":""},"","ZZ",0,0,0,0,0,0,3,"",{"$f":"MIN(IF(W1276=$W$9:$W$2128,$E$9:$E$2128))","v":0},{"$f":"MAX(IF(W1276=$W$9:$W$2128,$E$9:$E$2128))","v":0},1268,1,1,null,null,1,null,"ZZ00000","00ZZ000",null,{"$f":"ABS(OR(C1276=0,AND(MaxInput>1,M1276=INDEX(FFilter,AO$5))))","v":1},{"$f":"ABS(OR(C1276=0,AND(MaxInput>1,N1276=INDEX(FFilter,AP$5))))","v":1},{"$f":"ABS(OR(C1276=0,AND(MaxInput>1,O1276=INDEX(FFilter,AQ$5))))","v":1},null,null,null,null,null,null,null,null,null,null,{"$f":"ROW()","v":1276}]
[1269,"",null,null,null,null,null,null,null,null,null,null,"",{"$f":"IF(C1277=0,\"\",INDEX(Objekt_Text,D1277+1,2))","v":""},{"$f":"IF(C1277=0,\"\",INDEX(Objekt_Text,D1277+1,3))","v":""},"","",{"$f":"INDEX(Visum_Liste,F1277+1)&\"\"","v":""},"","ZZ",0,0,0,0,0,0,3,"",{"$f":"MIN(IF(W1277=$W$9:$W$2128,$E$9:$E$2128))","v":0},{"$f":"MAX(IF(W1277=$W$9:$W$2128,$E$9:$E$2128))","v":0},1269,1,1,null,null,1,null,"ZZ00000","00ZZ000",null,{"$f":"ABS(OR(C1277=0,AND(MaxInput>1,M1277=INDEX(FFilter,AO$5))))","v":1},{"$f":"ABS(OR(C1277=0,AND(MaxInput>1,N1277=INDEX(FFilter,AP$5))))","v":1},{"$f":"ABS(OR(C1277=0,AND(MaxInput>1,O1277=INDEX(FFilter,AQ$5))))","v":1},null,null,null,null,null,null,null,null,null,null,{"$f":"ROW()","v":1277}]
[1272,"",null,null,null,null,null,null,null,null,null,null,"",{"$f":"IF(C1280=0,\"\",INDEX(Objekt_Text,D1280+1,2))","v":""},{"$f":"IF(C1280=0,\"\",INDEX(Objekt_Text,D1280+1,3))","v":""},"","",{"$f":"INDEX(Visum_Liste,F1280+1)&\"\"","v":""},"","ZZ",0,0,0,0,0,0,3,"",{"$f":"MIN(IF(W1280=$W$9:$W$2128,$E$9:$E$2128))","v":0},{"$f":"MAX(IF(W1280=$W$9:$W$2128,$E$9:$E$2128))","v":0},1272,1,1,null,null,1,null,"ZZ00000","00ZZ000",null,{"$f":"ABS(OR(C1280=0,AND(MaxInput>1,M1280=INDEX(FFilter,AO$5))))","v":1},{"$f":"ABS(OR(C1280=0,AND(MaxInput>1,N1280=INDEX(FFilter,AP$5))))","v":1},{"$f":"ABS(OR(C1280=0,AND(MaxInput>1,O1280=INDEX(FFilter,AQ$5))))","v":1},null,null,null,null,null,null,null,null,null,null,{"$f":"ROW()","v":1280}]
[1275,"",null,null,null,null,null,null,null,null,null,null,"",{"$f":"IF(C1283=0,\"\",INDEX(Objekt_Text,D1283+1,2))","v":""},{"$f":"IF(C1283=0,\"\",INDEX(Objekt_Text,D1283+1,3))","v":""},"","",{"$f":"INDEX(Visum_Liste,F1283+1)&\"\"","v":""},"","ZZ",0,0,0,0,0,0,3,"",{"$f":"MIN(IF(W1283=$W$9:$W$2128,$E$9:$E$2128))","v":0},{"$f":"MAX(IF(W1283=$W$9:$W$2128,$E$9:$E$2128))","v":0},1275,1,1,null,null,1,null,"ZZ00000","00ZZ000",null,{"$f":"ABS(OR(C1283=0,AND(MaxInput>1,M1283=INDEX(FFilter,AO$5))))","v":1},{"$f":"ABS(OR(C1283=0,AND(MaxInput>1,N1283=INDEX(FFilter,AP$5))))","v":1},{"$f":"ABS(OR(C1283=0,AND(MaxInput>1,O1283=INDEX(FFilter,AQ$5))))","v":1},null,null,null,null,null,null,null,null,null,null,{"$f":"ROW()","v":1283}]
[1279,"",null,null,null,null,null,null,null,null,null,null,"",{"$f":"IF(C1287=0,\"\",INDEX(Objekt_Text,D1287+1,2))","v":""},{"$f":"IF(C1287=0,\"\",INDEX(Objekt_Text,D1287+1,3))","v":""},"","",{"$f":"INDEX(Visum_Liste,F1287+1)&\"\"","v":""},"","ZZ",0,0,0,0,0,0,3,"",{"$f":"MIN(IF(W1287=$W$9:$W$2128,$E$9:$E$2128))","v":0},{"$f":"MAX(IF(W1287=$W$9:$W$2128,$E$9:$E$2128))","v":0},1279,1,1,null,null,1,null,"ZZ00000","00ZZ000",null,{"$f":"ABS(OR(C1287=0,AND(MaxInput>1,M1287=INDEX(FFilter,AO$5))))","v":1},{"$f":"ABS(OR(C1287=0,AND(MaxInput>1,N1287=INDEX(FFilter,AP$5))))","v":1},{"$f":"ABS(OR(C1287=0,AND(MaxInput>1,O1287=INDEX(FFilter,AQ$5))))","v":1},null,null,null,null,null,null,null,null,null,null,{"$f":"ROW()","v":1287}]
[1282,"",null,null,null,null,null,null,null,null,null,null,"",{"$f":"IF(C1290=0,\"\",INDEX(Objekt_Text,D1290+1,2))","v":""},{"$f":"IF(C1290=0,\"\",INDEX(Objekt_Text,D1290+1,3))","v":""},"","",{"$f":"INDEX(Visum_Liste,F1290+1)&\"\"","v":""},"","ZZ",0,0,0,0,0,0,3,"",{"$f":"MIN(IF(W1290=$W$9:$W$2128,$E$9:$E$2128))","v":0},{"$f":"MAX(IF(W1290=$W$9:$W$2128,$E$9:$E$2128))","v":0},1282,1,1,null,null,{"$f":"OR(L1290<=L1289,B1290=\"\")*1","v":1},null,"ZZ00000","00ZZ000",null,{"$f":"ABS(OR(C1290=0,AND(MaxInput>1,M1290=INDEX(FFilter,AO$5))))","v":1},{"$f":"ABS(OR(C1290=0,AND(MaxInput>1,N1290=INDEX(FFilter,AP$5))))","v":1},{"$f":"ABS(OR(C1290=0,AND(MaxInput>1,O1290=INDEX(FFilter,AQ$5))))","v":1},null,null,null,null,null,null,null,null,null,null,{"$f":"ROW()","v":1290}]
[1286,"",null,null,null,null,null,null,null,null,null,null,"",{"$f":"IF(C1294=0,\"\",INDEX(Objekt_Text,D1294+1,2))","v":""},{"$f":"IF(C1294=0,\"\",INDEX(Objekt_Text,D1294+1,3))","v":""},"","",{"$f":"INDEX(Visum_Liste,F1294+1)&\"\"","v":""},"","ZZ",0,0,0,0,0,0,3,"",{"$f":"MIN(IF(W1294=$W$9:$W$2128,$E$9:$E$2128))","v":0},{"$f":"MAX(IF(W1294=$W$9:$W$2128,$E$9:$E$2128))","v":0},1286,1,1,null,null,1,null,"ZZ00000","00ZZ000",null,{"$f":"ABS(OR(C1294=0,AND(MaxInput>1,M1294=INDEX(FFilter,AO$5))))","v":1},{"$f":"ABS(OR(C1294=0,AND(MaxInput>1,N1294=INDEX(FFilter,AP$5))))","v":1},{"$f":"ABS(OR(C1294=0,AND(MaxInput>1,O1294=INDEX(FFilter,AQ$5))))","v":1},null,null,null,null,null,null,null,null,null,null,{"$f":"ROW()","v":1294}]
[1289,"",null,null,null,null,null,null,null,null,null,null,"",{"$f":"IF(C1297=0,\"\",INDEX(Objekt_Text,D1297+1,2))","v":""},{"$f":"IF(C1297=0,\"\",INDEX(Objekt_Text,D1297+1,3))","v":""},"","",{"$f":"INDEX(Visum_Liste,F1297+1)&\"\"","v":""},"","ZZ",0,0,0,0,0,0,3,"",{"$f":"MIN(IF(W1297=$W$9:$W$2128,$E$9:$E$2128))","v":0},{"$f":"MAX(IF(W1297=$W$9:$W$2128,$E$9:$E$2128))","v":0},1289,1,1,null,null,1,null,"ZZ00000","00ZZ000",null,{"$f":"ABS(OR(C1297=0,AND(MaxInput>1,M1297=INDEX(FFilter,AO$5))))","v":1},{"$f":"ABS(OR(C1297=0,AND(MaxInput>1,N1297=INDEX(FFilter,AP$5))))","v":1},{"$f":"ABS(OR(C1297=0,AND(MaxInput>1,O1297=INDEX(FFilter,AQ$5))))","v":1},null,null,null,null,null,null,null,null,null,null,{"$f":"ROW()","v":1297}]
[1292,"",null,null,null,null,null,null,null,null,null,null,"",{"$f":"IF(C1300=0,\"\",INDEX(Objekt_Text,D1300+1,2))","v":""},{"$f":"IF(C1300=0,\"\",INDEX(Objekt_Text,D1300+1,3))","v":""},"","",{"$f":"INDEX(Visum_Liste,F1300+1)&\"\"","v":""},"","ZZ",0,0,0,0,0,0,3,"",{"$f":"MIN(IF(W1300=$W$9:$W$2128,$E$9:$E$2128))","v":0},{"$f":"MAX(IF(W1300=$W$9:$W$2128,$E$9:$E$2128))","v":0},1292,1,1,null,null,1,null,"ZZ00000","00ZZ000",null,{"$f":"ABS(OR(C1300=0,AND(MaxInput>1,M1300=INDEX(FFilter,AO$5))))","v":1},{"$f":"ABS(OR(C1300=0,AND(MaxInput>1,N1300=INDEX(FFilter,AP$5))))","v":1},{"$f":"ABS(OR(C1300=0,AND(MaxInput>1,O1300=INDEX(FFilter,AQ$5))))","v":1},null,null,null,null,null,null,null,null,null,null,{"$f":"ROW()","v":1300}]
[1293,"",null,null,null,null,null,null,null,null,null,null,"",{"$f":"IF(C1301=0,\"\",INDEX(Objekt_Text,D1301+1,2))","v":""},{"$f":"IF(C1301=0,\"\",INDEX(Objekt_Text,D1301+1,3))","v":""},"","",{"$f":"INDEX(Visum_Liste,F1301+1)&\"\"","v":""},"","ZZ",0,0,0,0,0,0,3,"",{"$f":"MIN(IF(W1301=$W$9:$W$2128,$E$9:$E$2128))","v":0},{"$f":"MAX(IF(W1301=$W$9:$W$2128,$E$9:$E$2128))","v":0},1293,1,1,null,null,1,null,"ZZ00000","00ZZ000",null,{"$f":"ABS(OR(C1301=0,AND(MaxInput>1,M1301=INDEX(FFilter,AO$5))))","v":1},{"$f":"ABS(OR(C1301=0,AND(MaxInput>1,N1301=INDEX(FFilter,AP$5))))","v":1},{"$f":"ABS(OR(C1301=0,AND(MaxInput>1,O1301=INDEX(FFilter,AQ$5))))","v":1},null,null,null,null,null,null,null,null,null,null,{"$f":"ROW()","v":1301}]
[1296,"",null,null,null,null,null,null,null,null,null,null,"",{"$f":"IF(C1304=0,\"\",INDEX(Objekt_Text,D1304+1,2))","v":""},{"$f":"IF(C1304=0,\"\",INDEX(Objekt_Text,D1304+1,3))","v":""},"","",{"$f":"INDEX(Visum_Liste,F1304+1)&\"\"","v":""},"","ZZ",0,0,0,0,0,0,3,"",{"$f":"MIN(IF(W1304=$W$9:$W$2128,$E$9:$E$2128))","v":0},{"$f":"MAX(IF(W1304=$W$9:$W$2128,$E$9:$E$2128))","v":0},1296,1,1,null,null,1,null,"ZZ00000","00ZZ000",null,{"$f":"ABS(OR(C1304=0,AND(MaxInput>1,M1304=INDEX(FFilter,AO$5))))","v":1},{"$f":"ABS(OR(C1304=0,AND(MaxInput>1,N1304=INDEX(FFilter,AP$5))))","v":1},{"$f":"ABS(OR(C1304=0,AND(MaxInput>1,O1304=INDEX(FFilter,AQ$5))))","v":1},null,null,null,null,null,null,null,null,null,null,{"$f":"ROW()","v":1304}]
[1299,"",null,null,null,null,null,null,null,null,null,null,"",{"$f":"IF(C1307=0,\"\",INDEX(Objekt_Text,D1307+1,2))","v":""},{"$f":"IF(C1307=0,\"\",INDEX(Objekt_Text,D1307+1,3))","v":""},"","",{"$f":"INDEX(Visum_Liste,F1307+1)&\"\"","v":""},"","ZZ",0,0,0,0,0,0,3,"",{"$f":"MIN(IF(W1307=$W$9:$W$2128,$E$9:$E$2128))","v":0},{"$f":"MAX(IF(W1307=$W$9:$W$2128,$E$9:$E$2128))","v":0},1299,1,1,null,null,1,null,"ZZ00000","00ZZ000",null,{"$f":"ABS(OR(C1307=0,AND(MaxInput>1,M1307=INDEX(FFilter,AO$5))))","v":1},{"$f":"ABS(OR(C1307=0,AND(MaxInput>1,N1307=INDEX(FFilter,AP$5))))","v":1},{"$f":"ABS(OR(C1307=0,AND(MaxInput>1,O1307=INDEX(FFilter,AQ$5))))","v":1},null,null,null,null,null,null,null,null,null,null,{"$f":"ROW()","v":1307}]
[1303,"",null,null,null,null,null,null,null,null,null,null,"",{"$f":"IF(C1311=0,\"\",INDEX(Objekt_Text,D1311+1,2))","v":""},{"$f":"IF(C1311=0,\"\",INDEX(Objekt_Text,D1311+1,3))","v":""},"","",{"$f":"INDEX(Visum_Liste,F1311+1)&\"\"","v":""},"","ZZ",0,0,0,0,0,0,3,"",{"$f":"MIN(IF(W1311=$W$9:$W$2128,$E$9:$E$2128))","v":0},{"$f":"MAX(IF(W1311=$W$9:$W$2128,$E$9:$E$2128))","v":0},1303,1,1,null,null,1,null,"ZZ00000","00ZZ000",null,{"$f":"ABS(OR(C1311=0,AND(MaxInput>1,M1311=INDEX(FFilter,AO$5))))","v":1},{"$f":"ABS(OR(C1311=0,AND(MaxInput>1,N1311=INDEX(FFilter,AP$5))))","v":1},{"$f":"ABS(OR(C1311=0,AND(MaxInput>1,O1311=INDEX(FFilter,AQ$5))))","v":1},null,null,null,null,null,null,null,null,null,null,{"$f":"ROW()","v":1311}]
[1306,"",null,null,null,null,null,null,null,null,null,null,"",{"$f":"IF(C1314=0,\"\",INDEX(Objekt_Text,D1314+1,2))","v":""},{"$f":"IF(C1314=0,\"\",INDEX(Objekt_Text,D1314+1,3))","v":""},"","",{"$f":"INDEX(Visum_Liste,F1314+1)&\"\"","v":""},"","ZZ",0,0,0,0,0,0,3,"",{"$f":"MIN(IF(W1314=$W$9:$W$2128,$E$9:$E$2128))","v":0},{"$f":"MAX(IF(W1314=$W$9:$W$2128,$E$9:$E$2128))","v":0},1306,1,1,null,null,1,null,"ZZ00000","00ZZ000",null,{"$f":"ABS(OR(C1314=0,AND(MaxInput>1,M1314=INDEX(FFilter,AO$5))))","v":1},{"$f":"ABS(OR(C1314=0,AND(MaxInput>1,N1314=INDEX(FFilter,AP$5))))","v":1},{"$f":"ABS(OR(C1314=0,AND(MaxInput>1,O1314=INDEX(FFilter,AQ$5))))","v":1},null,null,null,null,null,null,null,null,null,null,{"$f":"ROW()","v":1314}]
[1310,"",null,null,null,null,null,null,null,null,null,null,"",{"$f":"IF(C1318=0,\"\",INDEX(Objekt_Text,D1318+1,2))","v":""},{"$f":"IF(C1318=0,\"\",INDEX(Objekt_Text,D1318+1,3))","v":""},"","",{"$f":"INDEX(Visum_Liste,F1318+1)&\"\"","v":""},"","ZZ",0,0,0,0,0,0,3,"",{"$f":"MIN(IF(W1318=$W$9:$W$2128,$E$9:$E$2128))","v":0},{"$f":"MAX(IF(W1318=$W$9:$W$2128,$E$9:$E$2128))","v":0},1310,1,1,null,null,1,null,"ZZ00000","00ZZ000",null,{"$f":"ABS(OR(C1318=0,AND(MaxInput>1,M1318=INDEX(FFilter,AO$5))))","v":1},{"$f":"ABS(OR(C1318=0,AND(MaxInput>1,N1318=INDEX(FFilter,AP$5))))","v":1},{"$f":"ABS(OR(C1318=0,AND(MaxInput>1,O1318=INDEX(FFilter,AQ$5))))","v":1},null,null,null,null,null,null,null,null,null,null,{"$f":"ROW()","v":1318}]
[1313,"",null,null,null,null,null,null,null,null,null,null,"",{"$f":"IF(C1321=0,\"\",INDEX(Objekt_Text,D1321+1,2))","v":""},{"$f":"IF(C1321=0,\"\",INDEX(Objekt_Text,D1321+1,3))","v":""},"","",{"$f":"INDEX(Visum_Liste,F1321+1)&\"\"","v":""},"","ZZ",0,0,0,0,0,0,3,"",{"$f":"MIN(IF(W1321=$W$9:$W$2128,$E$9:$E$2128))","v":0},{"$f":"MAX(IF(W1321=$W$9:$W$2128,$E$9:$E$2128))","v":0},1313,1,1,null,null,1,null,"ZZ00000","00ZZ000",null,{"$f":"ABS(OR(C1321=0,AND(MaxInput>1,M1321=INDEX(FFilter,AO$5))))","v":1},{"$f":"ABS(OR(C1321=0,AND(MaxInput>1,N1321=INDEX(FFilter,AP$5))))","v":1},{"$f":"ABS(OR(C1321=0,AND(MaxInput>1,O1321=INDEX(FFilter,AQ$5))))","v":1},null,null,null,null,null,null,null,null,null,null,{"$f":"ROW()","v":1321}]
[1316,"",null,null,null,null,null,null,null,null,null,null,"",{"$f":"IF(C1324=0,\"\",INDEX(Objekt_Text,D1324+1,2))","v":""},{"$f":"IF(C1324=0,\"\",INDEX(Objekt_Text,D1324+1,3))","v":""},"","",{"$f":"INDEX(Visum_Liste,F1324+1)&\"\"","v":""},"","ZZ",0,0,0,0,0,0,3,"",{"$f":"MIN(IF(W1324=$W$9:$W$2128,$E$9:$E$2128))","v":0},{"$f":"MAX(IF(W1324=$W$9:$W$2128,$E$9:$E$2128))","v":0},1316,1,1,null,null,1,null,"ZZ00000","00ZZ000",null,{"$f":"ABS(OR(C1324=0,AND(MaxInput>1,M1324=INDEX(FFilter,AO$5))))","v":1},{"$f":"ABS(OR(C1324=0,AND(MaxInput>1,N1324=INDEX(FFilter,AP$5))))","v":1},{"$f":"ABS(OR(C1324=0,AND(MaxInput>1,O1324=INDEX(FFilter,AQ$5))))","v":1},null,null,null,null,null,null,null,null,null,null,{"$f":"ROW()","v":1324}]
[1317,"",null,null,null,null,null,null,null,null,null,null,"",{"$f":"IF(C1325=0,\"\",INDEX(Objekt_Text,D1325+1,2))","v":""},{"$f":"IF(C1325=0,\"\",INDEX(Objekt_Text,D1325+1,3))","v":""},"","",{"$f":"INDEX(Visum_Liste,F1325+1)&\"\"","v":""},"","ZZ",0,0,0,0,0,0,3,"",{"$f":"MIN(IF(W1325=$W$9:$W$2128,$E$9:$E$2128))","v":0},{"$f":"MAX(IF(W1325=$W$9:$W$2128,$E$9:$E$2128))","v":0},1317,1,1,null,null,1,null,"ZZ00000","00ZZ000",null,{"$f":"ABS(OR(C1325=0,AND(MaxInput>1,M1325=INDEX(FFilter,AO$5))))","v":1},{"$f":"ABS(OR(C1325=0,AND(MaxInput>1,N1325=INDEX(FFilter,AP$5))))","v":1},{"$f":"ABS(OR(C1325=0,AND(MaxInput>1,O1325=INDEX(FFilter,AQ$5))))","v":1},null,null,null,null,null,null,null,null,null,null,{"$f":"ROW()","v":1325}]
[1320,"",null,null,null,null,null,null,null,null,null,null,"",{"$f":"IF(C1328=0,\"\",INDEX(Objekt_Text,D1328+1,2))","v":""},{"$f":"IF(C1328=0,\"\",INDEX(Objekt_Text,D1328+1,3))","v":""},"","",{"$f":"INDEX(Visum_Liste,F1328+1)&\"\"","v":""},"","ZZ",0,0,0,0,0,0,3,"",{"$f":"MIN(IF(W1328=$W$9:$W$2128,$E$9:$E$2128))","v":0},{"$f":"MAX(IF(W1328=$W$9:$W$2128,$E$9:$E$2128))","v":0},1320,1,1,null,null,1,null,"ZZ00000","00ZZ000",null,{"$f":"ABS(OR(C1328=0,AND(MaxInput>1,M1328=INDEX(FFilter,AO$5))))","v":1},{"$f":"ABS(OR(C1328=0,AND(MaxInput>1,N1328=INDEX(FFilter,AP$5))))","v":1},{"$f":"ABS(OR(C1328=0,AND(MaxInput>1,O1328=INDEX(FFilter,AQ$5))))","v":1},null,null,null,null,null,null,null,null,null,null,{"$f":"ROW()","v":1328}]
[1324,"",null,null,null,null,null,null,null,null,null,null,"",{"$f":"IF(C1332=0,\"\",INDEX(Objekt_Text,D1332+1,2))","v":""},{"$f":"IF(C1332=0,\"\",INDEX(Objekt_Text,D1332+1,3))","v":""},"","",{"$f":"INDEX(Visum_Liste,F1332+1)&\"\"","v":""},"","ZZ",0,0,0,0,0,0,3,"",{"$f":"MIN(IF(W1332=$W$9:$W$2128,$E$9:$E$2128))","v":0},{"$f":"MAX(IF(W1332=$W$9:$W$2128,$E$9:$E$2128))","v":0},1324,1,1,null,null,1,null,"ZZ00000","00ZZ000",null,{"$f":"ABS(OR(C1332=0,AND(MaxInput>1,M1332=INDEX(FFilter,AO$5))))","v":1},{"$f":"ABS(OR(C1332=0,AND(MaxInput>1,N1332=INDEX(FFilter,AP$5))))","v":1},{"$f":"ABS(OR(C1332=0,AND(MaxInput>1,O1332=INDEX(FFilter,AQ$5))))","v":1},null,null,null,null,null,null,null,null,null,null,{"$f":"ROW()","v":1332}]
[1327,"",null,null,null,null,null,null,null,null,null,null,"",{"$f":"IF(C1335=0,\"\",INDEX(Objekt_Text,D1335+1,2))","v":""},{"$f":"IF(C1335=0,\"\",INDEX(Objekt_Text,D1335+1,3))","v":""},"","",{"$f":"INDEX(Visum_Liste,F1335+1)&\"\"","v":""},"","ZZ",0,0,0,0,0,0,3,"",{"$f":"MIN(IF(W1335=$W$9:$W$2128,$E$9:$E$2128))","v":0},{"$f":"MAX(IF(W1335=$W$9:$W$2128,$E$9:$E$2128))","v":0},1327,1,1,null,null,1,null,"ZZ00000","00ZZ000",null,{"$f":"ABS(OR(C1335=0,AND(MaxInput>1,M1335=INDEX(FFilter,AO$5))))","v":1},{"$f":"ABS(OR(C1335=0,AND(MaxInput>1,N1335=INDEX(FFilter,AP$5))))","v":1},{"$f":"ABS(OR(C1335=0,AND(MaxInput>1,O1335=INDEX(FFilter,AQ$5))))","v":1},null,null,null,null,null,null,null,null,null,null,{"$f":"ROW()","v":1335}]
[1330,"",null,null,null,null,null,null,null,null,null,null,"",{"$f":"IF(C1338=0,\"\",INDEX(Objekt_Text,D1338+1,2))","v":""},{"$f":"IF(C1338=0,\"\",INDEX(Objekt_Text,D1338+1,3))","v":""},"","",{"$f":"INDEX(Visum_Liste,F1338+1)&\"\"","v":""},"","ZZ",0,0,0,0,0,0,3,"",{"$f":"MIN(IF(W1338=$W$9:$W$2128,$E$9:$E$2128))","v":0},{"$f":"MAX(IF(W1338=$W$9:$W$2128,$E$9:$E$2128))","v":0},1330,1,1,null,null,1,null,"ZZ00000","00ZZ000",null,{"$f":"ABS(OR(C1338=0,AND(MaxInput>1,M1338=INDEX(FFilter,AO$5))))","v":1},{"$f":"ABS(OR(C1338=0,AND(MaxInput>1,N1338=INDEX(FFilter,AP$5))))","v":1},{"$f":"ABS(OR(C1338=0,AND(MaxInput>1,O1338=INDEX(FFilter,AQ$5))))","v":1},null,null,null,null,null,null,null,null,null,null,{"$f":"ROW()","v":1338}]
[1334,"",null,null,null,null,null,null,null,null,null,null,"",{"$f":"IF(C1342=0,\"\",INDEX(Objekt_Text,D1342+1,2))","v":""},{"$f":"IF(C1342=0,\"\",INDEX(Objekt_Text,D1342+1,3))","v":""},"","",{"$f":"INDEX(Visum_Liste,F1342+1)&\"\"","v":""},"","ZZ",0,0,0,0,0,0,3,"",{"$f":"MIN(IF(W1342=$W$9:$W$2128,$E$9:$E$2128))","v":0},{"$f":"MAX(IF(W1342=$W$9:$W$2128,$E$9:$E$2128))","v":0},1334,1,1,null,null,1,null,"ZZ00000","00ZZ000",null,{"$f":"ABS(OR(C1342=0,AND(MaxInput>1,M1342=INDEX(FFilter,AO$5))))","v":1},{"$f":"ABS(OR(C1342=0,AND(MaxInput>1,N1342=INDEX(FFilter,AP$5))))","v":1},{"$f":"ABS(OR(C1342=0,AND(MaxInput>1,O1342=INDEX(FFilter,AQ$5))))","v":1},null,null,null,null,null,null,null,null,null,null,{"$f":"ROW()","v":1342}]
[1337,"",null,null,null,null,null,null,null,null,null,null,"",{"$f":"IF(C1345=0,\"\",INDEX(Objekt_Text,D1345+1,2))","v":""},{"$f":"IF(C1345=0,\"\",INDEX(Objekt_Text,D1345+1,3))","v":""},"","",{"$f":"INDEX(Visum_Liste,F1345+1)&\"\"","v":""},"","ZZ",0,0,0,0,0,0,3,"",{"$f":"MIN(IF(W1345=$W$9:$W$2128,$E$9:$E$2128))","v":0},{"$f":"MAX(IF(W1345=$W$9:$W$2128,$E$9:$E$2128))","v":0},1337,1,1,null,null,1,null,"ZZ00000","00ZZ000",null,{"$f":"ABS(OR(C1345=0,AND(MaxInput>1,M1345=INDEX(FFilter,AO$5))))","v":1},{"$f":"ABS(OR(C1345=0,AND(MaxInput>1,N1345=INDEX(FFilter,AP$5))))","v":1},{"$f":"ABS(OR(C1345=0,AND(MaxInput>1,O1345=INDEX(FFilter,AQ$5))))","v":1},null,null,null,null,null,null,null,null,null,null,{"$f":"ROW()","v":1345}]
[1340,"",null,null,null,null,null,null,null,null,null,null,"",{"$f":"IF(C1348=0,\"\",INDEX(Objekt_Text,D1348+1,2))","v":""},{"$f":"IF(C1348=0,\"\",INDEX(Objekt_Text,D1348+1,3))","v":""},"","",{"$f":"INDEX(Visum_Liste,F1348+1)&\"\"","v":""},"","ZZ",0,0,0,0,0,0,3,"",{"$f":"MIN(IF(W1348=$W$9:$W$2128,$E$9:$E$2128))","v":0},{"$f":"MAX(IF(W1348=$W$9:$W$2128,$E$9:$E$2128))","v":0},1340,1,1,null,null,1,null,"ZZ00000","00ZZ000",null,{"$f":"ABS(OR(C1348=0,AND(MaxInput>1,M1348=INDEX(FFilter,AO$5))))","v":1},{"$f":"ABS(OR(C1348=0,AND(MaxInput>1,N1348=INDEX(FFilter,AP$5))))","v":1},{"$f":"ABS(OR(C1348=0,AND(MaxInput>1,O1348=INDEX(FFilter,AQ$5))))","v":1},null,null,null,null,null,null,null,null,null,null,{"$f":"ROW()","v":1348}]
[1341,"",null,null,null,null,null,null,null,null,null,null,"",{"$f":"IF(C1349=0,\"\",INDEX(Objekt_Text,D1349+1,2))","v":""},{"$f":"IF(C1349=0,\"\",INDEX(Objekt_Text,D1349+1,3))","v":""},"","",{"$f":"INDEX(Visum_Liste,F1349+1)&\"\"","v":""},"","ZZ",0,0,0,0,0,0,3,"",{"$f":"MIN(IF(W1349=$W$9:$W$2128,$E$9:$E$2128))","v":0},{"$f":"MAX(IF(W1349=$W$9:$W$2128,$E$9:$E$2128))","v":0},1341,1,1,null,null,1,null,"ZZ00000","00ZZ000",null,{"$f":"ABS(OR(C1349=0,AND(MaxInput>1,M1349=INDEX(FFilter,AO$5))))","v":1},{"$f":"ABS(OR(C1349=0,AND(MaxInput>1,N1349=INDEX(FFilter,AP$5))))","v":1},{"$f":"ABS(OR(C1349=0,AND(MaxInput>1,O1349=INDEX(FFilter,AQ$5))))","v":1},null,null,null,null,null,null,null,null,null,null,{"$f":"ROW()","v":1349}]
[1344,"",null,null,null,null,null,null,null,null,null,null,"",{"$f":"IF(C1352=0,\"\",INDEX(Objekt_Text,D1352+1,2))","v":""},{"$f":"IF(C1352=0,\"\",INDEX(Objekt_Text,D1352+1,3))","v":""},"","",{"$f":"INDEX(Visum_Liste,F1352+1)&\"\"","v":""},"","ZZ",0,0,0,0,0,0,3,"",{"$f":"MIN(IF(W1352=$W$9:$W$2128,$E$9:$E$2128))","v":0},{"$f":"MAX(IF(W1352=$W$9:$W$2128,$E$9:$E$2128))","v":0},1344,1,1,null,null,1,null,"ZZ00000","00ZZ000",null,{"$f":"ABS(OR(C1352=0,AND(MaxInput>1,M1352=INDEX(FFilter,AO$5))))","v":1},{"$f":"ABS(OR(C1352=0,AND(MaxInput>1,N1352=INDEX(FFilter,AP$5))))","v":1},{"$f":"ABS(OR(C1352=0,AND(MaxInput>1,O1352=INDEX(FFilter,AQ$5))))","v":1},null,null,null,null,null,null,null,null,null,null,{"$f":"ROW()","v":1352}]
[1348,"",null,null,null,null,null,null,null,null,null,null,"",{"$f":"IF(C1356=0,\"\",INDEX(Objekt_Text,D1356+1,2))","v":""},{"$f":"IF(C1356=0,\"\",INDEX(Objekt_Text,D1356+1,3))","v":""},"","",{"$f":"INDEX(Visum_Liste,F1356+1)&\"\"","v":""},"","ZZ",0,0,0,0,0,0,3,"",{"$f":"MIN(IF(W1356=$W$9:$W$2128,$E$9:$E$2128))","v":0},{"$f":"MAX(IF(W1356=$W$9:$W$2128,$E$9:$E$2128))","v":0},1348,1,1,null,null,1,null,"ZZ00000","00ZZ000",null,{"$f":"ABS(OR(C1356=0,AND(MaxInput>1,M1356=INDEX(FFilter,AO$5))))","v":1},{"$f":"ABS(OR(C1356=0,AND(MaxInput>1,N1356=INDEX(FFilter,AP$5))))","v":1},{"$f":"ABS(OR(C1356=0,AND(MaxInput>1,O1356=INDEX(FFilter,AQ$5))))","v":1},null,null,null,null,null,null,null,null,null,null,{"$f":"ROW()","v":1356}]
[1351,"",null,null,null,null,null,null,null,null,null,null,"",{"$f":"IF(C1359=0,\"\",INDEX(Objekt_Text,D1359+1,2))","v":""},{"$f":"IF(C1359=0,\"\",INDEX(Objekt_Text,D1359+1,3))","v":""},"","",{"$f":"INDEX(Visum_Liste,F1359+1)&\"\"","v":""},"","ZZ",0,0,0,0,0,0,3,"",{"$f":"MIN(IF(W1359=$W$9:$W$2128,$E$9:$E$2128))","v":0},{"$f":"MAX(IF(W1359=$W$9:$W$2128,$E$9:$E$2128))","v":0},1351,1,1,null,null,1,null,"ZZ00000","00ZZ000",null,{"$f":"ABS(OR(C1359=0,AND(MaxInput>1,M1359=INDEX(FFilter,AO$5))))","v":1},{"$f":"ABS(OR(C1359=0,AND(MaxInput>1,N1359=INDEX(FFilter,AP$5))))","v":1},{"$f":"ABS(OR(C1359=0,AND(MaxInput>1,O1359=INDEX(FFilter,AQ$5))))","v":1},null,null,null,null,null,null,null,null,null,null,{"$f":"ROW()","v":1359}]
[1354,"",null,null,null,null,null,null,null,null,null,null,"",{"$f":"IF(C1362=0,\"\",INDEX(Objekt_Text,D1362+1,2))","v":""},{"$f":"IF(C1362=0,\"\",INDEX(Objekt_Text,D1362+1,3))","v":""},"","",{"$f":"INDEX(Visum_Liste,F1362+1)&\"\"","v":""},"","ZZ",0,0,0,0,0,0,3,"",{"$f":"MIN(IF(W1362=$W$9:$W$2128,$E$9:$E$2128))","v":0},{"$f":"MAX(IF(W1362=$W$9:$W$2128,$E$9:$E$2128))","v":0},1354,1,1,null,null,1,null,"ZZ00000","00ZZ000",null,{"$f":"ABS(OR(C1362=0,AND(MaxInput>1,M1362=INDEX(FFilter,AO$5))))","v":1},{"$f":"ABS(OR(C1362=0,AND(MaxInput>1,N1362=INDEX(FFilter,AP$5))))","v":1},{"$f":"ABS(OR(C1362=0,AND(MaxInput>1,O1362=INDEX(FFilter,AQ$5))))","v":1},null,null,null,null,null,null,null,null,null,null,{"$f":"ROW()","v":1362}]
[1358,"",null,null,null,null,null,null,null,null,null,null,"",{"$f":"IF(C1366=0,\"\",INDEX(Objekt_Text,D1366+1,2))","v":""},{"$f":"IF(C1366=0,\"\",INDEX(Objekt_Text,D1366+1,3))","v":""},"","",{"$f":"INDEX(Visum_Liste,F1366+1)&\"\"","v":""},"","ZZ",0,0,0,0,0,0,3,"",{"$f":"MIN(IF(W1366=$W$9:$W$2128,$E$9:$E$2128))","v":0},{"$f":"MAX(IF(W1366=$W$9:$W$2128,$E$9:$E$2128))","v":0},1358,1,1,null,null,1,null,"ZZ00000","00ZZ000",null,{"$f":"ABS(OR(C1366=0,AND(MaxInput>1,M1366=INDEX(FFilter,AO$5))))","v":1},{"$f":"ABS(OR(C1366=0,AND(MaxInput>1,N1366=INDEX(FFilter,AP$5))))","v":1},{"$f":"ABS(OR(C1366=0,AND(MaxInput>1,O1366=INDEX(FFilter,AQ$5))))","v":1},null,null,null,null,null,null,null,null,null,null,{"$f":"ROW()","v":1366}]
[1361,"",null,null,null,null,null,null,null,null,null,null,"",{"$f":"IF(C1369=0,\"\",INDEX(Objekt_Text,D1369+1,2))","v":""},{"$f":"IF(C1369=0,\"\",INDEX(Objekt_Text,D1369+1,3))","v":""},"","",{"$f":"INDEX(Visum_Liste,F1369+1)&\"\"","v":""},"","ZZ",0,0,0,0,0,0,3,"",{"$f":"MIN(IF(W1369=$W$9:$W$2128,$E$9:$E$2128))","v":0},{"$f":"MAX(IF(W1369=$W$9:$W$2128,$E$9:$E$2128))","v":0},1361,1,1,null,null,1,null,"ZZ00000","00ZZ000",null,{"$f":"ABS(OR(C1369=0,AND(MaxInput>1,M1369=INDEX(FFilter,AO$5))))","v":1},{"$f":"ABS(OR(C1369=0,AND(MaxInput>1,N1369=INDEX(FFilter,AP$5))))","v":1},{"$f":"ABS(OR(C1369=0,AND(MaxInput>1,O1369=INDEX(FFilter,AQ$5))))","v":1},null,null,null,null,null,null,null,null,null,null,{"$f":"ROW()","v":1369}]
[1362,"",null,null,null,null,null,null,null,null,null,null,"",{"$f":"IF(C1370=0,\"\",INDEX(Objekt_Text,D1370+1,2))","v":""},{"$f":"IF(C1370=0,\"\",INDEX(Objekt_Text,D1370+1,3))","v":""},"","",{"$f":"INDEX(Visum_Liste,F1370+1)&\"\"","v":""},"","ZZ",0,0,0,0,0,0,3,"",{"$f":"MIN(IF(W1370=$W$9:$W$2128,$E$9:$E$2128))","v":0},{"$f":"MAX(IF(W1370=$W$9:$W$2128,$E$9:$E$2128))","v":0},1362,1,1,null,null,1,null,"ZZ00000","00ZZ000",null,{"$f":"ABS(OR(C1370=0,AND(MaxInput>1,M1370=INDEX(FFilter,AO$5))))","v":1},{"$f":"ABS(OR(C1370=0,AND(MaxInput>1,N1370=INDEX(FFilter,AP$5))))","v":1},{"$f":"ABS(OR(C1370=0,AND(MaxInput>1,O1370=INDEX(FFilter,AQ$5))))","v":1},null,null,null,null,null,null,null,null,null,null,{"$f":"ROW()","v":1370}]
[1365,"",null,null,null,null,null,null,null,null,null,null,"",{"$f":"IF(C1373=0,\"\",INDEX(Objekt_Text,D1373+1,2))","v":""},{"$f":"IF(C1373=0,\"\",INDEX(Objekt_Text,D1373+1,3))","v":""},"","",{"$f":"INDEX(Visum_Liste,F1373+1)&\"\"","v":""},"","ZZ",0,0,0,0,0,0,3,"",{"$f":"MIN(IF(W1373=$W$9:$W$2128,$E$9:$E$2128))","v":0},{"$f":"MAX(IF(W1373=$W$9:$W$2128,$E$9:$E$2128))","v":0},1365,1,1,null,null,1,null,"ZZ00000","00ZZ000",null,{"$f":"ABS(OR(C1373=0,AND(MaxInput>1,M1373=INDEX(FFilter,AO$5))))","v":1},{"$f":"ABS(OR(C1373=0,AND(MaxInput>1,N1373=INDEX(FFilter,AP$5))))","v":1},{"$f":"ABS(OR(C1373=0,AND(MaxInput>1,O1373=INDEX(FFilter,AQ$5))))","v":1},null,null,null,null,null,null,null,null,null,null,{"$f":"ROW()","v":1373}]
[1368,"",null,null,null,null,null,null,null,null,null,null,"",{"$f":"IF(C1376=0,\"\",INDEX(Objekt_Text,D1376+1,2))","v":""},{"$f":"IF(C1376=0,\"\",INDEX(Objekt_Text,D1376+1,3))","v":""},"","",{"$f":"INDEX(Visum_Liste,F1376+1)&\"\"","v":""},"","ZZ",0,0,0,0,0,0,3,"",{"$f":"MIN(IF(W1376=$W$9:$W$2128,$E$9:$E$2128))","v":0},{"$f":"MAX(IF(W1376=$W$9:$W$2128,$E$9:$E$2128))","v":0},1368,1,1,null,null,1,null,"ZZ00000","00ZZ000",null,{"$f":"ABS(OR(C1376=0,AND(MaxInput>1,M1376=INDEX(FFilter,AO$5))))","v":1},{"$f":"ABS(OR(C1376=0,AND(MaxInput>1,N1376=INDEX(FFilter,AP$5))))","v":1},{"$f":"ABS(OR(C1376=0,AND(MaxInput>1,O1376=INDEX(FFilter,AQ$5))))","v":1},null,null,null,null,null,null,null,null,null,null,{"$f":"ROW()","v":1376}]
[1372,"",null,null,null,null,null,null,null,null,null,null,"",{"$f":"IF(C1380=0,\"\",INDEX(Objekt_Text,D1380+1,2))","v":""},{"$f":"IF(C1380=0,\"\",INDEX(Objekt_Text,D1380+1,3))","v":""},"","",{"$f":"INDEX(Visum_Liste,F1380+1)&\"\"","v":""},"","ZZ",0,0,0,0,0,0,3,"",{"$f":"MIN(IF(W1380=$W$9:$W$2128,$E$9:$E$2128))","v":0},{"$f":"MAX(IF(W1380=$W$9:$W$2128,$E$9:$E$2128))","v":0},1372,1,1,null,null,1,null,"ZZ00000","00ZZ000",null,{"$f":"ABS(OR(C1380=0,AND(MaxInput>1,M1380=INDEX(FFilter,AO$5))))","v":1},{"$f":"ABS(OR(C1380=0,AND(MaxInput>1,N1380=INDEX(FFilter,AP$5))))","v":1},{"$f":"ABS(OR(C1380=0,AND(MaxInput>1,O1380=INDEX(FFilter,AQ$5))))","v":1},null,null,null,null,null,null,null,null,null,null,{"$f":"ROW()","v":1380}]
[1375,"",null,null,null,null,null,null,null,null,null,null,"",{"$f":"IF(C1383=0,\"\",INDEX(Objekt_Text,D1383+1,2))","v":""},{"$f":"IF(C1383=0,\"\",INDEX(Objekt_Text,D1383+1,3))","v":""},"","",{"$f":"INDEX(Visum_Liste,F1383+1)&\"\"","v":""},"","ZZ",0,0,0,0,0,0,3,"",{"$f":"MIN(IF(W1383=$W$9:$W$2128,$E$9:$E$2128))","v":0},{"$f":"MAX(IF(W1383=$W$9:$W$2128,$E$9:$E$2128))","v":0},1375,1,1,null,null,1,null,"ZZ00000","00ZZ000",null,{"$f":"ABS(OR(C1383=0,AND(MaxInput>1,M1383=INDEX(FFilter,AO$5))))","v":1},{"$f":"ABS(OR(C1383=0,AND(MaxInput>1,N1383=INDEX(FFilter,AP$5))))","v":1},{"$f":"ABS(OR(C1383=0,AND(MaxInput>1,O1383=INDEX(FFilter,AQ$5))))","v":1},null,null,null,null,null,null,null,null,null,null,{"$f":"ROW()","v":1383}]
[1378,"",null,null,null,null,null,null,null,null,null,null,"",{"$f":"IF(C1386=0,\"\",INDEX(Objekt_Text,D1386+1,2))","v":""},{"$f":"IF(C1386=0,\"\",INDEX(Objekt_Text,D1386+1,3))","v":""},"","",{"$f":"INDEX(Visum_Liste,F1386+1)&\"\"","v":""},"","ZZ",0,0,0,0,0,0,3,"",{"$f":"MIN(IF(W1386=$W$9:$W$2128,$E$9:$E$2128))","v":0},{"$f":"MAX(IF(W1386=$W$9:$W$2128,$E$9:$E$2128))","v":0},1378,1,1,null,null,1,null,"ZZ00000","00ZZ000",null,{"$f":"ABS(OR(C1386=0,AND(MaxInput>1,M1386=INDEX(FFilter,AO$5))))","v":1},{"$f":"ABS(OR(C1386=0,AND(MaxInput>1,N1386=INDEX(FFilter,AP$5))))","v":1},{"$f":"ABS(OR(C1386=0,AND(MaxInput>1,O1386=INDEX(FFilter,AQ$5))))","v":1},null,null,null,null,null,null,null,null,null,null,{"$f":"ROW()","v":1386}]
[1382,"",null,null,null,null,null,null,null,null,null,null,"",{"$f":"IF(C1390=0,\"\",INDEX(Objekt_Text,D1390+1,2))","v":""},{"$f":"IF(C1390=0,\"\",INDEX(Objekt_Text,D1390+1,3))","v":""},"","",{"$f":"INDEX(Visum_Liste,F1390+1)&\"\"","v":""},"","ZZ",0,0,0,0,0,0,3,"",{"$f":"MIN(IF(W1390=$W$9:$W$2128,$E$9:$E$2128))","v":0},{"$f":"MAX(IF(W1390=$W$9:$W$2128,$E$9:$E$2128))","v":0},1382,1,1,null,null,1,null,"ZZ00000","00ZZ000",null,{"$f":"ABS(OR(C1390=0,AND(MaxInput>1,M1390=INDEX(FFilter,AO$5))))","v":1},{"$f":"ABS(OR(C1390=0,AND(MaxInput>1,N1390=INDEX(FFilter,AP$5))))","v":1},{"$f":"ABS(OR(C1390=0,AND(MaxInput>1,O1390=INDEX(FFilter,AQ$5))))","v":1},null,null,null,null,null,null,null,null,null,null,{"$f":"ROW()","v":1390}]
[1385,"",null,null,null,null,null,null,null,null,null,null,"",{"$f":"IF(C1393=0,\"\",INDEX(Objekt_Text,D1393+1,2))","v":""},{"$f":"IF(C1393=0,\"\",INDEX(Objekt_Text,D1393+1,3))","v":""},"","",{"$f":"INDEX(Visum_Liste,F1393+1)&\"\"","v":""},"","ZZ",0,0,0,0,0,0,3,"",{"$f":"MIN(IF(W1393=$W$9:$W$2128,$E$9:$E$2128))","v":0},{"$f":"MAX(IF(W1393=$W$9:$W$2128,$E$9:$E$2128))","v":0},1385,1,1,null,null,1,null,"ZZ00000","00ZZ000",null,{"$f":"ABS(OR(C1393=0,AND(MaxInput>1,M1393=INDEX(FFilter,AO$5))))","v":1},{"$f":"ABS(OR(C1393=0,AND(MaxInput>1,N1393=INDEX(FFilter,AP$5))))","v":1},{"$f":"ABS(OR(C1393=0,AND(MaxInput>1,O1393=INDEX(FFilter,AQ$5))))","v":1},null,null,null,null,null,null,null,null,null,null,{"$f":"ROW()","v":1393}]
[1386,"",null,null,null,null,null,null,null,null,null,null,"",{"$f":"IF(C1394=0,\"\",INDEX(Objekt_Text,D1394+1,2))","v":""},{"$f":"IF(C1394=0,\"\",INDEX(Objekt_Text,D1394+1,3))","v":""},"","",{"$f":"INDEX(Visum_Liste,F1394+1)&\"\"","v":""},"","ZZ",0,0,0,0,0,0,3,"",{"$f":"MIN(IF(W1394=$W$9:$W$2128,$E$9:$E$2128))","v":0},{"$f":"MAX(IF(W1394=$W$9:$W$2128,$E$9:$E$2128))","v":0},1386,1,1,null,null,1,null,"ZZ00000","00ZZ000",null,{"$f":"ABS(OR(C1394=0,AND(MaxInput>1,M1394=INDEX(FFilter,AO$5))))","v":1},{"$f":"ABS(OR(C1394=0,AND(MaxInput>1,N1394=INDEX(FFilter,AP$5))))","v":1},{"$f":"ABS(OR(C1394=0,AND(MaxInput>1,O1394=INDEX(FFilter,AQ$5))))","v":1},null,null,null,null,null,null,null,null,null,null,{"$f":"ROW()","v":1394}]
[1389,"",null,null,null,null,null,null,null,null,null,null,"",{"$f":"IF(C1397=0,\"\",INDEX(Objekt_Text,D1397+1,2))","v":""},{"$f":"IF(C1397=0,\"\",INDEX(Objekt_Text,D1397+1,3))","v":""},"","",{"$f":"INDEX(Visum_Liste,F1397+1)&\"\"","v":""},"","ZZ",0,0,0,0,0,0,3,"",{"$f":"MIN(IF(W1397=$W$9:$W$2128,$E$9:$E$2128))","v":0},{"$f":"MAX(IF(W1397=$W$9:$W$2128,$E$9:$E$2128))","v":0},1389,1,1,null,null,1,null,"ZZ00000","00ZZ000",null,{"$f":"ABS(OR(C1397=0,AND(MaxInput>1,M1397=INDEX(FFilter,AO$5))))","v":1},{"$f":"ABS(OR(C1397=0,AND(MaxInput>1,N1397=INDEX(FFilter,AP$5))))","v":1},{"$f":"ABS(OR(C1397=0,AND(MaxInput>1,O1397=INDEX(FFilter,AQ$5))))","v":1},null,null,null,null,null,null,null,null,null,null,{"$f":"ROW()","v":1397}]
[1392,"",null,null,null,null,null,null,null,null,null,null,"",{"$f":"IF(C1400=0,\"\",INDEX(Objekt_Text,D1400+1,2))","v":""},{"$f":"IF(C1400=0,\"\",INDEX(Objekt_Text,D1400+1,3))","v":""},"","",{"$f":"INDEX(Visum_Liste,F1400+1)&\"\"","v":""},"","ZZ",0,0,0,0,0,0,3,"",{"$f":"MIN(IF(W1400=$W$9:$W$2128,$E$9:$E$2128))","v":0},{"$f":"MAX(IF(W1400=$W$9:$W$2128,$E$9:$E$2128))","v":0},1392,1,1,null,null,1,null,"ZZ00000","00ZZ000",null,{"$f":"ABS(OR(C1400=0,AND(MaxInput>1,M1400=INDEX(FFilter,AO$5))))","v":1},{"$f":"ABS(OR(C1400=0,AND(MaxInput>1,N1400=INDEX(FFilter,AP$5))))","v":1},{"$f":"ABS(OR(C1400=0,AND(MaxInput>1,O1400=INDEX(FFilter,AQ$5))))","v":1},null,null,null,null,null,null,null,null,null,null,{"$f":"ROW()","v":1400}]
[1395,"",null,null,null,null,null,null,null,null,null,null,"",{"$f":"IF(C1403=0,\"\",INDEX(Objekt_Text,D1403+1,2))","v":""},{"$f":"IF(C1403=0,\"\",INDEX(Objekt_Text,D1403+1,3))","v":""},"","",{"$f":"INDEX(Visum_Liste,F1403+1)&\"\"","v":""},"","ZZ",0,0,0,0,0,0,3,"",{"$f":"MIN(IF(W1403=$W$9:$W$2128,$E$9:$E$2128))","v":0},{"$f":"MAX(IF(W1403=$W$9:$W$2128,$E$9:$E$2128))","v":0},1395,1,1,null,null,1,null,"ZZ00000","00ZZ000",null,{"$f":"ABS(OR(C1403=0,AND(MaxInput>1,M1403=INDEX(FFilter,AO$5))))","v":1},{"$f":"ABS(OR(C1403=0,AND(MaxInput>1,N1403=INDEX(FFilter,AP$5))))","v":1},{"$f":"ABS(OR(C1403=0,AND(MaxInput>1,O1403=INDEX(FFilter,AQ$5))))","v":1},null,null,null,null,null,null,null,null,null,null,{"$f":"ROW()","v":1403}]
[1400,"",null,null,null,null,null,null,null,null,null,null,"",{"$f":"IF(C1408=0,\"\",INDEX(Objekt_Text,D1408+1,2))","v":""},{"$f":"IF(C1408=0,\"\",INDEX(Objekt_Text,D1408+1,3))","v":""},"","",{"$f":"INDEX(Visum_Liste,F1408+1)&\"\"","v":""},"","ZZ",0,0,0,0,0,0,3,"",{"$f":"MIN(IF(W1408=$W$9:$W$2128,$E$9:$E$2128))","v":0},{"$f":"MAX(IF(W1408=$W$9:$W$2128,$E$9:$E$2128))","v":0},1400,1,1,null,null,1,null,"ZZ00000","00ZZ000",null,{"$f":"ABS(OR(C1408=0,AND(MaxInput>1,M1408=INDEX(FFilter,AO$5))))","v":1},{"$f":"ABS(OR(C1408=0,AND(MaxInput>1,N1408=INDEX(FFilter,AP$5))))","v":1},{"$f":"ABS(OR(C1408=0,AND(MaxInput>1,O1408=INDEX(FFilter,AQ$5))))","v":1},null,null,null,null,null,null,null,null,null,null,{"$f":"ROW()","v":1408}]
[1403,"",null,null,null,null,null,null,null,null,null,null,"",{"$f":"IF(C1411=0,\"\",INDEX(Objekt_Text,D1411+1,2))","v":""},{"$f":"IF(C1411=0,\"\",INDEX(Objekt_Text,D1411+1,3))","v":""},"","",{"$f":"INDEX(Visum_Liste,F1411+1)&\"\"","v":""},"","ZZ",0,0,0,0,0,0,3,"",{"$f":"MIN(IF(W1411=$W$9:$W$2128,$E$9:$E$2128))","v":0},{"$f":"MAX(IF(W1411=$W$9:$W$2128,$E$9:$E$2128))","v":0},1403,1,1,null,null,1,null,"ZZ00000","00ZZ000",null,{"$f":"ABS(OR(C1411=0,AND(MaxInput>1,M1411=INDEX(FFilter,AO$5))))","v":1},{"$f":"ABS(OR(C1411=0,AND(MaxInput>1,N1411=INDEX(FFilter,AP$5))))","v":1},{"$f":"ABS(OR(C1411=0,AND(MaxInput>1,O1411=INDEX(FFilter,AQ$5))))","v":1},null,null,null,null,null,null,null,null,null,null,{"$f":"ROW()","v":1411}]
[1407,"",null,null,null,null,null,null,null,null,null,null,"",{"$f":"IF(C1415=0,\"\",INDEX(Objekt_Text,D1415+1,2))","v":""},{"$f":"IF(C1415=0,\"\",INDEX(Objekt_Text,D1415+1,3))","v":""},"","",{"$f":"INDEX(Visum_Liste,F1415+1)&\"\"","v":""},"","ZZ",0,0,0,0,0,0,3,"",{"$f":"MIN(IF(W1415=$W$9:$W$2128,$E$9:$E$2128))","v":0},{"$f":"MAX(IF(W1415=$W$9:$W$2128,$E$9:$E$2128))","v":0},1407,1,1,null,null,1,null,"ZZ00000","00ZZ000",null,{"$f":"ABS(OR(C1415=0,AND(MaxInput>1,M1415=INDEX(FFilter,AO$5))))","v":1},{"$f":"ABS(OR(C1415=0,AND(MaxInput>1,N1415=INDEX(FFilter,AP$5))))","v":1},{"$f":"ABS(OR(C1415=0,AND(MaxInput>1,O1415=INDEX(FFilter,AQ$5))))","v":1},null,null,null,null,null,null,null,null,null,null,{"$f":"ROW()","v":1415}]
[1410,"",null,null,null,null,null,null,null,null,null,null,"",{"$f":"IF(C1418=0,\"\",INDEX(Objekt_Text,D1418+1,2))","v":""},{"$f":"IF(C1418=0,\"\",INDEX(Objekt_Text,D1418+1,3))","v":""},"","",{"$f":"INDEX(Visum_Liste,F1418+1)&\"\"","v":""},"","ZZ",0,0,0,0,0,0,3,"",{"$f":"MIN(IF(W1418=$W$9:$W$2128,$E$9:$E$2128))","v":0},{"$f":"MAX(IF(W1418=$W$9:$W$2128,$E$9:$E$2128))","v":0},1410,1,1,null,null,{"$f":"OR(L1418<=L1417,B1418=\"\")*1","v":1},null,"ZZ00000","00ZZ000",null,{"$f":"ABS(OR(C1418=0,AND(MaxInput>1,M1418=INDEX(FFilter,AO$5))))","v":1},{"$f":"ABS(OR(C1418=0,AND(MaxInput>1,N1418=INDEX(FFilter,AP$5))))","v":1},{"$f":"ABS(OR(C1418=0,AND(MaxInput>1,O1418=INDEX(FFilter,AQ$5))))","v":1},null,null,null,null,null,null,null,null,null,null,{"$f":"ROW()","v":1418}]
[1411,"",null,null,null,null,null,null,null,null,null,null,"",{"$f":"IF(C1419=0,\"\",INDEX(Objekt_Text,D1419+1,2))","v":""},{"$f":"IF(C1419=0,\"\",INDEX(Objekt_Text,D1419+1,3))","v":""},"","",{"$f":"INDEX(Visum_Liste,F1419+1)&\"\"","v":""},"","ZZ",0,0,0,0,0,0,3,"",{"$f":"MIN(IF(W1419=$W$9:$W$2128,$E$9:$E$2128))","v":0},{"$f":"MAX(IF(W1419=$W$9:$W$2128,$E$9:$E$2128))","v":0},1411,1,1,null,null,1,null,"ZZ00000","00ZZ000",null,{"$f":"ABS(OR(C1419=0,AND(MaxInput>1,M1419=INDEX(FFilter,AO$5))))","v":1},{"$f":"ABS(OR(C1419=0,AND(MaxInput>1,N1419=INDEX(FFilter,AP$5))))","v":1},{"$f":"ABS(OR(C1419=0,AND(MaxInput>1,O1419=INDEX(FFilter,AQ$5))))","v":1},null,null,null,null,null,null,null,null,null,null,{"$f":"ROW()","v":1419}]
[1414,"",null,null,null,null,null,null,null,null,null,null,"",{"$f":"IF(C1422=0,\"\",INDEX(Objekt_Text,D1422+1,2))","v":""},{"$f":"IF(C1422=0,\"\",INDEX(Objekt_Text,D1422+1,3))","v":""},"","",{"$f":"INDEX(Visum_Liste,F1422+1)&\"\"","v":""},"","ZZ",0,0,0,0,0,0,3,"",{"$f":"MIN(IF(W1422=$W$9:$W$2128,$E$9:$E$2128))","v":0},{"$f":"MAX(IF(W1422=$W$9:$W$2128,$E$9:$E$2128))","v":0},1414,1,1,null,null,1,null,"ZZ00000","00ZZ000",null,{"$f":"ABS(OR(C1422=0,AND(MaxInput>1,M1422=INDEX(FFilter,AO$5))))","v":1},{"$f":"ABS(OR(C1422=0,AND(MaxInput>1,N1422=INDEX(FFilter,AP$5))))","v":1},{"$f":"ABS(OR(C1422=0,AND(MaxInput>1,O1422=INDEX(FFilter,AQ$5))))","v":1},null,null,null,null,null,null,null,null,null,null,{"$f":"ROW()","v":1422}]
[1417,"",null,null,null,null,null,null,null,null,null,null,"",{"$f":"IF(C1425=0,\"\",INDEX(Objekt_Text,D1425+1,2))","v":""},{"$f":"IF(C1425=0,\"\",INDEX(Objekt_Text,D1425+1,3))","v":""},"","",{"$f":"INDEX(Visum_Liste,F1425+1)&\"\"","v":""},"","ZZ",0,0,0,0,0,0,3,"",{"$f":"MIN(IF(W1425=$W$9:$W$2128,$E$9:$E$2128))","v":0},{"$f":"MAX(IF(W1425=$W$9:$W$2128,$E$9:$E$2128))","v":0},1417,1,1,null,null,1,null,"ZZ00000","00ZZ000",null,{"$f":"ABS(OR(C1425=0,AND(MaxInput>1,M1425=INDEX(FFilter,AO$5))))","v":1},{"$f":"ABS(OR(C1425=0,AND(MaxInput>1,N1425=INDEX(FFilter,AP$5))))","v":1},{"$f":"ABS(OR(C1425=0,AND(MaxInput>1,O1425=INDEX(FFilter,AQ$5))))","v":1},null,null,null,null,null,null,null,null,null,null,{"$f":"ROW()","v":1425}]
[1421,"",null,null,null,null,null,null,null,null,null,null,"",{"$f":"IF(C1429=0,\"\",INDEX(Objekt_Text,D1429+1,2))","v":""},{"$f":"IF(C1429=0,\"\",INDEX(Objekt_Text,D1429+1,3))","v":""},"","",{"$f":"INDEX(Visum_Liste,F1429+1)&\"\"","v":""},"","ZZ",0,0,0,0,0,0,3,"",{"$f":"MIN(IF(W1429=$W$9:$W$2128,$E$9:$E$2128))","v":0},{"$f":"MAX(IF(W1429=$W$9:$W$2128,$E$9:$E$2128))","v":0},1421,1,1,null,null,1,null,"ZZ00000","00ZZ000",null,{"$f":"ABS(OR(C1429=0,AND(MaxInput>1,M1429=INDEX(FFilter,AO$5))))","v":1},{"$f":"ABS(OR(C1429=0,AND(MaxInput>1,N1429=INDEX(FFilter,AP$5))))","v":1},{"$f":"ABS(OR(C1429=0,AND(MaxInput>1,O1429=INDEX(FFilter,AQ$5))))","v":1},null,null,null,null,null,null,null,null,null,null,{"$f":"ROW()","v":1429}]
[1424,"",null,null,null,null,null,null,null,null,null,null,"",{"$f":"IF(C1432=0,\"\",INDEX(Objekt_Text,D1432+1,2))","v":""},{"$f":"IF(C1432=0,\"\",INDEX(Objekt_Text,D1432+1,3))","v":""},"","",{"$f":"INDEX(Visum_Liste,F1432+1)&\"\"","v":""},"","ZZ",0,0,0,0,0,0,3,"",{"$f":"MIN(IF(W1432=$W$9:$W$2128,$E$9:$E$2128))","v":0},{"$f":"MAX(IF(W1432=$W$9:$W$2128,$E$9:$E$2128))","v":0},1424,1,1,null,null,1,null,"ZZ00000","00ZZ000",null,{"$f":"ABS(OR(C1432=0,AND(MaxInput>1,M1432=INDEX(FFilter,AO$5))))","v":1},{"$f":"ABS(OR(C1432=0,AND(MaxInput>1,N1432=INDEX(FFilter,AP$5))))","v":1},{"$f":"ABS(OR(C1432=0,AND(MaxInput>1,O1432=INDEX(FFilter,AQ$5))))","v":1},null,null,null,null,null,null,null,null,null,null,{"$f":"ROW()","v":1432}]
[1428,"",null,null,null,null,null,null,null,null,null,null,"",{"$f":"IF(C1436=0,\"\",INDEX(Objekt_Text,D1436+1,2))","v":""},{"$f":"IF(C1436=0,\"\",INDEX(Objekt_Text,D1436+1,3))","v":""},"","",{"$f":"INDEX(Visum_Liste,F1436+1)&\"\"","v":""},"","ZZ",0,0,0,0,0,0,3,"",{"$f":"MIN(IF(W1436=$W$9:$W$2128,$E$9:$E$2128))","v":0},{"$f":"MAX(IF(W1436=$W$9:$W$2128,$E$9:$E$2128))","v":0},1428,1,1,null,null,1,null,"ZZ00000","00ZZ000",null,{"$f":"ABS(OR(C1436=0,AND(MaxInput>1,M1436=INDEX(FFilter,AO$5))))","v":1},{"$f":"ABS(OR(C1436=0,AND(MaxInput>1,N1436=INDEX(FFilter,AP$5))))","v":1},{"$f":"ABS(OR(C1436=0,AND(MaxInput>1,O1436=INDEX(FFilter,AQ$5))))","v":1},null,null,null,null,null,null,null,null,null,null,{"$f":"ROW()","v":1436}]
[1431,"",null,null,null,null,null,null,null,null,null,null,"",{"$f":"IF(C1439=0,\"\",INDEX(Objekt_Text,D1439+1,2))","v":""},{"$f":"IF(C1439=0,\"\",INDEX(Objekt_Text,D1439+1,3))","v":""},"","",{"$f":"INDEX(Visum_Liste,F1439+1)&\"\"","v":""},"","ZZ",0,0,0,0,0,0,3,"",{"$f":"MIN(IF(W1439=$W$9:$W$2128,$E$9:$E$2128))","v":0},{"$f":"MAX(IF(W1439=$W$9:$W$2128,$E$9:$E$2128))","v":0},1431,1,1,null,null,1,null,"ZZ00000","00ZZ000",null,{"$f":"ABS(OR(C1439=0,AND(MaxInput>1,M1439=INDEX(FFilter,AO$5))))","v":1},{"$f":"ABS(OR(C1439=0,AND(MaxInput>1,N1439=INDEX(FFilter,AP$5))))","v":1},{"$f":"ABS(OR(C1439=0,AND(MaxInput>1,O1439=INDEX(FFilter,AQ$5))))","v":1},null,null,null,null,null,null,null,null,null,null,{"$f":"ROW()","v":1439}]
[1434,"",null,null,null,null,null,null,null,null,null,null,"",{"$f":"IF(C1442=0,\"\",INDEX(Objekt_Text,D1442+1,2))","v":""},{"$f":"IF(C1442=0,\"\",INDEX(Objekt_Text,D1442+1,3))","v":""},"","",{"$f":"INDEX(Visum_Liste,F1442+1)&\"\"","v":""},"","ZZ",0,0,0,0,0,0,3,"",{"$f":"MIN(IF(W1442=$W$9:$W$2128,$E$9:$E$2128))","v":0},{"$f":"MAX(IF(W1442=$W$9:$W$2128,$E$9:$E$2128))","v":0},1434,1,1,null,null,1,null,"ZZ00000","00ZZ000",null,{"$f":"ABS(OR(C1442=0,AND(MaxInput>1,M1442=INDEX(FFilter,AO$5))))","v":1},{"$f":"ABS(OR(C1442=0,AND(MaxInput>1,N1442=INDEX(FFilter,AP$5))))","v":1},{"$f":"ABS(OR(C1442=0,AND(MaxInput>1,O1442=INDEX(FFilter,AQ$5))))","v":1},null,null,null,null,null,null,null,null,null,null,{"$f":"ROW()","v":1442}]
[1435,"",null,null,null,null,null,null,null,null,null,null,"",{"$f":"IF(C1443=0,\"\",INDEX(Objekt_Text,D1443+1,2))","v":""},{"$f":"IF(C1443=0,\"\",INDEX(Objekt_Text,D1443+1,3))","v":""},"","",{"$f":"INDEX(Visum_Liste,F1443+1)&\"\"","v":""},"","ZZ",0,0,0,0,0,0,3,"",{"$f":"MIN(IF(W1443=$W$9:$W$2128,$E$9:$E$2128))","v":0},{"$f":"MAX(IF(W1443=$W$9:$W$2128,$E$9:$E$2128))","v":0},1435,1,1,null,null,1,null,"ZZ00000","00ZZ000",null,{"$f":"ABS(OR(C1443=0,AND(MaxInput>1,M1443=INDEX(FFilter,AO$5))))","v":1},{"$f":"ABS(OR(C1443=0,AND(MaxInput>1,N1443=INDEX(FFilter,AP$5))))","v":1},{"$f":"ABS(OR(C1443=0,AND(MaxInput>1,O1443=INDEX(FFilter,AQ$5))))","v":1},null,null,null,null,null,null,null,null,null,null,{"$f":"ROW()","v":1443}]
[1438,"",null,null,null,null,null,null,null,null,null,null,"",{"$f":"IF(C1446=0,\"\",INDEX(Objekt_Text,D1446+1,2))","v":""},{"$f":"IF(C1446=0,\"\",INDEX(Objekt_Text,D1446+1,3))","v":""},"","",{"$f":"INDEX(Visum_Liste,F1446+1)&\"\"","v":""},"","ZZ",0,0,0,0,0,0,3,"",{"$f":"MIN(IF(W1446=$W$9:$W$2128,$E$9:$E$2128))","v":0},{"$f":"MAX(IF(W1446=$W$9:$W$2128,$E$9:$E$2128))","v":0},1438,1,1,null,null,1,null,"ZZ00000","00ZZ000",null,{"$f":"ABS(OR(C1446=0,AND(MaxInput>1,M1446=INDEX(FFilter,AO$5))))","v":1},{"$f":"ABS(OR(C1446=0,AND(MaxInput>1,N1446=INDEX(FFilter,AP$5))))","v":1},{"$f":"ABS(OR(C1446=0,AND(MaxInput>1,O1446=INDEX(FFilter,AQ$5))))","v":1},null,null,null,null,null,null,null,null,null,null,{"$f":"ROW()","v":1446}]
[1441,"",null,null,null,null,null,null,null,null,null,null,"",{"$f":"IF(C1449=0,\"\",INDEX(Objekt_Text,D1449+1,2))","v":""},{"$f":"IF(C1449=0,\"\",INDEX(Objekt_Text,D1449+1,3))","v":""},"","",{"$f":"INDEX(Visum_Liste,F1449+1)&\"\"","v":""},"","ZZ",0,0,0,0,0,0,3,"",{"$f":"MIN(IF(W1449=$W$9:$W$2128,$E$9:$E$2128))","v":0},{"$f":"MAX(IF(W1449=$W$9:$W$2128,$E$9:$E$2128))","v":0},1441,1,1,null,null,1,null,"ZZ00000","00ZZ000",null,{"$f":"ABS(OR(C1449=0,AND(MaxInput>1,M1449=INDEX(FFilter,AO$5))))","v":1},{"$f":"ABS(OR(C1449=0,AND(MaxInput>1,N1449=INDEX(FFilter,AP$5))))","v":1},{"$f":"ABS(OR(C1449=0,AND(MaxInput>1,O1449=INDEX(FFilter,AQ$5))))","v":1},null,null,null,null,null,null,null,null,null,null,{"$f":"ROW()","v":1449}]
[1445,"",null,null,null,null,null,null,null,null,null,null,"",{"$f":"IF(C1453=0,\"\",INDEX(Objekt_Text,D1453+1,2))","v":""},{"$f":"IF(C1453=0,\"\",INDEX(Objekt_Text,D1453+1,3))","v":""},"","",{"$f":"INDEX(Visum_Liste,F1453+1)&\"\"","v":""},"","ZZ",0,0,0,0,0,0,3,"",{"$f":"MIN(IF(W1453=$W$9:$W$2128,$E$9:$E$2128))","v":0},{"$f":"MAX(IF(W1453=$W$9:$W$2128,$E$9:$E$2128))","v":0},1445,1,1,null,null,1,null,"ZZ00000","00ZZ000",null,{"$f":"ABS(OR(C1453=0,AND(MaxInput>1,M1453=INDEX(FFilter,AO$5))))","v":1},{"$f":"ABS(OR(C1453=0,AND(MaxInput>1,N1453=INDEX(FFilter,AP$5))))","v":1},{"$f":"ABS(OR(C1453=0,AND(MaxInput>1,O1453=INDEX(FFilter,AQ$5))))","v":1},null,null,null,null,null,null,null,null,null,null,{"$f":"ROW()","v":1453}]
[1448,"",null,null,null,null,null,null,null,null,null,null,"",{"$f":"IF(C1456=0,\"\",INDEX(Objekt_Text,D1456+1,2))","v":""},{"$f":"IF(C1456=0,\"\",INDEX(Objekt_Text,D1456+1,3))","v":""},"","",{"$f":"INDEX(Visum_Liste,F1456+1)&\"\"","v":""},"","ZZ",0,0,0,0,0,0,3,"",{"$f":"MIN(IF(W1456=$W$9:$W$2128,$E$9:$E$2128))","v":0},{"$f":"MAX(IF(W1456=$W$9:$W$2128,$E$9:$E$2128))","v":0},1448,1,1,null,null,1,null,"ZZ00000","00ZZ000",null,{"$f":"ABS(OR(C1456=0,AND(MaxInput>1,M1456=INDEX(FFilter,AO$5))))","v":1},{"$f":"ABS(OR(C1456=0,AND(MaxInput>1,N1456=INDEX(FFilter,AP$5))))","v":1},{"$f":"ABS(OR(C1456=0,AND(MaxInput>1,O1456=INDEX(FFilter,AQ$5))))","v":1},null,null,null,null,null,null,null,null,null,null,{"$f":"ROW()","v":1456}]
[1452,"",null,null,null,null,null,null,null,null,null,null,"",{"$f":"IF(C1460=0,\"\",INDEX(Objekt_Text,D1460+1,2))","v":""},{"$f":"IF(C1460=0,\"\",INDEX(Objekt_Text,D1460+1,3))","v":""},"","",{"$f":"INDEX(Visum_Liste,F1460+1)&\"\"","v":""},"","ZZ",0,0,0,0,0,0,3,"",{"$f":"MIN(IF(W1460=$W$9:$W$2128,$E$9:$E$2128))","v":0},{"$f":"MAX(IF(W1460=$W$9:$W$2128,$E$9:$E$2128))","v":0},1452,1,1,null,null,1,null,"ZZ00000","00ZZ000",null,{"$f":"ABS(OR(C1460=0,AND(MaxInput>1,M1460=INDEX(FFilter,AO$5))))","v":1},{"$f":"ABS(OR(C1460=0,AND(MaxInput>1,N1460=INDEX(FFilter,AP$5))))","v":1},{"$f":"ABS(OR(C1460=0,AND(MaxInput>1,O1460=INDEX(FFilter,AQ$5))))","v":1},null,null,null,null,null,null,null,null,null,null,{"$f":"ROW()","v":1460}]
[1455,"",null,null,null,null,null,null,null,null,null,null,"",{"$f":"IF(C1463=0,\"\",INDEX(Objekt_Text,D1463+1,2))","v":""},{"$f":"IF(C1463=0,\"\",INDEX(Objekt_Text,D1463+1,3))","v":""},"","",{"$f":"INDEX(Visum_Liste,F1463+1)&\"\"","v":""},"","ZZ",0,0,0,0,0,0,3,"",{"$f":"MIN(IF(W1463=$W$9:$W$2128,$E$9:$E$2128))","v":0},{"$f":"MAX(IF(W1463=$W$9:$W$2128,$E$9:$E$2128))","v":0},1455,1,1,null,null,1,null,"ZZ00000","00ZZ000",null,{"$f":"ABS(OR(C1463=0,AND(MaxInput>1,M1463=INDEX(FFilter,AO$5))))","v":1},{"$f":"ABS(OR(C1463=0,AND(MaxInput>1,N1463=INDEX(FFilter,AP$5))))","v":1},{"$f":"ABS(OR(C1463=0,AND(MaxInput>1,O1463=INDEX(FFilter,AQ$5))))","v":1},null,null,null,null,null,null,null,null,null,null,{"$f":"ROW()","v":1463}]
[1458,"",null,null,null,null,null,null,null,null,null,null,"",{"$f":"IF(C1466=0,\"\",INDEX(Objekt_Text,D1466+1,2))","v":""},{"$f":"IF(C1466=0,\"\",INDEX(Objekt_Text,D1466+1,3))","v":""},"","",{"$f":"INDEX(Visum_Liste,F1466+1)&\"\"","v":""},"","ZZ",0,0,0,0,0,0,3,"",{"$f":"MIN(IF(W1466=$W$9:$W$2128,$E$9:$E$2128))","v":0},{"$f":"MAX(IF(W1466=$W$9:$W$2128,$E$9:$E$2128))","v":0},1458,1,1,null,null,1,null,"ZZ00000","00ZZ000",null,{"$f":"ABS(OR(C1466=0,AND(MaxInput>1,M1466=INDEX(FFilter,AO$5))))","v":1},{"$f":"ABS(OR(C1466=0,AND(MaxInput>1,N1466=INDEX(FFilter,AP$5))))","v":1},{"$f":"ABS(OR(C1466=0,AND(MaxInput>1,O1466=INDEX(FFilter,AQ$5))))","v":1},null,null,null,null,null,null,null,null,null,null,{"$f":"ROW()","v":1466}]
[1459,"",null,null,null,null,null,null,null,null,null,null,"",{"$f":"IF(C1467=0,\"\",INDEX(Objekt_Text,D1467+1,2))","v":""},{"$f":"IF(C1467=0,\"\",INDEX(Objekt_Text,D1467+1,3))","v":""},"","",{"$f":"INDEX(Visum_Liste,F1467+1)&\"\"","v":""},"","ZZ",0,0,0,0,0,0,3,"",{"$f":"MIN(IF(W1467=$W$9:$W$2128,$E$9:$E$2128))","v":0},{"$f":"MAX(IF(W1467=$W$9:$W$2128,$E$9:$E$2128))","v":0},1459,1,1,null,null,1,null,"ZZ00000","00ZZ000",null,{"$f":"ABS(OR(C1467=0,AND(MaxInput>1,M1467=INDEX(FFilter,AO$5))))","v":1},{"$f":"ABS(OR(C1467=0,AND(MaxInput>1,N1467=INDEX(FFilter,AP$5))))","v":1},{"$f":"ABS(OR(C1467=0,AND(MaxInput>1,O1467=INDEX(FFilter,AQ$5))))","v":1},null,null,null,null,null,null,null,null,null,null,{"$f":"ROW()","v":1467}]
[1462,"",null,null,null,null,null,null,null,null,null,null,"",{"$f":"IF(C1470=0,\"\",INDEX(Objekt_Text,D1470+1,2))","v":""},{"$f":"IF(C1470=0,\"\",INDEX(Objekt_Text,D1470+1,3))","v":""},"","",{"$f":"INDEX(Visum_Liste,F1470+1)&\"\"","v":""},"","ZZ",0,0,0,0,0,0,3,"",{"$f":"MIN(IF(W1470=$W$9:$W$2128,$E$9:$E$2128))","v":0},{"$f":"MAX(IF(W1470=$W$9:$W$2128,$E$9:$E$2128))","v":0},1462,1,1,null,null,1,null,"ZZ00000","00ZZ000",null,{"$f":"ABS(OR(C1470=0,AND(MaxInput>1,M1470=INDEX(FFilter,AO$5))))","v":1},{"$f":"ABS(OR(C1470=0,AND(MaxInput>1,N1470=INDEX(FFilter,AP$5))))","v":1},{"$f":"ABS(OR(C1470=0,AND(MaxInput>1,O1470=INDEX(FFilter,AQ$5))))","v":1},null,null,null,null,null,null,null,null,null,null,{"$f":"ROW()","v":1470}]
[1465,"",null,null,null,null,null,null,null,null,null,null,"",{"$f":"IF(C1473=0,\"\",INDEX(Objekt_Text,D1473+1,2))","v":""},{"$f":"IF(C1473=0,\"\",INDEX(Objekt_Text,D1473+1,3))","v":""},"","",{"$f":"INDEX(Visum_Liste,F1473+1)&\"\"","v":""},"","ZZ",0,0,0,0,0,0,3,"",{"$f":"MIN(IF(W1473=$W$9:$W$2128,$E$9:$E$2128))","v":0},{"$f":"MAX(IF(W1473=$W$9:$W$2128,$E$9:$E$2128))","v":0},1465,1,1,null,null,1,null,"ZZ00000","00ZZ000",null,{"$f":"ABS(OR(C1473=0,AND(MaxInput>1,M1473=INDEX(FFilter,AO$5))))","v":1},{"$f":"ABS(OR(C1473=0,AND(MaxInput>1,N1473=INDEX(FFilter,AP$5))))","v":1},{"$f":"ABS(OR(C1473=0,AND(MaxInput>1,O1473=INDEX(FFilter,AQ$5))))","v":1},null,null,null,null,null,null,null,null,null,null,{"$f":"ROW()","v":1473}]
[1469,"",null,null,null,null,null,null,null,null,null,null,"",{"$f":"IF(C1477=0,\"\",INDEX(Objekt_Text,D1477+1,2))","v":""},{"$f":"IF(C1477=0,\"\",INDEX(Objekt_Text,D1477+1,3))","v":""},"","",{"$f":"INDEX(Visum_Liste,F1477+1)&\"\"","v":""},"","ZZ",0,0,0,0,0,0,3,"",{"$f":"MIN(IF(W1477=$W$9:$W$2128,$E$9:$E$2128))","v":0},{"$f":"MAX(IF(W1477=$W$9:$W$2128,$E$9:$E$2128))","v":0},1469,1,1,null,null,1,null,"ZZ00000","00ZZ000",null,{"$f":"ABS(OR(C1477=0,AND(MaxInput>1,M1477=INDEX(FFilter,AO$5))))","v":1},{"$f":"ABS(OR(C1477=0,AND(MaxInput>1,N1477=INDEX(FFilter,AP$5))))","v":1},{"$f":"ABS(OR(C1477=0,AND(MaxInput>1,O1477=INDEX(FFilter,AQ$5))))","v":1},null,null,null,null,null,null,null,null,null,null,{"$f":"ROW()","v":1477}]
[1472,"",null,null,null,null,null,null,null,null,null,null,"",{"$f":"IF(C1480=0,\"\",INDEX(Objekt_Text,D1480+1,2))","v":""},{"$f":"IF(C1480=0,\"\",INDEX(Objekt_Text,D1480+1,3))","v":""},"","",{"$f":"INDEX(Visum_Liste,F1480+1)&\"\"","v":""},"","ZZ",0,0,0,0,0,0,3,"",{"$f":"MIN(IF(W1480=$W$9:$W$2128,$E$9:$E$2128))","v":0},{"$f":"MAX(IF(W1480=$W$9:$W$2128,$E$9:$E$2128))","v":0},1472,1,1,null,null,1,null,"ZZ00000","00ZZ000",null,{"$f":"ABS(OR(C1480=0,AND(MaxInput>1,M1480=INDEX(FFilter,AO$5))))","v":1},{"$f":"ABS(OR(C1480=0,AND(MaxInput>1,N1480=INDEX(FFilter,AP$5))))","v":1},{"$f":"ABS(OR(C1480=0,AND(MaxInput>1,O1480=INDEX(FFilter,AQ$5))))","v":1},null,null,null,null,null,null,null,null,null,null,{"$f":"ROW()","v":1480}]
[1476,"",null,null,null,null,null,null,null,null,null,null,"",{"$f":"IF(C1484=0,\"\",INDEX(Objekt_Text,D1484+1,2))","v":""},{"$f":"IF(C1484=0,\"\",INDEX(Objekt_Text,D1484+1,3))","v":""},"","",{"$f":"INDEX(Visum_Liste,F1484+1)&\"\"","v":""},"","ZZ",0,0,0,0,0,0,3,"",{"$f":"MIN(IF(W1484=$W$9:$W$2128,$E$9:$E$2128))","v":0},{"$f":"MAX(IF(W1484=$W$9:$W$2128,$E$9:$E$2128))","v":0},1476,1,1,null,null,1,null,"ZZ00000","00ZZ000",null,{"$f":"ABS(OR(C1484=0,AND(MaxInput>1,M1484=INDEX(FFilter,AO$5))))","v":1},{"$f":"ABS(OR(C1484=0,AND(MaxInput>1,N1484=INDEX(FFilter,AP$5))))","v":1},{"$f":"ABS(OR(C1484=0,AND(MaxInput>1,O1484=INDEX(FFilter,AQ$5))))","v":1},null,null,null,null,null,null,null,null,null,null,{"$f":"ROW()","v":1484}]
[1479,"",null,null,null,null,null,null,null,null,null,null,"",{"$f":"IF(C1487=0,\"\",INDEX(Objekt_Text,D1487+1,2))","v":""},{"$f":"IF(C1487=0,\"\",INDEX(Objekt_Text,D1487+1,3))","v":""},"","",{"$f":"INDEX(Visum_Liste,F1487+1)&\"\"","v":""},"","ZZ",0,0,0,0,0,0,3,"",{"$f":"MIN(IF(W1487=$W$9:$W$2128,$E$9:$E$2128))","v":0},{"$f":"MAX(IF(W1487=$W$9:$W$2128,$E$9:$E$2128))","v":0},1479,1,1,null,null,1,null,"ZZ00000","00ZZ000",null,{"$f":"ABS(OR(C1487=0,AND(MaxInput>1,M1487=INDEX(FFilter,AO$5))))","v":1},{"$f":"ABS(OR(C1487=0,AND(MaxInput>1,N1487=INDEX(FFilter,AP$5))))","v":1},{"$f":"ABS(OR(C1487=0,AND(MaxInput>1,O1487=INDEX(FFilter,AQ$5))))","v":1},null,null,null,null,null,null,null,null,null,null,{"$f":"ROW()","v":1487}]
[1482,"",null,null,null,null,null,null,null,null,null,null,"",{"$f":"IF(C1490=0,\"\",INDEX(Objekt_Text,D1490+1,2))","v":""},{"$f":"IF(C1490=0,\"\",INDEX(Objekt_Text,D1490+1,3))","v":""},"","",{"$f":"INDEX(Visum_Liste,F1490+1)&\"\"","v":""},"","ZZ",0,0,0,0,0,0,3,"",{"$f":"MIN(IF(W1490=$W$9:$W$2128,$E$9:$E$2128))","v":0},{"$f":"MAX(IF(W1490=$W$9:$W$2128,$E$9:$E$2128))","v":0},1482,1,1,null,null,1,null,"ZZ00000","00ZZ000",null,{"$f":"ABS(OR(C1490=0,AND(MaxInput>1,M1490=INDEX(FFilter,AO$5))))","v":1},{"$f":"ABS(OR(C1490=0,AND(MaxInput>1,N1490=INDEX(FFilter,AP$5))))","v":1},{"$f":"ABS(OR(C1490=0,AND(MaxInput>1,O1490=INDEX(FFilter,AQ$5))))","v":1},null,null,null,null,null,null,null,null,null,null,{"$f":"ROW()","v":1490}]
[1483,"",null,null,null,null,null,null,null,null,null,null,"",{"$f":"IF(C1491=0,\"\",INDEX(Objekt_Text,D1491+1,2))","v":""},{"$f":"IF(C1491=0,\"\",INDEX(Objekt_Text,D1491+1,3))","v":""},"","",{"$f":"INDEX(Visum_Liste,F1491+1)&\"\"","v":""},"","ZZ",0,0,0,0,0,0,3,"",{"$f":"MIN(IF(W1491=$W$9:$W$2128,$E$9:$E$2128))","v":0},{"$f":"MAX(IF(W1491=$W$9:$W$2128,$E$9:$E$2128))","v":0},1483,1,1,null,null,1,null,"ZZ00000","00ZZ000",null,{"$f":"ABS(OR(C1491=0,AND(MaxInput>1,M1491=INDEX(FFilter,AO$5))))","v":1},{"$f":"ABS(OR(C1491=0,AND(MaxInput>1,N1491=INDEX(FFilter,AP$5))))","v":1},{"$f":"ABS(OR(C1491=0,AND(MaxInput>1,O1491=INDEX(FFilter,AQ$5))))","v":1},null,null,null,null,null,null,null,null,null,null,{"$f":"ROW()","v":1491}]
[1486,"",null,null,null,null,null,null,null,null,null,null,"",{"$f":"IF(C1494=0,\"\",INDEX(Objekt_Text,D1494+1,2))","v":""},{"$f":"IF(C1494=0,\"\",INDEX(Objekt_Text,D1494+1,3))","v":""},"","",{"$f":"INDEX(Visum_Liste,F1494+1)&\"\"","v":""},"","ZZ",0,0,0,0,0,0,3,"",{"$f":"MIN(IF(W1494=$W$9:$W$2128,$E$9:$E$2128))","v":0},{"$f":"MAX(IF(W1494=$W$9:$W$2128,$E$9:$E$2128))","v":0},1486,1,1,null,null,1,null,"ZZ00000","00ZZ000",null,{"$f":"ABS(OR(C1494=0,AND(MaxInput>1,M1494=INDEX(FFilter,AO$5))))","v":1},{"$f":"ABS(OR(C1494=0,AND(MaxInput>1,N1494=INDEX(FFilter,AP$5))))","v":1},{"$f":"ABS(OR(C1494=0,AND(MaxInput>1,O1494=INDEX(FFilter,AQ$5))))","v":1},null,null,null,null,null,null,null,null,null,null,{"$f":"ROW()","v":1494}]
[1490,"",null,null,null,null,null,null,null,null,null,null,"",{"$f":"IF(C1498=0,\"\",INDEX(Objekt_Text,D1498+1,2))","v":""},{"$f":"IF(C1498=0,\"\",INDEX(Objekt_Text,D1498+1,3))","v":""},"","",{"$f":"INDEX(Visum_Liste,F1498+1)&\"\"","v":""},"","ZZ",0,0,0,0,0,0,3,"",{"$f":"MIN(IF(W1498=$W$9:$W$2128,$E$9:$E$2128))","v":0},{"$f":"MAX(IF(W1498=$W$9:$W$2128,$E$9:$E$2128))","v":0},1490,1,1,null,null,1,null,"ZZ00000","00ZZ000",null,{"$f":"ABS(OR(C1498=0,AND(MaxInput>1,M1498=INDEX(FFilter,AO$5))))","v":1},{"$f":"ABS(OR(C1498=0,AND(MaxInput>1,N1498=INDEX(FFilter,AP$5))))","v":1},{"$f":"ABS(OR(C1498=0,AND(MaxInput>1,O1498=INDEX(FFilter,AQ$5))))","v":1},null,null,null,null,null,null,null,null,null,null,{"$f":"ROW()","v":1498}]
[1493,"",null,null,null,null,null,null,null,null,null,null,"",{"$f":"IF(C1501=0,\"\",INDEX(Objekt_Text,D1501+1,2))","v":""},{"$f":"IF(C1501=0,\"\",INDEX(Objekt_Text,D1501+1,3))","v":""},"","",{"$f":"INDEX(Visum_Liste,F1501+1)&\"\"","v":""},"","ZZ",0,0,0,0,0,0,3,"",{"$f":"MIN(IF(W1501=$W$9:$W$2128,$E$9:$E$2128))","v":0},{"$f":"MAX(IF(W1501=$W$9:$W$2128,$E$9:$E$2128))","v":0},1493,1,1,null,null,1,null,"ZZ00000","00ZZ000",null,{"$f":"ABS(OR(C1501=0,AND(MaxInput>1,M1501=INDEX(FFilter,AO$5))))","v":1},{"$f":"ABS(OR(C1501=0,AND(MaxInput>1,N1501=INDEX(FFilter,AP$5))))","v":1},{"$f":"ABS(OR(C1501=0,AND(MaxInput>1,O1501=INDEX(FFilter,AQ$5))))","v":1},null,null,null,null,null,null,null,null,null,null,{"$f":"ROW()","v":1501}]
[1496,"",null,null,null,null,null,null,null,null,null,null,"",{"$f":"IF(C1504=0,\"\",INDEX(Objekt_Text,D1504+1,2))","v":""},{"$f":"IF(C1504=0,\"\",INDEX(Objekt_Text,D1504+1,3))","v":""},"","",{"$f":"INDEX(Visum_Liste,F1504+1)&\"\"","v":""},"","ZZ",0,0,0,0,0,0,3,"",{"$f":"MIN(IF(W1504=$W$9:$W$2128,$E$9:$E$2128))","v":0},{"$f":"MAX(IF(W1504=$W$9:$W$2128,$E$9:$E$2128))","v":0},1496,1,1,null,null,1,null,"ZZ00000","00ZZ000",null,{"$f":"ABS(OR(C1504=0,AND(MaxInput>1,M1504=INDEX(FFilter,AO$5))))","v":1},{"$f":"ABS(OR(C1504=0,AND(MaxInput>1,N1504=INDEX(FFilter,AP$5))))","v":1},{"$f":"ABS(OR(C1504=0,AND(MaxInput>1,O1504=INDEX(FFilter,AQ$5))))","v":1},null,null,null,null,null,null,null,null,null,null,{"$f":"ROW()","v":1504}]
[1500,"",null,null,null,null,null,null,null,null,null,null,"",{"$f":"IF(C1508=0,\"\",INDEX(Objekt_Text,D1508+1,2))","v":""},{"$f":"IF(C1508=0,\"\",INDEX(Objekt_Text,D1508+1,3))","v":""},"","",{"$f":"INDEX(Visum_Liste,F1508+1)&\"\"","v":""},"","ZZ",0,0,0,0,0,0,3,"",{"$f":"MIN(IF(W1508=$W$9:$W$2128,$E$9:$E$2128))","v":0},{"$f":"MAX(IF(W1508=$W$9:$W$2128,$E$9:$E$2128))","v":0},1500,1,1,null,null,1,null,"ZZ00000","00ZZ000",null,{"$f":"ABS(OR(C1508=0,AND(MaxInput>1,M1508=INDEX(FFilter,AO$5))))","v":1},{"$f":"ABS(OR(C1508=0,AND(MaxInput>1,N1508=INDEX(FFilter,AP$5))))","v":1},{"$f":"ABS(OR(C1508=0,AND(MaxInput>1,O1508=INDEX(FFilter,AQ$5))))","v":1},null,null,null,null,null,null,null,null,null,null,{"$f":"ROW()","v":1508}]
[1503,"",null,null,null,null,null,null,null,null,null,null,"",{"$f":"IF(C1511=0,\"\",INDEX(Objekt_Text,D1511+1,2))","v":""},{"$f":"IF(C1511=0,\"\",INDEX(Objekt_Text,D1511+1,3))","v":""},"","",{"$f":"INDEX(Visum_Liste,F1511+1)&\"\"","v":""},"","ZZ",0,0,0,0,0,0,3,"",{"$f":"MIN(IF(W1511=$W$9:$W$2128,$E$9:$E$2128))","v":0},{"$f":"MAX(IF(W1511=$W$9:$W$2128,$E$9:$E$2128))","v":0},1503,1,1,null,null,1,null,"ZZ00000","00ZZ000",null,{"$f":"ABS(OR(C1511=0,AND(MaxInput>1,M1511=INDEX(FFilter,AO$5))))","v":1},{"$f":"ABS(OR(C1511=0,AND(MaxInput>1,N1511=INDEX(FFilter,AP$5))))","v":1},{"$f":"ABS(OR(C1511=0,AND(MaxInput>1,O1511=INDEX(FFilter,AQ$5))))","v":1},null,null,null,null,null,null,null,null,null,null,{"$f":"ROW()","v":1511}]
[1506,"",null,null,null,null,null,null,null,null,null,null,"",{"$f":"IF(C1514=0,\"\",INDEX(Objekt_Text,D1514+1,2))","v":""},{"$f":"IF(C1514=0,\"\",INDEX(Objekt_Text,D1514+1,3))","v":""},"","",{"$f":"INDEX(Visum_Liste,F1514+1)&\"\"","v":""},"","ZZ",0,0,0,0,0,0,3,"",{"$f":"MIN(IF(W1514=$W$9:$W$2128,$E$9:$E$2128))","v":0},{"$f":"MAX(IF(W1514=$W$9:$W$2128,$E$9:$E$2128))","v":0},1506,1,1,null,null,1,null,"ZZ00000","00ZZ000",null,{"$f":"ABS(OR(C1514=0,AND(MaxInput>1,M1514=INDEX(FFilter,AO$5))))","v":1},{"$f":"ABS(OR(C1514=0,AND(MaxInput>1,N1514=INDEX(FFilter,AP$5))))","v":1},{"$f":"ABS(OR(C1514=0,AND(MaxInput>1,O1514=INDEX(FFilter,AQ$5))))","v":1},null,null,null,null,null,null,null,null,null,null,{"$f":"ROW()","v":1514}]
[1507,"",null,null,null,null,null,null,null,null,null,null,"",{"$f":"IF(C1515=0,\"\",INDEX(Objekt_Text,D1515+1,2))","v":""},{"$f":"IF(C1515=0,\"\",INDEX(Objekt_Text,D1515+1,3))","v":""},"","",{"$f":"INDEX(Visum_Liste,F1515+1)&\"\"","v":""},"","ZZ",0,0,0,0,0,0,3,"",{"$f":"MIN(IF(W1515=$W$9:$W$2128,$E$9:$E$2128))","v":0},{"$f":"MAX(IF(W1515=$W$9:$W$2128,$E$9:$E$2128))","v":0},1507,1,1,null,null,1,null,"ZZ00000","00ZZ000",null,{"$f":"ABS(OR(C1515=0,AND(MaxInput>1,M1515=INDEX(FFilter,AO$5))))","v":1},{"$f":"ABS(OR(C1515=0,AND(MaxInput>1,N1515=INDEX(FFilter,AP$5))))","v":1},{"$f":"ABS(OR(C1515=0,AND(MaxInput>1,O1515=INDEX(FFilter,AQ$5))))","v":1},null,null,null,null,null,null,null,null,null,null,{"$f":"ROW()","v":1515}]
[1510,"",null,null,null,null,null,null,null,null,null,null,"",{"$f":"IF(C1518=0,\"\",INDEX(Objekt_Text,D1518+1,2))","v":""},{"$f":"IF(C1518=0,\"\",INDEX(Objekt_Text,D1518+1,3))","v":""},"","",{"$f":"INDEX(Visum_Liste,F1518+1)&\"\"","v":""},"","ZZ",0,0,0,0,0,0,3,"",{"$f":"MIN(IF(W1518=$W$9:$W$2128,$E$9:$E$2128))","v":0},{"$f":"MAX(IF(W1518=$W$9:$W$2128,$E$9:$E$2128))","v":0},1510,1,1,null,null,1,null,"ZZ00000","00ZZ000",null,{"$f":"ABS(OR(C1518=0,AND(MaxInput>1,M1518=INDEX(FFilter,AO$5))))","v":1},{"$f":"ABS(OR(C1518=0,AND(MaxInput>1,N1518=INDEX(FFilter,AP$5))))","v":1},{"$f":"ABS(OR(C1518=0,AND(MaxInput>1,O1518=INDEX(FFilter,AQ$5))))","v":1},null,null,null,null,null,null,null,null,null,null,{"$f":"ROW()","v":1518}]
[1514,"",null,null,null,null,null,null,null,null,null,null,"",{"$f":"IF(C1522=0,\"\",INDEX(Objekt_Text,D1522+1,2))","v":""},{"$f":"IF(C1522=0,\"\",INDEX(Objekt_Text,D1522+1,3))","v":""},"","",{"$f":"INDEX(Visum_Liste,F1522+1)&\"\"","v":""},"","ZZ",0,0,0,0,0,0,3,"",{"$f":"MIN(IF(W1522=$W$9:$W$2128,$E$9:$E$2128))","v":0},{"$f":"MAX(IF(W1522=$W$9:$W$2128,$E$9:$E$2128))","v":0},1514,1,1,null,null,1,null,"ZZ00000","00ZZ000",null,{"$f":"ABS(OR(C1522=0,AND(MaxInput>1,M1522=INDEX(FFilter,AO$5))))","v":1},{"$f":"ABS(OR(C1522=0,AND(MaxInput>1,N1522=INDEX(FFilter,AP$5))))","v":1},{"$f":"ABS(OR(C1522=0,AND(MaxInput>1,O1522=INDEX(FFilter,AQ$5))))","v":1},null,null,null,null,null,null,null,null,null,null,{"$f":"ROW()","v":1522}]
[1517,"",null,null,null,null,null,null,null,null,null,null,"",{"$f":"IF(C1525=0,\"\",INDEX(Objekt_Text,D1525+1,2))","v":""},{"$f":"IF(C1525=0,\"\",INDEX(Objekt_Text,D1525+1,3))","v":""},"","",{"$f":"INDEX(Visum_Liste,F1525+1)&\"\"","v":""},"","ZZ",0,0,0,0,0,0,3,"",{"$f":"MIN(IF(W1525=$W$9:$W$2128,$E$9:$E$2128))","v":0},{"$f":"MAX(IF(W1525=$W$9:$W$2128,$E$9:$E$2128))","v":0},1517,1,1,null,null,1,null,"ZZ00000","00ZZ000",null,{"$f":"ABS(OR(C1525=0,AND(MaxInput>1,M1525=INDEX(FFilter,AO$5))))","v":1},{"$f":"ABS(OR(C1525=0,AND(MaxInput>1,N1525=INDEX(FFilter,AP$5))))","v":1},{"$f":"ABS(OR(C1525=0,AND(MaxInput>1,O1525=INDEX(FFilter,AQ$5))))","v":1},null,null,null,null,null,null,null,null,null,null,{"$f":"ROW()","v":1525}]
[1520,"",null,null,null,null,null,null,null,null,null,null,"",{"$f":"IF(C1528=0,\"\",INDEX(Objekt_Text,D1528+1,2))","v":""},{"$f":"IF(C1528=0,\"\",INDEX(Objekt_Text,D1528+1,3))","v":""},"","",{"$f":"INDEX(Visum_Liste,F1528+1)&\"\"","v":""},"","ZZ",0,0,0,0,0,0,3,"",{"$f":"MIN(IF(W1528=$W$9:$W$2128,$E$9:$E$2128))","v":0},{"$f":"MAX(IF(W1528=$W$9:$W$2128,$E$9:$E$2128))","v":0},1520,1,1,null,null,1,null,"ZZ00000","00ZZ000",null,{"$f":"ABS(OR(C1528=0,AND(MaxInput>1,M1528=INDEX(FFilter,AO$5))))","v":1},{"$f":"ABS(OR(C1528=0,AND(MaxInput>1,N1528=INDEX(FFilter,AP$5))))","v":1},{"$f":"ABS(OR(C1528=0,AND(MaxInput>1,O1528=INDEX(FFilter,AQ$5))))","v":1},null,null,null,null,null,null,null,null,null,null,{"$f":"ROW()","v":1528}]
[1524,"",null,null,null,null,null,null,null,null,null,null,"",{"$f":"IF(C1532=0,\"\",INDEX(Objekt_Text,D1532+1,2))","v":""},{"$f":"IF(C1532=0,\"\",INDEX(Objekt_Text,D1532+1,3))","v":""},"","",{"$f":"INDEX(Visum_Liste,F1532+1)&\"\"","v":""},"","ZZ",0,0,0,0,0,0,3,"",{"$f":"MIN(IF(W1532=$W$9:$W$2128,$E$9:$E$2128))","v":0},{"$f":"MAX(IF(W1532=$W$9:$W$2128,$E$9:$E$2128))","v":0},1524,1,1,null,null,1,null,"ZZ00000","00ZZ000",null,{"$f":"ABS(OR(C1532=0,AND(MaxInput>1,M1532=INDEX(FFilter,AO$5))))","v":1},{"$f":"ABS(OR(C1532=0,AND(MaxInput>1,N1532=INDEX(FFilter,AP$5))))","v":1},{"$f":"ABS(OR(C1532=0,AND(MaxInput>1,O1532=INDEX(FFilter,AQ$5))))","v":1},null,null,null,null,null,null,null,null,null,null,{"$f":"ROW()","v":1532}]
[1527,"",null,null,null,null,null,null,null,null,null,null,"",{"$f":"IF(C1535=0,\"\",INDEX(Objekt_Text,D1535+1,2))","v":""},{"$f":"IF(C1535=0,\"\",INDEX(Objekt_Text,D1535+1,3))","v":""},"","",{"$f":"INDEX(Visum_Liste,F1535+1)&\"\"","v":""},"","ZZ",0,0,0,0,0,0,3,"",{"$f":"MIN(IF(W1535=$W$9:$W$2128,$E$9:$E$2128))","v":0},{"$f":"MAX(IF(W1535=$W$9:$W$2128,$E$9:$E$2128))","v":0},1527,1,1,null,null,1,null,"ZZ00000","00ZZ000",null,{"$f":"ABS(OR(C1535=0,AND(MaxInput>1,M1535=INDEX(FFilter,AO$5))))","v":1},{"$f":"ABS(OR(C1535=0,AND(MaxInput>1,N1535=INDEX(FFilter,AP$5))))","v":1},{"$f":"ABS(OR(C1535=0,AND(MaxInput>1,O1535=INDEX(FFilter,AQ$5))))","v":1},null,null,null,null,null,null,null,null,null,null,{"$f":"ROW()","v":1535}]
[1528,"",null,null,null,null,null,null,null,null,null,null,"",{"$f":"IF(C1536=0,\"\",INDEX(Objekt_Text,D1536+1,2))","v":""},{"$f":"IF(C1536=0,\"\",INDEX(Objekt_Text,D1536+1,3))","v":""},"","",{"$f":"INDEX(Visum_Liste,F1536+1)&\"\"","v":""},"","ZZ",0,0,0,0,0,0,3,"",{"$f":"MIN(IF(W1536=$W$9:$W$2128,$E$9:$E$2128))","v":0},{"$f":"MAX(IF(W1536=$W$9:$W$2128,$E$9:$E$2128))","v":0},1528,1,1,null,null,1,null,"ZZ00000","00ZZ000",null,{"$f":"ABS(OR(C1536=0,AND(MaxInput>1,M1536=INDEX(FFilter,AO$5))))","v":1},{"$f":"ABS(OR(C1536=0,AND(MaxInput>1,N1536=INDEX(FFilter,AP$5))))","v":1},{"$f":"ABS(OR(C1536=0,AND(MaxInput>1,O1536=INDEX(FFilter,AQ$5))))","v":1},null,null,null,null,null,null,null,null,null,null,{"$f":"ROW()","v":1536}]
[1531,"",null,null,null,null,null,null,null,null,null,null,"",{"$f":"IF(C1539=0,\"\",INDEX(Objekt_Text,D1539+1,2))","v":""},{"$f":"IF(C1539=0,\"\",INDEX(Objekt_Text,D1539+1,3))","v":""},"","",{"$f":"INDEX(Visum_Liste,F1539+1)&\"\"","v":""},"","ZZ",0,0,0,0,0,0,3,"",{"$f":"MIN(IF(W1539=$W$9:$W$2128,$E$9:$E$2128))","v":0},{"$f":"MAX(IF(W1539=$W$9:$W$2128,$E$9:$E$2128))","v":0},1531,1,1,null,null,1,null,"ZZ00000","00ZZ000",null,{"$f":"ABS(OR(C1539=0,AND(MaxInput>1,M1539=INDEX(FFilter,AO$5))))","v":1},{"$f":"ABS(OR(C1539=0,AND(MaxInput>1,N1539=INDEX(FFilter,AP$5))))","v":1},{"$f":"ABS(OR(C1539=0,AND(MaxInput>1,O1539=INDEX(FFilter,AQ$5))))","v":1},null,null,null,null,null,null,null,null,null,null,{"$f":"ROW()","v":1539}]
[1534,"",null,null,null,null,null,null,null,null,null,null,"",{"$f":"IF(C1542=0,\"\",INDEX(Objekt_Text,D1542+1,2))","v":""},{"$f":"IF(C1542=0,\"\",INDEX(Objekt_Text,D1542+1,3))","v":""},"","",{"$f":"INDEX(Visum_Liste,F1542+1)&\"\"","v":""},"","ZZ",0,0,0,0,0,0,3,"",{"$f":"MIN(IF(W1542=$W$9:$W$2128,$E$9:$E$2128))","v":0},{"$f":"MAX(IF(W1542=$W$9:$W$2128,$E$9:$E$2128))","v":0},1534,1,1,null,null,1,null,"ZZ00000","00ZZ000",null,{"$f":"ABS(OR(C1542=0,AND(MaxInput>1,M1542=INDEX(FFilter,AO$5))))","v":1},{"$f":"ABS(OR(C1542=0,AND(MaxInput>1,N1542=INDEX(FFilter,AP$5))))","v":1},{"$f":"ABS(OR(C1542=0,AND(MaxInput>1,O1542=INDEX(FFilter,AQ$5))))","v":1},null,null,null,null,null,null,null,null,null,null,{"$f":"ROW()","v":1542}]
[1538,"",null,null,null,null,null,null,null,null,null,null,"",{"$f":"IF(C1546=0,\"\",INDEX(Objekt_Text,D1546+1,2))","v":""},{"$f":"IF(C1546=0,\"\",INDEX(Objekt_Text,D1546+1,3))","v":""},"","",{"$f":"INDEX(Visum_Liste,F1546+1)&\"\"","v":""},"","ZZ",0,0,0,0,0,0,3,"",{"$f":"MIN(IF(W1546=$W$9:$W$2128,$E$9:$E$2128))","v":0},{"$f":"MAX(IF(W1546=$W$9:$W$2128,$E$9:$E$2128))","v":0},1538,1,1,null,null,{"$f":"OR(L1546<=L1545,B1546=\"\")*1","v":1},null,"ZZ00000","00ZZ000",null,{"$f":"ABS(OR(C1546=0,AND(MaxInput>1,M1546=INDEX(FFilter,AO$5))))","v":1},{"$f":"ABS(OR(C1546=0,AND(MaxInput>1,N1546=INDEX(FFilter,AP$5))))","v":1},{"$f":"ABS(OR(C1546=0,AND(MaxInput>1,O1546=INDEX(FFilter,AQ$5))))","v":1},null,null,null,null,null,null,null,null,null,null,{"$f":"ROW()","v":1546}]
[1541,"",null,null,null,null,null,null,null,null,null,null,"",{"$f":"IF(C1549=0,\"\",INDEX(Objekt_Text,D1549+1,2))","v":""},{"$f":"IF(C1549=0,\"\",INDEX(Objekt_Text,D1549+1,3))","v":""},"","",{"$f":"INDEX(Visum_Liste,F1549+1)&\"\"","v":""},"","ZZ",0,0,0,0,0,0,3,"",{"$f":"MIN(IF(W1549=$W$9:$W$2128,$E$9:$E$2128))","v":0},{"$f":"MAX(IF(W1549=$W$9:$W$2128,$E$9:$E$2128))","v":0},1541,{"$f":"OR(AL1549>=AL1548,B1549=\"\")*1","v":1},{"$f":"OR(AM1549>=AM1548,B1549=\"\")*1","v":1},null,null,1,null,"ZZ00000","00ZZ000",null,{"$f":"ABS(OR(C1549=0,AND(MaxInput>1,M1549=INDEX(FFilter,AO$5))))","v":1},{"$f":"ABS(OR(C1549=0,AND(MaxInput>1,N1549=INDEX(FFilter,AP$5))))","v":1},{"$f":"ABS(OR(C1549=0,AND(MaxInput>1,O1549=INDEX(FFilter,AQ$5))))","v":1},null,null,null,null,null,null,null,null,null,null,{"$f":"ROW()","v":1549}]
[1544,"",null,null,null,null,null,null,null,null,null,null,"",{"$f":"IF(C1552=0,\"\",INDEX(Objekt_Text,D1552+1,2))","v":""},{"$f":"IF(C1552=0,\"\",INDEX(Objekt_Text,D1552+1,3))","v":""},"","",{"$f":"INDEX(Visum_Liste,F1552+1)&\"\"","v":""},"","ZZ",0,0,0,0,0,0,3,"",{"$f":"MIN(IF(W1552=$W$9:$W$2128,$E$9:$E$2128))","v":0},{"$f":"MAX(IF(W1552=$W$9:$W$2128,$E$9:$E$2128))","v":0},1544,1,1,null,null,1,null,"ZZ00000","00ZZ000",null,{"$f":"ABS(OR(C1552=0,AND(MaxInput>1,M1552=INDEX(FFilter,AO$5))))","v":1},{"$f":"ABS(OR(C1552=0,AND(MaxInput>1,N1552=INDEX(FFilter,AP$5))))","v":1},{"$f":"ABS(OR(C1552=0,AND(MaxInput>1,O1552=INDEX(FFilter,AQ$5))))","v":1},null,null,null,null,null,null,null,null,null,null,{"$f":"ROW()","v":1552}]
[1548,"",null,null,null,null,null,null,null,null,null,null,"",{"$f":"IF(C1556=0,\"\",INDEX(Objekt_Text,D1556+1,2))","v":""},{"$f":"IF(C1556=0,\"\",INDEX(Objekt_Text,D1556+1,3))","v":""},"","",{"$f":"INDEX(Visum_Liste,F1556+1)&\"\"","v":""},"","ZZ",0,0,0,0,0,0,3,"",{"$f":"MIN(IF(W1556=$W$9:$W$2128,$E$9:$E$2128))","v":0},{"$f":"MAX(IF(W1556=$W$9:$W$2128,$E$9:$E$2128))","v":0},1548,1,1,null,null,1,null,"ZZ00000","00ZZ000",null,{"$f":"ABS(OR(C1556=0,AND(MaxInput>1,M1556=INDEX(FFilter,AO$5))))","v":1},{"$f":"ABS(OR(C1556=0,AND(MaxInput>1,N1556=INDEX(FFilter,AP$5))))","v":1},{"$f":"ABS(OR(C1556=0,AND(MaxInput>1,O1556=INDEX(FFilter,AQ$5))))","v":1},null,null,null,null,null,null,null,null,null,null,{"$f":"ROW()","v":1556}]
[1552,"",null,null,null,null,null,null,null,null,null,null,"",{"$f":"IF(C1560=0,\"\",INDEX(Objekt_Text,D1560+1,2))","v":""},{"$f":"IF(C1560=0,\"\",INDEX(Objekt_Text,D1560+1,3))","v":""},"","",{"$f":"INDEX(Visum_Liste,F1560+1)&\"\"","v":""},"","ZZ",0,0,0,0,0,0,3,"",{"$f":"MIN(IF(W1560=$W$9:$W$2128,$E$9:$E$2128))","v":0},{"$f":"MAX(IF(W1560=$W$9:$W$2128,$E$9:$E$2128))","v":0},1552,1,1,null,null,1,null,"ZZ00000","00ZZ000",null,{"$f":"ABS(OR(C1560=0,AND(MaxInput>1,M1560=INDEX(FFilter,AO$5))))","v":1},{"$f":"ABS(OR(C1560=0,AND(MaxInput>1,N1560=INDEX(FFilter,AP$5))))","v":1},{"$f":"ABS(OR(C1560=0,AND(MaxInput>1,O1560=INDEX(FFilter,AQ$5))))","v":1},null,null,null,null,null,null,null,null,null,null,{"$f":"ROW()","v":1560}]
[1553,"",null,null,null,null,null,null,null,null,null,null,"",{"$f":"IF(C1561=0,\"\",INDEX(Objekt_Text,D1561+1,2))","v":""},{"$f":"IF(C1561=0,\"\",INDEX(Objekt_Text,D1561+1,3))","v":""},"","",{"$f":"INDEX(Visum_Liste,F1561+1)&\"\"","v":""},"","ZZ",0,0,0,0,0,0,3,"",{"$f":"MIN(IF(W1561=$W$9:$W$2128,$E$9:$E$2128))","v":0},{"$f":"MAX(IF(W1561=$W$9:$W$2128,$E$9:$E$2128))","v":0},1553,1,1,null,null,1,null,"ZZ00000","00ZZ000",null,{"$f":"ABS(OR(C1561=0,AND(MaxInput>1,M1561=INDEX(FFilter,AO$5))))","v":1},{"$f":"ABS(OR(C1561=0,AND(MaxInput>1,N1561=INDEX(FFilter,AP$5))))","v":1},{"$f":"ABS(OR(C1561=0,AND(MaxInput>1,O1561=INDEX(FFilter,AQ$5))))","v":1},null,null,null,null,null,null,null,null,null,null,{"$f":"ROW()","v":1561}]
[1556,"",null,null,null,null,null,null,null,null,null,null,"",{"$f":"IF(C1564=0,\"\",INDEX(Objekt_Text,D1564+1,2))","v":""},{"$f":"IF(C1564=0,\"\",INDEX(Objekt_Text,D1564+1,3))","v":""},"","",{"$f":"INDEX(Visum_Liste,F1564+1)&\"\"","v":""},"","ZZ",0,0,0,0,0,0,3,"",{"$f":"MIN(IF(W1564=$W$9:$W$2128,$E$9:$E$2128))","v":0},{"$f":"MAX(IF(W1564=$W$9:$W$2128,$E$9:$E$2128))","v":0},1556,1,1,null,null,1,null,"ZZ00000","00ZZ000",null,{"$f":"ABS(OR(C1564=0,AND(MaxInput>1,M1564=INDEX(FFilter,AO$5))))","v":1},{"$f":"ABS(OR(C1564=0,AND(MaxInput>1,N1564=INDEX(FFilter,AP$5))))","v":1},{"$f":"ABS(OR(C1564=0,AND(MaxInput>1,O1564=INDEX(FFilter,AQ$5))))","v":1},null,null,null,null,null,null,null,null,null,null,{"$f":"ROW()","v":1564}]
[1559,"",null,null,null,null,null,null,null,null,null,null,"",{"$f":"IF(C1567=0,\"\",INDEX(Objekt_Text,D1567+1,2))","v":""},{"$f":"IF(C1567=0,\"\",INDEX(Objekt_Text,D1567+1,3))","v":""},"","",{"$f":"INDEX(Visum_Liste,F1567+1)&\"\"","v":""},"","ZZ",0,0,0,0,0,0,3,"",{"$f":"MIN(IF(W1567=$W$9:$W$2128,$E$9:$E$2128))","v":0},{"$f":"MAX(IF(W1567=$W$9:$W$2128,$E$9:$E$2128))","v":0},1559,1,1,null,null,1,null,"ZZ00000","00ZZ000",null,{"$f":"ABS(OR(C1567=0,AND(MaxInput>1,M1567=INDEX(FFilter,AO$5))))","v":1},{"$f":"ABS(OR(C1567=0,AND(MaxInput>1,N1567=INDEX(FFilter,AP$5))))","v":1},{"$f":"ABS(OR(C1567=0,AND(MaxInput>1,O1567=INDEX(FFilter,AQ$5))))","v":1},null,null,null,null,null,null,null,null,null,null,{"$f":"ROW()","v":1567}]
[1563,"",null,null,null,null,null,null,null,null,null,null,"",{"$f":"IF(C1571=0,\"\",INDEX(Objekt_Text,D1571+1,2))","v":""},{"$f":"IF(C1571=0,\"\",INDEX(Objekt_Text,D1571+1,3))","v":""},"","",{"$f":"INDEX(Visum_Liste,F1571+1)&\"\"","v":""},"","ZZ",0,0,0,0,0,0,3,"",{"$f":"MIN(IF(W1571=$W$9:$W$2128,$E$9:$E$2128))","v":0},{"$f":"MAX(IF(W1571=$W$9:$W$2128,$E$9:$E$2128))","v":0},1563,1,1,null,null,1,null,"ZZ00000","00ZZ000",null,{"$f":"ABS(OR(C1571=0,AND(MaxInput>1,M1571=INDEX(FFilter,AO$5))))","v":1},{"$f":"ABS(OR(C1571=0,AND(MaxInput>1,N1571=INDEX(FFilter,AP$5))))","v":1},{"$f":"ABS(OR(C1571=0,AND(MaxInput>1,O1571=INDEX(FFilter,AQ$5))))","v":1},null,null,null,null,null,null,null,null,null,null,{"$f":"ROW()","v":1571}]
[1566,"",null,null,null,null,null,null,null,null,null,null,"",{"$f":"IF(C1574=0,\"\",INDEX(Objekt_Text,D1574+1,2))","v":""},{"$f":"IF(C1574=0,\"\",INDEX(Objekt_Text,D1574+1,3))","v":""},"","",{"$f":"INDEX(Visum_Liste,F1574+1)&\"\"","v":""},"","ZZ",0,0,0,0,0,0,3,"",{"$f":"MIN(IF(W1574=$W$9:$W$2128,$E$9:$E$2128))","v":0},{"$f":"MAX(IF(W1574=$W$9:$W$2128,$E$9:$E$2128))","v":0},1566,1,1,null,null,1,null,"ZZ00000","00ZZ000",null,{"$f":"ABS(OR(C1574=0,AND(MaxInput>1,M1574=INDEX(FFilter,AO$5))))","v":1},{"$f":"ABS(OR(C1574=0,AND(MaxInput>1,N1574=INDEX(FFilter,AP$5))))","v":1},{"$f":"ABS(OR(C1574=0,AND(MaxInput>1,O1574=INDEX(FFilter,AQ$5))))","v":1},null,null,null,null,null,null,null,null,null,null,{"$f":"ROW()","v":1574}]
[1569,"",null,null,null,null,null,null,null,null,null,null,"",{"$f":"IF(C1577=0,\"\",INDEX(Objekt_Text,D1577+1,2))","v":""},{"$f":"IF(C1577=0,\"\",INDEX(Objekt_Text,D1577+1,3))","v":""},"","",{"$f":"INDEX(Visum_Liste,F1577+1)&\"\"","v":""},"","ZZ",0,0,0,0,0,0,3,"",{"$f":"MIN(IF(W1577=$W$9:$W$2128,$E$9:$E$2128))","v":0},{"$f":"MAX(IF(W1577=$W$9:$W$2128,$E$9:$E$2128))","v":0},1569,1,1,null,null,1,null,"ZZ00000","00ZZ000",null,{"$f":"ABS(OR(C1577=0,AND(MaxInput>1,M1577=INDEX(FFilter,AO$5))))","v":1},{"$f":"ABS(OR(C1577=0,AND(MaxInput>1,N1577=INDEX(FFilter,AP$5))))","v":1},{"$f":"ABS(OR(C1577=0,AND(MaxInput>1,O1577=INDEX(FFilter,AQ$5))))","v":1},null,null,null,null,null,null,null,null,null,null,{"$f":"ROW()","v":1577}]
[1573,"",null,null,null,null,null,null,null,null,null,null,"",{"$f":"IF(C1581=0,\"\",INDEX(Objekt_Text,D1581+1,2))","v":""},{"$f":"IF(C1581=0,\"\",INDEX(Objekt_Text,D1581+1,3))","v":""},"","",{"$f":"INDEX(Visum_Liste,F1581+1)&\"\"","v":""},"","ZZ",0,0,0,0,0,0,3,"",{"$f":"MIN(IF(W1581=$W$9:$W$2128,$E$9:$E$2128))","v":0},{"$f":"MAX(IF(W1581=$W$9:$W$2128,$E$9:$E$2128))","v":0},1573,1,1,null,null,1,null,"ZZ00000","00ZZ000",null,{"$f":"ABS(OR(C1581=0,AND(MaxInput>1,M1581=INDEX(FFilter,AO$5))))","v":1},{"$f":"ABS(OR(C1581=0,AND(MaxInput>1,N1581=INDEX(FFilter,AP$5))))","v":1},{"$f":"ABS(OR(C1581=0,AND(MaxInput>1,O1581=INDEX(FFilter,AQ$5))))","v":1},null,null,null,null,null,null,null,null,null,null,{"$f":"ROW()","v":1581}]
[1576,"",null,null,null,null,null,null,null,null,null,null,"",{"$f":"IF(C1584=0,\"\",INDEX(Objekt_Text,D1584+1,2))","v":""},{"$f":"IF(C1584=0,\"\",INDEX(Objekt_Text,D1584+1,3))","v":""},"","",{"$f":"INDEX(Visum_Liste,F1584+1)&\"\"","v":""},"","ZZ",0,0,0,0,0,0,3,"",{"$f":"MIN(IF(W1584=$W$9:$W$2128,$E$9:$E$2128))","v":0},{"$f":"MAX(IF(W1584=$W$9:$W$2128,$E$9:$E$2128))","v":0},1576,1,1,null,null,1,null,"ZZ00000","00ZZ000",null,{"$f":"ABS(OR(C1584=0,AND(MaxInput>1,M1584=INDEX(FFilter,AO$5))))","v":1},{"$f":"ABS(OR(C1584=0,AND(MaxInput>1,N1584=INDEX(FFilter,AP$5))))","v":1},{"$f":"ABS(OR(C1584=0,AND(MaxInput>1,O1584=INDEX(FFilter,AQ$5))))","v":1},null,null,null,null,null,null,null,null,null,null,{"$f":"ROW()","v":1584}]
[1577,"",null,null,null,null,null,null,null,null,null,null,"",{"$f":"IF(C1585=0,\"\",INDEX(Objekt_Text,D1585+1,2))","v":""},{"$f":"IF(C1585=0,\"\",INDEX(Objekt_Text,D1585+1,3))","v":""},"","",{"$f":"INDEX(Visum_Liste,F1585+1)&\"\"","v":""},"","ZZ",0,0,0,0,0,0,3,"",{"$f":"MIN(IF(W1585=$W$9:$W$2128,$E$9:$E$2128))","v":0},{"$f":"MAX(IF(W1585=$W$9:$W$2128,$E$9:$E$2128))","v":0},1577,1,1,null,null,1,null,"ZZ00000","00ZZ000",null,{"$f":"ABS(OR(C1585=0,AND(MaxInput>1,M1585=INDEX(FFilter,AO$5))))","v":1},{"$f":"ABS(OR(C1585=0,AND(MaxInput>1,N1585=INDEX(FFilter,AP$5))))","v":1},{"$f":"ABS(OR(C1585=0,AND(MaxInput>1,O1585=INDEX(FFilter,AQ$5))))","v":1},null,null,null,null,null,null,null,null,null,null,{"$f":"ROW()","v":1585}]
[1580,"",null,null,null,null,null,null,null,null,null,null,"",{"$f":"IF(C1588=0,\"\",INDEX(Objekt_Text,D1588+1,2))","v":""},{"$f":"IF(C1588=0,\"\",INDEX(Objekt_Text,D1588+1,3))","v":""},"","",{"$f":"INDEX(Visum_Liste,F1588+1)&\"\"","v":""},"","ZZ",0,0,0,0,0,0,3,"",{"$f":"MIN(IF(W1588=$W$9:$W$2128,$E$9:$E$2128))","v":0},{"$f":"MAX(IF(W1588=$W$9:$W$2128,$E$9:$E$2128))","v":0},1580,1,1,null,null,1,null,"ZZ00000","00ZZ000",null,{"$f":"ABS(OR(C1588=0,AND(MaxInput>1,M1588=INDEX(FFilter,AO$5))))","v":1},{"$f":"ABS(OR(C1588=0,AND(MaxInput>1,N1588=INDEX(FFilter,AP$5))))","v":1},{"$f":"ABS(OR(C1588=0,AND(MaxInput>1,O1588=INDEX(FFilter,AQ$5))))","v":1},null,null,null,null,null,null,null,null,null,null,{"$f":"ROW()","v":1588}]
[1583,"",null,null,null,null,null,null,null,null,null,null,"",{"$f":"IF(C1591=0,\"\",INDEX(Objekt_Text,D1591+1,2))","v":""},{"$f":"IF(C1591=0,\"\",INDEX(Objekt_Text,D1591+1,3))","v":""},"","",{"$f":"INDEX(Visum_Liste,F1591+1)&\"\"","v":""},"","ZZ",0,0,0,0,0,0,3,"",{"$f":"MIN(IF(W1591=$W$9:$W$2128,$E$9:$E$2128))","v":0},{"$f":"MAX(IF(W1591=$W$9:$W$2128,$E$9:$E$2128))","v":0},1583,1,1,null,null,1,null,"ZZ00000","00ZZ000",null,{"$f":"ABS(OR(C1591=0,AND(MaxInput>1,M1591=INDEX(FFilter,AO$5))))","v":1},{"$f":"ABS(OR(C1591=0,AND(MaxInput>1,N1591=INDEX(FFilter,AP$5))))","v":1},{"$f":"ABS(OR(C1591=0,AND(MaxInput>1,O1591=INDEX(FFilter,AQ$5))))","v":1},null,null,null,null,null,null,null,null,null,null,{"$f":"ROW()","v":1591}]
[1587,"",null,null,null,null,null,null,null,null,null,null,"",{"$f":"IF(C1595=0,\"\",INDEX(Objekt_Text,D1595+1,2))","v":""},{"$f":"IF(C1595=0,\"\",INDEX(Objekt_Text,D1595+1,3))","v":""},"","",{"$f":"INDEX(Visum_Liste,F1595+1)&\"\"","v":""},"","ZZ",0,0,0,0,0,0,3,"",{"$f":"MIN(IF(W1595=$W$9:$W$2128,$E$9:$E$2128))","v":0},{"$f":"MAX(IF(W1595=$W$9:$W$2128,$E$9:$E$2128))","v":0},1587,1,1,null,null,1,null,"ZZ00000","00ZZ000",null,{"$f":"ABS(OR(C1595=0,AND(MaxInput>1,M1595=INDEX(FFilter,AO$5))))","v":1},{"$f":"ABS(OR(C1595=0,AND(MaxInput>1,N1595=INDEX(FFilter,AP$5))))","v":1},{"$f":"ABS(OR(C1595=0,AND(MaxInput>1,O1595=INDEX(FFilter,AQ$5))))","v":1},null,null,null,null,null,null,null,null,null,null,{"$f":"ROW()","v":1595}]
[1590,"",null,null,null,null,null,null,null,null,null,null,"",{"$f":"IF(C1598=0,\"\",INDEX(Objekt_Text,D1598+1,2))","v":""},{"$f":"IF(C1598=0,\"\",INDEX(Objekt_Text,D1598+1,3))","v":""},"","",{"$f":"INDEX(Visum_Liste,F1598+1)&\"\"","v":""},"","ZZ",0,0,0,0,0,0,3,"",{"$f":"MIN(IF(W1598=$W$9:$W$2128,$E$9:$E$2128))","v":0},{"$f":"MAX(IF(W1598=$W$9:$W$2128,$E$9:$E$2128))","v":0},1590,1,1,null,null,1,null,"ZZ00000","00ZZ000",null,{"$f":"ABS(OR(C1598=0,AND(MaxInput>1,M1598=INDEX(FFilter,AO$5))))","v":1},{"$f":"ABS(OR(C1598=0,AND(MaxInput>1,N1598=INDEX(FFilter,AP$5))))","v":1},{"$f":"ABS(OR(C1598=0,AND(MaxInput>1,O1598=INDEX(FFilter,AQ$5))))","v":1},null,null,null,null,null,null,null,null,null,null,{"$f":"ROW()","v":1598}]
[1594,"",null,null,null,null,null,null,null,null,null,null,"",{"$f":"IF(C1602=0,\"\",INDEX(Objekt_Text,D1602+1,2))","v":""},{"$f":"IF(C1602=0,\"\",INDEX(Objekt_Text,D1602+1,3))","v":""},"","",{"$f":"INDEX(Visum_Liste,F1602+1)&\"\"","v":""},"","ZZ",0,0,0,0,0,0,3,"",{"$f":"MIN(IF(W1602=$W$9:$W$2128,$E$9:$E$2128))","v":0},{"$f":"MAX(IF(W1602=$W$9:$W$2128,$E$9:$E$2128))","v":0},1594,1,1,null,null,1,null,"ZZ00000","00ZZ000",null,{"$f":"ABS(OR(C1602=0,AND(MaxInput>1,M1602=INDEX(FFilter,AO$5))))","v":1},{"$f":"ABS(OR(C1602=0,AND(MaxInput>1,N1602=INDEX(FFilter,AP$5))))","v":1},{"$f":"ABS(OR(C1602=0,AND(MaxInput>1,O1602=INDEX(FFilter,AQ$5))))","v":1},null,null,null,null,null,null,null,null,null,null,{"$f":"ROW()","v":1602}]
[1597,"",null,null,null,null,null,null,null,null,null,null,"",{"$f":"IF(C1605=0,\"\",INDEX(Objekt_Text,D1605+1,2))","v":""},{"$f":"IF(C1605=0,\"\",INDEX(Objekt_Text,D1605+1,3))","v":""},"","",{"$f":"INDEX(Visum_Liste,F1605+1)&\"\"","v":""},"","ZZ",0,0,0,0,0,0,3,"",{"$f":"MIN(IF(W1605=$W$9:$W$2128,$E$9:$E$2128))","v":0},{"$f":"MAX(IF(W1605=$W$9:$W$2128,$E$9:$E$2128))","v":0},1597,1,1,null,null,1,null,"ZZ00000","00ZZ000",null,{"$f":"ABS(OR(C1605=0,AND(MaxInput>1,M1605=INDEX(FFilter,AO$5))))","v":1},{"$f":"ABS(OR(C1605=0,AND(MaxInput>1,N1605=INDEX(FFilter,AP$5))))","v":1},{"$f":"ABS(OR(C1605=0,AND(MaxInput>1,O1605=INDEX(FFilter,AQ$5))))","v":1},null,null,null,null,null,null,null,null,null,null,{"$f":"ROW()","v":1605}]
[1600,"",null,null,null,null,null,null,null,null,null,null,"",{"$f":"IF(C1608=0,\"\",INDEX(Objekt_Text,D1608+1,2))","v":""},{"$f":"IF(C1608=0,\"\",INDEX(Objekt_Text,D1608+1,3))","v":""},"","",{"$f":"INDEX(Visum_Liste,F1608+1)&\"\"","v":""},"","ZZ",0,0,0,0,0,0,3,"",{"$f":"MIN(IF(W1608=$W$9:$W$2128,$E$9:$E$2128))","v":0},{"$f":"MAX(IF(W1608=$W$9:$W$2128,$E$9:$E$2128))","v":0},1600,1,1,null,null,1,null,"ZZ00000","00ZZ000",null,{"$f":"ABS(OR(C1608=0,AND(MaxInput>1,M1608=INDEX(FFilter,AO$5))))","v":1},{"$f":"ABS(OR(C1608=0,AND(MaxInput>1,N1608=INDEX(FFilter,AP$5))))","v":1},{"$f":"ABS(OR(C1608=0,AND(MaxInput>1,O1608=INDEX(FFilter,AQ$5))))","v":1},null,null,null,null,null,null,null,null,null,null,{"$f":"ROW()","v":1608}]
[1601,{"$f":"IF(C1609>0,ROW()-8,\"\")","v":""},null,null,null,null,null,null,null,null,null,null,{"$f":"IF(C1609=0,\"\",IFERROR(VLOOKUP($C1609,SLTabelle,cSLName,FALSE),\"\"))","v":""},{"$f":"IF(C1609=0,\"\",INDEX(Objekt_Text,D1609+1,2))","v":""},{"$f":"IF(C1609=0,\"\",INDEX(Objekt_Text,D1609+1,3))","v":""},{"$f":"IF($H1609=\"\",\"\",$H1609)","v":""},{"$f":"IF($I1609=\"\",\"\",$I1609)","v":""},{"$f":"INDEX(Visum_Liste,F1609+1)&\"\"","v":""},{"$f":"IF($J1609=\"\",\"\",$J1609)","v":""},{"$f":"IF(M1609=\"\",\"ZZ\",M1609)","v":"ZZ"},{"$f":"IF(C1609>0,COUNTIF($W$9:$W$2128,W1609),0)","v":0},{"$f":"SUMIFS($E$9:$E$2128,$W$9:$W$2128,W1609)","v":0},{"$f":"C1609*100+D1609","v":0},{"$f":"AND(C1609>0,E1609=AD1609)*1","v":0},{"$f":"(COUNT(P1609:Q1609)=2)*1","v":0},{"$f":"F1609*10+X1609","v":0},{"$f":"IF(X1609=0,3,X1609*F1609)","v":3},{"$f":"IF(OR((C1609>0),ROW()<LastRow+8),\"A\",\"\")","v":""},{"$f":"MIN(IF(W1609=$W$9:$W$2128,$E$9:$E$2128))","v":0},{"$f":"MAX(IF(W1609=$W$9:$W$2128,$E$9:$E$2128))","v":0},1601,1,1,null,null,1,null,{"$f":"T1609&TEXT(D1609,\"00\")&TEXT(E1609,\"000\")","v":"ZZ00000"},{"$f":"TEXT(D1609,\"00\")&T1609&TEXT(E1609,\"000\")","v":"00ZZ000"},null,{"$f":"ABS(OR(C1609=0,AND(MaxInput>1,M1609=INDEX(FFilter,AO$5))))","v":1},{"$f":"ABS(OR(C1609=0,AND(MaxInput>1,N1609=INDEX(FFilter,AP$5))))","v":1},{"$f":"ABS(OR(C1609=0,AND(MaxInput>1,O1609=INDEX(FFilter,AQ$5))))","v":1},null,null,null,null,null,null,null,null,null,null,{"$f":"ROW()","v":1609}]
[1604,"",null,null,null,null,null,null,null,null,null,null,"",{"$f":"IF(C1612=0,\"\",INDEX(Objekt_Text,D1612+1,2))","v":""},{"$f":"IF(C1612=0,\"\",INDEX(Objekt_Text,D1612+1,3))","v":""},"","",{"$f":"INDEX(Visum_Liste,F1612+1)&\"\"","v":""},"","ZZ",0,0,0,0,0,0,3,"",{"$f":"MIN(IF(W1612=$W$9:$W$2128,$E$9:$E$2128))","v":0},{"$f":"MAX(IF(W1612=$W$9:$W$2128,$E$9:$E$2128))","v":0},1604,1,1,null,null,1,null,"ZZ00000","00ZZ000",null,{"$f":"ABS(OR(C1612=0,AND(MaxInput>1,M1612=INDEX(FFilter,AO$5))))","v":1},{"$f":"ABS(OR(C1612=0,AND(MaxInput>1,N1612=INDEX(FFilter,AP$5))))","v":1},{"$f":"ABS(OR(C1612=0,AND(MaxInput>1,O1612=INDEX(FFilter,AQ$5))))","v":1},null,null,null,null,null,null,null,null,null,null,{"$f":"ROW()","v":1612}]
[1607,"",null,null,null,null,null,null,null,null,null,null,"",{"$f":"IF(C1615=0,\"\",INDEX(Objekt_Text,D1615+1,2))","v":""},{"$f":"IF(C1615=0,\"\",INDEX(Objekt_Text,D1615+1,3))","v":""},"","",{"$f":"INDEX(Visum_Liste,F1615+1)&\"\"","v":""},"","ZZ",0,0,0,0,0,0,3,"",{"$f":"MIN(IF(W1615=$W$9:$W$2128,$E$9:$E$2128))","v":0},{"$f":"MAX(IF(W1615=$W$9:$W$2128,$E$9:$E$2128))","v":0},1607,1,1,null,null,1,null,"ZZ00000","00ZZ000",null,{"$f":"ABS(OR(C1615=0,AND(MaxInput>1,M1615=INDEX(FFilter,AO$5))))","v":1},{"$f":"ABS(OR(C1615=0,AND(MaxInput>1,N1615=INDEX(FFilter,AP$5))))","v":1},{"$f":"ABS(OR(C1615=0,AND(MaxInput>1,O1615=INDEX(FFilter,AQ$5))))","v":1},null,null,null,null,null,null,null,null,null,null,{"$f":"ROW()","v":1615}]
[1611,"",null,null,null,null,null,null,null,null,null,null,"",{"$f":"IF(C1619=0,\"\",INDEX(Objekt_Text,D1619+1,2))","v":""},{"$f":"IF(C1619=0,\"\",INDEX(Objekt_Text,D1619+1,3))","v":""},"","",{"$f":"INDEX(Visum_Liste,F1619+1)&\"\"","v":""},"","ZZ",0,0,0,0,0,0,3,"",{"$f":"MIN(IF(W1619=$W$9:$W$2128,$E$9:$E$2128))","v":0},{"$f":"MAX(IF(W1619=$W$9:$W$2128,$E$9:$E$2128))","v":0},1611,1,1,null,null,1,null,"ZZ00000","00ZZ000",null,{"$f":"ABS(OR(C1619=0,AND(MaxInput>1,M1619=INDEX(FFilter,AO$5))))","v":1},{"$f":"ABS(OR(C1619=0,AND(MaxInput>1,N1619=INDEX(FFilter,AP$5))))","v":1},{"$f":"ABS(OR(C1619=0,AND(MaxInput>1,O1619=INDEX(FFilter,AQ$5))))","v":1},null,null,null,null,null,null,null,null,null,null,{"$f":"ROW()","v":1619}]
[1614,"",null,null,null,null,null,null,null,null,null,null,"",{"$f":"IF(C1622=0,\"\",INDEX(Objekt_Text,D1622+1,2))","v":""},{"$f":"IF(C1622=0,\"\",INDEX(Objekt_Text,D1622+1,3))","v":""},"","",{"$f":"INDEX(Visum_Liste,F1622+1)&\"\"","v":""},"","ZZ",0,0,0,0,0,0,3,"",{"$f":"MIN(IF(W1622=$W$9:$W$2128,$E$9:$E$2128))","v":0},{"$f":"MAX(IF(W1622=$W$9:$W$2128,$E$9:$E$2128))","v":0},1614,1,1,null,null,1,null,"ZZ00000","00ZZ000",null,{"$f":"ABS(OR(C1622=0,AND(MaxInput>1,M1622=INDEX(FFilter,AO$5))))","v":1},{"$f":"ABS(OR(C1622=0,AND(MaxInput>1,N1622=INDEX(FFilter,AP$5))))","v":1},{"$f":"ABS(OR(C1622=0,AND(MaxInput>1,O1622=INDEX(FFilter,AQ$5))))","v":1},null,null,null,null,null,null,null,null,null,null,{"$f":"ROW()","v":1622}]
[1618,"",null,null,null,null,null,null,null,null,null,null,"",{"$f":"IF(C1626=0,\"\",INDEX(Objekt_Text,D1626+1,2))","v":""},{"$f":"IF(C1626=0,\"\",INDEX(Objekt_Text,D1626+1,3))","v":""},"","",{"$f":"INDEX(Visum_Liste,F1626+1)&\"\"","v":""},"","ZZ",0,0,0,0,0,0,3,"",{"$f":"MIN(IF(W1626=$W$9:$W$2128,$E$9:$E$2128))","v":0},{"$f":"MAX(IF(W1626=$W$9:$W$2128,$E$9:$E$2128))","v":0},1618,1,1,null,null,1,null,"ZZ00000","00ZZ000",null,{"$f":"ABS(OR(C1626=0,AND(MaxInput>1,M1626=INDEX(FFilter,AO$5))))","v":1},{"$f":"ABS(OR(C1626=0,AND(MaxInput>1,N1626=INDEX(FFilter,AP$5))))","v":1},{"$f":"ABS(OR(C1626=0,AND(MaxInput>1,O1626=INDEX(FFilter,AQ$5))))","v":1},null,null,null,null,null,null,null,null,null,null,{"$f":"ROW()","v":1626}]
[1621,"",null,null,null,null,null,null,null,null,null,null,"",{"$f":"IF(C1629=0,\"\",INDEX(Objekt_Text,D1629+1,2))","v":""},{"$f":"IF(C1629=0,\"\",INDEX(Objekt_Text,D1629+1,3))","v":""},"","",{"$f":"INDEX(Visum_Liste,F1629+1)&\"\"","v":""},"","ZZ",0,0,0,0,0,0,3,"",{"$f":"MIN(IF(W1629=$W$9:$W$2128,$E$9:$E$2128))","v":0},{"$f":"MAX(IF(W1629=$W$9:$W$2128,$E$9:$E$2128))","v":0},1621,1,1,null,null,1,null,"ZZ00000","00ZZ000",null,{"$f":"ABS(OR(C1629=0,AND(MaxInput>1,M1629=INDEX(FFilter,AO$5))))","v":1},{"$f":"ABS(OR(C1629=0,AND(MaxInput>1,N1629=INDEX(FFilter,AP$5))))","v":1},{"$f":"ABS(OR(C1629=0,AND(MaxInput>1,O1629=INDEX(FFilter,AQ$5))))","v":1},null,null,null,null,null,null,null,null,null,null,{"$f":"ROW()","v":1629}]
[1624,"",null,null,null,null,null,null,null,null,null,null,"",{"$f":"IF(C1632=0,\"\",INDEX(Objekt_Text,D1632+1,2))","v":""},{"$f":"IF(C1632=0,\"\",INDEX(Objekt_Text,D1632+1,3))","v":""},"","",{"$f":"INDEX(Visum_Liste,F1632+1)&\"\"","v":""},"","ZZ",0,0,0,0,0,0,3,"",{"$f":"MIN(IF(W1632=$W$9:$W$2128,$E$9:$E$2128))","v":0},{"$f":"MAX(IF(W1632=$W$9:$W$2128,$E$9:$E$2128))","v":0},1624,1,1,null,null,1,null,"ZZ00000","00ZZ000",null,{"$f":"ABS(OR(C1632=0,AND(MaxInput>1,M1632=INDEX(FFilter,AO$5))))","v":1},{"$f":"ABS(OR(C1632=0,AND(MaxInput>1,N1632=INDEX(FFilter,AP$5))))","v":1},{"$f":"ABS(OR(C1632=0,AND(MaxInput>1,O1632=INDEX(FFilter,AQ$5))))","v":1},null,null,null,null,null,null,null,null,null,null,{"$f":"ROW()","v":1632}]
[1625,"",null,null,null,null,null,null,null,null,null,null,"",{"$f":"IF(C1633=0,\"\",INDEX(Objekt_Text,D1633+1,2))","v":""},{"$f":"IF(C1633=0,\"\",INDEX(Objekt_Text,D1633+1,3))","v":""},"","",{"$f":"INDEX(Visum_Liste,F1633+1)&\"\"","v":""},"","ZZ",0,0,0,0,0,0,3,"",{"$f":"MIN(IF(W1633=$W$9:$W$2128,$E$9:$E$2128))","v":0},{"$f":"MAX(IF(W1633=$W$9:$W$2128,$E$9:$E$2128))","v":0},1625,1,1,null,null,1,null,"ZZ00000","00ZZ000",null,{"$f":"ABS(OR(C1633=0,AND(MaxInput>1,M1633=INDEX(FFilter,AO$5))))","v":1},{"$f":"ABS(OR(C1633=0,AND(MaxInput>1,N1633=INDEX(FFilter,AP$5))))","v":1},{"$f":"ABS(OR(C1633=0,AND(MaxInput>1,O1633=INDEX(FFilter,AQ$5))))","v":1},null,null,null,null,null,null,null,null,null,null,{"$f":"ROW()","v":1633}]
[1628,"",null,null,null,null,null,null,null,null,null,null,"",{"$f":"IF(C1636=0,\"\",INDEX(Objekt_Text,D1636+1,2))","v":""},{"$f":"IF(C1636=0,\"\",INDEX(Objekt_Text,D1636+1,3))","v":""},"","",{"$f":"INDEX(Visum_Liste,F1636+1)&\"\"","v":""},"","ZZ",0,0,0,0,0,0,3,"",{"$f":"MIN(IF(W1636=$W$9:$W$2128,$E$9:$E$2128))","v":0},{"$f":"MAX(IF(W1636=$W$9:$W$2128,$E$9:$E$2128))","v":0},1628,1,1,null,null,1,null,"ZZ00000","00ZZ000",null,{"$f":"ABS(OR(C1636=0,AND(MaxInput>1,M1636=INDEX(FFilter,AO$5))))","v":1},{"$f":"ABS(OR(C1636=0,AND(MaxInput>1,N1636=INDEX(FFilter,AP$5))))","v":1},{"$f":"ABS(OR(C1636=0,AND(MaxInput>1,O1636=INDEX(FFilter,AQ$5))))","v":1},null,null,null,null,null,null,null,null,null,null,{"$f":"ROW()","v":1636}]
[1632,"",null,null,null,null,null,null,null,null,null,null,"",{"$f":"IF(C1640=0,\"\",INDEX(Objekt_Text,D1640+1,2))","v":""},{"$f":"IF(C1640=0,\"\",INDEX(Objekt_Text,D1640+1,3))","v":""},"","",{"$f":"INDEX(Visum_Liste,F1640+1)&\"\"","v":""},"","ZZ",0,0,0,0,0,0,3,"",{"$f":"MIN(IF(W1640=$W$9:$W$2128,$E$9:$E$2128))","v":0},{"$f":"MAX(IF(W1640=$W$9:$W$2128,$E$9:$E$2128))","v":0},1632,1,1,null,null,1,null,"ZZ00000","00ZZ000",null,{"$f":"ABS(OR(C1640=0,AND(MaxInput>1,M1640=INDEX(FFilter,AO$5))))","v":1},{"$f":"ABS(OR(C1640=0,AND(MaxInput>1,N1640=INDEX(FFilter,AP$5))))","v":1},{"$f":"ABS(OR(C1640=0,AND(MaxInput>1,O1640=INDEX(FFilter,AQ$5))))","v":1},null,null,null,null,null,null,null,null,null,null,{"$f":"ROW()","v":1640}]
[1635,"",null,null,null,null,null,null,null,null,null,null,"",{"$f":"IF(C1643=0,\"\",INDEX(Objekt_Text,D1643+1,2))","v":""},{"$f":"IF(C1643=0,\"\",INDEX(Objekt_Text,D1643+1,3))","v":""},"","",{"$f":"INDEX(Visum_Liste,F1643+1)&\"\"","v":""},"","ZZ",0,0,0,0,0,0,3,"",{"$f":"MIN(IF(W1643=$W$9:$W$2128,$E$9:$E$2128))","v":0},{"$f":"MAX(IF(W1643=$W$9:$W$2128,$E$9:$E$2128))","v":0},1635,1,1,null,null,1,null,"ZZ00000","00ZZ000",null,{"$f":"ABS(OR(C1643=0,AND(MaxInput>1,M1643=INDEX(FFilter,AO$5))))","v":1},{"$f":"ABS(OR(C1643=0,AND(MaxInput>1,N1643=INDEX(FFilter,AP$5))))","v":1},{"$f":"ABS(OR(C1643=0,AND(MaxInput>1,O1643=INDEX(FFilter,AQ$5))))","v":1},null,null,null,null,null,null,null,null,null,null,{"$f":"ROW()","v":1643}]
[1638,"",null,null,null,null,null,null,null,null,null,null,"",{"$f":"IF(C1646=0,\"\",INDEX(Objekt_Text,D1646+1,2))","v":""},{"$f":"IF(C1646=0,\"\",INDEX(Objekt_Text,D1646+1,3))","v":""},"","",{"$f":"INDEX(Visum_Liste,F1646+1)&\"\"","v":""},"","ZZ",0,0,0,0,0,0,3,"",{"$f":"MIN(IF(W1646=$W$9:$W$2128,$E$9:$E$2128))","v":0},{"$f":"MAX(IF(W1646=$W$9:$W$2128,$E$9:$E$2128))","v":0},1638,1,1,null,null,1,null,"ZZ00000","00ZZ000",null,{"$f":"ABS(OR(C1646=0,AND(MaxInput>1,M1646=INDEX(FFilter,AO$5))))","v":1},{"$f":"ABS(OR(C1646=0,AND(MaxInput>1,N1646=INDEX(FFilter,AP$5))))","v":1},{"$f":"ABS(OR(C1646=0,AND(MaxInput>1,O1646=INDEX(FFilter,AQ$5))))","v":1},null,null,null,null,null,null,null,null,null,null,{"$f":"ROW()","v":1646}]
[1642,"",null,null,null,null,null,null,null,null,null,null,"",{"$f":"IF(C1650=0,\"\",INDEX(Objekt_Text,D1650+1,2))","v":""},{"$f":"IF(C1650=0,\"\",INDEX(Objekt_Text,D1650+1,3))","v":""},"","",{"$f":"INDEX(Visum_Liste,F1650+1)&\"\"","v":""},"","ZZ",0,0,0,0,0,0,3,"",{"$f":"MIN(IF(W1650=$W$9:$W$2128,$E$9:$E$2128))","v":0},{"$f":"MAX(IF(W1650=$W$9:$W$2128,$E$9:$E$2128))","v":0},1642,1,1,null,null,1,null,"ZZ00000","00ZZ000",null,{"$f":"ABS(OR(C1650=0,AND(MaxInput>1,M1650=INDEX(FFilter,AO$5))))","v":1},{"$f":"ABS(OR(C1650=0,AND(MaxInput>1,N1650=INDEX(FFilter,AP$5))))","v":1},{"$f":"ABS(OR(C1650=0,AND(MaxInput>1,O1650=INDEX(FFilter,AQ$5))))","v":1},null,null,null,null,null,null,null,null,null,null,{"$f":"ROW()","v":1650}]
[1645,"",null,null,null,null,null,null,null,null,null,null,"",{"$f":"IF(C1653=0,\"\",INDEX(Objekt_Text,D1653+1,2))","v":""},{"$f":"IF(C1653=0,\"\",INDEX(Objekt_Text,D1653+1,3))","v":""},"","",{"$f":"INDEX(Visum_Liste,F1653+1)&\"\"","v":""},"","ZZ",0,0,0,0,0,0,3,"",{"$f":"MIN(IF(W1653=$W$9:$W$2128,$E$9:$E$2128))","v":0},{"$f":"MAX(IF(W1653=$W$9:$W$2128,$E$9:$E$2128))","v":0},1645,1,1,null,null,1,null,"ZZ00000","00ZZ000",null,{"$f":"ABS(OR(C1653=0,AND(MaxInput>1,M1653=INDEX(FFilter,AO$5))))","v":1},{"$f":"ABS(OR(C1653=0,AND(MaxInput>1,N1653=INDEX(FFilter,AP$5))))","v":1},{"$f":"ABS(OR(C1653=0,AND(MaxInput>1,O1653=INDEX(FFilter,AQ$5))))","v":1},null,null,null,null,null,null,null,null,null,null,{"$f":"ROW()","v":1653}]
[1648,"",null,null,null,null,null,null,null,null,null,null,"",{"$f":"IF(C1656=0,\"\",INDEX(Objekt_Text,D1656+1,2))","v":""},{"$f":"IF(C1656=0,\"\",INDEX(Objekt_Text,D1656+1,3))","v":""},"","",{"$f":"INDEX(Visum_Liste,F1656+1)&\"\"","v":""},"","ZZ",0,0,0,0,0,0,3,"",{"$f":"MIN(IF(W1656=$W$9:$W$2128,$E$9:$E$2128))","v":0},{"$f":"MAX(IF(W1656=$W$9:$W$2128,$E$9:$E$2128))","v":0},1648,1,1,null,null,1,null,"ZZ00000","00ZZ000",null,{"$f":"ABS(OR(C1656=0,AND(MaxInput>1,M1656=INDEX(FFilter,AO$5))))","v":1},{"$f":"ABS(OR(C1656=0,AND(MaxInput>1,N1656=INDEX(FFilter,AP$5))))","v":1},{"$f":"ABS(OR(C1656=0,AND(MaxInput>1,O1656=INDEX(FFilter,AQ$5))))","v":1},null,null,null,null,null,null,null,null,null,null,{"$f":"ROW()","v":1656}]
[1649,"",null,null,null,null,null,null,null,null,null,null,"",{"$f":"IF(C1657=0,\"\",INDEX(Objekt_Text,D1657+1,2))","v":""},{"$f":"IF(C1657=0,\"\",INDEX(Objekt_Text,D1657+1,3))","v":""},"","",{"$f":"INDEX(Visum_Liste,F1657+1)&\"\"","v":""},"","ZZ",0,0,0,0,0,0,3,"",{"$f":"MIN(IF(W1657=$W$9:$W$2128,$E$9:$E$2128))","v":0},{"$f":"MAX(IF(W1657=$W$9:$W$2128,$E$9:$E$2128))","v":0},1649,1,1,null,null,1,null,"ZZ00000","00ZZ000",null,{"$f":"ABS(OR(C1657=0,AND(MaxInput>1,M1657=INDEX(FFilter,AO$5))))","v":1},{"$f":"ABS(OR(C1657=0,AND(MaxInput>1,N1657=INDEX(FFilter,AP$5))))","v":1},{"$f":"ABS(OR(C1657=0,AND(MaxInput>1,O1657=INDEX(FFilter,AQ$5))))","v":1},null,null,null,null,null,null,null,null,null,null,{"$f":"ROW()","v":1657}]
[1652,"",null,null,null,null,null,null,null,null,null,null,"",{"$f":"IF(C1660=0,\"\",INDEX(Objekt_Text,D1660+1,2))","v":""},{"$f":"IF(C1660=0,\"\",INDEX(Objekt_Text,D1660+1,3))","v":""},"","",{"$f":"INDEX(Visum_Liste,F1660+1)&\"\"","v":""},"","ZZ",0,0,0,0,0,0,3,"",{"$f":"MIN(IF(W1660=$W$9:$W$2128,$E$9:$E$2128))","v":0},{"$f":"MAX(IF(W1660=$W$9:$W$2128,$E$9:$E$2128))","v":0},1652,1,1,null,null,1,null,"ZZ00000","00ZZ000",null,{"$f":"ABS(OR(C1660=0,AND(MaxInput>1,M1660=INDEX(FFilter,AO$5))))","v":1},{"$f":"ABS(OR(C1660=0,AND(MaxInput>1,N1660=INDEX(FFilter,AP$5))))","v":1},{"$f":"ABS(OR(C1660=0,AND(MaxInput>1,O1660=INDEX(FFilter,AQ$5))))","v":1},null,null,null,null,null,null,null,null,null,null,{"$f":"ROW()","v":1660}]
[1656,"",null,null,null,null,null,null,null,null,null,null,"",{"$f":"IF(C1664=0,\"\",INDEX(Objekt_Text,D1664+1,2))","v":""},{"$f":"IF(C1664=0,\"\",INDEX(Objekt_Text,D1664+1,3))","v":""},"","",{"$f":"INDEX(Visum_Liste,F1664+1)&\"\"","v":""},"","ZZ",0,0,0,0,0,0,3,"",{"$f":"MIN(IF(W1664=$W$9:$W$2128,$E$9:$E$2128))","v":0},{"$f":"MAX(IF(W1664=$W$9:$W$2128,$E$9:$E$2128))","v":0},1656,1,1,null,null,1,null,"ZZ00000","00ZZ000",null,{"$f":"ABS(OR(C1664=0,AND(MaxInput>1,M1664=INDEX(FFilter,AO$5))))","v":1},{"$f":"ABS(OR(C1664=0,AND(MaxInput>1,N1664=INDEX(FFilter,AP$5))))","v":1},{"$f":"ABS(OR(C1664=0,AND(MaxInput>1,O1664=INDEX(FFilter,AQ$5))))","v":1},null,null,null,null,null,null,null,null,null,null,{"$f":"ROW()","v":1664}]
[1659,"",null,null,null,null,null,null,null,null,null,null,"",{"$f":"IF(C1667=0,\"\",INDEX(Objekt_Text,D1667+1,2))","v":""},{"$f":"IF(C1667=0,\"\",INDEX(Objekt_Text,D1667+1,3))","v":""},"","",{"$f":"INDEX(Visum_Liste,F1667+1)&\"\"","v":""},"","ZZ",0,0,0,0,0,0,3,"",{"$f":"MIN(IF(W1667=$W$9:$W$2128,$E$9:$E$2128))","v":0},{"$f":"MAX(IF(W1667=$W$9:$W$2128,$E$9:$E$2128))","v":0},1659,1,1,null,null,1,null,"ZZ00000","00ZZ000",null,{"$f":"ABS(OR(C1667=0,AND(MaxInput>1,M1667=INDEX(FFilter,AO$5))))","v":1},{"$f":"ABS(OR(C1667=0,AND(MaxInput>1,N1667=INDEX(FFilter,AP$5))))","v":1},{"$f":"ABS(OR(C1667=0,AND(MaxInput>1,O1667=INDEX(FFilter,AQ$5))))","v":1},null,null,null,null,null,null,null,null,null,null,{"$f":"ROW()","v":1667}]
[1662,"",null,null,null,null,null,null,null,null,null,null,"",{"$f":"IF(C1670=0,\"\",INDEX(Objekt_Text,D1670+1,2))","v":""},{"$f":"IF(C1670=0,\"\",INDEX(Objekt_Text,D1670+1,3))","v":""},"","",{"$f":"INDEX(Visum_Liste,F1670+1)&\"\"","v":""},"","ZZ",0,0,0,0,0,0,3,"",{"$f":"MIN(IF(W1670=$W$9:$W$2128,$E$9:$E$2128))","v":0},{"$f":"MAX(IF(W1670=$W$9:$W$2128,$E$9:$E$2128))","v":0},1662,1,1,null,null,1,null,"ZZ00000","00ZZ000",null,{"$f":"ABS(OR(C1670=0,AND(MaxInput>1,M1670=INDEX(FFilter,AO$5))))","v":1},{"$f":"ABS(OR(C1670=0,AND(MaxInput>1,N1670=INDEX(FFilter,AP$5))))","v":1},{"$f":"ABS(OR(C1670=0,AND(MaxInput>1,O1670=INDEX(FFilter,AQ$5))))","v":1},null,null,null,null,null,null,null,null,null,null,{"$f":"ROW()","v":1670}]
[1666,"",null,null,null,null,null,null,null,null,null,null,"",{"$f":"IF(C1674=0,\"\",INDEX(Objekt_Text,D1674+1,2))","v":""},{"$f":"IF(C1674=0,\"\",INDEX(Objekt_Text,D1674+1,3))","v":""},"","",{"$f":"INDEX(Visum_Liste,F1674+1)&\"\"","v":""},"","ZZ",0,0,0,0,0,0,3,"",{"$f":"MIN(IF(W1674=$W$9:$W$2128,$E$9:$E$2128))","v":0},{"$f":"MAX(IF(W1674=$W$9:$W$2128,$E$9:$E$2128))","v":0},1666,1,1,null,null,{"$f":"OR(L1674<=L1673,B1674=\"\")*1","v":1},null,"ZZ00000","00ZZ000",null,{"$f":"ABS(OR(C1674=0,AND(MaxInput>1,M1674=INDEX(FFilter,AO$5))))","v":1},{"$f":"ABS(OR(C1674=0,AND(MaxInput>1,N1674=INDEX(FFilter,AP$5))))","v":1},{"$f":"ABS(OR(C1674=0,AND(MaxInput>1,O1674=INDEX(FFilter,AQ$5))))","v":1},null,null,null,null,null,null,null,null,null,null,{"$f":"ROW()","v":1674}]
[1669,"",null,null,null,null,null,null,null,null,null,null,"",{"$f":"IF(C1677=0,\"\",INDEX(Objekt_Text,D1677+1,2))","v":""},{"$f":"IF(C1677=0,\"\",INDEX(Objekt_Text,D1677+1,3))","v":""},"","",{"$f":"INDEX(Visum_Liste,F1677+1)&\"\"","v":""},"","ZZ",0,0,0,0,0,0,3,"",{"$f":"MIN(IF(W1677=$W$9:$W$2128,$E$9:$E$2128))","v":0},{"$f":"MAX(IF(W1677=$W$9:$W$2128,$E$9:$E$2128))","v":0},1669,{"$f":"OR(AL1677>=AL1676,B1677=\"\")*1","v":1},{"$f":"OR(AM1677>=AM1676,B1677=\"\")*1","v":1},null,null,1,null,"ZZ00000","00ZZ000",null,{"$f":"ABS(OR(C1677=0,AND(MaxInput>1,M1677=INDEX(FFilter,AO$5))))","v":1},{"$f":"ABS(OR(C1677=0,AND(MaxInput>1,N1677=INDEX(FFilter,AP$5))))","v":1},{"$f":"ABS(OR(C1677=0,AND(MaxInput>1,O1677=INDEX(FFilter,AQ$5))))","v":1},null,null,null,null,null,null,null,null,null,null,{"$f":"ROW()","v":1677}]
[1672,"",null,null,null,null,null,null,null,null,null,null,"",{"$f":"IF(C1680=0,\"\",INDEX(Objekt_Text,D1680+1,2))","v":""},{"$f":"IF(C1680=0,\"\",INDEX(Objekt_Text,D1680+1,3))","v":""},"","",{"$f":"INDEX(Visum_Liste,F1680+1)&\"\"","v":""},"","ZZ",0,0,0,0,0,0,3,"",{"$f":"MIN(IF(W1680=$W$9:$W$2128,$E$9:$E$2128))","v":0},{"$f":"MAX(IF(W1680=$W$9:$W$2128,$E$9:$E$2128))","v":0},1672,1,1,null,null,1,null,"ZZ00000","00ZZ000",null,{"$f":"ABS(OR(C1680=0,AND(MaxInput>1,M1680=INDEX(FFilter,AO$5))))","v":1},{"$f":"ABS(OR(C1680=0,AND(MaxInput>1,N1680=INDEX(FFilter,AP$5))))","v":1},{"$f":"ABS(OR(C1680=0,AND(MaxInput>1,O1680=INDEX(FFilter,AQ$5))))","v":1},null,null,null,null,null,null,null,null,null,null,{"$f":"ROW()","v":1680}]
[1673,"",null,null,null,null,null,null,null,null,null,null,"",{"$f":"IF(C1681=0,\"\",INDEX(Objekt_Text,D1681+1,2))","v":""},{"$f":"IF(C1681=0,\"\",INDEX(Objekt_Text,D1681+1,3))","v":""},"","",{"$f":"INDEX(Visum_Liste,F1681+1)&\"\"","v":""},"","ZZ",0,0,0,0,0,0,3,"",{"$f":"MIN(IF(W1681=$W$9:$W$2128,$E$9:$E$2128))","v":0},{"$f":"MAX(IF(W1681=$W$9:$W$2128,$E$9:$E$2128))","v":0},1673,1,1,null,null,1,null,"ZZ00000","00ZZ000",null,{"$f":"ABS(OR(C1681=0,AND(MaxInput>1,M1681=INDEX(FFilter,AO$5))))","v":1},{"$f":"ABS(OR(C1681=0,AND(MaxInput>1,N1681=INDEX(FFilter,AP$5))))","v":1},{"$f":"ABS(OR(C1681=0,AND(MaxInput>1,O1681=INDEX(FFilter,AQ$5))))","v":1},null,null,null,null,null,null,null,null,null,null,{"$f":"ROW()","v":1681}]
[1676,"",null,null,null,null,null,null,null,null,null,null,"",{"$f":"IF(C1684=0,\"\",INDEX(Objekt_Text,D1684+1,2))","v":""},{"$f":"IF(C1684=0,\"\",INDEX(Objekt_Text,D1684+1,3))","v":""},"","",{"$f":"INDEX(Visum_Liste,F1684+1)&\"\"","v":""},"","ZZ",0,0,0,0,0,0,3,"",{"$f":"MIN(IF(W1684=$W$9:$W$2128,$E$9:$E$2128))","v":0},{"$f":"MAX(IF(W1684=$W$9:$W$2128,$E$9:$E$2128))","v":0},1676,1,1,null,null,1,null,"ZZ00000","00ZZ000",null,{"$f":"ABS(OR(C1684=0,AND(MaxInput>1,M1684=INDEX(FFilter,AO$5))))","v":1},{"$f":"ABS(OR(C1684=0,AND(MaxInput>1,N1684=INDEX(FFilter,AP$5))))","v":1},{"$f":"ABS(OR(C1684=0,AND(MaxInput>1,O1684=INDEX(FFilter,AQ$5))))","v":1},null,null,null,null,null,null,null,null,null,null,{"$f":"ROW()","v":1684}]
[1680,"",null,null,null,null,null,null,null,null,null,null,"",{"$f":"IF(C1688=0,\"\",INDEX(Objekt_Text,D1688+1,2))","v":""},{"$f":"IF(C1688=0,\"\",INDEX(Objekt_Text,D1688+1,3))","v":""},"","",{"$f":"INDEX(Visum_Liste,F1688+1)&\"\"","v":""},"","ZZ",0,0,0,0,0,0,3,"",{"$f":"MIN(IF(W1688=$W$9:$W$2128,$E$9:$E$2128))","v":0},{"$f":"MAX(IF(W1688=$W$9:$W$2128,$E$9:$E$2128))","v":0},1680,1,1,null,null,1,null,"ZZ00000","00ZZ000",null,{"$f":"ABS(OR(C1688=0,AND(MaxInput>1,M1688=INDEX(FFilter,AO$5))))","v":1},{"$f":"ABS(OR(C1688=0,AND(MaxInput>1,N1688=INDEX(FFilter,AP$5))))","v":1},{"$f":"ABS(OR(C1688=0,AND(MaxInput>1,O1688=INDEX(FFilter,AQ$5))))","v":1},null,null,null,null,null,null,null,null,null,null,{"$f":"ROW()","v":1688}]
[1683,"",null,null,null,null,null,null,null,null,null,null,"",{"$f":"IF(C1691=0,\"\",INDEX(Objekt_Text,D1691+1,2))","v":""},{"$f":"IF(C1691=0,\"\",INDEX(Objekt_Text,D1691+1,3))","v":""},"","",{"$f":"INDEX(Visum_Liste,F1691+1)&\"\"","v":""},"","ZZ",0,0,0,0,0,0,3,"",{"$f":"MIN(IF(W1691=$W$9:$W$2128,$E$9:$E$2128))","v":0},{"$f":"MAX(IF(W1691=$W$9:$W$2128,$E$9:$E$2128))","v":0},1683,1,1,null,null,1,null,"ZZ00000","00ZZ000",null,{"$f":"ABS(OR(C1691=0,AND(MaxInput>1,M1691=INDEX(FFilter,AO$5))))","v":1},{"$f":"ABS(OR(C1691=0,AND(MaxInput>1,N1691=INDEX(FFilter,AP$5))))","v":1},{"$f":"ABS(OR(C1691=0,AND(MaxInput>1,O1691=INDEX(FFilter,AQ$5))))","v":1},null,null,null,null,null,null,null,null,null,null,{"$f":"ROW()","v":1691}]
[1686,"",null,null,null,null,null,null,null,null,null,null,"",{"$f":"IF(C1694=0,\"\",INDEX(Objekt_Text,D1694+1,2))","v":""},{"$f":"IF(C1694=0,\"\",INDEX(Objekt_Text,D1694+1,3))","v":""},"","",{"$f":"INDEX(Visum_Liste,F1694+1)&\"\"","v":""},"","ZZ",0,0,0,0,0,0,3,"",{"$f":"MIN(IF(W1694=$W$9:$W$2128,$E$9:$E$2128))","v":0},{"$f":"MAX(IF(W1694=$W$9:$W$2128,$E$9:$E$2128))","v":0},1686,1,1,null,null,1,null,"ZZ00000","00ZZ000",null,{"$f":"ABS(OR(C1694=0,AND(MaxInput>1,M1694=INDEX(FFilter,AO$5))))","v":1},{"$f":"ABS(OR(C1694=0,AND(MaxInput>1,N1694=INDEX(FFilter,AP$5))))","v":1},{"$f":"ABS(OR(C1694=0,AND(MaxInput>1,O1694=INDEX(FFilter,AQ$5))))","v":1},null,null,null,null,null,null,null,null,null,null,{"$f":"ROW()","v":1694}]
[1690,"",null,null,null,null,null,null,null,null,null,null,"",{"$f":"IF(C1698=0,\"\",INDEX(Objekt_Text,D1698+1,2))","v":""},{"$f":"IF(C1698=0,\"\",INDEX(Objekt_Text,D1698+1,3))","v":""},"","",{"$f":"INDEX(Visum_Liste,F1698+1)&\"\"","v":""},"","ZZ",0,0,0,0,0,0,3,"",{"$f":"MIN(IF(W1698=$W$9:$W$2128,$E$9:$E$2128))","v":0},{"$f":"MAX(IF(W1698=$W$9:$W$2128,$E$9:$E$2128))","v":0},1690,1,1,null,null,1,null,"ZZ00000","00ZZ000",null,{"$f":"ABS(OR(C1698=0,AND(MaxInput>1,M1698=INDEX(FFilter,AO$5))))","v":1},{"$f":"ABS(OR(C1698=0,AND(MaxInput>1,N1698=INDEX(FFilter,AP$5))))","v":1},{"$f":"ABS(OR(C1698=0,AND(MaxInput>1,O1698=INDEX(FFilter,AQ$5))))","v":1},null,null,null,null,null,null,null,null,null,null,{"$f":"ROW()","v":1698}]
[1693,"",null,null,null,null,null,null,null,null,null,null,"",{"$f":"IF(C1701=0,\"\",INDEX(Objekt_Text,D1701+1,2))","v":""},{"$f":"IF(C1701=0,\"\",INDEX(Objekt_Text,D1701+1,3))","v":""},"","",{"$f":"INDEX(Visum_Liste,F1701+1)&\"\"","v":""},"","ZZ",0,0,0,0,0,0,3,"",{"$f":"MIN(IF(W1701=$W$9:$W$2128,$E$9:$E$2128))","v":0},{"$f":"MAX(IF(W1701=$W$9:$W$2128,$E$9:$E$2128))","v":0},1693,1,1,null,null,1,null,"ZZ00000","00ZZ000",null,{"$f":"ABS(OR(C1701=0,AND(MaxInput>1,M1701=INDEX(FFilter,AO$5))))","v":1},{"$f":"ABS(OR(C1701=0,AND(MaxInput>1,N1701=INDEX(FFilter,AP$5))))","v":1},{"$f":"ABS(OR(C1701=0,AND(MaxInput>1,O1701=INDEX(FFilter,AQ$5))))","v":1},null,null,null,null,null,null,null,null,null,null,{"$f":"ROW()","v":1701}]
[1694,"",null,null,null,null,null,null,null,null,null,null,"",{"$f":"IF(C1702=0,\"\",INDEX(Objekt_Text,D1702+1,2))","v":""},{"$f":"IF(C1702=0,\"\",INDEX(Objekt_Text,D1702+1,3))","v":""},"","",{"$f":"INDEX(Visum_Liste,F1702+1)&\"\"","v":""},"","ZZ",0,0,0,0,0,0,3,"",{"$f":"MIN(IF(W1702=$W$9:$W$2128,$E$9:$E$2128))","v":0},{"$f":"MAX(IF(W1702=$W$9:$W$2128,$E$9:$E$2128))","v":0},1694,1,1,null,null,1,null,"ZZ00000","00ZZ000",null,{"$f":"ABS(OR(C1702=0,AND(MaxInput>1,M1702=INDEX(FFilter,AO$5))))","v":1},{"$f":"ABS(OR(C1702=0,AND(MaxInput>1,N1702=INDEX(FFilter,AP$5))))","v":1},{"$f":"ABS(OR(C1702=0,AND(MaxInput>1,O1702=INDEX(FFilter,AQ$5))))","v":1},null,null,null,null,null,null,null,null,null,null,{"$f":"ROW()","v":1702}]
[1697,"",null,null,null,null,null,null,null,null,null,null,"",{"$f":"IF(C1705=0,\"\",INDEX(Objekt_Text,D1705+1,2))","v":""},{"$f":"IF(C1705=0,\"\",INDEX(Objekt_Text,D1705+1,3))","v":""},"","",{"$f":"INDEX(Visum_Liste,F1705+1)&\"\"","v":""},"","ZZ",0,0,0,0,0,0,3,"",{"$f":"MIN(IF(W1705=$W$9:$W$2128,$E$9:$E$2128))","v":0},{"$f":"MAX(IF(W1705=$W$9:$W$2128,$E$9:$E$2128))","v":0},1697,1,1,null,null,1,null,"ZZ00000","00ZZ000",null,{"$f":"ABS(OR(C1705=0,AND(MaxInput>1,M1705=INDEX(FFilter,AO$5))))","v":1},{"$f":"ABS(OR(C1705=0,AND(MaxInput>1,N1705=INDEX(FFilter,AP$5))))","v":1},{"$f":"ABS(OR(C1705=0,AND(MaxInput>1,O1705=INDEX(FFilter,AQ$5))))","v":1},null,null,null,null,null,null,null,null,null,null,{"$f":"ROW()","v":1705}]
[1701,"",null,null,null,null,null,null,null,null,null,null,"",{"$f":"IF(C1709=0,\"\",INDEX(Objekt_Text,D1709+1,2))","v":""},{"$f":"IF(C1709=0,\"\",INDEX(Objekt_Text,D1709+1,3))","v":""},"","",{"$f":"INDEX(Visum_Liste,F1709+1)&\"\"","v":""},"","ZZ",0,0,0,0,0,0,3,"",{"$f":"MIN(IF(W1709=$W$9:$W$2128,$E$9:$E$2128))","v":0},{"$f":"MAX(IF(W1709=$W$9:$W$2128,$E$9:$E$2128))","v":0},1701,1,1,null,null,1,null,"ZZ00000","00ZZ000",null,{"$f":"ABS(OR(C1709=0,AND(MaxInput>1,M1709=INDEX(FFilter,AO$5))))","v":1},{"$f":"ABS(OR(C1709=0,AND(MaxInput>1,N1709=INDEX(FFilter,AP$5))))","v":1},{"$f":"ABS(OR(C1709=0,AND(MaxInput>1,O1709=INDEX(FFilter,AQ$5))))","v":1},null,null,null,null,null,null,null,null,null,null,{"$f":"ROW()","v":1709}]
[1705,"",null,null,null,null,null,null,null,null,null,null,"",{"$f":"IF(C1713=0,\"\",INDEX(Objekt_Text,D1713+1,2))","v":""},{"$f":"IF(C1713=0,\"\",INDEX(Objekt_Text,D1713+1,3))","v":""},"","",{"$f":"INDEX(Visum_Liste,F1713+1)&\"\"","v":""},"","ZZ",0,0,0,0,0,0,3,"",{"$f":"MIN(IF(W1713=$W$9:$W$2128,$E$9:$E$2128))","v":0},{"$f":"MAX(IF(W1713=$W$9:$W$2128,$E$9:$E$2128))","v":0},1705,1,1,null,null,1,null,"ZZ00000","00ZZ000",null,{"$f":"ABS(OR(C1713=0,AND(MaxInput>1,M1713=INDEX(FFilter,AO$5))))","v":1},{"$f":"ABS(OR(C1713=0,AND(MaxInput>1,N1713=INDEX(FFilter,AP$5))))","v":1},{"$f":"ABS(OR(C1713=0,AND(MaxInput>1,O1713=INDEX(FFilter,AQ$5))))","v":1},null,null,null,null,null,null,null,null,null,null,{"$f":"ROW()","v":1713}]
[1708,"",null,null,null,null,null,null,null,null,null,null,"",{"$f":"IF(C1716=0,\"\",INDEX(Objekt_Text,D1716+1,2))","v":""},{"$f":"IF(C1716=0,\"\",INDEX(Objekt_Text,D1716+1,3))","v":""},"","",{"$f":"INDEX(Visum_Liste,F1716+1)&\"\"","v":""},"","ZZ",0,0,0,0,0,0,3,"",{"$f":"MIN(IF(W1716=$W$9:$W$2128,$E$9:$E$2128))","v":0},{"$f":"MAX(IF(W1716=$W$9:$W$2128,$E$9:$E$2128))","v":0},1708,1,1,null,null,1,null,"ZZ00000","00ZZ000",null,{"$f":"ABS(OR(C1716=0,AND(MaxInput>1,M1716=INDEX(FFilter,AO$5))))","v":1},{"$f":"ABS(OR(C1716=0,AND(MaxInput>1,N1716=INDEX(FFilter,AP$5))))","v":1},{"$f":"ABS(OR(C1716=0,AND(MaxInput>1,O1716=INDEX(FFilter,AQ$5))))","v":1},null,null,null,null,null,null,null,null,null,null,{"$f":"ROW()","v":1716}]
[1711,"",null,null,null,null,null,null,null,null,null,null,"",{"$f":"IF(C1719=0,\"\",INDEX(Objekt_Text,D1719+1,2))","v":""},{"$f":"IF(C1719=0,\"\",INDEX(Objekt_Text,D1719+1,3))","v":""},"","",{"$f":"INDEX(Visum_Liste,F1719+1)&\"\"","v":""},"","ZZ",0,0,0,0,0,0,3,"",{"$f":"MIN(IF(W1719=$W$9:$W$2128,$E$9:$E$2128))","v":0},{"$f":"MAX(IF(W1719=$W$9:$W$2128,$E$9:$E$2128))","v":0},1711,1,1,null,null,1,null,"ZZ00000","00ZZ000",null,{"$f":"ABS(OR(C1719=0,AND(MaxInput>1,M1719=INDEX(FFilter,AO$5))))","v":1},{"$f":"ABS(OR(C1719=0,AND(MaxInput>1,N1719=INDEX(FFilter,AP$5))))","v":1},{"$f":"ABS(OR(C1719=0,AND(MaxInput>1,O1719=INDEX(FFilter,AQ$5))))","v":1},null,null,null,null,null,null,null,null,null,null,{"$f":"ROW()","v":1719}]
[1715,"",null,null,null,null,null,null,null,null,null,null,"",{"$f":"IF(C1723=0,\"\",INDEX(Objekt_Text,D1723+1,2))","v":""},{"$f":"IF(C1723=0,\"\",INDEX(Objekt_Text,D1723+1,3))","v":""},"","",{"$f":"INDEX(Visum_Liste,F1723+1)&\"\"","v":""},"","ZZ",0,0,0,0,0,0,3,"",{"$f":"MIN(IF(W1723=$W$9:$W$2128,$E$9:$E$2128))","v":0},{"$f":"MAX(IF(W1723=$W$9:$W$2128,$E$9:$E$2128))","v":0},1715,1,1,null,null,1,null,"ZZ00000","00ZZ000",null,{"$f":"ABS(OR(C1723=0,AND(MaxInput>1,M1723=INDEX(FFilter,AO$5))))","v":1},{"$f":"ABS(OR(C1723=0,AND(MaxInput>1,N1723=INDEX(FFilter,AP$5))))","v":1},{"$f":"ABS(OR(C1723=0,AND(MaxInput>1,O1723=INDEX(FFilter,AQ$5))))","v":1},null,null,null,null,null,null,null,null,null,null,{"$f":"ROW()","v":1723}]
[1718,"",null,null,null,null,null,null,null,null,null,null,"",{"$f":"IF(C1726=0,\"\",INDEX(Objekt_Text,D1726+1,2))","v":""},{"$f":"IF(C1726=0,\"\",INDEX(Objekt_Text,D1726+1,3))","v":""},"","",{"$f":"INDEX(Visum_Liste,F1726+1)&\"\"","v":""},"","ZZ",0,0,0,0,0,0,3,"",{"$f":"MIN(IF(W1726=$W$9:$W$2128,$E$9:$E$2128))","v":0},{"$f":"MAX(IF(W1726=$W$9:$W$2128,$E$9:$E$2128))","v":0},1718,1,1,null,null,1,null,"ZZ00000","00ZZ000",null,{"$f":"ABS(OR(C1726=0,AND(MaxInput>1,M1726=INDEX(FFilter,AO$5))))","v":1},{"$f":"ABS(OR(C1726=0,AND(MaxInput>1,N1726=INDEX(FFilter,AP$5))))","v":1},{"$f":"ABS(OR(C1726=0,AND(MaxInput>1,O1726=INDEX(FFilter,AQ$5))))","v":1},null,null,null,null,null,null,null,null,null,null,{"$f":"ROW()","v":1726}]
[1719,"",null,null,null,null,null,null,null,null,null,null,"",{"$f":"IF(C1727=0,\"\",INDEX(Objekt_Text,D1727+1,2))","v":""},{"$f":"IF(C1727=0,\"\",INDEX(Objekt_Text,D1727+1,3))","v":""},"","",{"$f":"INDEX(Visum_Liste,F1727+1)&\"\"","v":""},"","ZZ",0,0,0,0,0,0,3,"",{"$f":"MIN(IF(W1727=$W$9:$W$2128,$E$9:$E$2128))","v":0},{"$f":"MAX(IF(W1727=$W$9:$W$2128,$E$9:$E$2128))","v":0},1719,1,1,null,null,1,null,"ZZ00000","00ZZ000",null,{"$f":"ABS(OR(C1727=0,AND(MaxInput>1,M1727=INDEX(FFilter,AO$5))))","v":1},{"$f":"ABS(OR(C1727=0,AND(MaxInput>1,N1727=INDEX(FFilter,AP$5))))","v":1},{"$f":"ABS(OR(C1727=0,AND(MaxInput>1,O1727=INDEX(FFilter,AQ$5))))","v":1},null,null,null,null,null,null,null,null,null,null,{"$f":"ROW()","v":1727}]
[1722,"",null,null,null,null,null,null,null,null,null,null,"",{"$f":"IF(C1730=0,\"\",INDEX(Objekt_Text,D1730+1,2))","v":""},{"$f":"IF(C1730=0,\"\",INDEX(Objekt_Text,D1730+1,3))","v":""},"","",{"$f":"INDEX(Visum_Liste,F1730+1)&\"\"","v":""},"","ZZ",0,0,0,0,0,0,3,"",{"$f":"MIN(IF(W1730=$W$9:$W$2128,$E$9:$E$2128))","v":0},{"$f":"MAX(IF(W1730=$W$9:$W$2128,$E$9:$E$2128))","v":0},1722,1,1,null,null,1,null,"ZZ00000","00ZZ000",null,{"$f":"ABS(OR(C1730=0,AND(MaxInput>1,M1730=INDEX(FFilter,AO$5))))","v":1},{"$f":"ABS(OR(C1730=0,AND(MaxInput>1,N1730=INDEX(FFilter,AP$5))))","v":1},{"$f":"ABS(OR(C1730=0,AND(MaxInput>1,O1730=INDEX(FFilter,AQ$5))))","v":1},null,null,null,null,null,null,null,null,null,null,{"$f":"ROW()","v":1730}]
[1725,"",null,null,null,null,null,null,null,null,null,null,"",{"$f":"IF(C1733=0,\"\",INDEX(Objekt_Text,D1733+1,2))","v":""},{"$f":"IF(C1733=0,\"\",INDEX(Objekt_Text,D1733+1,3))","v":""},"","",{"$f":"INDEX(Visum_Liste,F1733+1)&\"\"","v":""},"","ZZ",0,0,0,0,0,0,3,"",{"$f":"MIN(IF(W1733=$W$9:$W$2128,$E$9:$E$2128))","v":0},{"$f":"MAX(IF(W1733=$W$9:$W$2128,$E$9:$E$2128))","v":0},1725,1,1,null,null,1,null,"ZZ00000","00ZZ000",null,{"$f":"ABS(OR(C1733=0,AND(MaxInput>1,M1733=INDEX(FFilter,AO$5))))","v":1},{"$f":"ABS(OR(C1733=0,AND(MaxInput>1,N1733=INDEX(FFilter,AP$5))))","v":1},{"$f":"ABS(OR(C1733=0,AND(MaxInput>1,O1733=INDEX(FFilter,AQ$5))))","v":1},null,null,null,null,null,null,null,null,null,null,{"$f":"ROW()","v":1733}]
[1729,{"$f":"IF(C1737>0,ROW()-8,\"\")","v":""},null,null,null,null,null,null,null,null,null,null,{"$f":"IF(C1737=0,\"\",IFERROR(VLOOKUP($C1737,SLTabelle,cSLName,FALSE),\"\"))","v":""},{"$f":"IF(C1737=0,\"\",INDEX(Objekt_Text,D1737+1,2))","v":""},{"$f":"IF(C1737=0,\"\",INDEX(Objekt_Text,D1737+1,3))","v":""},{"$f":"IF($H1737=\"\",\"\",$H1737)","v":""},{"$f":"IF($I1737=\"\",\"\",$I1737)","v":""},{"$f":"INDEX(Visum_Liste,F1737+1)&\"\"","v":""},{"$f":"IF($J1737=\"\",\"\",$J1737)","v":""},{"$f":"IF(M1737=\"\",\"ZZ\",M1737)","v":"ZZ"},{"$f":"IF(C1737>0,COUNTIF($W$9:$W$2128,W1737),0)","v":0},{"$f":"SUMIFS($E$9:$E$2128,$W$9:$W$2128,W1737)","v":0},{"$f":"C1737*100+D1737","v":0},{"$f":"AND(C1737>0,E1737=AD1737)*1","v":0},{"$f":"(COUNT(P1737:Q1737)=2)*1","v":0},{"$f":"F1737*10+X1737","v":0},{"$f":"IF(X1737=0,3,X1737*F1737)","v":3},{"$f":"IF(OR((C1737>0),ROW()<LastRow+8),\"A\",\"\")","v":""},{"$f":"MIN(IF(W1737=$W$9:$W$2128,$E$9:$E$2128))","v":0},{"$f":"MAX(IF(W1737=$W$9:$W$2128,$E$9:$E$2128))","v":0},1729,1,1,null,null,1,null,{"$f":"T1737&TEXT(D1737,\"00\")&TEXT(E1737,\"000\")","v":"ZZ00000"},{"$f":"TEXT(D1737,\"00\")&T1737&TEXT(E1737,\"000\")","v":"00ZZ000"},null,{"$f":"ABS(OR(C1737=0,AND(MaxInput>1,M1737=INDEX(FFilter,AO$5))))","v":1},{"$f":"ABS(OR(C1737=0,AND(MaxInput>1,N1737=INDEX(FFilter,AP$5))))","v":1},{"$f":"ABS(OR(C1737=0,AND(MaxInput>1,O1737=INDEX(FFilter,AQ$5))))","v":1},null,null,null,null,null,null,null,null,null,null,{"$f":"ROW()","v":1737}]
[1732,"",null,null,null,null,null,null,null,null,null,null,"",{"$f":"IF(C1740=0,\"\",INDEX(Objekt_Text,D1740+1,2))","v":""},{"$f":"IF(C1740=0,\"\",INDEX(Objekt_Text,D1740+1,3))","v":""},"","",{"$f":"INDEX(Visum_Liste,F1740+1)&\"\"","v":""},"","ZZ",0,0,0,0,0,0,3,"",{"$f":"MIN(IF(W1740=$W$9:$W$2128,$E$9:$E$2128))","v":0},{"$f":"MAX(IF(W1740=$W$9:$W$2128,$E$9:$E$2128))","v":0},1732,1,1,null,null,1,null,"ZZ00000","00ZZ000",null,{"$f":"ABS(OR(C1740=0,AND(MaxInput>1,M1740=INDEX(FFilter,AO$5))))","v":1},{"$f":"ABS(OR(C1740=0,AND(MaxInput>1,N1740=INDEX(FFilter,AP$5))))","v":1},{"$f":"ABS(OR(C1740=0,AND(MaxInput>1,O1740=INDEX(FFilter,AQ$5))))","v":1},null,null,null,null,null,null,null,null,null,null,{"$f":"ROW()","v":1740}]
[1735,"",null,null,null,null,null,null,null,null,null,null,"",{"$f":"IF(C1743=0,\"\",INDEX(Objekt_Text,D1743+1,2))","v":""},{"$f":"IF(C1743=0,\"\",INDEX(Objekt_Text,D1743+1,3))","v":""},"","",{"$f":"INDEX(Visum_Liste,F1743+1)&\"\"","v":""},"","ZZ",0,0,0,0,0,0,3,"",{"$f":"MIN(IF(W1743=$W$9:$W$2128,$E$9:$E$2128))","v":0},{"$f":"MAX(IF(W1743=$W$9:$W$2128,$E$9:$E$2128))","v":0},1735,1,1,null,null,1,null,"ZZ00000","00ZZ000",null,{"$f":"ABS(OR(C1743=0,AND(MaxInput>1,M1743=INDEX(FFilter,AO$5))))","v":1},{"$f":"ABS(OR(C1743=0,AND(MaxInput>1,N1743=INDEX(FFilter,AP$5))))","v":1},{"$f":"ABS(OR(C1743=0,AND(MaxInput>1,O1743=INDEX(FFilter,AQ$5))))","v":1},null,null,null,null,null,null,null,null,null,null,{"$f":"ROW()","v":1743}]
[1739,"",null,null,null,null,null,null,null,null,null,null,"",{"$f":"IF(C1747=0,\"\",INDEX(Objekt_Text,D1747+1,2))","v":""},{"$f":"IF(C1747=0,\"\",INDEX(Objekt_Text,D1747+1,3))","v":""},"","",{"$f":"INDEX(Visum_Liste,F1747+1)&\"\"","v":""},"","ZZ",0,0,0,0,0,0,3,"",{"$f":"MIN(IF(W1747=$W$9:$W$2128,$E$9:$E$2128))","v":0},{"$f":"MAX(IF(W1747=$W$9:$W$2128,$E$9:$E$2128))","v":0},1739,1,1,null,null,1,null,"ZZ00000","00ZZ000",null,{"$f":"ABS(OR(C1747=0,AND(MaxInput>1,M1747=INDEX(FFilter,AO$5))))","v":1},{"$f":"ABS(OR(C1747=0,AND(MaxInput>1,N1747=INDEX(FFilter,AP$5))))","v":1},{"$f":"ABS(OR(C1747=0,AND(MaxInput>1,O1747=INDEX(FFilter,AQ$5))))","v":1},null,null,null,null,null,null,null,null,null,null,{"$f":"ROW()","v":1747}]
[1742,"",null,null,null,null,null,null,null,null,null,null,"",{"$f":"IF(C1750=0,\"\",INDEX(Objekt_Text,D1750+1,2))","v":""},{"$f":"IF(C1750=0,\"\",INDEX(Objekt_Text,D1750+1,3))","v":""},"","",{"$f":"INDEX(Visum_Liste,F1750+1)&\"\"","v":""},"","ZZ",0,0,0,0,0,0,3,"",{"$f":"MIN(IF(W1750=$W$9:$W$2128,$E$9:$E$2128))","v":0},{"$f":"MAX(IF(W1750=$W$9:$W$2128,$E$9:$E$2128))","v":0},1742,1,1,null,null,1,null,"ZZ00000","00ZZ000",null,{"$f":"ABS(OR(C1750=0,AND(MaxInput>1,M1750=INDEX(FFilter,AO$5))))","v":1},{"$f":"ABS(OR(C1750=0,AND(MaxInput>1,N1750=INDEX(FFilter,AP$5))))","v":1},{"$f":"ABS(OR(C1750=0,AND(MaxInput>1,O1750=INDEX(FFilter,AQ$5))))","v":1},null,null,null,null,null,null,null,null,null,null,{"$f":"ROW()","v":1750}]
[1743,"",null,null,null,null,null,null,null,null,null,null,"",{"$f":"IF(C1751=0,\"\",INDEX(Objekt_Text,D1751+1,2))","v":""},{"$f":"IF(C1751=0,\"\",INDEX(Objekt_Text,D1751+1,3))","v":""},"","",{"$f":"INDEX(Visum_Liste,F1751+1)&\"\"","v":""},"","ZZ",0,0,0,0,0,0,3,"",{"$f":"MIN(IF(W1751=$W$9:$W$2128,$E$9:$E$2128))","v":0},{"$f":"MAX(IF(W1751=$W$9:$W$2128,$E$9:$E$2128))","v":0},1743,1,1,null,null,1,null,"ZZ00000","00ZZ000",null,{"$f":"ABS(OR(C1751=0,AND(MaxInput>1,M1751=INDEX(FFilter,AO$5))))","v":1},{"$f":"ABS(OR(C1751=0,AND(MaxInput>1,N1751=INDEX(FFilter,AP$5))))","v":1},{"$f":"ABS(OR(C1751=0,AND(MaxInput>1,O1751=INDEX(FFilter,AQ$5))))","v":1},null,null,null,null,null,null,null,null,null,null,{"$f":"ROW()","v":1751}]
[1746,"",null,null,null,null,null,null,null,null,null,null,"",{"$f":"IF(C1754=0,\"\",INDEX(Objekt_Text,D1754+1,2))","v":""},{"$f":"IF(C1754=0,\"\",INDEX(Objekt_Text,D1754+1,3))","v":""},"","",{"$f":"INDEX(Visum_Liste,F1754+1)&\"\"","v":""},"","ZZ",0,0,0,0,0,0,3,"",{"$f":"MIN(IF(W1754=$W$9:$W$2128,$E$9:$E$2128))","v":0},{"$f":"MAX(IF(W1754=$W$9:$W$2128,$E$9:$E$2128))","v":0},1746,1,1,null,null,1,null,"ZZ00000","00ZZ000",null,{"$f":"ABS(OR(C1754=0,AND(MaxInput>1,M1754=INDEX(FFilter,AO$5))))","v":1},{"$f":"ABS(OR(C1754=0,AND(MaxInput>1,N1754=INDEX(FFilter,AP$5))))","v":1},{"$f":"ABS(OR(C1754=0,AND(MaxInput>1,O1754=INDEX(FFilter,AQ$5))))","v":1},null,null,null,null,null,null,null,null,null,null,{"$f":"ROW()","v":1754}]
[1749,"",null,null,null,null,null,null,null,null,null,null,"",{"$f":"IF(C1757=0,\"\",INDEX(Objekt_Text,D1757+1,2))","v":""},{"$f":"IF(C1757=0,\"\",INDEX(Objekt_Text,D1757+1,3))","v":""},"","",{"$f":"INDEX(Visum_Liste,F1757+1)&\"\"","v":""},"","ZZ",0,0,0,0,0,0,3,"",{"$f":"MIN(IF(W1757=$W$9:$W$2128,$E$9:$E$2128))","v":0},{"$f":"MAX(IF(W1757=$W$9:$W$2128,$E$9:$E$2128))","v":0},1749,1,1,null,null,1,null,"ZZ00000","00ZZ000",null,{"$f":"ABS(OR(C1757=0,AND(MaxInput>1,M1757=INDEX(FFilter,AO$5))))","v":1},{"$f":"ABS(OR(C1757=0,AND(MaxInput>1,N1757=INDEX(FFilter,AP$5))))","v":1},{"$f":"ABS(OR(C1757=0,AND(MaxInput>1,O1757=INDEX(FFilter,AQ$5))))","v":1},null,null,null,null,null,null,null,null,null,null,{"$f":"ROW()","v":1757}]
[1753,"",null,null,null,null,null,null,null,null,null,null,"",{"$f":"IF(C1761=0,\"\",INDEX(Objekt_Text,D1761+1,2))","v":""},{"$f":"IF(C1761=0,\"\",INDEX(Objekt_Text,D1761+1,3))","v":""},"","",{"$f":"INDEX(Visum_Liste,F1761+1)&\"\"","v":""},"","ZZ",0,0,0,0,0,0,3,"",{"$f":"MIN(IF(W1761=$W$9:$W$2128,$E$9:$E$2128))","v":0},{"$f":"MAX(IF(W1761=$W$9:$W$2128,$E$9:$E$2128))","v":0},1753,1,1,null,null,1,null,"ZZ00000","00ZZ000",null,{"$f":"ABS(OR(C1761=0,AND(MaxInput>1,M1761=INDEX(FFilter,AO$5))))","v":1},{"$f":"ABS(OR(C1761=0,AND(MaxInput>1,N1761=INDEX(FFilter,AP$5))))","v":1},{"$f":"ABS(OR(C1761=0,AND(MaxInput>1,O1761=INDEX(FFilter,AQ$5))))","v":1},null,null,null,null,null,null,null,null,null,null,{"$f":"ROW()","v":1761}]
[1756,"",null,null,null,null,null,null,null,null,null,null,"",{"$f":"IF(C1764=0,\"\",INDEX(Objekt_Text,D1764+1,2))","v":""},{"$f":"IF(C1764=0,\"\",INDEX(Objekt_Text,D1764+1,3))","v":""},"","",{"$f":"INDEX(Visum_Liste,F1764+1)&\"\"","v":""},"","ZZ",0,0,0,0,0,0,3,"",{"$f":"MIN(IF(W1764=$W$9:$W$2128,$E$9:$E$2128))","v":0},{"$f":"MAX(IF(W1764=$W$9:$W$2128,$E$9:$E$2128))","v":0},1756,1,1,null,null,1,null,"ZZ00000","00ZZ000",null,{"$f":"ABS(OR(C1764=0,AND(MaxInput>1,M1764=INDEX(FFilter,AO$5))))","v":1},{"$f":"ABS(OR(C1764=0,AND(MaxInput>1,N1764=INDEX(FFilter,AP$5))))","v":1},{"$f":"ABS(OR(C1764=0,AND(MaxInput>1,O1764=INDEX(FFilter,AQ$5))))","v":1},null,null,null,null,null,null,null,null,null,null,{"$f":"ROW()","v":1764}]
[1760,"",null,null,null,null,null,null,null,null,null,null,"",{"$f":"IF(C1768=0,\"\",INDEX(Objekt_Text,D1768+1,2))","v":""},{"$f":"IF(C1768=0,\"\",INDEX(Objekt_Text,D1768+1,3))","v":""},"","",{"$f":"INDEX(Visum_Liste,F1768+1)&\"\"","v":""},"","ZZ",0,0,0,0,0,0,3,"",{"$f":"MIN(IF(W1768=$W$9:$W$2128,$E$9:$E$2128))","v":0},{"$f":"MAX(IF(W1768=$W$9:$W$2128,$E$9:$E$2128))","v":0},1760,1,1,null,null,1,null,"ZZ00000","00ZZ000",null,{"$f":"ABS(OR(C1768=0,AND(MaxInput>1,M1768=INDEX(FFilter,AO$5))))","v":1},{"$f":"ABS(OR(C1768=0,AND(MaxInput>1,N1768=INDEX(FFilter,AP$5))))","v":1},{"$f":"ABS(OR(C1768=0,AND(MaxInput>1,O1768=INDEX(FFilter,AQ$5))))","v":1},null,null,null,null,null,null,null,null,null,null,{"$f":"ROW()","v":1768}]
[1763,"",null,null,null,null,null,null,null,null,null,null,"",{"$f":"IF(C1771=0,\"\",INDEX(Objekt_Text,D1771+1,2))","v":""},{"$f":"IF(C1771=0,\"\",INDEX(Objekt_Text,D1771+1,3))","v":""},"","",{"$f":"INDEX(Visum_Liste,F1771+1)&\"\"","v":""},"","ZZ",0,0,0,0,0,0,3,"",{"$f":"MIN(IF(W1771=$W$9:$W$2128,$E$9:$E$2128))","v":0},{"$f":"MAX(IF(W1771=$W$9:$W$2128,$E$9:$E$2128))","v":0},1763,1,1,null,null,1,null,"ZZ00000","00ZZ000",null,{"$f":"ABS(OR(C1771=0,AND(MaxInput>1,M1771=INDEX(FFilter,AO$5))))","v":1},{"$f":"ABS(OR(C1771=0,AND(MaxInput>1,N1771=INDEX(FFilter,AP$5))))","v":1},{"$f":"ABS(OR(C1771=0,AND(MaxInput>1,O1771=INDEX(FFilter,AQ$5))))","v":1},null,null,null,null,null,null,null,null,null,null,{"$f":"ROW()","v":1771}]
[1766,"",null,null,null,null,null,null,null,null,null,null,"",{"$f":"IF(C1774=0,\"\",INDEX(Objekt_Text,D1774+1,2))","v":""},{"$f":"IF(C1774=0,\"\",INDEX(Objekt_Text,D1774+1,3))","v":""},"","",{"$f":"INDEX(Visum_Liste,F1774+1)&\"\"","v":""},"","ZZ",0,0,0,0,0,0,3,"",{"$f":"MIN(IF(W1774=$W$9:$W$2128,$E$9:$E$2128))","v":0},{"$f":"MAX(IF(W1774=$W$9:$W$2128,$E$9:$E$2128))","v":0},1766,1,1,null,null,1,null,"ZZ00000","00ZZ000",null,{"$f":"ABS(OR(C1774=0,AND(MaxInput>1,M1774=INDEX(FFilter,AO$5))))","v":1},{"$f":"ABS(OR(C1774=0,AND(MaxInput>1,N1774=INDEX(FFilter,AP$5))))","v":1},{"$f":"ABS(OR(C1774=0,AND(MaxInput>1,O1774=INDEX(FFilter,AQ$5))))","v":1},null,null,null,null,null,null,null,null,null,null,{"$f":"ROW()","v":1774}]
[1767,"",null,null,null,null,null,null,null,null,null,null,"",{"$f":"IF(C1775=0,\"\",INDEX(Objekt_Text,D1775+1,2))","v":""},{"$f":"IF(C1775=0,\"\",INDEX(Objekt_Text,D1775+1,3))","v":""},"","",{"$f":"INDEX(Visum_Liste,F1775+1)&\"\"","v":""},"","ZZ",0,0,0,0,0,0,3,"",{"$f":"MIN(IF(W1775=$W$9:$W$2128,$E$9:$E$2128))","v":0},{"$f":"MAX(IF(W1775=$W$9:$W$2128,$E$9:$E$2128))","v":0},1767,1,1,null,null,1,null,"ZZ00000","00ZZ000",null,{"$f":"ABS(OR(C1775=0,AND(MaxInput>1,M1775=INDEX(FFilter,AO$5))))","v":1},{"$f":"ABS(OR(C1775=0,AND(MaxInput>1,N1775=INDEX(FFilter,AP$5))))","v":1},{"$f":"ABS(OR(C1775=0,AND(MaxInput>1,O1775=INDEX(FFilter,AQ$5))))","v":1},null,null,null,null,null,null,null,null,null,null,{"$f":"ROW()","v":1775}]
[1770,"",null,null,null,null,null,null,null,null,null,null,"",{"$f":"IF(C1778=0,\"\",INDEX(Objekt_Text,D1778+1,2))","v":""},{"$f":"IF(C1778=0,\"\",INDEX(Objekt_Text,D1778+1,3))","v":""},"","",{"$f":"INDEX(Visum_Liste,F1778+1)&\"\"","v":""},"","ZZ",0,0,0,0,0,0,3,"",{"$f":"MIN(IF(W1778=$W$9:$W$2128,$E$9:$E$2128))","v":0},{"$f":"MAX(IF(W1778=$W$9:$W$2128,$E$9:$E$2128))","v":0},1770,1,1,null,null,1,null,"ZZ00000","00ZZ000",null,{"$f":"ABS(OR(C1778=0,AND(MaxInput>1,M1778=INDEX(FFilter,AO$5))))","v":1},{"$f":"ABS(OR(C1778=0,AND(MaxInput>1,N1778=INDEX(FFilter,AP$5))))","v":1},{"$f":"ABS(OR(C1778=0,AND(MaxInput>1,O1778=INDEX(FFilter,AQ$5))))","v":1},null,null,null,null,null,null,null,null,null,null,{"$f":"ROW()","v":1778}]
[1773,"",null,null,null,null,null,null,null,null,null,null,"",{"$f":"IF(C1781=0,\"\",INDEX(Objekt_Text,D1781+1,2))","v":""},{"$f":"IF(C1781=0,\"\",INDEX(Objekt_Text,D1781+1,3))","v":""},"","",{"$f":"INDEX(Visum_Liste,F1781+1)&\"\"","v":""},"","ZZ",0,0,0,0,0,0,3,"",{"$f":"MIN(IF(W1781=$W$9:$W$2128,$E$9:$E$2128))","v":0},{"$f":"MAX(IF(W1781=$W$9:$W$2128,$E$9:$E$2128))","v":0},1773,1,1,null,null,1,null,"ZZ00000","00ZZ000",null,{"$f":"ABS(OR(C1781=0,AND(MaxInput>1,M1781=INDEX(FFilter,AO$5))))","v":1},{"$f":"ABS(OR(C1781=0,AND(MaxInput>1,N1781=INDEX(FFilter,AP$5))))","v":1},{"$f":"ABS(OR(C1781=0,AND(MaxInput>1,O1781=INDEX(FFilter,AQ$5))))","v":1},null,null,null,null,null,null,null,null,null,null,{"$f":"ROW()","v":1781}]
[1777,"",null,null,null,null,null,null,null,null,null,null,"",{"$f":"IF(C1785=0,\"\",INDEX(Objekt_Text,D1785+1,2))","v":""},{"$f":"IF(C1785=0,\"\",INDEX(Objekt_Text,D1785+1,3))","v":""},"","",{"$f":"INDEX(Visum_Liste,F1785+1)&\"\"","v":""},"","ZZ",0,0,0,0,0,0,3,"",{"$f":"MIN(IF(W1785=$W$9:$W$2128,$E$9:$E$2128))","v":0},{"$f":"MAX(IF(W1785=$W$9:$W$2128,$E$9:$E$2128))","v":0},1777,1,1,null,null,1,null,"ZZ00000","00ZZ000",null,{"$f":"ABS(OR(C1785=0,AND(MaxInput>1,M1785=INDEX(FFilter,AO$5))))","v":1},{"$f":"ABS(OR(C1785=0,AND(MaxInput>1,N1785=INDEX(FFilter,AP$5))))","v":1},{"$f":"ABS(OR(C1785=0,AND(MaxInput>1,O1785=INDEX(FFilter,AQ$5))))","v":1},null,null,null,null,null,null,null,null,null,null,{"$f":"ROW()","v":1785}]
[1780,"",null,null,null,null,null,null,null,null,null,null,"",{"$f":"IF(C1788=0,\"\",INDEX(Objekt_Text,D1788+1,2))","v":""},{"$f":"IF(C1788=0,\"\",INDEX(Objekt_Text,D1788+1,3))","v":""},"","",{"$f":"INDEX(Visum_Liste,F1788+1)&\"\"","v":""},"","ZZ",0,0,0,0,0,0,3,"",{"$f":"MIN(IF(W1788=$W$9:$W$2128,$E$9:$E$2128))","v":0},{"$f":"MAX(IF(W1788=$W$9:$W$2128,$E$9:$E$2128))","v":0},1780,1,1,null,null,1,null,"ZZ00000","00ZZ000",null,{"$f":"ABS(OR(C1788=0,AND(MaxInput>1,M1788=INDEX(FFilter,AO$5))))","v":1},{"$f":"ABS(OR(C1788=0,AND(MaxInput>1,N1788=INDEX(FFilter,AP$5))))","v":1},{"$f":"ABS(OR(C1788=0,AND(MaxInput>1,O1788=INDEX(FFilter,AQ$5))))","v":1},null,null,null,null,null,null,null,null,null,null,{"$f":"ROW()","v":1788}]
[1784,"",null,null,null,null,null,null,null,null,null,null,"",{"$f":"IF(C1792=0,\"\",INDEX(Objekt_Text,D1792+1,2))","v":""},{"$f":"IF(C1792=0,\"\",INDEX(Objekt_Text,D1792+1,3))","v":""},"","",{"$f":"INDEX(Visum_Liste,F1792+1)&\"\"","v":""},"","ZZ",0,0,0,0,0,0,3,"",{"$f":"MIN(IF(W1792=$W$9:$W$2128,$E$9:$E$2128))","v":0},{"$f":"MAX(IF(W1792=$W$9:$W$2128,$E$9:$E$2128))","v":0},1784,1,1,null,null,1,null,"ZZ00000","00ZZ000",null,{"$f":"ABS(OR(C1792=0,AND(MaxInput>1,M1792=INDEX(FFilter,AO$5))))","v":1},{"$f":"ABS(OR(C1792=0,AND(MaxInput>1,N1792=INDEX(FFilter,AP$5))))","v":1},{"$f":"ABS(OR(C1792=0,AND(MaxInput>1,O1792=INDEX(FFilter,AQ$5))))","v":1},null,null,null,null,null,null,null,null,null,null,{"$f":"ROW()","v":1792}]
[1787,"",null,null,null,null,null,null,null,null,null,null,"",{"$f":"IF(C1795=0,\"\",INDEX(Objekt_Text,D1795+1,2))","v":""},{"$f":"IF(C1795=0,\"\",INDEX(Objekt_Text,D1795+1,3))","v":""},"","",{"$f":"INDEX(Visum_Liste,F1795+1)&\"\"","v":""},"","ZZ",0,0,0,0,0,0,3,"",{"$f":"MIN(IF(W1795=$W$9:$W$2128,$E$9:$E$2128))","v":0},{"$f":"MAX(IF(W1795=$W$9:$W$2128,$E$9:$E$2128))","v":0},1787,1,1,null,null,1,null,"ZZ00000","00ZZ000",null,{"$f":"ABS(OR(C1795=0,AND(MaxInput>1,M1795=INDEX(FFilter,AO$5))))","v":1},{"$f":"ABS(OR(C1795=0,AND(MaxInput>1,N1795=INDEX(FFilter,AP$5))))","v":1},{"$f":"ABS(OR(C1795=0,AND(MaxInput>1,O1795=INDEX(FFilter,AQ$5))))","v":1},null,null,null,null,null,null,null,null,null,null,{"$f":"ROW()","v":1795}]
[1790,"",null,null,null,null,null,null,null,null,null,null,"",{"$f":"IF(C1798=0,\"\",INDEX(Objekt_Text,D1798+1,2))","v":""},{"$f":"IF(C1798=0,\"\",INDEX(Objekt_Text,D1798+1,3))","v":""},"","",{"$f":"INDEX(Visum_Liste,F1798+1)&\"\"","v":""},"","ZZ",0,0,0,0,0,0,3,"",{"$f":"MIN(IF(W1798=$W$9:$W$2128,$E$9:$E$2128))","v":0},{"$f":"MAX(IF(W1798=$W$9:$W$2128,$E$9:$E$2128))","v":0},1790,1,1,null,null,1,null,"ZZ00000","00ZZ000",null,{"$f":"ABS(OR(C1798=0,AND(MaxInput>1,M1798=INDEX(FFilter,AO$5))))","v":1},{"$f":"ABS(OR(C1798=0,AND(MaxInput>1,N1798=INDEX(FFilter,AP$5))))","v":1},{"$f":"ABS(OR(C1798=0,AND(MaxInput>1,O1798=INDEX(FFilter,AQ$5))))","v":1},null,null,null,null,null,null,null,null,null,null,{"$f":"ROW()","v":1798}]
[1791,"",null,null,null,null,null,null,null,null,null,null,"",{"$f":"IF(C1799=0,\"\",INDEX(Objekt_Text,D1799+1,2))","v":""},{"$f":"IF(C1799=0,\"\",INDEX(Objekt_Text,D1799+1,3))","v":""},"","",{"$f":"INDEX(Visum_Liste,F1799+1)&\"\"","v":""},"","ZZ",0,0,0,0,0,0,3,"",{"$f":"MIN(IF(W1799=$W$9:$W$2128,$E$9:$E$2128))","v":0},{"$f":"MAX(IF(W1799=$W$9:$W$2128,$E$9:$E$2128))","v":0},1791,1,1,null,null,1,null,"ZZ00000","00ZZ000",null,{"$f":"ABS(OR(C1799=0,AND(MaxInput>1,M1799=INDEX(FFilter,AO$5))))","v":1},{"$f":"ABS(OR(C1799=0,AND(MaxInput>1,N1799=INDEX(FFilter,AP$5))))","v":1},{"$f":"ABS(OR(C1799=0,AND(MaxInput>1,O1799=INDEX(FFilter,AQ$5))))","v":1},null,null,null,null,null,null,null,null,null,null,{"$f":"ROW()","v":1799}]
[1794,"",null,null,null,null,null,null,null,null,null,null,"",{"$f":"IF(C1802=0,\"\",INDEX(Objekt_Text,D1802+1,2))","v":""},{"$f":"IF(C1802=0,\"\",INDEX(Objekt_Text,D1802+1,3))","v":""},"","",{"$f":"INDEX(Visum_Liste,F1802+1)&\"\"","v":""},"","ZZ",0,0,0,0,0,0,3,"",{"$f":"MIN(IF(W1802=$W$9:$W$2128,$E$9:$E$2128))","v":0},{"$f":"MAX(IF(W1802=$W$9:$W$2128,$E$9:$E$2128))","v":0},1794,1,1,null,null,{"$f":"OR(L1802<=L1801,B1802=\"\")*1","v":1},null,"ZZ00000","00ZZ000",null,{"$f":"ABS(OR(C1802=0,AND(MaxInput>1,M1802=INDEX(FFilter,AO$5))))","v":1},{"$f":"ABS(OR(C1802=0,AND(MaxInput>1,N1802=INDEX(FFilter,AP$5))))","v":1},{"$f":"ABS(OR(C1802=0,AND(MaxInput>1,O1802=INDEX(FFilter,AQ$5))))","v":1},null,null,null,null,null,null,null,null,null,null,{"$f":"ROW()","v":1802}]
[1798,"",null,null,null,null,null,null,null,null,null,null,"",{"$f":"IF(C1806=0,\"\",INDEX(Objekt_Text,D1806+1,2))","v":""},{"$f":"IF(C1806=0,\"\",INDEX(Objekt_Text,D1806+1,3))","v":""},"","",{"$f":"INDEX(Visum_Liste,F1806+1)&\"\"","v":""},"","ZZ",0,0,0,0,0,0,3,"",{"$f":"MIN(IF(W1806=$W$9:$W$2128,$E$9:$E$2128))","v":0},{"$f":"MAX(IF(W1806=$W$9:$W$2128,$E$9:$E$2128))","v":0},1798,1,1,null,null,1,null,"ZZ00000","00ZZ000",null,{"$f":"ABS(OR(C1806=0,AND(MaxInput>1,M1806=INDEX(FFilter,AO$5))))","v":1},{"$f":"ABS(OR(C1806=0,AND(MaxInput>1,N1806=INDEX(FFilter,AP$5))))","v":1},{"$f":"ABS(OR(C1806=0,AND(MaxInput>1,O1806=INDEX(FFilter,AQ$5))))","v":1},null,null,null,null,null,null,null,null,null,null,{"$f":"ROW()","v":1806}]
[1801,"",null,null,null,null,null,null,null,null,null,null,"",{"$f":"IF(C1809=0,\"\",INDEX(Objekt_Text,D1809+1,2))","v":""},{"$f":"IF(C1809=0,\"\",INDEX(Objekt_Text,D1809+1,3))","v":""},"","",{"$f":"INDEX(Visum_Liste,F1809+1)&\"\"","v":""},"","ZZ",0,0,0,0,0,0,3,"",{"$f":"MIN(IF(W1809=$W$9:$W$2128,$E$9:$E$2128))","v":0},{"$f":"MAX(IF(W1809=$W$9:$W$2128,$E$9:$E$2128))","v":0},1801,1,1,null,null,1,null,"ZZ00000","00ZZ000",null,{"$f":"ABS(OR(C1809=0,AND(MaxInput>1,M1809=INDEX(FFilter,AO$5))))","v":1},{"$f":"ABS(OR(C1809=0,AND(MaxInput>1,N1809=INDEX(FFilter,AP$5))))","v":1},{"$f":"ABS(OR(C1809=0,AND(MaxInput>1,O1809=INDEX(FFilter,AQ$5))))","v":1},null,null,null,null,null,null,null,null,null,null,{"$f":"ROW()","v":1809}]
[1804,"",null,null,null,null,null,null,null,null,null,null,"",{"$f":"IF(C1812=0,\"\",INDEX(Objekt_Text,D1812+1,2))","v":""},{"$f":"IF(C1812=0,\"\",INDEX(Objekt_Text,D1812+1,3))","v":""},"","",{"$f":"INDEX(Visum_Liste,F1812+1)&\"\"","v":""},"","ZZ",0,0,0,0,0,0,3,"",{"$f":"MIN(IF(W1812=$W$9:$W$2128,$E$9:$E$2128))","v":0},{"$f":"MAX(IF(W1812=$W$9:$W$2128,$E$9:$E$2128))","v":0},1804,1,1,null,null,1,null,"ZZ00000","00ZZ000",null,{"$f":"ABS(OR(C1812=0,AND(MaxInput>1,M1812=INDEX(FFilter,AO$5))))","v":1},{"$f":"ABS(OR(C1812=0,AND(MaxInput>1,N1812=INDEX(FFilter,AP$5))))","v":1},{"$f":"ABS(OR(C1812=0,AND(MaxInput>1,O1812=INDEX(FFilter,AQ$5))))","v":1},null,null,null,null,null,null,null,null,null,null,{"$f":"ROW()","v":1812}]
[1808,"",null,null,null,null,null,null,null,null,null,null,"",{"$f":"IF(C1816=0,\"\",INDEX(Objekt_Text,D1816+1,2))","v":""},{"$f":"IF(C1816=0,\"\",INDEX(Objekt_Text,D1816+1,3))","v":""},"","",{"$f":"INDEX(Visum_Liste,F1816+1)&\"\"","v":""},"","ZZ",0,0,0,0,0,0,3,"",{"$f":"MIN(IF(W1816=$W$9:$W$2128,$E$9:$E$2128))","v":0},{"$f":"MAX(IF(W1816=$W$9:$W$2128,$E$9:$E$2128))","v":0},1808,1,1,null,null,1,null,"ZZ00000","00ZZ000",null,{"$f":"ABS(OR(C1816=0,AND(MaxInput>1,M1816=INDEX(FFilter,AO$5))))","v":1},{"$f":"ABS(OR(C1816=0,AND(MaxInput>1,N1816=INDEX(FFilter,AP$5))))","v":1},{"$f":"ABS(OR(C1816=0,AND(MaxInput>1,O1816=INDEX(FFilter,AQ$5))))","v":1},null,null,null,null,null,null,null,null,null,null,{"$f":"ROW()","v":1816}]
[1811,"",null,null,null,null,null,null,null,null,null,null,"",{"$f":"IF(C1819=0,\"\",INDEX(Objekt_Text,D1819+1,2))","v":""},{"$f":"IF(C1819=0,\"\",INDEX(Objekt_Text,D1819+1,3))","v":""},"","",{"$f":"INDEX(Visum_Liste,F1819+1)&\"\"","v":""},"","ZZ",0,0,0,0,0,0,3,"",{"$f":"MIN(IF(W1819=$W$9:$W$2128,$E$9:$E$2128))","v":0},{"$f":"MAX(IF(W1819=$W$9:$W$2128,$E$9:$E$2128))","v":0},1811,1,1,null,null,1,null,"ZZ00000","00ZZ000",null,{"$f":"ABS(OR(C1819=0,AND(MaxInput>1,M1819=INDEX(FFilter,AO$5))))","v":1},{"$f":"ABS(OR(C1819=0,AND(MaxInput>1,N1819=INDEX(FFilter,AP$5))))","v":1},{"$f":"ABS(OR(C1819=0,AND(MaxInput>1,O1819=INDEX(FFilter,AQ$5))))","v":1},null,null,null,null,null,null,null,null,null,null,{"$f":"ROW()","v":1819}]
[1814,"",null,null,null,null,null,null,null,null,null,null,"",{"$f":"IF(C1822=0,\"\",INDEX(Objekt_Text,D1822+1,2))","v":""},{"$f":"IF(C1822=0,\"\",INDEX(Objekt_Text,D1822+1,3))","v":""},"","",{"$f":"INDEX(Visum_Liste,F1822+1)&\"\"","v":""},"","ZZ",0,0,0,0,0,0,3,"",{"$f":"MIN(IF(W1822=$W$9:$W$2128,$E$9:$E$2128))","v":0},{"$f":"MAX(IF(W1822=$W$9:$W$2128,$E$9:$E$2128))","v":0},1814,1,1,null,null,1,null,"ZZ00000","00ZZ000",null,{"$f":"ABS(OR(C1822=0,AND(MaxInput>1,M1822=INDEX(FFilter,AO$5))))","v":1},{"$f":"ABS(OR(C1822=0,AND(MaxInput>1,N1822=INDEX(FFilter,AP$5))))","v":1},{"$f":"ABS(OR(C1822=0,AND(MaxInput>1,O1822=INDEX(FFilter,AQ$5))))","v":1},null,null,null,null,null,null,null,null,null,null,{"$f":"ROW()","v":1822}]
[1815,"",null,null,null,null,null,null,null,null,null,null,"",{"$f":"IF(C1823=0,\"\",INDEX(Objekt_Text,D1823+1,2))","v":""},{"$f":"IF(C1823=0,\"\",INDEX(Objekt_Text,D1823+1,3))","v":""},"","",{"$f":"INDEX(Visum_Liste,F1823+1)&\"\"","v":""},"","ZZ",0,0,0,0,0,0,3,"",{"$f":"MIN(IF(W1823=$W$9:$W$2128,$E$9:$E$2128))","v":0},{"$f":"MAX(IF(W1823=$W$9:$W$2128,$E$9:$E$2128))","v":0},1815,1,1,null,null,1,null,"ZZ00000","00ZZ000",null,{"$f":"ABS(OR(C1823=0,AND(MaxInput>1,M1823=INDEX(FFilter,AO$5))))","v":1},{"$f":"ABS(OR(C1823=0,AND(MaxInput>1,N1823=INDEX(FFilter,AP$5))))","v":1},{"$f":"ABS(OR(C1823=0,AND(MaxInput>1,O1823=INDEX(FFilter,AQ$5))))","v":1},null,null,null,null,null,null,null,null,null,null,{"$f":"ROW()","v":1823}]
[1818,"",null,null,null,null,null,null,null,null,null,null,"",{"$f":"IF(C1826=0,\"\",INDEX(Objekt_Text,D1826+1,2))","v":""},{"$f":"IF(C1826=0,\"\",INDEX(Objekt_Text,D1826+1,3))","v":""},"","",{"$f":"INDEX(Visum_Liste,F1826+1)&\"\"","v":""},"","ZZ",0,0,0,0,0,0,3,"",{"$f":"MIN(IF(W1826=$W$9:$W$2128,$E$9:$E$2128))","v":0},{"$f":"MAX(IF(W1826=$W$9:$W$2128,$E$9:$E$2128))","v":0},1818,1,1,null,null,1,null,"ZZ00000","00ZZ000",null,{"$f":"ABS(OR(C1826=0,AND(MaxInput>1,M1826=INDEX(FFilter,AO$5))))","v":1},{"$f":"ABS(OR(C1826=0,AND(MaxInput>1,N1826=INDEX(FFilter,AP$5))))","v":1},{"$f":"ABS(OR(C1826=0,AND(MaxInput>1,O1826=INDEX(FFilter,AQ$5))))","v":1},null,null,null,null,null,null,null,null,null,null,{"$f":"ROW()","v":1826}]
[1822,"",null,null,null,null,null,null,null,null,null,null,"",{"$f":"IF(C1830=0,\"\",INDEX(Objekt_Text,D1830+1,2))","v":""},{"$f":"IF(C1830=0,\"\",INDEX(Objekt_Text,D1830+1,3))","v":""},"","",{"$f":"INDEX(Visum_Liste,F1830+1)&\"\"","v":""},"","ZZ",0,0,0,0,0,0,3,"",{"$f":"MIN(IF(W1830=$W$9:$W$2128,$E$9:$E$2128))","v":0},{"$f":"MAX(IF(W1830=$W$9:$W$2128,$E$9:$E$2128))","v":0},1822,1,1,null,null,1,null,"ZZ00000","00ZZ000",null,{"$f":"ABS(OR(C1830=0,AND(MaxInput>1,M1830=INDEX(FFilter,AO$5))))","v":1},{"$f":"ABS(OR(C1830=0,AND(MaxInput>1,N1830=INDEX(FFilter,AP$5))))","v":1},{"$f":"ABS(OR(C1830=0,AND(MaxInput>1,O1830=INDEX(FFilter,AQ$5))))","v":1},null,null,null,null,null,null,null,null,null,null,{"$f":"ROW()","v":1830}]
[1825,"",null,null,null,null,null,null,null,null,null,null,"",{"$f":"IF(C1833=0,\"\",INDEX(Objekt_Text,D1833+1,2))","v":""},{"$f":"IF(C1833=0,\"\",INDEX(Objekt_Text,D1833+1,3))","v":""},"","",{"$f":"INDEX(Visum_Liste,F1833+1)&\"\"","v":""},"","ZZ",0,0,0,0,0,0,3,"",{"$f":"MIN(IF(W1833=$W$9:$W$2128,$E$9:$E$2128))","v":0},{"$f":"MAX(IF(W1833=$W$9:$W$2128,$E$9:$E$2128))","v":0},1825,1,1,null,null,1,null,"ZZ00000","00ZZ000",null,{"$f":"ABS(OR(C1833=0,AND(MaxInput>1,M1833=INDEX(FFilter,AO$5))))","v":1},{"$f":"ABS(OR(C1833=0,AND(MaxInput>1,N1833=INDEX(FFilter,AP$5))))","v":1},{"$f":"ABS(OR(C1833=0,AND(MaxInput>1,O1833=INDEX(FFilter,AQ$5))))","v":1},null,null,null,null,null,null,null,null,null,null,{"$f":"ROW()","v":1833}]
[1828,"",null,null,null,null,null,null,null,null,null,null,"",{"$f":"IF(C1836=0,\"\",INDEX(Objekt_Text,D1836+1,2))","v":""},{"$f":"IF(C1836=0,\"\",INDEX(Objekt_Text,D1836+1,3))","v":""},"","",{"$f":"INDEX(Visum_Liste,F1836+1)&\"\"","v":""},"","ZZ",0,0,0,0,0,0,3,"",{"$f":"MIN(IF(W1836=$W$9:$W$2128,$E$9:$E$2128))","v":0},{"$f":"MAX(IF(W1836=$W$9:$W$2128,$E$9:$E$2128))","v":0},1828,1,1,null,null,1,null,"ZZ00000","00ZZ000",null,{"$f":"ABS(OR(C1836=0,AND(MaxInput>1,M1836=INDEX(FFilter,AO$5))))","v":1},{"$f":"ABS(OR(C1836=0,AND(MaxInput>1,N1836=INDEX(FFilter,AP$5))))","v":1},{"$f":"ABS(OR(C1836=0,AND(MaxInput>1,O1836=INDEX(FFilter,AQ$5))))","v":1},null,null,null,null,null,null,null,null,null,null,{"$f":"ROW()","v":1836}]
[1832,"",null,null,null,null,null,null,null,null,null,null,"",{"$f":"IF(C1840=0,\"\",INDEX(Objekt_Text,D1840+1,2))","v":""},{"$f":"IF(C1840=0,\"\",INDEX(Objekt_Text,D1840+1,3))","v":""},"","",{"$f":"INDEX(Visum_Liste,F1840+1)&\"\"","v":""},"","ZZ",0,0,0,0,0,0,3,"",{"$f":"MIN(IF(W1840=$W$9:$W$2128,$E$9:$E$2128))","v":0},{"$f":"MAX(IF(W1840=$W$9:$W$2128,$E$9:$E$2128))","v":0},1832,1,1,null,null,1,null,"ZZ00000","00ZZ000",null,{"$f":"ABS(OR(C1840=0,AND(MaxInput>1,M1840=INDEX(FFilter,AO$5))))","v":1},{"$f":"ABS(OR(C1840=0,AND(MaxInput>1,N1840=INDEX(FFilter,AP$5))))","v":1},{"$f":"ABS(OR(C1840=0,AND(MaxInput>1,O1840=INDEX(FFilter,AQ$5))))","v":1},null,null,null,null,null,null,null,null,null,null,{"$f":"ROW()","v":1840}]
[1835,"",null,null,null,null,null,null,null,null,null,null,"",{"$f":"IF(C1843=0,\"\",INDEX(Objekt_Text,D1843+1,2))","v":""},{"$f":"IF(C1843=0,\"\",INDEX(Objekt_Text,D1843+1,3))","v":""},"","",{"$f":"INDEX(Visum_Liste,F1843+1)&\"\"","v":""},"","ZZ",0,0,0,0,0,0,3,"",{"$f":"MIN(IF(W1843=$W$9:$W$2128,$E$9:$E$2128))","v":0},{"$f":"MAX(IF(W1843=$W$9:$W$2128,$E$9:$E$2128))","v":0},1835,1,1,null,null,1,null,"ZZ00000","00ZZ000",null,{"$f":"ABS(OR(C1843=0,AND(MaxInput>1,M1843=INDEX(FFilter,AO$5))))","v":1},{"$f":"ABS(OR(C1843=0,AND(MaxInput>1,N1843=INDEX(FFilter,AP$5))))","v":1},{"$f":"ABS(OR(C1843=0,AND(MaxInput>1,O1843=INDEX(FFilter,AQ$5))))","v":1},null,null,null,null,null,null,null,null,null,null,{"$f":"ROW()","v":1843}]
[1838,"",null,null,null,null,null,null,null,null,null,null,"",{"$f":"IF(C1846=0,\"\",INDEX(Objekt_Text,D1846+1,2))","v":""},{"$f":"IF(C1846=0,\"\",INDEX(Objekt_Text,D1846+1,3))","v":""},"","",{"$f":"INDEX(Visum_Liste,F1846+1)&\"\"","v":""},"","ZZ",0,0,0,0,0,0,3,"",{"$f":"MIN(IF(W1846=$W$9:$W$2128,$E$9:$E$2128))","v":0},{"$f":"MAX(IF(W1846=$W$9:$W$2128,$E$9:$E$2128))","v":0},1838,1,1,null,null,1,null,"ZZ00000","00ZZ000",null,{"$f":"ABS(OR(C1846=0,AND(MaxInput>1,M1846=INDEX(FFilter,AO$5))))","v":1},{"$f":"ABS(OR(C1846=0,AND(MaxInput>1,N1846=INDEX(FFilter,AP$5))))","v":1},{"$f":"ABS(OR(C1846=0,AND(MaxInput>1,O1846=INDEX(FFilter,AQ$5))))","v":1},null,null,null,null,null,null,null,null,null,null,{"$f":"ROW()","v":1846}]
[1839,"",null,null,null,null,null,null,null,null,null,null,"",{"$f":"IF(C1847=0,\"\",INDEX(Objekt_Text,D1847+1,2))","v":""},{"$f":"IF(C1847=0,\"\",INDEX(Objekt_Text,D1847+1,3))","v":""},"","",{"$f":"INDEX(Visum_Liste,F1847+1)&\"\"","v":""},"","ZZ",0,0,0,0,0,0,3,"",{"$f":"MIN(IF(W1847=$W$9:$W$2128,$E$9:$E$2128))","v":0},{"$f":"MAX(IF(W1847=$W$9:$W$2128,$E$9:$E$2128))","v":0},1839,1,1,null,null,1,null,"ZZ00000","00ZZ000",null,{"$f":"ABS(OR(C1847=0,AND(MaxInput>1,M1847=INDEX(FFilter,AO$5))))","v":1},{"$f":"ABS(OR(C1847=0,AND(MaxInput>1,N1847=INDEX(FFilter,AP$5))))","v":1},{"$f":"ABS(OR(C1847=0,AND(MaxInput>1,O1847=INDEX(FFilter,AQ$5))))","v":1},null,null,null,null,null,null,null,null,null,null,{"$f":"ROW()","v":1847}]
[1842,"",null,null,null,null,null,null,null,null,null,null,"",{"$f":"IF(C1850=0,\"\",INDEX(Objekt_Text,D1850+1,2))","v":""},{"$f":"IF(C1850=0,\"\",INDEX(Objekt_Text,D1850+1,3))","v":""},"","",{"$f":"INDEX(Visum_Liste,F1850+1)&\"\"","v":""},"","ZZ",0,0,0,0,0,0,3,"",{"$f":"MIN(IF(W1850=$W$9:$W$2128,$E$9:$E$2128))","v":0},{"$f":"MAX(IF(W1850=$W$9:$W$2128,$E$9:$E$2128))","v":0},1842,1,1,null,null,1,null,"ZZ00000","00ZZ000",null,{"$f":"ABS(OR(C1850=0,AND(MaxInput>1,M1850=INDEX(FFilter,AO$5))))","v":1},{"$f":"ABS(OR(C1850=0,AND(MaxInput>1,N1850=INDEX(FFilter,AP$5))))","v":1},{"$f":"ABS(OR(C1850=0,AND(MaxInput>1,O1850=INDEX(FFilter,AQ$5))))","v":1},null,null,null,null,null,null,null,null,null,null,{"$f":"ROW()","v":1850}]
[1846,"",null,null,null,null,null,null,null,null,null,null,"",{"$f":"IF(C1854=0,\"\",INDEX(Objekt_Text,D1854+1,2))","v":""},{"$f":"IF(C1854=0,\"\",INDEX(Objekt_Text,D1854+1,3))","v":""},"","",{"$f":"INDEX(Visum_Liste,F1854+1)&\"\"","v":""},"","ZZ",0,0,0,0,0,0,3,"",{"$f":"MIN(IF(W1854=$W$9:$W$2128,$E$9:$E$2128))","v":0},{"$f":"MAX(IF(W1854=$W$9:$W$2128,$E$9:$E$2128))","v":0},1846,1,1,null,null,1,null,"ZZ00000","00ZZ000",null,{"$f":"ABS(OR(C1854=0,AND(MaxInput>1,M1854=INDEX(FFilter,AO$5))))","v":1},{"$f":"ABS(OR(C1854=0,AND(MaxInput>1,N1854=INDEX(FFilter,AP$5))))","v":1},{"$f":"ABS(OR(C1854=0,AND(MaxInput>1,O1854=INDEX(FFilter,AQ$5))))","v":1},null,null,null,null,null,null,null,null,null,null,{"$f":"ROW()","v":1854}]
[1850,"",null,null,null,null,null,null,null,null,null,null,"",{"$f":"IF(C1858=0,\"\",INDEX(Objekt_Text,D1858+1,2))","v":""},{"$f":"IF(C1858=0,\"\",INDEX(Objekt_Text,D1858+1,3))","v":""},"","",{"$f":"INDEX(Visum_Liste,F1858+1)&\"\"","v":""},"","ZZ",0,0,0,0,0,0,3,"",{"$f":"MIN(IF(W1858=$W$9:$W$2128,$E$9:$E$2128))","v":0},{"$f":"MAX(IF(W1858=$W$9:$W$2128,$E$9:$E$2128))","v":0},1850,1,1,null,null,1,null,"ZZ00000","00ZZ000",null,{"$f":"ABS(OR(C1858=0,AND(MaxInput>1,M1858=INDEX(FFilter,AO$5))))","v":1},{"$f":"ABS(OR(C1858=0,AND(MaxInput>1,N1858=INDEX(FFilter,AP$5))))","v":1},{"$f":"ABS(OR(C1858=0,AND(MaxInput>1,O1858=INDEX(FFilter,AQ$5))))","v":1},null,null,null,null,null,null,null,null,null,null,{"$f":"ROW()","v":1858}]
[1853,"",null,null,null,null,null,null,null,null,null,null,"",{"$f":"IF(C1861=0,\"\",INDEX(Objekt_Text,D1861+1,2))","v":""},{"$f":"IF(C1861=0,\"\",INDEX(Objekt_Text,D1861+1,3))","v":""},"","",{"$f":"INDEX(Visum_Liste,F1861+1)&\"\"","v":""},"","ZZ",0,0,0,0,0,0,3,"",{"$f":"MIN(IF(W1861=$W$9:$W$2128,$E$9:$E$2128))","v":0},{"$f":"MAX(IF(W1861=$W$9:$W$2128,$E$9:$E$2128))","v":0},1853,1,1,null,null,1,null,"ZZ00000","00ZZ000",null,{"$f":"ABS(OR(C1861=0,AND(MaxInput>1,M1861=INDEX(FFilter,AO$5))))","v":1},{"$f":"ABS(OR(C1861=0,AND(MaxInput>1,N1861=INDEX(FFilter,AP$5))))","v":1},{"$f":"ABS(OR(C1861=0,AND(MaxInput>1,O1861=INDEX(FFilter,AQ$5))))","v":1},null,null,null,null,null,null,null,null,null,null,{"$f":"ROW()","v":1861}]
[1857,{"$f":"IF(C1865>0,ROW()-8,\"\")","v":""},null,null,null,null,null,null,null,null,null,null,{"$f":"IF(C1865=0,\"\",IFERROR(VLOOKUP($C1865,SLTabelle,cSLName,FALSE),\"\"))","v":""},{"$f":"IF(C1865=0,\"\",INDEX(Objekt_Text,D1865+1,2))","v":""},{"$f":"IF(C1865=0,\"\",INDEX(Objekt_Text,D1865+1,3))","v":""},{"$f":"IF($H1865=\"\",\"\",$H1865)","v":""},{"$f":"IF($I1865=\"\",\"\",$I1865)","v":""},{"$f":"INDEX(Visum_Liste,F1865+1)&\"\"","v":""},{"$f":"IF($J1865=\"\",\"\",$J1865)","v":""},{"$f":"IF(M1865=\"\",\"ZZ\",M1865)","v":"ZZ"},{"$f":"IF(C1865>0,COUNTIF($W$9:$W$2128,W1865),0)","v":0},{"$f":"SUMIFS($E$9:$E$2128,$W$9:$W$2128,W1865)","v":0},{"$f":"C1865*100+D1865","v":0},{"$f":"AND(C1865>0,E1865=AD1865)*1","v":0},{"$f":"(COUNT(P1865:Q1865)=2)*1","v":0},{"$f":"F1865*10+X1865","v":0},{"$f":"IF(X1865=0,3,X1865*F1865)","v":3},{"$f":"IF(OR((C1865>0),ROW()<LastRow+8),\"A\",\"\")","v":""},{"$f":"MIN(IF(W1865=$W$9:$W$2128,$E$9:$E$2128))","v":0},{"$f":"MAX(IF(W1865=$W$9:$W$2128,$E$9:$E$2128))","v":0},1857,1,1,null,null,1,null,{"$f":"T1865&TEXT(D1865,\"00\")&TEXT(E1865,\"000\")","v":"ZZ00000"},{"$f":"TEXT(D1865,\"00\")&T1865&TEXT(E1865,\"000\")","v":"00ZZ000"},null,{"$f":"ABS(OR(C1865=0,AND(MaxInput>1,M1865=INDEX(FFilter,AO$5))))","v":1},{"$f":"ABS(OR(C1865=0,AND(MaxInput>1,N1865=INDEX(FFilter,AP$5))))","v":1},{"$f":"ABS(OR(C1865=0,AND(MaxInput>1,O1865=INDEX(FFilter,AQ$5))))","v":1},null,null,null,null,null,null,null,null,null,null,{"$f":"ROW()","v":1865}]
[1860,"",null,null,null,null,null,null,null,null,null,null,"",{"$f":"IF(C1868=0,\"\",INDEX(Objekt_Text,D1868+1,2))","v":""},{"$f":"IF(C1868=0,\"\",INDEX(Objekt_Text,D1868+1,3))","v":""},"","",{"$f":"INDEX(Visum_Liste,F1868+1)&\"\"","v":""},"","ZZ",0,0,0,0,0,0,3,"",{"$f":"MIN(IF(W1868=$W$9:$W$2128,$E$9:$E$2128))","v":0},{"$f":"MAX(IF(W1868=$W$9:$W$2128,$E$9:$E$2128))","v":0},1860,1,1,null,null,1,null,"ZZ00000","00ZZ000",null,{"$f":"ABS(OR(C1868=0,AND(MaxInput>1,M1868=INDEX(FFilter,AO$5))))","v":1},{"$f":"ABS(OR(C1868=0,AND(MaxInput>1,N1868=INDEX(FFilter,AP$5))))","v":1},{"$f":"ABS(OR(C1868=0,AND(MaxInput>1,O1868=INDEX(FFilter,AQ$5))))","v":1},null,null,null,null,null,null,null,null,null,null,{"$f":"ROW()","v":1868}]
[1861,"",null,null,null,null,null,null,null,null,null,null,"",{"$f":"IF(C1869=0,\"\",INDEX(Objekt_Text,D1869+1,2))","v":""},{"$f":"IF(C1869=0,\"\",INDEX(Objekt_Text,D1869+1,3))","v":""},"","",{"$f":"INDEX(Visum_Liste,F1869+1)&\"\"","v":""},"","ZZ",0,0,0,0,0,0,3,"",{"$f":"MIN(IF(W1869=$W$9:$W$2128,$E$9:$E$2128))","v":0},{"$f":"MAX(IF(W1869=$W$9:$W$2128,$E$9:$E$2128))","v":0},1861,{"$f":"OR(AL1869>=AL1868,B1869=\"\")*1","v":1},{"$f":"OR(AM1869>=AM1868,B1869=\"\")*1","v":1},null,null,1,null,"ZZ00000","00ZZ000",null,{"$f":"ABS(OR(C1869=0,AND(MaxInput>1,M1869=INDEX(FFilter,AO$5))))","v":1},{"$f":"ABS(OR(C1869=0,AND(MaxInput>1,N1869=INDEX(FFilter,AP$5))))","v":1},{"$f":"ABS(OR(C1869=0,AND(MaxInput>1,O1869=INDEX(FFilter,AQ$5))))","v":1},null,null,null,null,null,null,null,null,null,null,{"$f":"ROW()","v":1869}]
[1864,"",null,null,null,null,null,null,null,null,null,null,"",{"$f":"IF(C1872=0,\"\",INDEX(Objekt_Text,D1872+1,2))","v":""},{"$f":"IF(C1872=0,\"\",INDEX(Objekt_Text,D1872+1,3))","v":""},"","",{"$f":"INDEX(Visum_Liste,F1872+1)&\"\"","v":""},"","ZZ",0,0,0,0,0,0,3,"",{"$f":"MIN(IF(W1872=$W$9:$W$2128,$E$9:$E$2128))","v":0},{"$f":"MAX(IF(W1872=$W$9:$W$2128,$E$9:$E$2128))","v":0},1864,1,1,null,null,1,null,"ZZ00000","00ZZ000",null,{"$f":"ABS(OR(C1872=0,AND(MaxInput>1,M1872=INDEX(FFilter,AO$5))))","v":1},{"$f":"ABS(OR(C1872=0,AND(MaxInput>1,N1872=INDEX(FFilter,AP$5))))","v":1},{"$f":"ABS(OR(C1872=0,AND(MaxInput>1,O1872=INDEX(FFilter,AQ$5))))","v":1},null,null,null,null,null,null,null,null,null,null,{"$f":"ROW()","v":1872}]
[1867,"",null,null,null,null,null,null,null,null,null,null,"",{"$f":"IF(C1875=0,\"\",INDEX(Objekt_Text,D1875+1,2))","v":""},{"$f":"IF(C1875=0,\"\",INDEX(Objekt_Text,D1875+1,3))","v":""},"","",{"$f":"INDEX(Visum_Liste,F1875+1)&\"\"","v":""},"","ZZ",0,0,0,0,0,0,3,"",{"$f":"MIN(IF(W1875=$W$9:$W$2128,$E$9:$E$2128))","v":0},{"$f":"MAX(IF(W1875=$W$9:$W$2128,$E$9:$E$2128))","v":0},1867,1,1,null,null,1,null,"ZZ00000","00ZZ000",null,{"$f":"ABS(OR(C1875=0,AND(MaxInput>1,M1875=INDEX(FFilter,AO$5))))","v":1},{"$f":"ABS(OR(C1875=0,AND(MaxInput>1,N1875=INDEX(FFilter,AP$5))))","v":1},{"$f":"ABS(OR(C1875=0,AND(MaxInput>1,O1875=INDEX(FFilter,AQ$5))))","v":1},null,null,null,null,null,null,null,null,null,null,{"$f":"ROW()","v":1875}]
[1871,"",null,null,null,null,null,null,null,null,null,null,"",{"$f":"IF(C1879=0,\"\",INDEX(Objekt_Text,D1879+1,2))","v":""},{"$f":"IF(C1879=0,\"\",INDEX(Objekt_Text,D1879+1,3))","v":""},"","",{"$f":"INDEX(Visum_Liste,F1879+1)&\"\"","v":""},"","ZZ",0,0,0,0,0,0,3,"",{"$f":"MIN(IF(W1879=$W$9:$W$2128,$E$9:$E$2128))","v":0},{"$f":"MAX(IF(W1879=$W$9:$W$2128,$E$9:$E$2128))","v":0},1871,1,1,null,null,1,null,"ZZ00000","00ZZ000",null,{"$f":"ABS(OR(C1879=0,AND(MaxInput>1,M1879=INDEX(FFilter,AO$5))))","v":1},{"$f":"ABS(OR(C1879=0,AND(MaxInput>1,N1879=INDEX(FFilter,AP$5))))","v":1},{"$f":"ABS(OR(C1879=0,AND(MaxInput>1,O1879=INDEX(FFilter,AQ$5))))","v":1},null,null,null,null,null,null,null,null,null,null,{"$f":"ROW()","v":1879}]
[1874,"",null,null,null,null,null,null,null,null,null,null,"",{"$f":"IF(C1882=0,\"\",INDEX(Objekt_Text,D1882+1,2))","v":""},{"$f":"IF(C1882=0,\"\",INDEX(Objekt_Text,D1882+1,3))","v":""},"","",{"$f":"INDEX(Visum_Liste,F1882+1)&\"\"","v":""},"","ZZ",0,0,0,0,0,0,3,"",{"$f":"MIN(IF(W1882=$W$9:$W$2128,$E$9:$E$2128))","v":0},{"$f":"MAX(IF(W1882=$W$9:$W$2128,$E$9:$E$2128))","v":0},1874,1,1,null,null,1,null,"ZZ00000","00ZZ000",null,{"$f":"ABS(OR(C1882=0,AND(MaxInput>1,M1882=INDEX(FFilter,AO$5))))","v":1},{"$f":"ABS(OR(C1882=0,AND(MaxInput>1,N1882=INDEX(FFilter,AP$5))))","v":1},{"$f":"ABS(OR(C1882=0,AND(MaxInput>1,O1882=INDEX(FFilter,AQ$5))))","v":1},null,null,null,null,null,null,null,null,null,null,{"$f":"ROW()","v":1882}]
[1877,"",null,null,null,null,null,null,null,null,null,null,"",{"$f":"IF(C1885=0,\"\",INDEX(Objekt_Text,D1885+1,2))","v":""},{"$f":"IF(C1885=0,\"\",INDEX(Objekt_Text,D1885+1,3))","v":""},"","",{"$f":"INDEX(Visum_Liste,F1885+1)&\"\"","v":""},"","ZZ",0,0,0,0,0,0,3,"",{"$f":"MIN(IF(W1885=$W$9:$W$2128,$E$9:$E$2128))","v":0},{"$f":"MAX(IF(W1885=$W$9:$W$2128,$E$9:$E$2128))","v":0},1877,1,1,null,null,1,null,"ZZ00000","00ZZ000",null,{"$f":"ABS(OR(C1885=0,AND(MaxInput>1,M1885=INDEX(FFilter,AO$5))))","v":1},{"$f":"ABS(OR(C1885=0,AND(MaxInput>1,N1885=INDEX(FFilter,AP$5))))","v":1},{"$f":"ABS(OR(C1885=0,AND(MaxInput>1,O1885=INDEX(FFilter,AQ$5))))","v":1},null,null,null,null,null,null,null,null,null,null,{"$f":"ROW()","v":1885}]
[1881,"",null,null,null,null,null,null,null,null,null,null,"",{"$f":"IF(C1889=0,\"\",INDEX(Objekt_Text,D1889+1,2))","v":""},{"$f":"IF(C1889=0,\"\",INDEX(Objekt_Text,D1889+1,3))","v":""},"","",{"$f":"INDEX(Visum_Liste,F1889+1)&\"\"","v":""},"","ZZ",0,0,0,0,0,0,3,"",{"$f":"MIN(IF(W1889=$W$9:$W$2128,$E$9:$E$2128))","v":0},{"$f":"MAX(IF(W1889=$W$9:$W$2128,$E$9:$E$2128))","v":0},1881,1,1,null,null,1,null,"ZZ00000","00ZZ000",null,{"$f":"ABS(OR(C1889=0,AND(MaxInput>1,M1889=INDEX(FFilter,AO$5))))","v":1},{"$f":"ABS(OR(C1889=0,AND(MaxInput>1,N1889=INDEX(FFilter,AP$5))))","v":1},{"$f":"ABS(OR(C1889=0,AND(MaxInput>1,O1889=INDEX(FFilter,AQ$5))))","v":1},null,null,null,null,null,null,null,null,null,null,{"$f":"ROW()","v":1889}]
[1884,"",null,null,null,null,null,null,null,null,null,null,"",{"$f":"IF(C1892=0,\"\",INDEX(Objekt_Text,D1892+1,2))","v":""},{"$f":"IF(C1892=0,\"\",INDEX(Objekt_Text,D1892+1,3))","v":""},"","",{"$f":"INDEX(Visum_Liste,F1892+1)&\"\"","v":""},"","ZZ",0,0,0,0,0,0,3,"",{"$f":"MIN(IF(W1892=$W$9:$W$2128,$E$9:$E$2128))","v":0},{"$f":"MAX(IF(W1892=$W$9:$W$2128,$E$9:$E$2128))","v":0},1884,1,1,null,null,1,null,"ZZ00000","00ZZ000",null,{"$f":"ABS(OR(C1892=0,AND(MaxInput>1,M1892=INDEX(FFilter,AO$5))))","v":1},{"$f":"ABS(OR(C1892=0,AND(MaxInput>1,N1892=INDEX(FFilter,AP$5))))","v":1},{"$f":"ABS(OR(C1892=0,AND(MaxInput>1,O1892=INDEX(FFilter,AQ$5))))","v":1},null,null,null,null,null,null,null,null,null,null,{"$f":"ROW()","v":1892}]
[1885,"",null,null,null,null,null,null,null,null,null,null,"",{"$f":"IF(C1893=0,\"\",INDEX(Objekt_Text,D1893+1,2))","v":""},{"$f":"IF(C1893=0,\"\",INDEX(Objekt_Text,D1893+1,3))","v":""},"","",{"$f":"INDEX(Visum_Liste,F1893+1)&\"\"","v":""},"","ZZ",0,0,0,0,0,0,3,"",{"$f":"MIN(IF(W1893=$W$9:$W$2128,$E$9:$E$2128))","v":0},{"$f":"MAX(IF(W1893=$W$9:$W$2128,$E$9:$E$2128))","v":0},1885,1,1,null,null,1,null,"ZZ00000","00ZZ000",null,{"$f":"ABS(OR(C1893=0,AND(MaxInput>1,M1893=INDEX(FFilter,AO$5))))","v":1},{"$f":"ABS(OR(C1893=0,AND(MaxInput>1,N1893=INDEX(FFilter,AP$5))))","v":1},{"$f":"ABS(OR(C1893=0,AND(MaxInput>1,O1893=INDEX(FFilter,AQ$5))))","v":1},null,null,null,null,null,null,null,null,null,null,{"$f":"ROW()","v":1893}]
[1888,"",null,null,null,null,null,null,null,null,null,null,"",{"$f":"IF(C1896=0,\"\",INDEX(Objekt_Text,D1896+1,2))","v":""},{"$f":"IF(C1896=0,\"\",INDEX(Objekt_Text,D1896+1,3))","v":""},"","",{"$f":"INDEX(Visum_Liste,F1896+1)&\"\"","v":""},"","ZZ",0,0,0,0,0,0,3,"",{"$f":"MIN(IF(W1896=$W$9:$W$2128,$E$9:$E$2128))","v":0},{"$f":"MAX(IF(W1896=$W$9:$W$2128,$E$9:$E$2128))","v":0},1888,1,1,null,null,1,null,"ZZ00000","00ZZ000",null,{"$f":"ABS(OR(C1896=0,AND(MaxInput>1,M1896=INDEX(FFilter,AO$5))))","v":1},{"$f":"ABS(OR(C1896=0,AND(MaxInput>1,N1896=INDEX(FFilter,AP$5))))","v":1},{"$f":"ABS(OR(C1896=0,AND(MaxInput>1,O1896=INDEX(FFilter,AQ$5))))","v":1},null,null,null,null,null,null,null,null,null,null,{"$f":"ROW()","v":1896}]
[1891,"",null,null,null,null,null,null,null,null,null,null,"",{"$f":"IF(C1899=0,\"\",INDEX(Objekt_Text,D1899+1,2))","v":""},{"$f":"IF(C1899=0,\"\",INDEX(Objekt_Text,D1899+1,3))","v":""},"","",{"$f":"INDEX(Visum_Liste,F1899+1)&\"\"","v":""},"","ZZ",0,0,0,0,0,0,3,"",{"$f":"MIN(IF(W1899=$W$9:$W$2128,$E$9:$E$2128))","v":0},{"$f":"MAX(IF(W1899=$W$9:$W$2128,$E$9:$E$2128))","v":0},1891,1,1,null,null,1,null,"ZZ00000","00ZZ000",null,{"$f":"ABS(OR(C1899=0,AND(MaxInput>1,M1899=INDEX(FFilter,AO$5))))","v":1},{"$f":"ABS(OR(C1899=0,AND(MaxInput>1,N1899=INDEX(FFilter,AP$5))))","v":1},{"$f":"ABS(OR(C1899=0,AND(MaxInput>1,O1899=INDEX(FFilter,AQ$5))))","v":1},null,null,null,null,null,null,null,null,null,null,{"$f":"ROW()","v":1899}]
[1895,"",null,null,null,null,null,null,null,null,null,null,"",{"$f":"IF(C1903=0,\"\",INDEX(Objekt_Text,D1903+1,2))","v":""},{"$f":"IF(C1903=0,\"\",INDEX(Objekt_Text,D1903+1,3))","v":""},"","",{"$f":"INDEX(Visum_Liste,F1903+1)&\"\"","v":""},"","ZZ",0,0,0,0,0,0,3,"",{"$f":"MIN(IF(W1903=$W$9:$W$2128,$E$9:$E$2128))","v":0},{"$f":"MAX(IF(W1903=$W$9:$W$2128,$E$9:$E$2128))","v":0},1895,1,1,null,null,1,null,"ZZ00000","00ZZ000",null,{"$f":"ABS(OR(C1903=0,AND(MaxInput>1,M1903=INDEX(FFilter,AO$5))))","v":1},{"$f":"ABS(OR(C1903=0,AND(MaxInput>1,N1903=INDEX(FFilter,AP$5))))","v":1},{"$f":"ABS(OR(C1903=0,AND(MaxInput>1,O1903=INDEX(FFilter,AQ$5))))","v":1},null,null,null,null,null,null,null,null,null,null,{"$f":"ROW()","v":1903}]
[1898,"",null,null,null,null,null,null,null,null,null,null,"",{"$f":"IF(C1906=0,\"\",INDEX(Objekt_Text,D1906+1,2))","v":""},{"$f":"IF(C1906=0,\"\",INDEX(Objekt_Text,D1906+1,3))","v":""},"","",{"$f":"INDEX(Visum_Liste,F1906+1)&\"\"","v":""},"","ZZ",0,0,0,0,0,0,3,"",{"$f":"MIN(IF(W1906=$W$9:$W$2128,$E$9:$E$2128))","v":0},{"$f":"MAX(IF(W1906=$W$9:$W$2128,$E$9:$E$2128))","v":0},1898,1,1,null,null,1,null,"ZZ00000","00ZZ000",null,{"$f":"ABS(OR(C1906=0,AND(MaxInput>1,M1906=INDEX(FFilter,AO$5))))","v":1},{"$f":"ABS(OR(C1906=0,AND(MaxInput>1,N1906=INDEX(FFilter,AP$5))))","v":1},{"$f":"ABS(OR(C1906=0,AND(MaxInput>1,O1906=INDEX(FFilter,AQ$5))))","v":1},null,null,null,null,null,null,null,null,null,null,{"$f":"ROW()","v":1906}]
[1901,"",null,null,null,null,null,null,null,null,null,null,"",{"$f":"IF(C1909=0,\"\",INDEX(Objekt_Text,D1909+1,2))","v":""},{"$f":"IF(C1909=0,\"\",INDEX(Objekt_Text,D1909+1,3))","v":""},"","",{"$f":"INDEX(Visum_Liste,F1909+1)&\"\"","v":""},"","ZZ",0,0,0,0,0,0,3,"",{"$f":"MIN(IF(W1909=$W$9:$W$2128,$E$9:$E$2128))","v":0},{"$f":"MAX(IF(W1909=$W$9:$W$2128,$E$9:$E$2128))","v":0},1901,1,1,null,null,1,null,"ZZ00000","00ZZ000",null,{"$f":"ABS(OR(C1909=0,AND(MaxInput>1,M1909=INDEX(FFilter,AO$5))))","v":1},{"$f":"ABS(OR(C1909=0,AND(MaxInput>1,N1909=INDEX(FFilter,AP$5))))","v":1},{"$f":"ABS(OR(C1909=0,AND(MaxInput>1,O1909=INDEX(FFilter,AQ$5))))","v":1},null,null,null,null,null,null,null,null,null,null,{"$f":"ROW()","v":1909}]
[1905,"",null,null,null,null,null,null,null,null,null,null,"",{"$f":"IF(C1913=0,\"\",INDEX(Objekt_Text,D1913+1,2))","v":""},{"$f":"IF(C1913=0,\"\",INDEX(Objekt_Text,D1913+1,3))","v":""},"","",{"$f":"INDEX(Visum_Liste,F1913+1)&\"\"","v":""},"","ZZ",0,0,0,0,0,0,3,"",{"$f":"MIN(IF(W1913=$W$9:$W$2128,$E$9:$E$2128))","v":0},{"$f":"MAX(IF(W1913=$W$9:$W$2128,$E$9:$E$2128))","v":0},1905,1,1,null,null,1,null,"ZZ00000","00ZZ000",null,{"$f":"ABS(OR(C1913=0,AND(MaxInput>1,M1913=INDEX(FFilter,AO$5))))","v":1},{"$f":"ABS(OR(C1913=0,AND(MaxInput>1,N1913=INDEX(FFilter,AP$5))))","v":1},{"$f":"ABS(OR(C1913=0,AND(MaxInput>1,O1913=INDEX(FFilter,AQ$5))))","v":1},null,null,null,null,null,null,null,null,null,null,{"$f":"ROW()","v":1913}]
[1908,"",null,null,null,null,null,null,null,null,null,null,"",{"$f":"IF(C1916=0,\"\",INDEX(Objekt_Text,D1916+1,2))","v":""},{"$f":"IF(C1916=0,\"\",INDEX(Objekt_Text,D1916+1,3))","v":""},"","",{"$f":"INDEX(Visum_Liste,F1916+1)&\"\"","v":""},"","ZZ",0,0,0,0,0,0,3,"",{"$f":"MIN(IF(W1916=$W$9:$W$2128,$E$9:$E$2128))","v":0},{"$f":"MAX(IF(W1916=$W$9:$W$2128,$E$9:$E$2128))","v":0},1908,1,1,null,null,1,null,"ZZ00000","00ZZ000",null,{"$f":"ABS(OR(C1916=0,AND(MaxInput>1,M1916=INDEX(FFilter,AO$5))))","v":1},{"$f":"ABS(OR(C1916=0,AND(MaxInput>1,N1916=INDEX(FFilter,AP$5))))","v":1},{"$f":"ABS(OR(C1916=0,AND(MaxInput>1,O1916=INDEX(FFilter,AQ$5))))","v":1},null,null,null,null,null,null,null,null,null,null,{"$f":"ROW()","v":1916}]
[1909,"",null,null,null,null,null,null,null,null,null,null,"",{"$f":"IF(C1917=0,\"\",INDEX(Objekt_Text,D1917+1,2))","v":""},{"$f":"IF(C1917=0,\"\",INDEX(Objekt_Text,D1917+1,3))","v":""},"","",{"$f":"INDEX(Visum_Liste,F1917+1)&\"\"","v":""},"","ZZ",0,0,0,0,0,0,3,"",{"$f":"MIN(IF(W1917=$W$9:$W$2128,$E$9:$E$2128))","v":0},{"$f":"MAX(IF(W1917=$W$9:$W$2128,$E$9:$E$2128))","v":0},1909,1,1,null,null,1,null,"ZZ00000","00ZZ000",null,{"$f":"ABS(OR(C1917=0,AND(MaxInput>1,M1917=INDEX(FFilter,AO$5))))","v":1},{"$f":"ABS(OR(C1917=0,AND(MaxInput>1,N1917=INDEX(FFilter,AP$5))))","v":1},{"$f":"ABS(OR(C1917=0,AND(MaxInput>1,O1917=INDEX(FFilter,AQ$5))))","v":1},null,null,null,null,null,null,null,null,null,null,{"$f":"ROW()","v":1917}]
[1912,"",null,null,null,null,null,null,null,null,null,null,"",{"$f":"IF(C1920=0,\"\",INDEX(Objekt_Text,D1920+1,2))","v":""},{"$f":"IF(C1920=0,\"\",INDEX(Objekt_Text,D1920+1,3))","v":""},"","",{"$f":"INDEX(Visum_Liste,F1920+1)&\"\"","v":""},"","ZZ",0,0,0,0,0,0,3,"",{"$f":"MIN(IF(W1920=$W$9:$W$2128,$E$9:$E$2128))","v":0},{"$f":"MAX(IF(W1920=$W$9:$W$2128,$E$9:$E$2128))","v":0},1912,1,1,null,null,1,null,"ZZ00000","00ZZ000",null,{"$f":"ABS(OR(C1920=0,AND(MaxInput>1,M1920=INDEX(FFilter,AO$5))))","v":1},{"$f":"ABS(OR(C1920=0,AND(MaxInput>1,N1920=INDEX(FFilter,AP$5))))","v":1},{"$f":"ABS(OR(C1920=0,AND(MaxInput>1,O1920=INDEX(FFilter,AQ$5))))","v":1},null,null,null,null,null,null,null,null,null,null,{"$f":"ROW()","v":1920}]
[1915,"",null,null,null,null,null,null,null,null,null,null,"",{"$f":"IF(C1923=0,\"\",INDEX(Objekt_Text,D1923+1,2))","v":""},{"$f":"IF(C1923=0,\"\",INDEX(Objekt_Text,D1923+1,3))","v":""},"","",{"$f":"INDEX(Visum_Liste,F1923+1)&\"\"","v":""},"","ZZ",0,0,0,0,0,0,3,"",{"$f":"MIN(IF(W1923=$W$9:$W$2128,$E$9:$E$2128))","v":0},{"$f":"MAX(IF(W1923=$W$9:$W$2128,$E$9:$E$2128))","v":0},1915,1,1,null,null,1,null,"ZZ00000","00ZZ000",null,{"$f":"ABS(OR(C1923=0,AND(MaxInput>1,M1923=INDEX(FFilter,AO$5))))","v":1},{"$f":"ABS(OR(C1923=0,AND(MaxInput>1,N1923=INDEX(FFilter,AP$5))))","v":1},{"$f":"ABS(OR(C1923=0,AND(MaxInput>1,O1923=INDEX(FFilter,AQ$5))))","v":1},null,null,null,null,null,null,null,null,null,null,{"$f":"ROW()","v":1923}]
[1919,"",null,null,null,null,null,null,null,null,null,null,"",{"$f":"IF(C1927=0,\"\",INDEX(Objekt_Text,D1927+1,2))","v":""},{"$f":"IF(C1927=0,\"\",INDEX(Objekt_Text,D1927+1,3))","v":""},"","",{"$f":"INDEX(Visum_Liste,F1927+1)&\"\"","v":""},"","ZZ",0,0,0,0,0,0,3,"",{"$f":"MIN(IF(W1927=$W$9:$W$2128,$E$9:$E$2128))","v":0},{"$f":"MAX(IF(W1927=$W$9:$W$2128,$E$9:$E$2128))","v":0},1919,1,1,null,null,1,null,"ZZ00000","00ZZ000",null,{"$f":"ABS(OR(C1927=0,AND(MaxInput>1,M1927=INDEX(FFilter,AO$5))))","v":1},{"$f":"ABS(OR(C1927=0,AND(MaxInput>1,N1927=INDEX(FFilter,AP$5))))","v":1},{"$f":"ABS(OR(C1927=0,AND(MaxInput>1,O1927=INDEX(FFilter,AQ$5))))","v":1},null,null,null,null,null,null,null,null,null,null,{"$f":"ROW()","v":1927}]
[1922,"",null,null,null,null,null,null,null,null,null,null,"",{"$f":"IF(C1930=0,\"\",INDEX(Objekt_Text,D1930+1,2))","v":""},{"$f":"IF(C1930=0,\"\",INDEX(Objekt_Text,D1930+1,3))","v":""},"","",{"$f":"INDEX(Visum_Liste,F1930+1)&\"\"","v":""},"","ZZ",0,0,0,0,0,0,3,"",{"$f":"MIN(IF(W1930=$W$9:$W$2128,$E$9:$E$2128))","v":0},{"$f":"MAX(IF(W1930=$W$9:$W$2128,$E$9:$E$2128))","v":0},1922,1,1,null,null,{"$f":"OR(L1930<=L1929,B1930=\"\")*1","v":1},null,"ZZ00000","00ZZ000",null,{"$f":"ABS(OR(C1930=0,AND(MaxInput>1,M1930=INDEX(FFilter,AO$5))))","v":1},{"$f":"ABS(OR(C1930=0,AND(MaxInput>1,N1930=INDEX(FFilter,AP$5))))","v":1},{"$f":"ABS(OR(C1930=0,AND(MaxInput>1,O1930=INDEX(FFilter,AQ$5))))","v":1},null,null,null,null,null,null,null,null,null,null,{"$f":"ROW()","v":1930}]
[1926,"",null,null,null,null,null,null,null,null,null,null,"",{"$f":"IF(C1934=0,\"\",INDEX(Objekt_Text,D1934+1,2))","v":""},{"$f":"IF(C1934=0,\"\",INDEX(Objekt_Text,D1934+1,3))","v":""},"","",{"$f":"INDEX(Visum_Liste,F1934+1)&\"\"","v":""},"","ZZ",0,0,0,0,0,0,3,"",{"$f":"MIN(IF(W1934=$W$9:$W$2128,$E$9:$E$2128))","v":0},{"$f":"MAX(IF(W1934=$W$9:$W$2128,$E$9:$E$2128))","v":0},1926,1,1,null,null,1,null,"ZZ00000","00ZZ000",null,{"$f":"ABS(OR(C1934=0,AND(MaxInput>1,M1934=INDEX(FFilter,AO$5))))","v":1},{"$f":"ABS(OR(C1934=0,AND(MaxInput>1,N1934=INDEX(FFilter,AP$5))))","v":1},{"$f":"ABS(OR(C1934=0,AND(MaxInput>1,O1934=INDEX(FFilter,AQ$5))))","v":1},null,null,null,null,null,null,null,null,null,null,{"$f":"ROW()","v":1934}]
[1929,"",null,null,null,null,null,null,null,null,null,null,"",{"$f":"IF(C1937=0,\"\",INDEX(Objekt_Text,D1937+1,2))","v":""},{"$f":"IF(C1937=0,\"\",INDEX(Objekt_Text,D1937+1,3))","v":""},"","",{"$f":"INDEX(Visum_Liste,F1937+1)&\"\"","v":""},"","ZZ",0,0,0,0,0,0,3,"",{"$f":"MIN(IF(W1937=$W$9:$W$2128,$E$9:$E$2128))","v":0},{"$f":"MAX(IF(W1937=$W$9:$W$2128,$E$9:$E$2128))","v":0},1929,1,1,null,null,1,null,"ZZ00000","00ZZ000",null,{"$f":"ABS(OR(C1937=0,AND(MaxInput>1,M1937=INDEX(FFilter,AO$5))))","v":1},{"$f":"ABS(OR(C1937=0,AND(MaxInput>1,N1937=INDEX(FFilter,AP$5))))","v":1},{"$f":"ABS(OR(C1937=0,AND(MaxInput>1,O1937=INDEX(FFilter,AQ$5))))","v":1},null,null,null,null,null,null,null,null,null,null,{"$f":"ROW()","v":1937}]
[1932,"",null,null,null,null,null,null,null,null,null,null,"",{"$f":"IF(C1940=0,\"\",INDEX(Objekt_Text,D1940+1,2))","v":""},{"$f":"IF(C1940=0,\"\",INDEX(Objekt_Text,D1940+1,3))","v":""},"","",{"$f":"INDEX(Visum_Liste,F1940+1)&\"\"","v":""},"","ZZ",0,0,0,0,0,0,3,"",{"$f":"MIN(IF(W1940=$W$9:$W$2128,$E$9:$E$2128))","v":0},{"$f":"MAX(IF(W1940=$W$9:$W$2128,$E$9:$E$2128))","v":0},1932,1,1,null,null,1,null,"ZZ00000","00ZZ000",null,{"$f":"ABS(OR(C1940=0,AND(MaxInput>1,M1940=INDEX(FFilter,AO$5))))","v":1},{"$f":"ABS(OR(C1940=0,AND(MaxInput>1,N1940=INDEX(FFilter,AP$5))))","v":1},{"$f":"ABS(OR(C1940=0,AND(MaxInput>1,O1940=INDEX(FFilter,AQ$5))))","v":1},null,null,null,null,null,null,null,null,null,null,{"$f":"ROW()","v":1940}]
[1933,"",null,null,null,null,null,null,null,null,null,null,"",{"$f":"IF(C1941=0,\"\",INDEX(Objekt_Text,D1941+1,2))","v":""},{"$f":"IF(C1941=0,\"\",INDEX(Objekt_Text,D1941+1,3))","v":""},"","",{"$f":"INDEX(Visum_Liste,F1941+1)&\"\"","v":""},"","ZZ",0,0,0,0,0,0,3,"",{"$f":"MIN(IF(W1941=$W$9:$W$2128,$E$9:$E$2128))","v":0},{"$f":"MAX(IF(W1941=$W$9:$W$2128,$E$9:$E$2128))","v":0},1933,1,1,null,null,1,null,"ZZ00000","00ZZ000",null,{"$f":"ABS(OR(C1941=0,AND(MaxInput>1,M1941=INDEX(FFilter,AO$5))))","v":1},{"$f":"ABS(OR(C1941=0,AND(MaxInput>1,N1941=INDEX(FFilter,AP$5))))","v":1},{"$f":"ABS(OR(C1941=0,AND(MaxInput>1,O1941=INDEX(FFilter,AQ$5))))","v":1},null,null,null,null,null,null,null,null,null,null,{"$f":"ROW()","v":1941}]
[1936,"",null,null,null,null,null,null,null,null,null,null,"",{"$f":"IF(C1944=0,\"\",INDEX(Objekt_Text,D1944+1,2))","v":""},{"$f":"IF(C1944=0,\"\",INDEX(Objekt_Text,D1944+1,3))","v":""},"","",{"$f":"INDEX(Visum_Liste,F1944+1)&\"\"","v":""},"","ZZ",0,0,0,0,0,0,3,"",{"$f":"MIN(IF(W1944=$W$9:$W$2128,$E$9:$E$2128))","v":0},{"$f":"MAX(IF(W1944=$W$9:$W$2128,$E$9:$E$2128))","v":0},1936,1,1,null,null,1,null,"ZZ00000","00ZZ000",null,{"$f":"ABS(OR(C1944=0,AND(MaxInput>1,M1944=INDEX(FFilter,AO$5))))","v":1},{"$f":"ABS(OR(C1944=0,AND(MaxInput>1,N1944=INDEX(FFilter,AP$5))))","v":1},{"$f":"ABS(OR(C1944=0,AND(MaxInput>1,O1944=INDEX(FFilter,AQ$5))))","v":1},null,null,null,null,null,null,null,null,null,null,{"$f":"ROW()","v":1944}]
[1939,"",null,null,null,null,null,null,null,null,null,null,"",{"$f":"IF(C1947=0,\"\",INDEX(Objekt_Text,D1947+1,2))","v":""},{"$f":"IF(C1947=0,\"\",INDEX(Objekt_Text,D1947+1,3))","v":""},"","",{"$f":"INDEX(Visum_Liste,F1947+1)&\"\"","v":""},"","ZZ",0,0,0,0,0,0,3,"",{"$f":"MIN(IF(W1947=$W$9:$W$2128,$E$9:$E$2128))","v":0},{"$f":"MAX(IF(W1947=$W$9:$W$2128,$E$9:$E$2128))","v":0},1939,1,1,null,null,1,null,"ZZ00000","00ZZ000",null,{"$f":"ABS(OR(C1947=0,AND(MaxInput>1,M1947=INDEX(FFilter,AO$5))))","v":1},{"$f":"ABS(OR(C1947=0,AND(MaxInput>1,N1947=INDEX(FFilter,AP$5))))","v":1},{"$f":"ABS(OR(C1947=0,AND(MaxInput>1,O1947=INDEX(FFilter,AQ$5))))","v":1},null,null,null,null,null,null,null,null,null,null,{"$f":"ROW()","v":1947}]
[1943,"",null,null,null,null,null,null,null,null,null,null,"",{"$f":"IF(C1951=0,\"\",INDEX(Objekt_Text,D1951+1,2))","v":""},{"$f":"IF(C1951=0,\"\",INDEX(Objekt_Text,D1951+1,3))","v":""},"","",{"$f":"INDEX(Visum_Liste,F1951+1)&\"\"","v":""},"","ZZ",0,0,0,0,0,0,3,"",{"$f":"MIN(IF(W1951=$W$9:$W$2128,$E$9:$E$2128))","v":0},{"$f":"MAX(IF(W1951=$W$9:$W$2128,$E$9:$E$2128))","v":0},1943,1,1,null,null,1,null,"ZZ00000","00ZZ000",null,{"$f":"ABS(OR(C1951=0,AND(MaxInput>1,M1951=INDEX(FFilter,AO$5))))","v":1},{"$f":"ABS(OR(C1951=0,AND(MaxInput>1,N1951=INDEX(FFilter,AP$5))))","v":1},{"$f":"ABS(OR(C1951=0,AND(MaxInput>1,O1951=INDEX(FFilter,AQ$5))))","v":1},null,null,null,null,null,null,null,null,null,null,{"$f":"ROW()","v":1951}]
[1946,"",null,null,null,null,null,null,null,null,null,null,"",{"$f":"IF(C1954=0,\"\",INDEX(Objekt_Text,D1954+1,2))","v":""},{"$f":"IF(C1954=0,\"\",INDEX(Objekt_Text,D1954+1,3))","v":""},"","",{"$f":"INDEX(Visum_Liste,F1954+1)&\"\"","v":""},"","ZZ",0,0,0,0,0,0,3,"",{"$f":"MIN(IF(W1954=$W$9:$W$2128,$E$9:$E$2128))","v":0},{"$f":"MAX(IF(W1954=$W$9:$W$2128,$E$9:$E$2128))","v":0},1946,1,1,null,null,1,null,"ZZ00000","00ZZ000",null,{"$f":"ABS(OR(C1954=0,AND(MaxInput>1,M1954=INDEX(FFilter,AO$5))))","v":1},{"$f":"ABS(OR(C1954=0,AND(MaxInput>1,N1954=INDEX(FFilter,AP$5))))","v":1},{"$f":"ABS(OR(C1954=0,AND(MaxInput>1,O1954=INDEX(FFilter,AQ$5))))","v":1},null,null,null,null,null,null,null,null,null,null,{"$f":"ROW()","v":1954}]
[1950,"",null,null,null,null,null,null,null,null,null,null,"",{"$f":"IF(C1958=0,\"\",INDEX(Objekt_Text,D1958+1,2))","v":""},{"$f":"IF(C1958=0,\"\",INDEX(Objekt_Text,D1958+1,3))","v":""},"","",{"$f":"INDEX(Visum_Liste,F1958+1)&\"\"","v":""},"","ZZ",0,0,0,0,0,0,3,"",{"$f":"MIN(IF(W1958=$W$9:$W$2128,$E$9:$E$2128))","v":0},{"$f":"MAX(IF(W1958=$W$9:$W$2128,$E$9:$E$2128))","v":0},1950,1,1,null,null,1,null,"ZZ00000","00ZZ000",null,{"$f":"ABS(OR(C1958=0,AND(MaxInput>1,M1958=INDEX(FFilter,AO$5))))","v":1},{"$f":"ABS(OR(C1958=0,AND(MaxInput>1,N1958=INDEX(FFilter,AP$5))))","v":1},{"$f":"ABS(OR(C1958=0,AND(MaxInput>1,O1958=INDEX(FFilter,AQ$5))))","v":1},null,null,null,null,null,null,null,null,null,null,{"$f":"ROW()","v":1958}]
[1953,"",null,null,null,null,null,null,null,null,null,null,"",{"$f":"IF(C1961=0,\"\",INDEX(Objekt_Text,D1961+1,2))","v":""},{"$f":"IF(C1961=0,\"\",INDEX(Objekt_Text,D1961+1,3))","v":""},"","",{"$f":"INDEX(Visum_Liste,F1961+1)&\"\"","v":""},"","ZZ",0,0,0,0,0,0,3,"",{"$f":"MIN(IF(W1961=$W$9:$W$2128,$E$9:$E$2128))","v":0},{"$f":"MAX(IF(W1961=$W$9:$W$2128,$E$9:$E$2128))","v":0},1953,1,1,null,null,1,null,"ZZ00000","00ZZ000",null,{"$f":"ABS(OR(C1961=0,AND(MaxInput>1,M1961=INDEX(FFilter,AO$5))))","v":1},{"$f":"ABS(OR(C1961=0,AND(MaxInput>1,N1961=INDEX(FFilter,AP$5))))","v":1},{"$f":"ABS(OR(C1961=0,AND(MaxInput>1,O1961=INDEX(FFilter,AQ$5))))","v":1},null,null,null,null,null,null,null,null,null,null,{"$f":"ROW()","v":1961}]
[1956,"",null,null,null,null,null,null,null,null,null,null,"",{"$f":"IF(C1964=0,\"\",INDEX(Objekt_Text,D1964+1,2))","v":""},{"$f":"IF(C1964=0,\"\",INDEX(Objekt_Text,D1964+1,3))","v":""},"","",{"$f":"INDEX(Visum_Liste,F1964+1)&\"\"","v":""},"","ZZ",0,0,0,0,0,0,3,"",{"$f":"MIN(IF(W1964=$W$9:$W$2128,$E$9:$E$2128))","v":0},{"$f":"MAX(IF(W1964=$W$9:$W$2128,$E$9:$E$2128))","v":0},1956,1,1,null,null,1,null,"ZZ00000","00ZZ000",null,{"$f":"ABS(OR(C1964=0,AND(MaxInput>1,M1964=INDEX(FFilter,AO$5))))","v":1},{"$f":"ABS(OR(C1964=0,AND(MaxInput>1,N1964=INDEX(FFilter,AP$5))))","v":1},{"$f":"ABS(OR(C1964=0,AND(MaxInput>1,O1964=INDEX(FFilter,AQ$5))))","v":1},null,null,null,null,null,null,null,null,null,null,{"$f":"ROW()","v":1964}]
[1957,"",null,null,null,null,null,null,null,null,null,null,"",{"$f":"IF(C1965=0,\"\",INDEX(Objekt_Text,D1965+1,2))","v":""},{"$f":"IF(C1965=0,\"\",INDEX(Objekt_Text,D1965+1,3))","v":""},"","",{"$f":"INDEX(Visum_Liste,F1965+1)&\"\"","v":""},"","ZZ",0,0,0,0,0,0,3,"",{"$f":"MIN(IF(W1965=$W$9:$W$2128,$E$9:$E$2128))","v":0},{"$f":"MAX(IF(W1965=$W$9:$W$2128,$E$9:$E$2128))","v":0},1957,1,1,null,null,1,null,"ZZ00000","00ZZ000",null,{"$f":"ABS(OR(C1965=0,AND(MaxInput>1,M1965=INDEX(FFilter,AO$5))))","v":1},{"$f":"ABS(OR(C1965=0,AND(MaxInput>1,N1965=INDEX(FFilter,AP$5))))","v":1},{"$f":"ABS(OR(C1965=0,AND(MaxInput>1,O1965=INDEX(FFilter,AQ$5))))","v":1},null,null,null,null,null,null,null,null,null,null,{"$f":"ROW()","v":1965}]
[1960,"",null,null,null,null,null,null,null,null,null,null,"",{"$f":"IF(C1968=0,\"\",INDEX(Objekt_Text,D1968+1,2))","v":""},{"$f":"IF(C1968=0,\"\",INDEX(Objekt_Text,D1968+1,3))","v":""},"","",{"$f":"INDEX(Visum_Liste,F1968+1)&\"\"","v":""},"","ZZ",0,0,0,0,0,0,3,"",{"$f":"MIN(IF(W1968=$W$9:$W$2128,$E$9:$E$2128))","v":0},{"$f":"MAX(IF(W1968=$W$9:$W$2128,$E$9:$E$2128))","v":0},1960,1,1,null,null,1,null,"ZZ00000","00ZZ000",null,{"$f":"ABS(OR(C1968=0,AND(MaxInput>1,M1968=INDEX(FFilter,AO$5))))","v":1},{"$f":"ABS(OR(C1968=0,AND(MaxInput>1,N1968=INDEX(FFilter,AP$5))))","v":1},{"$f":"ABS(OR(C1968=0,AND(MaxInput>1,O1968=INDEX(FFilter,AQ$5))))","v":1},null,null,null,null,null,null,null,null,null,null,{"$f":"ROW()","v":1968}]
[1964,"",null,null,null,null,null,null,null,null,null,null,"",{"$f":"IF(C1972=0,\"\",INDEX(Objekt_Text,D1972+1,2))","v":""},{"$f":"IF(C1972=0,\"\",INDEX(Objekt_Text,D1972+1,3))","v":""},"","",{"$f":"INDEX(Visum_Liste,F1972+1)&\"\"","v":""},"","ZZ",0,0,0,0,0,0,3,"",{"$f":"MIN(IF(W1972=$W$9:$W$2128,$E$9:$E$2128))","v":0},{"$f":"MAX(IF(W1972=$W$9:$W$2128,$E$9:$E$2128))","v":0},1964,1,1,null,null,1,null,"ZZ00000","00ZZ000",null,{"$f":"ABS(OR(C1972=0,AND(MaxInput>1,M1972=INDEX(FFilter,AO$5))))","v":1},{"$f":"ABS(OR(C1972=0,AND(MaxInput>1,N1972=INDEX(FFilter,AP$5))))","v":1},{"$f":"ABS(OR(C1972=0,AND(MaxInput>1,O1972=INDEX(FFilter,AQ$5))))","v":1},null,null,null,null,null,null,null,null,null,null,{"$f":"ROW()","v":1972}]
[1967,"",null,null,null,null,null,null,null,null,null,null,"",{"$f":"IF(C1975=0,\"\",INDEX(Objekt_Text,D1975+1,2))","v":""},{"$f":"IF(C1975=0,\"\",INDEX(Objekt_Text,D1975+1,3))","v":""},"","",{"$f":"INDEX(Visum_Liste,F1975+1)&\"\"","v":""},"","ZZ",0,0,0,0,0,0,3,"",{"$f":"MIN(IF(W1975=$W$9:$W$2128,$E$9:$E$2128))","v":0},{"$f":"MAX(IF(W1975=$W$9:$W$2128,$E$9:$E$2128))","v":0},1967,1,1,null,null,1,null,"ZZ00000","00ZZ000",null,{"$f":"ABS(OR(C1975=0,AND(MaxInput>1,M1975=INDEX(FFilter,AO$5))))","v":1},{"$f":"ABS(OR(C1975=0,AND(MaxInput>1,N1975=INDEX(FFilter,AP$5))))","v":1},{"$f":"ABS(OR(C1975=0,AND(MaxInput>1,O1975=INDEX(FFilter,AQ$5))))","v":1},null,null,null,null,null,null,null,null,null,null,{"$f":"ROW()","v":1975}]
[1970,"",null,null,null,null,null,null,null,null,null,null,"",{"$f":"IF(C1978=0,\"\",INDEX(Objekt_Text,D1978+1,2))","v":""},{"$f":"IF(C1978=0,\"\",INDEX(Objekt_Text,D1978+1,3))","v":""},"","",{"$f":"INDEX(Visum_Liste,F1978+1)&\"\"","v":""},"","ZZ",0,0,0,0,0,0,3,"",{"$f":"MIN(IF(W1978=$W$9:$W$2128,$E$9:$E$2128))","v":0},{"$f":"MAX(IF(W1978=$W$9:$W$2128,$E$9:$E$2128))","v":0},1970,1,1,null,null,1,null,"ZZ00000","00ZZ000",null,{"$f":"ABS(OR(C1978=0,AND(MaxInput>1,M1978=INDEX(FFilter,AO$5))))","v":1},{"$f":"ABS(OR(C1978=0,AND(MaxInput>1,N1978=INDEX(FFilter,AP$5))))","v":1},{"$f":"ABS(OR(C1978=0,AND(MaxInput>1,O1978=INDEX(FFilter,AQ$5))))","v":1},null,null,null,null,null,null,null,null,null,null,{"$f":"ROW()","v":1978}]
[1974,"",null,null,null,null,null,null,null,null,null,null,"",{"$f":"IF(C1982=0,\"\",INDEX(Objekt_Text,D1982+1,2))","v":""},{"$f":"IF(C1982=0,\"\",INDEX(Objekt_Text,D1982+1,3))","v":""},"","",{"$f":"INDEX(Visum_Liste,F1982+1)&\"\"","v":""},"","ZZ",0,0,0,0,0,0,3,"",{"$f":"MIN(IF(W1982=$W$9:$W$2128,$E$9:$E$2128))","v":0},{"$f":"MAX(IF(W1982=$W$9:$W$2128,$E$9:$E$2128))","v":0},1974,1,1,null,null,1,null,"ZZ00000","00ZZ000",null,{"$f":"ABS(OR(C1982=0,AND(MaxInput>1,M1982=INDEX(FFilter,AO$5))))","v":1},{"$f":"ABS(OR(C1982=0,AND(MaxInput>1,N1982=INDEX(FFilter,AP$5))))","v":1},{"$f":"ABS(OR(C1982=0,AND(MaxInput>1,O1982=INDEX(FFilter,AQ$5))))","v":1},null,null,null,null,null,null,null,null,null,null,{"$f":"ROW()","v":1982}]
[1977,"",null,null,null,null,null,null,null,null,null,null,"",{"$f":"IF(C1985=0,\"\",INDEX(Objekt_Text,D1985+1,2))","v":""},{"$f":"IF(C1985=0,\"\",INDEX(Objekt_Text,D1985+1,3))","v":""},"","",{"$f":"INDEX(Visum_Liste,F1985+1)&\"\"","v":""},"","ZZ",0,0,0,0,0,0,3,"",{"$f":"MIN(IF(W1985=$W$9:$W$2128,$E$9:$E$2128))","v":0},{"$f":"MAX(IF(W1985=$W$9:$W$2128,$E$9:$E$2128))","v":0},1977,1,1,null,null,1,null,"ZZ00000","00ZZ000",null,{"$f":"ABS(OR(C1985=0,AND(MaxInput>1,M1985=INDEX(FFilter,AO$5))))","v":1},{"$f":"ABS(OR(C1985=0,AND(MaxInput>1,N1985=INDEX(FFilter,AP$5))))","v":1},{"$f":"ABS(OR(C1985=0,AND(MaxInput>1,O1985=INDEX(FFilter,AQ$5))))","v":1},null,null,null,null,null,null,null,null,null,null,{"$f":"ROW()","v":1985}]
[1980,"",null,null,null,null,null,null,null,null,null,null,"",{"$f":"IF(C1988=0,\"\",INDEX(Objekt_Text,D1988+1,2))","v":""},{"$f":"IF(C1988=0,\"\",INDEX(Objekt_Text,D1988+1,3))","v":""},"","",{"$f":"INDEX(Visum_Liste,F1988+1)&\"\"","v":""},"","ZZ",0,0,0,0,0,0,3,"",{"$f":"MIN(IF(W1988=$W$9:$W$2128,$E$9:$E$2128))","v":0},{"$f":"MAX(IF(W1988=$W$9:$W$2128,$E$9:$E$2128))","v":0},1980,1,1,null,null,1,null,"ZZ00000","00ZZ000",null,{"$f":"ABS(OR(C1988=0,AND(MaxInput>1,M1988=INDEX(FFilter,AO$5))))","v":1},{"$f":"ABS(OR(C1988=0,AND(MaxInput>1,N1988=INDEX(FFilter,AP$5))))","v":1},{"$f":"ABS(OR(C1988=0,AND(MaxInput>1,O1988=INDEX(FFilter,AQ$5))))","v":1},null,null,null,null,null,null,null,null,null,null,{"$f":"ROW()","v":1988}]
[1981,"",null,null,null,null,null,null,null,null,null,null,"",{"$f":"IF(C1989=0,\"\",INDEX(Objekt_Text,D1989+1,2))","v":""},{"$f":"IF(C1989=0,\"\",INDEX(Objekt_Text,D1989+1,3))","v":""},"","",{"$f":"INDEX(Visum_Liste,F1989+1)&\"\"","v":""},"","ZZ",0,0,0,0,0,0,3,"",{"$f":"MIN(IF(W1989=$W$9:$W$2128,$E$9:$E$2128))","v":0},{"$f":"MAX(IF(W1989=$W$9:$W$2128,$E$9:$E$2128))","v":0},1981,1,1,null,null,1,null,"ZZ00000","00ZZ000",null,{"$f":"ABS(OR(C1989=0,AND(MaxInput>1,M1989=INDEX(FFilter,AO$5))))","v":1},{"$f":"ABS(OR(C1989=0,AND(MaxInput>1,N1989=INDEX(FFilter,AP$5))))","v":1},{"$f":"ABS(OR(C1989=0,AND(MaxInput>1,O1989=INDEX(FFilter,AQ$5))))","v":1},null,null,null,null,null,null,null,null,null,null,{"$f":"ROW()","v":1989}]
[1984,"",null,null,null,null,null,null,null,null,null,null,"",{"$f":"IF(C1992=0,\"\",INDEX(Objekt_Text,D1992+1,2))","v":""},{"$f":"IF(C1992=0,\"\",INDEX(Objekt_Text,D1992+1,3))","v":""},"","",{"$f":"INDEX(Visum_Liste,F1992+1)&\"\"","v":""},"","ZZ",0,0,0,0,0,0,3,"",{"$f":"MIN(IF(W1992=$W$9:$W$2128,$E$9:$E$2128))","v":0},{"$f":"MAX(IF(W1992=$W$9:$W$2128,$E$9:$E$2128))","v":0},1984,1,1,null,null,1,null,"ZZ00000","00ZZ000",null,{"$f":"ABS(OR(C1992=0,AND(MaxInput>1,M1992=INDEX(FFilter,AO$5))))","v":1},{"$f":"ABS(OR(C1992=0,AND(MaxInput>1,N1992=INDEX(FFilter,AP$5))))","v":1},{"$f":"ABS(OR(C1992=0,AND(MaxInput>1,O1992=INDEX(FFilter,AQ$5))))","v":1},null,null,null,null,null,null,null,null,null,null,{"$f":"ROW()","v":1992}]
[1988,"",null,null,null,null,null,null,null,null,null,null,"",{"$f":"IF(C1996=0,\"\",INDEX(Objekt_Text,D1996+1,2))","v":""},{"$f":"IF(C1996=0,\"\",INDEX(Objekt_Text,D1996+1,3))","v":""},"","",{"$f":"INDEX(Visum_Liste,F1996+1)&\"\"","v":""},"","ZZ",0,0,0,0,0,0,3,"",{"$f":"MIN(IF(W1996=$W$9:$W$2128,$E$9:$E$2128))","v":0},{"$f":"MAX(IF(W1996=$W$9:$W$2128,$E$9:$E$2128))","v":0},1988,1,1,null,null,1,null,"ZZ00000","00ZZ000",null,{"$f":"ABS(OR(C1996=0,AND(MaxInput>1,M1996=INDEX(FFilter,AO$5))))","v":1},{"$f":"ABS(OR(C1996=0,AND(MaxInput>1,N1996=INDEX(FFilter,AP$5))))","v":1},{"$f":"ABS(OR(C1996=0,AND(MaxInput>1,O1996=INDEX(FFilter,AQ$5))))","v":1},null,null,null,null,null,null,null,null,null,null,{"$f":"ROW()","v":1996}]
[1991,"",null,null,null,null,null,null,null,null,null,null,"",{"$f":"IF(C1999=0,\"\",INDEX(Objekt_Text,D1999+1,2))","v":""},{"$f":"IF(C1999=0,\"\",INDEX(Objekt_Text,D1999+1,3))","v":""},"","",{"$f":"INDEX(Visum_Liste,F1999+1)&\"\"","v":""},"","ZZ",0,0,0,0,0,0,3,"",{"$f":"MIN(IF(W1999=$W$9:$W$2128,$E$9:$E$2128))","v":0},{"$f":"MAX(IF(W1999=$W$9:$W$2128,$E$9:$E$2128))","v":0},1991,1,1,null,null,1,null,"ZZ00000","00ZZ000",null,{"$f":"ABS(OR(C1999=0,AND(MaxInput>1,M1999=INDEX(FFilter,AO$5))))","v":1},{"$f":"ABS(OR(C1999=0,AND(MaxInput>1,N1999=INDEX(FFilter,AP$5))))","v":1},{"$f":"ABS(OR(C1999=0,AND(MaxInput>1,O1999=INDEX(FFilter,AQ$5))))","v":1},null,null,null,null,null,null,null,null,null,null,{"$f":"ROW()","v":1999}]
[1994,"",null,null,null,null,null,null,null,null,null,null,"",{"$f":"IF(C2002=0,\"\",INDEX(Objekt_Text,D2002+1,2))","v":""},{"$f":"IF(C2002=0,\"\",INDEX(Objekt_Text,D2002+1,3))","v":""},"","",{"$f":"INDEX(Visum_Liste,F2002+1)&\"\"","v":""},"","ZZ",0,0,0,0,0,0,3,"",{"$f":"MIN(IF(W2002=$W$9:$W$2128,$E$9:$E$2128))","v":0},{"$f":"MAX(IF(W2002=$W$9:$W$2128,$E$9:$E$2128))","v":0},1994,1,1,null,null,1,null,"ZZ00000","00ZZ000",null,{"$f":"ABS(OR(C2002=0,AND(MaxInput>1,M2002=INDEX(FFilter,AO$5))))","v":1},{"$f":"ABS(OR(C2002=0,AND(MaxInput>1,N2002=INDEX(FFilter,AP$5))))","v":1},{"$f":"ABS(OR(C2002=0,AND(MaxInput>1,O2002=INDEX(FFilter,AQ$5))))","v":1},null,null,null,null,null,null,null,null,null,null,{"$f":"ROW()","v":2002}]
[1998,"",null,null,null,null,null,null,null,null,null,null,"",{"$f":"IF(C2006=0,\"\",INDEX(Objekt_Text,D2006+1,2))","v":""},{"$f":"IF(C2006=0,\"\",INDEX(Objekt_Text,D2006+1,3))","v":""},"","",{"$f":"INDEX(Visum_Liste,F2006+1)&\"\"","v":""},"","ZZ",0,0,0,0,0,0,3,"",{"$f":"MIN(IF(W2006=$W$9:$W$2128,$E$9:$E$2128))","v":0},{"$f":"MAX(IF(W2006=$W$9:$W$2128,$E$9:$E$2128))","v":0},1998,1,1,null,null,1,null,"ZZ00000","00ZZ000",null,{"$f":"ABS(OR(C2006=0,AND(MaxInput>1,M2006=INDEX(FFilter,AO$5))))","v":1},{"$f":"ABS(OR(C2006=0,AND(MaxInput>1,N2006=INDEX(FFilter,AP$5))))","v":1},{"$f":"ABS(OR(C2006=0,AND(MaxInput>1,O2006=INDEX(FFilter,AQ$5))))","v":1},null,null,null,null,null,null,null,null,null,null,{"$f":"ROW()","v":2006}]
[1999,"",null,null,null,null,null,null,null,null,null,null,"",{"$f":"IF(C2007=0,\"\",INDEX(Objekt_Text,D2007+1,2))","v":""},{"$f":"IF(C2007=0,\"\",INDEX(Objekt_Text,D2007+1,3))","v":""},"","",{"$f":"INDEX(Visum_Liste,F2007+1)&\"\"","v":""},"","ZZ",0,0,0,0,0,0,3,"",{"$f":"MIN(IF(W2007=$W$9:$W$2128,$E$9:$E$2128))","v":0},{"$f":"MAX(IF(W2007=$W$9:$W$2128,$E$9:$E$2128))","v":0},1999,1,1,null,null,1,null,"ZZ00000","00ZZ000",null,{"$f":"ABS(OR(C2007=0,AND(MaxInput>1,M2007=INDEX(FFilter,AO$5))))","v":1},{"$f":"ABS(OR(C2007=0,AND(MaxInput>1,N2007=INDEX(FFilter,AP$5))))","v":1},{"$f":"ABS(OR(C2007=0,AND(MaxInput>1,O2007=INDEX(FFilter,AQ$5))))","v":1},null,null,null,null,null,null,null,null,null,null,{"$f":"ROW()","v":2007}]
[2003,"",null,null,null,null,null,null,null,null,null,null,"",{"$f":"IF(C2011=0,\"\",INDEX(Objekt_Text,D2011+1,2))","v":""},{"$f":"IF(C2011=0,\"\",INDEX(Objekt_Text,D2011+1,3))","v":""},"","",{"$f":"INDEX(Visum_Liste,F2011+1)&\"\"","v":""},"","ZZ",0,0,0,0,0,0,3,"",{"$f":"MIN(IF(W2011=$W$9:$W$2128,$E$9:$E$2128))","v":0},{"$f":"MAX(IF(W2011=$W$9:$W$2128,$E$9:$E$2128))","v":0},2003,1,1,null,null,1,null,"ZZ00000","00ZZ000",null,{"$f":"ABS(OR(C2011=0,AND(MaxInput>1,M2011=INDEX(FFilter,AO$5))))","v":1},{"$f":"ABS(OR(C2011=0,AND(MaxInput>1,N2011=INDEX(FFilter,AP$5))))","v":1},{"$f":"ABS(OR(C2011=0,AND(MaxInput>1,O2011=INDEX(FFilter,AQ$5))))","v":1},null,null,null,null,null,null,null,null,null,null,{"$f":"ROW()","v":2011}]
[2004,"",null,null,null,null,null,null,null,null,null,null,"",{"$f":"IF(C2012=0,\"\",INDEX(Objekt_Text,D2012+1,2))","v":""},{"$f":"IF(C2012=0,\"\",INDEX(Objekt_Text,D2012+1,3))","v":""},"","",{"$f":"INDEX(Visum_Liste,F2012+1)&\"\"","v":""},"","ZZ",0,0,0,0,0,0,3,"",{"$f":"MIN(IF(W2012=$W$9:$W$2128,$E$9:$E$2128))","v":0},{"$f":"MAX(IF(W2012=$W$9:$W$2128,$E$9:$E$2128))","v":0},2004,1,1,null,null,1,null,"ZZ00000","00ZZ000",null,{"$f":"ABS(OR(C2012=0,AND(MaxInput>1,M2012=INDEX(FFilter,AO$5))))","v":1},{"$f":"ABS(OR(C2012=0,AND(MaxInput>1,N2012=INDEX(FFilter,AP$5))))","v":1},{"$f":"ABS(OR(C2012=0,AND(MaxInput>1,O2012=INDEX(FFilter,AQ$5))))","v":1},null,null,null,null,null,null,null,null,null,null,{"$f":"ROW()","v":2012}]
[2005,"",null,null,null,null,null,null,null,null,null,null,"",{"$f":"IF(C2013=0,\"\",INDEX(Objekt_Text,D2013+1,2))","v":""},{"$f":"IF(C2013=0,\"\",INDEX(Objekt_Text,D2013+1,3))","v":""},"","",{"$f":"INDEX(Visum_Liste,F2013+1)&\"\"","v":""},"","ZZ",0,0,0,0,0,0,3,"",{"$f":"MIN(IF(W2013=$W$9:$W$2128,$E$9:$E$2128))","v":0},{"$f":"MAX(IF(W2013=$W$9:$W$2128,$E$9:$E$2128))","v":0},2005,1,1,null,null,1,null,"ZZ00000","00ZZ000",null,{"$f":"ABS(OR(C2013=0,AND(MaxInput>1,M2013=INDEX(FFilter,AO$5))))","v":1},{"$f":"ABS(OR(C2013=0,AND(MaxInput>1,N2013=INDEX(FFilter,AP$5))))","v":1},{"$f":"ABS(OR(C2013=0,AND(MaxInput>1,O2013=INDEX(FFilter,AQ$5))))","v":1},null,null,null,null,null,null,null,null,null,null,{"$f":"ROW()","v":2013}]
[2006,"",null,null,null,null,null,null,null,null,null,null,"",{"$f":"IF(C2014=0,\"\",INDEX(Objekt_Text,D2014+1,2))","v":""},{"$f":"IF(C2014=0,\"\",INDEX(Objekt_Text,D2014+1,3))","v":""},"","",{"$f":"INDEX(Visum_Liste,F2014+1)&\"\"","v":""},"","ZZ",0,0,0,0,0,0,3,"",{"$f":"MIN(IF(W2014=$W$9:$W$2128,$E$9:$E$2128))","v":0},{"$f":"MAX(IF(W2014=$W$9:$W$2128,$E$9:$E$2128))","v":0},2006,1,1,null,null,1,null,"ZZ00000","00ZZ000",null,{"$f":"ABS(OR(C2014=0,AND(MaxInput>1,M2014=INDEX(FFilter,AO$5))))","v":1},{"$f":"ABS(OR(C2014=0,AND(MaxInput>1,N2014=INDEX(FFilter,AP$5))))","v":1},{"$f":"ABS(OR(C2014=0,AND(MaxInput>1,O2014=INDEX(FFilter,AQ$5))))","v":1},null,null,null,null,null,null,null,null,null,null,{"$f":"ROW()","v":2014}]
[2007,"",null,null,null,null,null,null,null,null,null,null,"",{"$f":"IF(C2015=0,\"\",INDEX(Objekt_Text,D2015+1,2))","v":""},{"$f":"IF(C2015=0,\"\",INDEX(Objekt_Text,D2015+1,3))","v":""},"","",{"$f":"INDEX(Visum_Liste,F2015+1)&\"\"","v":""},"","ZZ",0,0,0,0,0,0,3,"",{"$f":"MIN(IF(W2015=$W$9:$W$2128,$E$9:$E$2128))","v":0},{"$f":"MAX(IF(W2015=$W$9:$W$2128,$E$9:$E$2128))","v":0},2007,1,1,null,null,1,null,"ZZ00000","00ZZ000",null,{"$f":"ABS(OR(C2015=0,AND(MaxInput>1,M2015=INDEX(FFilter,AO$5))))","v":1},{"$f":"ABS(OR(C2015=0,AND(MaxInput>1,N2015=INDEX(FFilter,AP$5))))","v":1},{"$f":"ABS(OR(C2015=0,AND(MaxInput>1,O2015=INDEX(FFilter,AQ$5))))","v":1},null,null,null,null,null,null,null,null,null,null,{"$f":"ROW()","v":2015}]
[2008,"",null,null,null,null,null,null,null,null,null,null,"",{"$f":"IF(C2016=0,\"\",INDEX(Objekt_Text,D2016+1,2))","v":""},{"$f":"IF(C2016=0,\"\",INDEX(Objekt_Text,D2016+1,3))","v":""},"","",{"$f":"INDEX(Visum_Liste,F2016+1)&\"\"","v":""},"","ZZ",0,0,0,0,0,0,3,"",{"$f":"MIN(IF(W2016=$W$9:$W$2128,$E$9:$E$2128))","v":0},{"$f":"MAX(IF(W2016=$W$9:$W$2128,$E$9:$E$2128))","v":0},2008,1,1,null,null,1,null,"ZZ00000","00ZZ000",null,{"$f":"ABS(OR(C2016=0,AND(MaxInput>1,M2016=INDEX(FFilter,AO$5))))","v":1},{"$f":"ABS(OR(C2016=0,AND(MaxInput>1,N2016=INDEX(FFilter,AP$5))))","v":1},{"$f":"ABS(OR(C2016=0,AND(MaxInput>1,O2016=INDEX(FFilter,AQ$5))))","v":1},null,null,null,null,null,null,null,null,null,null,{"$f":"ROW()","v":2016}]
[2009,"",null,null,null,null,null,null,null,null,null,null,"",{"$f":"IF(C2017=0,\"\",INDEX(Objekt_Text,D2017+1,2))","v":""},{"$f":"IF(C2017=0,\"\",INDEX(Objekt_Text,D2017+1,3))","v":""},"","",{"$f":"INDEX(Visum_Liste,F2017+1)&\"\"","v":""},"","ZZ",0,0,0,0,0,0,3,"",{"$f":"MIN(IF(W2017=$W$9:$W$2128,$E$9:$E$2128))","v":0},{"$f":"MAX(IF(W2017=$W$9:$W$2128,$E$9:$E$2128))","v":0},2009,1,1,null,null,1,null,"ZZ00000","00ZZ000",null,{"$f":"ABS(OR(C2017=0,AND(MaxInput>1,M2017=INDEX(FFilter,AO$5))))","v":1},{"$f":"ABS(OR(C2017=0,AND(MaxInput>1,N2017=INDEX(FFilter,AP$5))))","v":1},{"$f":"ABS(OR(C2017=0,AND(MaxInput>1,O2017=INDEX(FFilter,AQ$5))))","v":1},null,null,null,null,null,null,null,null,null,null,{"$f":"ROW()","v":2017}]
[2010,"",null,null,null,null,null,null,null,null,null,null,"",{"$f":"IF(C2018=0,\"\",INDEX(Objekt_Text,D2018+1,2))","v":""},{"$f":"IF(C2018=0,\"\",INDEX(Objekt_Text,D2018+1,3))","v":""},"","",{"$f":"INDEX(Visum_Liste,F2018+1)&\"\"","v":""},"","ZZ",0,0,0,0,0,0,3,"",{"$f":"MIN(IF(W2018=$W$9:$W$2128,$E$9:$E$2128))","v":0},{"$f":"MAX(IF(W2018=$W$9:$W$2128,$E$9:$E$2128))","v":0},2010,1,1,null,null,1,null,"ZZ00000","00ZZ000",null,{"$f":"ABS(OR(C2018=0,AND(MaxInput>1,M2018=INDEX(FFilter,AO$5))))","v":1},{"$f":"ABS(OR(C2018=0,AND(MaxInput>1,N2018=INDEX(FFilter,AP$5))))","v":1},{"$f":"ABS(OR(C2018=0,AND(MaxInput>1,O2018=INDEX(FFilter,AQ$5))))","v":1},null,null,null,null,null,null,null,null,null,null,{"$f":"ROW()","v":2018}]
[2011,"",null,null,null,null,null,null,null,null,null,null,"",{"$f":"IF(C2019=0,\"\",INDEX(Objekt_Text,D2019+1,2))","v":""},{"$f":"IF(C2019=0,\"\",INDEX(Objekt_Text,D2019+1,3))","v":""},"","",{"$f":"INDEX(Visum_Liste,F2019+1)&\"\"","v":""},"","ZZ",0,0,0,0,0,0,3,"",{"$f":"MIN(IF(W2019=$W$9:$W$2128,$E$9:$E$2128))","v":0},{"$f":"MAX(IF(W2019=$W$9:$W$2128,$E$9:$E$2128))","v":0},2011,1,1,null,null,1,null,"ZZ00000","00ZZ000",null,{"$f":"ABS(OR(C2019=0,AND(MaxInput>1,M2019=INDEX(FFilter,AO$5))))","v":1},{"$f":"ABS(OR(C2019=0,AND(MaxInput>1,N2019=INDEX(FFilter,AP$5))))","v":1},{"$f":"ABS(OR(C2019=0,AND(MaxInput>1,O2019=INDEX(FFilter,AQ$5))))","v":1},null,null,null,null,null,null,null,null,null,null,{"$f":"ROW()","v":2019}]
[2012,"",null,null,null,null,null,null,null,null,null,null,"",{"$f":"IF(C2020=0,\"\",INDEX(Objekt_Text,D2020+1,2))","v":""},{"$f":"IF(C2020=0,\"\",INDEX(Objekt_Text,D2020+1,3))","v":""},"","",{"$f":"INDEX(Visum_Liste,F2020+1)&\"\"","v":""},"","ZZ",0,0,0,0,0,0,3,"",{"$f":"MIN(IF(W2020=$W$9:$W$2128,$E$9:$E$2128))","v":0},{"$f":"MAX(IF(W2020=$W$9:$W$2128,$E$9:$E$2128))","v":0},2012,1,1,null,null,1,null,"ZZ00000","00ZZ000",null,{"$f":"ABS(OR(C2020=0,AND(MaxInput>1,M2020=INDEX(FFilter,AO$5))))","v":1},{"$f":"ABS(OR(C2020=0,AND(MaxInput>1,N2020=INDEX(FFilter,AP$5))))","v":1},{"$f":"ABS(OR(C2020=0,AND(MaxInput>1,O2020=INDEX(FFilter,AQ$5))))","v":1},null,null,null,null,null,null,null,null,null,null,{"$f":"ROW()","v":2020}]
[2013,"",null,null,null,null,null,null,null,null,null,null,"",{"$f":"IF(C2021=0,\"\",INDEX(Objekt_Text,D2021+1,2))","v":""},{"$f":"IF(C2021=0,\"\",INDEX(Objekt_Text,D2021+1,3))","v":""},"","",{"$f":"INDEX(Visum_Liste,F2021+1)&\"\"","v":""},"","ZZ",0,0,0,0,0,0,3,"",{"$f":"MIN(IF(W2021=$W$9:$W$2128,$E$9:$E$2128))","v":0},{"$f":"MAX(IF(W2021=$W$9:$W$2128,$E$9:$E$2128))","v":0},2013,1,1,null,null,1,null,"ZZ00000","00ZZ000",null,{"$f":"ABS(OR(C2021=0,AND(MaxInput>1,M2021=INDEX(FFilter,AO$5))))","v":1},{"$f":"ABS(OR(C2021=0,AND(MaxInput>1,N2021=INDEX(FFilter,AP$5))))","v":1},{"$f":"ABS(OR(C2021=0,AND(MaxInput>1,O2021=INDEX(FFilter,AQ$5))))","v":1},null,null,null,null,null,null,null,null,null,null,{"$f":"ROW()","v":2021}]
[2014,"",null,null,null,null,null,null,null,null,null,null,"",{"$f":"IF(C2022=0,\"\",INDEX(Objekt_Text,D2022+1,2))","v":""},{"$f":"IF(C2022=0,\"\",INDEX(Objekt_Text,D2022+1,3))","v":""},"","",{"$f":"INDEX(Visum_Liste,F2022+1)&\"\"","v":""},"","ZZ",0,0,0,0,0,0,3,"",{"$f":"MIN(IF(W2022=$W$9:$W$2128,$E$9:$E$2128))","v":0},{"$f":"MAX(IF(W2022=$W$9:$W$2128,$E$9:$E$2128))","v":0},2014,1,1,null,null,1,null,"ZZ00000","00ZZ000",null,{"$f":"ABS(OR(C2022=0,AND(MaxInput>1,M2022=INDEX(FFilter,AO$5))))","v":1},{"$f":"ABS(OR(C2022=0,AND(MaxInput>1,N2022=INDEX(FFilter,AP$5))))","v":1},{"$f":"ABS(OR(C2022=0,AND(MaxInput>1,O2022=INDEX(FFilter,AQ$5))))","v":1},null,null,null,null,null,null,null,null,null,null,{"$f":"ROW()","v":2022}]
[2015,"",null,null,null,null,null,null,null,null,null,null,"",{"$f":"IF(C2023=0,\"\",INDEX(Objekt_Text,D2023+1,2))","v":""},{"$f":"IF(C2023=0,\"\",INDEX(Objekt_Text,D2023+1,3))","v":""},"","",{"$f":"INDEX(Visum_Liste,F2023+1)&\"\"","v":""},"","ZZ",0,0,0,0,0,0,3,"",{"$f":"MIN(IF(W2023=$W$9:$W$2128,$E$9:$E$2128))","v":0},{"$f":"MAX(IF(W2023=$W$9:$W$2128,$E$9:$E$2128))","v":0},2015,1,1,null,null,1,null,"ZZ00000","00ZZ000",null,{"$f":"ABS(OR(C2023=0,AND(MaxInput>1,M2023=INDEX(FFilter,AO$5))))","v":1},{"$f":"ABS(OR(C2023=0,AND(MaxInput>1,N2023=INDEX(FFilter,AP$5))))","v":1},{"$f":"ABS(OR(C2023=0,AND(MaxInput>1,O2023=INDEX(FFilter,AQ$5))))","v":1},null,null,null,null,null,null,null,null,null,null,{"$f":"ROW()","v":2023}]
[2016,"",null,null,null,null,null,null,null,null,null,null,"",{"$f":"IF(C2024=0,\"\",INDEX(Objekt_Text,D2024+1,2))","v":""},{"$f":"IF(C2024=0,\"\",INDEX(Objekt_Text,D2024+1,3))","v":""},"","",{"$f":"INDEX(Visum_Liste,F2024+1)&\"\"","v":""},"","ZZ",0,0,0,0,0,0,3,"",{"$f":"MIN(IF(W2024=$W$9:$W$2128,$E$9:$E$2128))","v":0},{"$f":"MAX(IF(W2024=$W$9:$W$2128,$E$9:$E$2128))","v":0},2016,1,1,null,null,1,null,"ZZ00000","00ZZ000",null,{"$f":"ABS(OR(C2024=0,AND(MaxInput>1,M2024=INDEX(FFilter,AO$5))))","v":1},{"$f":"ABS(OR(C2024=0,AND(MaxInput>1,N2024=INDEX(FFilter,AP$5))))","v":1},{"$f":"ABS(OR(C2024=0,AND(MaxInput>1,O2024=INDEX(FFilter,AQ$5))))","v":1},null,null,null,null,null,null,null,null,null,null,{"$f":"ROW()","v":2024}]
[2017,"",null,null,null,null,null,null,null,null,null,null,"",{"$f":"IF(C2025=0,\"\",INDEX(Objekt_Text,D2025+1,2))","v":""},{"$f":"IF(C2025=0,\"\",INDEX(Objekt_Text,D2025+1,3))","v":""},"","",{"$f":"INDEX(Visum_Liste,F2025+1)&\"\"","v":""},"","ZZ",0,0,0,0,0,0,3,"",{"$f":"MIN(IF(W2025=$W$9:$W$2128,$E$9:$E$2128))","v":0},{"$f":"MAX(IF(W2025=$W$9:$W$2128,$E$9:$E$2128))","v":0},2017,1,1,null,null,1,null,"ZZ00000","00ZZ000",null,{"$f":"ABS(OR(C2025=0,AND(MaxInput>1,M2025=INDEX(FFilter,AO$5))))","v":1},{"$f":"ABS(OR(C2025=0,AND(MaxInput>1,N2025=INDEX(FFilter,AP$5))))","v":1},{"$f":"ABS(OR(C2025=0,AND(MaxInput>1,O2025=INDEX(FFilter,AQ$5))))","v":1},null,null,null,null,null,null,null,null,null,null,{"$f":"ROW()","v":2025}]
[2018,"",null,null,null,null,null,null,null,null,null,null,"",{"$f":"IF(C2026=0,\"\",INDEX(Objekt_Text,D2026+1,2))","v":""},{"$f":"IF(C2026=0,\"\",INDEX(Objekt_Text,D2026+1,3))","v":""},"","",{"$f":"INDEX(Visum_Liste,F2026+1)&\"\"","v":""},"","ZZ",0,0,0,0,0,0,3,"",{"$f":"MIN(IF(W2026=$W$9:$W$2128,$E$9:$E$2128))","v":0},{"$f":"MAX(IF(W2026=$W$9:$W$2128,$E$9:$E$2128))","v":0},2018,1,1,null,null,1,null,"ZZ00000","00ZZ000",null,{"$f":"ABS(OR(C2026=0,AND(MaxInput>1,M2026=INDEX(FFilter,AO$5))))","v":1},{"$f":"ABS(OR(C2026=0,AND(MaxInput>1,N2026=INDEX(FFilter,AP$5))))","v":1},{"$f":"ABS(OR(C2026=0,AND(MaxInput>1,O2026=INDEX(FFilter,AQ$5))))","v":1},null,null,null,null,null,null,null,null,null,null,{"$f":"ROW()","v":2026}]
[2019,"",null,null,null,null,null,null,null,null,null,null,"",{"$f":"IF(C2027=0,\"\",INDEX(Objekt_Text,D2027+1,2))","v":""},{"$f":"IF(C2027=0,\"\",INDEX(Objekt_Text,D2027+1,3))","v":""},"","",{"$f":"INDEX(Visum_Liste,F2027+1)&\"\"","v":""},"","ZZ",0,0,0,0,0,0,3,"",{"$f":"MIN(IF(W2027=$W$9:$W$2128,$E$9:$E$2128))","v":0},{"$f":"MAX(IF(W2027=$W$9:$W$2128,$E$9:$E$2128))","v":0},2019,1,1,null,null,1,null,"ZZ00000","00ZZ000",null,{"$f":"ABS(OR(C2027=0,AND(MaxInput>1,M2027=INDEX(FFilter,AO$5))))","v":1},{"$f":"ABS(OR(C2027=0,AND(MaxInput>1,N2027=INDEX(FFilter,AP$5))))","v":1},{"$f":"ABS(OR(C2027=0,AND(MaxInput>1,O2027=INDEX(FFilter,AQ$5))))","v":1},null,null,null,null,null,null,null,null,null,null,{"$f":"ROW()","v":2027}]
[2020,"",null,null,null,null,null,null,null,null,null,null,"",{"$f":"IF(C2028=0,\"\",INDEX(Objekt_Text,D2028+1,2))","v":""},{"$f":"IF(C2028=0,\"\",INDEX(Objekt_Text,D2028+1,3))","v":""},"","",{"$f":"INDEX(Visum_Liste,F2028+1)&\"\"","v":""},"","ZZ",0,0,0,0,0,0,3,"",{"$f":"MIN(IF(W2028=$W$9:$W$2128,$E$9:$E$2128))","v":0},{"$f":"MAX(IF(W2028=$W$9:$W$2128,$E$9:$E$2128))","v":0},2020,1,1,null,null,1,null,"ZZ00000","00ZZ000",null,{"$f":"ABS(OR(C2028=0,AND(MaxInput>1,M2028=INDEX(FFilter,AO$5))))","v":1},{"$f":"ABS(OR(C2028=0,AND(MaxInput>1,N2028=INDEX(FFilter,AP$5))))","v":1},{"$f":"ABS(OR(C2028=0,AND(MaxInput>1,O2028=INDEX(FFilter,AQ$5))))","v":1},null,null,null,null,null,null,null,null,null,null,{"$f":"ROW()","v":2028}]
[2021,"",null,null,null,null,null,null,null,null,null,null,"",{"$f":"IF(C2029=0,\"\",INDEX(Objekt_Text,D2029+1,2))","v":""},{"$f":"IF(C2029=0,\"\",INDEX(Objekt_Text,D2029+1,3))","v":""},"","",{"$f":"INDEX(Visum_Liste,F2029+1)&\"\"","v":""},"","ZZ",0,0,0,0,0,0,3,"",{"$f":"MIN(IF(W2029=$W$9:$W$2128,$E$9:$E$2128))","v":0},{"$f":"MAX(IF(W2029=$W$9:$W$2128,$E$9:$E$2128))","v":0},2021,1,1,null,null,1,null,"ZZ00000","00ZZ000",null,{"$f":"ABS(OR(C2029=0,AND(MaxInput>1,M2029=INDEX(FFilter,AO$5))))","v":1},{"$f":"ABS(OR(C2029=0,AND(MaxInput>1,N2029=INDEX(FFilter,AP$5))))","v":1},{"$f":"ABS(OR(C2029=0,AND(MaxInput>1,O2029=INDEX(FFilter,AQ$5))))","v":1},null,null,null,null,null,null,null,null,null,null,{"$f":"ROW()","v":2029}]
[2022,"",null,null,null,null,null,null,null,null,null,null,"",{"$f":"IF(C2030=0,\"\",INDEX(Objekt_Text,D2030+1,2))","v":""},{"$f":"IF(C2030=0,\"\",INDEX(Objekt_Text,D2030+1,3))","v":""},"","",{"$f":"INDEX(Visum_Liste,F2030+1)&\"\"","v":""},"","ZZ",0,0,0,0,0,0,3,"",{"$f":"MIN(IF(W2030=$W$9:$W$2128,$E$9:$E$2128))","v":0},{"$f":"MAX(IF(W2030=$W$9:$W$2128,$E$9:$E$2128))","v":0},2022,1,1,null,null,1,null,"ZZ00000","00ZZ000",null,{"$f":"ABS(OR(C2030=0,AND(MaxInput>1,M2030=INDEX(FFilter,AO$5))))","v":1},{"$f":"ABS(OR(C2030=0,AND(MaxInput>1,N2030=INDEX(FFilter,AP$5))))","v":1},{"$f":"ABS(OR(C2030=0,AND(MaxInput>1,O2030=INDEX(FFilter,AQ$5))))","v":1},null,null,null,null,null,null,null,null,null,null,{"$f":"ROW()","v":2030}]
[2023,"",null,null,null,null,null,null,null,null,null,null,"",{"$f":"IF(C2031=0,\"\",INDEX(Objekt_Text,D2031+1,2))","v":""},{"$f":"IF(C2031=0,\"\",INDEX(Objekt_Text,D2031+1,3))","v":""},"","",{"$f":"INDEX(Visum_Liste,F2031+1)&\"\"","v":""},"","ZZ",0,0,0,0,0,0,3,"",{"$f":"MIN(IF(W2031=$W$9:$W$2128,$E$9:$E$2128))","v":0},{"$f":"MAX(IF(W2031=$W$9:$W$2128,$E$9:$E$2128))","v":0},2023,1,1,null,null,1,null,"ZZ00000","00ZZ000",null,{"$f":"ABS(OR(C2031=0,AND(MaxInput>1,M2031=INDEX(FFilter,AO$5))))","v":1},{"$f":"ABS(OR(C2031=0,AND(MaxInput>1,N2031=INDEX(FFilter,AP$5))))","v":1},{"$f":"ABS(OR(C2031=0,AND(MaxInput>1,O2031=INDEX(FFilter,AQ$5))))","v":1},null,null,null,null,null,null,null,null,null,null,{"$f":"ROW()","v":2031}]
[2024,"",null,null,null,null,null,null,null,null,null,null,"",{"$f":"IF(C2032=0,\"\",INDEX(Objekt_Text,D2032+1,2))","v":""},{"$f":"IF(C2032=0,\"\",INDEX(Objekt_Text,D2032+1,3))","v":""},"","",{"$f":"INDEX(Visum_Liste,F2032+1)&\"\"","v":""},"","ZZ",0,0,0,0,0,0,3,"",{"$f":"MIN(IF(W2032=$W$9:$W$2128,$E$9:$E$2128))","v":0},{"$f":"MAX(IF(W2032=$W$9:$W$2128,$E$9:$E$2128))","v":0},2024,1,1,null,null,1,null,"ZZ00000","00ZZ000",null,{"$f":"ABS(OR(C2032=0,AND(MaxInput>1,M2032=INDEX(FFilter,AO$5))))","v":1},{"$f":"ABS(OR(C2032=0,AND(MaxInput>1,N2032=INDEX(FFilter,AP$5))))","v":1},{"$f":"ABS(OR(C2032=0,AND(MaxInput>1,O2032=INDEX(FFilter,AQ$5))))","v":1},null,null,null,null,null,null,null,null,null,null,{"$f":"ROW()","v":2032}]
[2025,"",null,null,null,null,null,null,null,null,null,null,"",{"$f":"IF(C2033=0,\"\",INDEX(Objekt_Text,D2033+1,2))","v":""},{"$f":"IF(C2033=0,\"\",INDEX(Objekt_Text,D2033+1,3))","v":""},"","",{"$f":"INDEX(Visum_Liste,F2033+1)&\"\"","v":""},"","ZZ",0,0,0,0,0,0,3,"",{"$f":"MIN(IF(W2033=$W$9:$W$2128,$E$9:$E$2128))","v":0},{"$f":"MAX(IF(W2033=$W$9:$W$2128,$E$9:$E$2128))","v":0},2025,1,1,null,null,1,null,"ZZ00000","00ZZ000",null,{"$f":"ABS(OR(C2033=0,AND(MaxInput>1,M2033=INDEX(FFilter,AO$5))))","v":1},{"$f":"ABS(OR(C2033=0,AND(MaxInput>1,N2033=INDEX(FFilter,AP$5))))","v":1},{"$f":"ABS(OR(C2033=0,AND(MaxInput>1,O2033=INDEX(FFilter,AQ$5))))","v":1},null,null,null,null,null,null,null,null,null,null,{"$f":"ROW()","v":2033}]
[2026,"",null,null,null,null,null,null,null,null,null,null,"",{"$f":"IF(C2034=0,\"\",INDEX(Objekt_Text,D2034+1,2))","v":""},{"$f":"IF(C2034=0,\"\",INDEX(Objekt_Text,D2034+1,3))","v":""},"","",{"$f":"INDEX(Visum_Liste,F2034+1)&\"\"","v":""},"","ZZ",0,0,0,0,0,0,3,"",{"$f":"MIN(IF(W2034=$W$9:$W$2128,$E$9:$E$2128))","v":0},{"$f":"MAX(IF(W2034=$W$9:$W$2128,$E$9:$E$2128))","v":0},2026,1,1,null,null,1,null,"ZZ00000","00ZZ000",null,{"$f":"ABS(OR(C2034=0,AND(MaxInput>1,M2034=INDEX(FFilter,AO$5))))","v":1},{"$f":"ABS(OR(C2034=0,AND(MaxInput>1,N2034=INDEX(FFilter,AP$5))))","v":1},{"$f":"ABS(OR(C2034=0,AND(MaxInput>1,O2034=INDEX(FFilter,AQ$5))))","v":1},null,null,null,null,null,null,null,null,null,null,{"$f":"ROW()","v":2034}]
[2027,"",null,null,null,null,null,null,null,null,null,null,"",{"$f":"IF(C2035=0,\"\",INDEX(Objekt_Text,D2035+1,2))","v":""},{"$f":"IF(C2035=0,\"\",INDEX(Objekt_Text,D2035+1,3))","v":""},"","",{"$f":"INDEX(Visum_Liste,F2035+1)&\"\"","v":""},"","ZZ",0,0,0,0,0,0,3,"",{"$f":"MIN(IF(W2035=$W$9:$W$2128,$E$9:$E$2128))","v":0},{"$f":"MAX(IF(W2035=$W$9:$W$2128,$E$9:$E$2128))","v":0},2027,1,1,null,null,1,null,"ZZ00000","00ZZ000",null,{"$f":"ABS(OR(C2035=0,AND(MaxInput>1,M2035=INDEX(FFilter,AO$5))))","v":1},{"$f":"ABS(OR(C2035=0,AND(MaxInput>1,N2035=INDEX(FFilter,AP$5))))","v":1},{"$f":"ABS(OR(C2035=0,AND(MaxInput>1,O2035=INDEX(FFilter,AQ$5))))","v":1},null,null,null,null,null,null,null,null,null,null,{"$f":"ROW()","v":2035}]
[2028,"",null,null,null,null,null,null,null,null,null,null,"",{"$f":"IF(C2036=0,\"\",INDEX(Objekt_Text,D2036+1,2))","v":""},{"$f":"IF(C2036=0,\"\",INDEX(Objekt_Text,D2036+1,3))","v":""},"","",{"$f":"INDEX(Visum_Liste,F2036+1)&\"\"","v":""},"","ZZ",0,0,0,0,0,0,3,"",{"$f":"MIN(IF(W2036=$W$9:$W$2128,$E$9:$E$2128))","v":0},{"$f":"MAX(IF(W2036=$W$9:$W$2128,$E$9:$E$2128))","v":0},2028,1,1,null,null,1,null,"ZZ00000","00ZZ000",null,{"$f":"ABS(OR(C2036=0,AND(MaxInput>1,M2036=INDEX(FFilter,AO$5))))","v":1},{"$f":"ABS(OR(C2036=0,AND(MaxInput>1,N2036=INDEX(FFilter,AP$5))))","v":1},{"$f":"ABS(OR(C2036=0,AND(MaxInput>1,O2036=INDEX(FFilter,AQ$5))))","v":1},null,null,null,null,null,null,null,null,null,null,{"$f":"ROW()","v":2036}]
[2029,"",null,null,null,null,null,null,null,null,null,null,"",{"$f":"IF(C2037=0,\"\",INDEX(Objekt_Text,D2037+1,2))","v":""},{"$f":"IF(C2037=0,\"\",INDEX(Objekt_Text,D2037+1,3))","v":""},"","",{"$f":"INDEX(Visum_Liste,F2037+1)&\"\"","v":""},"","ZZ",0,0,0,0,0,0,3,"",{"$f":"MIN(IF(W2037=$W$9:$W$2128,$E$9:$E$2128))","v":0},{"$f":"MAX(IF(W2037=$W$9:$W$2128,$E$9:$E$2128))","v":0},2029,1,1,null,null,1,null,"ZZ00000","00ZZ000",null,{"$f":"ABS(OR(C2037=0,AND(MaxInput>1,M2037=INDEX(FFilter,AO$5))))","v":1},{"$f":"ABS(OR(C2037=0,AND(MaxInput>1,N2037=INDEX(FFilter,AP$5))))","v":1},{"$f":"ABS(OR(C2037=0,AND(MaxInput>1,O2037=INDEX(FFilter,AQ$5))))","v":1},null,null,null,null,null,null,null,null,null,null,{"$f":"ROW()","v":2037}]
[2030,"",null,null,null,null,null,null,null,null,null,null,"",{"$f":"IF(C2038=0,\"\",INDEX(Objekt_Text,D2038+1,2))","v":""},{"$f":"IF(C2038=0,\"\",INDEX(Objekt_Text,D2038+1,3))","v":""},"","",{"$f":"INDEX(Visum_Liste,F2038+1)&\"\"","v":""},"","ZZ",0,0,0,0,0,0,3,"",{"$f":"MIN(IF(W2038=$W$9:$W$2128,$E$9:$E$2128))","v":0},{"$f":"MAX(IF(W2038=$W$9:$W$2128,$E$9:$E$2128))","v":0},2030,1,1,null,null,1,null,"ZZ00000","00ZZ000",null,{"$f":"ABS(OR(C2038=0,AND(MaxInput>1,M2038=INDEX(FFilter,AO$5))))","v":1},{"$f":"ABS(OR(C2038=0,AND(MaxInput>1,N2038=INDEX(FFilter,AP$5))))","v":1},{"$f":"ABS(OR(C2038=0,AND(MaxInput>1,O2038=INDEX(FFilter,AQ$5))))","v":1},null,null,null,null,null,null,null,null,null,null,{"$f":"ROW()","v":2038}]
[2031,"",null,null,null,null,null,null,null,null,null,null,"",{"$f":"IF(C2039=0,\"\",INDEX(Objekt_Text,D2039+1,2))","v":""},{"$f":"IF(C2039=0,\"\",INDEX(Objekt_Text,D2039+1,3))","v":""},"","",{"$f":"INDEX(Visum_Liste,F2039+1)&\"\"","v":""},"","ZZ",0,0,0,0,0,0,3,"",{"$f":"MIN(IF(W2039=$W$9:$W$2128,$E$9:$E$2128))","v":0},{"$f":"MAX(IF(W2039=$W$9:$W$2128,$E$9:$E$2128))","v":0},2031,1,1,null,null,1,null,"ZZ00000","00ZZ000",null,{"$f":"ABS(OR(C2039=0,AND(MaxInput>1,M2039=INDEX(FFilter,AO$5))))","v":1},{"$f":"ABS(OR(C2039=0,AND(MaxInput>1,N2039=INDEX(FFilter,AP$5))))","v":1},{"$f":"ABS(OR(C2039=0,AND(MaxInput>1,O2039=INDEX(FFilter,AQ$5))))","v":1},null,null,null,null,null,null,null,null,null,null,{"$f":"ROW()","v":2039}]
[2032,"",null,null,null,null,null,null,null,null,null,null,"",{"$f":"IF(C2040=0,\"\",INDEX(Objekt_Text,D2040+1,2))","v":""},{"$f":"IF(C2040=0,\"\",INDEX(Objekt_Text,D2040+1,3))","v":""},"","",{"$f":"INDEX(Visum_Liste,F2040+1)&\"\"","v":""},"","ZZ",0,0,0,0,0,0,3,"",{"$f":"MIN(IF(W2040=$W$9:$W$2128,$E$9:$E$2128))","v":0},{"$f":"MAX(IF(W2040=$W$9:$W$2128,$E$9:$E$2128))","v":0},2032,1,1,null,null,1,null,"ZZ00000","00ZZ000",null,{"$f":"ABS(OR(C2040=0,AND(MaxInput>1,M2040=INDEX(FFilter,AO$5))))","v":1},{"$f":"ABS(OR(C2040=0,AND(MaxInput>1,N2040=INDEX(FFilter,AP$5))))","v":1},{"$f":"ABS(OR(C2040=0,AND(MaxInput>1,O2040=INDEX(FFilter,AQ$5))))","v":1},null,null,null,null,null,null,null,null,null,null,{"$f":"ROW()","v":2040}]
[2033,"",null,null,null,null,null,null,null,null,null,null,"",{"$f":"IF(C2041=0,\"\",INDEX(Objekt_Text,D2041+1,2))","v":""},{"$f":"IF(C2041=0,\"\",INDEX(Objekt_Text,D2041+1,3))","v":""},"","",{"$f":"INDEX(Visum_Liste,F2041+1)&\"\"","v":""},"","ZZ",0,0,0,0,0,0,3,"",{"$f":"MIN(IF(W2041=$W$9:$W$2128,$E$9:$E$2128))","v":0},{"$f":"MAX(IF(W2041=$W$9:$W$2128,$E$9:$E$2128))","v":0},2033,1,1,null,null,1,null,"ZZ00000","00ZZ000",null,{"$f":"ABS(OR(C2041=0,AND(MaxInput>1,M2041=INDEX(FFilter,AO$5))))","v":1},{"$f":"ABS(OR(C2041=0,AND(MaxInput>1,N2041=INDEX(FFilter,AP$5))))","v":1},{"$f":"ABS(OR(C2041=0,AND(MaxInput>1,O2041=INDEX(FFilter,AQ$5))))","v":1},null,null,null,null,null,null,null,null,null,null,{"$f":"ROW()","v":2041}]
[2034,"",null,null,null,null,null,null,null,null,null,null,"",{"$f":"IF(C2042=0,\"\",INDEX(Objekt_Text,D2042+1,2))","v":""},{"$f":"IF(C2042=0,\"\",INDEX(Objekt_Text,D2042+1,3))","v":""},"","",{"$f":"INDEX(Visum_Liste,F2042+1)&\"\"","v":""},"","ZZ",0,0,0,0,0,0,3,"",{"$f":"MIN(IF(W2042=$W$9:$W$2128,$E$9:$E$2128))","v":0},{"$f":"MAX(IF(W2042=$W$9:$W$2128,$E$9:$E$2128))","v":0},2034,1,1,null,null,1,null,"ZZ00000","00ZZ000",null,{"$f":"ABS(OR(C2042=0,AND(MaxInput>1,M2042=INDEX(FFilter,AO$5))))","v":1},{"$f":"ABS(OR(C2042=0,AND(MaxInput>1,N2042=INDEX(FFilter,AP$5))))","v":1},{"$f":"ABS(OR(C2042=0,AND(MaxInput>1,O2042=INDEX(FFilter,AQ$5))))","v":1},null,null,null,null,null,null,null,null,null,null,{"$f":"ROW()","v":2042}]
[2035,"",null,null,null,null,null,null,null,null,null,null,"",{"$f":"IF(C2043=0,\"\",INDEX(Objekt_Text,D2043+1,2))","v":""},{"$f":"IF(C2043=0,\"\",INDEX(Objekt_Text,D2043+1,3))","v":""},"","",{"$f":"INDEX(Visum_Liste,F2043+1)&\"\"","v":""},"","ZZ",0,0,0,0,0,0,3,"",{"$f":"MIN(IF(W2043=$W$9:$W$2128,$E$9:$E$2128))","v":0},{"$f":"MAX(IF(W2043=$W$9:$W$2128,$E$9:$E$2128))","v":0},2035,1,1,null,null,1,null,"ZZ00000","00ZZ000",null,{"$f":"ABS(OR(C2043=0,AND(MaxInput>1,M2043=INDEX(FFilter,AO$5))))","v":1},{"$f":"ABS(OR(C2043=0,AND(MaxInput>1,N2043=INDEX(FFilter,AP$5))))","v":1},{"$f":"ABS(OR(C2043=0,AND(MaxInput>1,O2043=INDEX(FFilter,AQ$5))))","v":1},null,null,null,null,null,null,null,null,null,null,{"$f":"ROW()","v":2043}]
[2036,"",null,null,null,null,null,null,null,null,null,null,"",{"$f":"IF(C2044=0,\"\",INDEX(Objekt_Text,D2044+1,2))","v":""},{"$f":"IF(C2044=0,\"\",INDEX(Objekt_Text,D2044+1,3))","v":""},"","",{"$f":"INDEX(Visum_Liste,F2044+1)&\"\"","v":""},"","ZZ",0,0,0,0,0,0,3,"",{"$f":"MIN(IF(W2044=$W$9:$W$2128,$E$9:$E$2128))","v":0},{"$f":"MAX(IF(W2044=$W$9:$W$2128,$E$9:$E$2128))","v":0},2036,1,1,null,null,1,null,"ZZ00000","00ZZ000",null,{"$f":"ABS(OR(C2044=0,AND(MaxInput>1,M2044=INDEX(FFilter,AO$5))))","v":1},{"$f":"ABS(OR(C2044=0,AND(MaxInput>1,N2044=INDEX(FFilter,AP$5))))","v":1},{"$f":"ABS(OR(C2044=0,AND(MaxInput>1,O2044=INDEX(FFilter,AQ$5))))","v":1},null,null,null,null,null,null,null,null,null,null,{"$f":"ROW()","v":2044}]
[2037,"",null,null,null,null,null,null,null,null,null,null,"",{"$f":"IF(C2045=0,\"\",INDEX(Objekt_Text,D2045+1,2))","v":""},{"$f":"IF(C2045=0,\"\",INDEX(Objekt_Text,D2045+1,3))","v":""},"","",{"$f":"INDEX(Visum_Liste,F2045+1)&\"\"","v":""},"","ZZ",0,0,0,0,0,0,3,"",{"$f":"MIN(IF(W2045=$W$9:$W$2128,$E$9:$E$2128))","v":0},{"$f":"MAX(IF(W2045=$W$9:$W$2128,$E$9:$E$2128))","v":0},2037,1,1,null,null,1,null,"ZZ00000","00ZZ000",null,{"$f":"ABS(OR(C2045=0,AND(MaxInput>1,M2045=INDEX(FFilter,AO$5))))","v":1},{"$f":"ABS(OR(C2045=0,AND(MaxInput>1,N2045=INDEX(FFilter,AP$5))))","v":1},{"$f":"ABS(OR(C2045=0,AND(MaxInput>1,O2045=INDEX(FFilter,AQ$5))))","v":1},null,null,null,null,null,null,null,null,null,null,{"$f":"ROW()","v":2045}]
[2038,"",null,null,null,null,null,null,null,null,null,null,"",{"$f":"IF(C2046=0,\"\",INDEX(Objekt_Text,D2046+1,2))","v":""},{"$f":"IF(C2046=0,\"\",INDEX(Objekt_Text,D2046+1,3))","v":""},"","",{"$f":"INDEX(Visum_Liste,F2046+1)&\"\"","v":""},"","ZZ",0,0,0,0,0,0,3,"",{"$f":"MIN(IF(W2046=$W$9:$W$2128,$E$9:$E$2128))","v":0},{"$f":"MAX(IF(W2046=$W$9:$W$2128,$E$9:$E$2128))","v":0},2038,1,1,null,null,1,null,"ZZ00000","00ZZ000",null,{"$f":"ABS(OR(C2046=0,AND(MaxInput>1,M2046=INDEX(FFilter,AO$5))))","v":1},{"$f":"ABS(OR(C2046=0,AND(MaxInput>1,N2046=INDEX(FFilter,AP$5))))","v":1},{"$f":"ABS(OR(C2046=0,AND(MaxInput>1,O2046=INDEX(FFilter,AQ$5))))","v":1},null,null,null,null,null,null,null,null,null,null,{"$f":"ROW()","v":2046}]
[2039,"",null,null,null,null,null,null,null,null,null,null,"",{"$f":"IF(C2047=0,\"\",INDEX(Objekt_Text,D2047+1,2))","v":""},{"$f":"IF(C2047=0,\"\",INDEX(Objekt_Text,D2047+1,3))","v":""},"","",{"$f":"INDEX(Visum_Liste,F2047+1)&\"\"","v":""},"","ZZ",0,0,0,0,0,0,3,"",{"$f":"MIN(IF(W2047=$W$9:$W$2128,$E$9:$E$2128))","v":0},{"$f":"MAX(IF(W2047=$W$9:$W$2128,$E$9:$E$2128))","v":0},2039,1,1,null,null,1,null,"ZZ00000","00ZZ000",null,{"$f":"ABS(OR(C2047=0,AND(MaxInput>1,M2047=INDEX(FFilter,AO$5))))","v":1},{"$f":"ABS(OR(C2047=0,AND(MaxInput>1,N2047=INDEX(FFilter,AP$5))))","v":1},{"$f":"ABS(OR(C2047=0,AND(MaxInput>1,O2047=INDEX(FFilter,AQ$5))))","v":1},null,null,null,null,null,null,null,null,null,null,{"$f":"ROW()","v":2047}]
[2040,"",null,null,null,null,null,null,null,null,null,null,"",{"$f":"IF(C2048=0,\"\",INDEX(Objekt_Text,D2048+1,2))","v":""},{"$f":"IF(C2048=0,\"\",INDEX(Objekt_Text,D2048+1,3))","v":""},"","",{"$f":"INDEX(Visum_Liste,F2048+1)&\"\"","v":""},"","ZZ",0,0,0,0,0,0,3,"",{"$f":"MIN(IF(W2048=$W$9:$W$2128,$E$9:$E$2128))","v":0},{"$f":"MAX(IF(W2048=$W$9:$W$2128,$E$9:$E$2128))","v":0},2040,1,1,null,null,1,null,"ZZ00000","00ZZ000",null,{"$f":"ABS(OR(C2048=0,AND(MaxInput>1,M2048=INDEX(FFilter,AO$5))))","v":1},{"$f":"ABS(OR(C2048=0,AND(MaxInput>1,N2048=INDEX(FFilter,AP$5))))","v":1},{"$f":"ABS(OR(C2048=0,AND(MaxInput>1,O2048=INDEX(FFilter,AQ$5))))","v":1},null,null,null,null,null,null,null,null,null,null,{"$f":"ROW()","v":2048}]
[2041,"",null,null,null,null,null,null,null,null,null,null,"",{"$f":"IF(C2049=0,\"\",INDEX(Objekt_Text,D2049+1,2))","v":""},{"$f":"IF(C2049=0,\"\",INDEX(Objekt_Text,D2049+1,3))","v":""},"","",{"$f":"INDEX(Visum_Liste,F2049+1)&\"\"","v":""},"","ZZ",0,0,0,0,0,0,3,"",{"$f":"MIN(IF(W2049=$W$9:$W$2128,$E$9:$E$2128))","v":0},{"$f":"MAX(IF(W2049=$W$9:$W$2128,$E$9:$E$2128))","v":0},2041,1,1,null,null,1,null,"ZZ00000","00ZZ000",null,{"$f":"ABS(OR(C2049=0,AND(MaxInput>1,M2049=INDEX(FFilter,AO$5))))","v":1},{"$f":"ABS(OR(C2049=0,AND(MaxInput>1,N2049=INDEX(FFilter,AP$5))))","v":1},{"$f":"ABS(OR(C2049=0,AND(MaxInput>1,O2049=INDEX(FFilter,AQ$5))))","v":1},null,null,null,null,null,null,null,null,null,null,{"$f":"ROW()","v":2049}]
[2042,"",null,null,null,null,null,null,null,null,null,null,"",{"$f":"IF(C2050=0,\"\",INDEX(Objekt_Text,D2050+1,2))","v":""},{"$f":"IF(C2050=0,\"\",INDEX(Objekt_Text,D2050+1,3))","v":""},"","",{"$f":"INDEX(Visum_Liste,F2050+1)&\"\"","v":""},"","ZZ",0,0,0,0,0,0,3,"",{"$f":"MIN(IF(W2050=$W$9:$W$2128,$E$9:$E$2128))","v":0},{"$f":"MAX(IF(W2050=$W$9:$W$2128,$E$9:$E$2128))","v":0},2042,1,1,null,null,1,null,"ZZ00000","00ZZ000",null,{"$f":"ABS(OR(C2050=0,AND(MaxInput>1,M2050=INDEX(FFilter,AO$5))))","v":1},{"$f":"ABS(OR(C2050=0,AND(MaxInput>1,N2050=INDEX(FFilter,AP$5))))","v":1},{"$f":"ABS(OR(C2050=0,AND(MaxInput>1,O2050=INDEX(FFilter,AQ$5))))","v":1},null,null,null,null,null,null,null,null,null,null,{"$f":"ROW()","v":2050}]
[2043,"",null,null,null,null,null,null,null,null,null,null,"",{"$f":"IF(C2051=0,\"\",INDEX(Objekt_Text,D2051+1,2))","v":""},{"$f":"IF(C2051=0,\"\",INDEX(Objekt_Text,D2051+1,3))","v":""},"","",{"$f":"INDEX(Visum_Liste,F2051+1)&\"\"","v":""},"","ZZ",0,0,0,0,0,0,3,"",{"$f":"MIN(IF(W2051=$W$9:$W$2128,$E$9:$E$2128))","v":0},{"$f":"MAX(IF(W2051=$W$9:$W$2128,$E$9:$E$2128))","v":0},2043,1,1,null,null,1,null,"ZZ00000","00ZZ000",null,{"$f":"ABS(OR(C2051=0,AND(MaxInput>1,M2051=INDEX(FFilter,AO$5))))","v":1},{"$f":"ABS(OR(C2051=0,AND(MaxInput>1,N2051=INDEX(FFilter,AP$5))))","v":1},{"$f":"ABS(OR(C2051=0,AND(MaxInput>1,O2051=INDEX(FFilter,AQ$5))))","v":1},null,null,null,null,null,null,null,null,null,null,{"$f":"ROW()","v":2051}]
[2044,"",null,null,null,null,null,null,null,null,null,null,"",{"$f":"IF(C2052=0,\"\",INDEX(Objekt_Text,D2052+1,2))","v":""},{"$f":"IF(C2052=0,\"\",INDEX(Objekt_Text,D2052+1,3))","v":""},"","",{"$f":"INDEX(Visum_Liste,F2052+1)&\"\"","v":""},"","ZZ",0,0,0,0,0,0,3,"",{"$f":"MIN(IF(W2052=$W$9:$W$2128,$E$9:$E$2128))","v":0},{"$f":"MAX(IF(W2052=$W$9:$W$2128,$E$9:$E$2128))","v":0},2044,1,1,null,null,1,null,"ZZ00000","00ZZ000",null,{"$f":"ABS(OR(C2052=0,AND(MaxInput>1,M2052=INDEX(FFilter,AO$5))))","v":1},{"$f":"ABS(OR(C2052=0,AND(MaxInput>1,N2052=INDEX(FFilter,AP$5))))","v":1},{"$f":"ABS(OR(C2052=0,AND(MaxInput>1,O2052=INDEX(FFilter,AQ$5))))","v":1},null,null,null,null,null,null,null,null,null,null,{"$f":"ROW()","v":2052}]
[2045,"",null,null,null,null,null,null,null,null,null,null,"",{"$f":"IF(C2053=0,\"\",INDEX(Objekt_Text,D2053+1,2))","v":""},{"$f":"IF(C2053=0,\"\",INDEX(Objekt_Text,D2053+1,3))","v":""},"","",{"$f":"INDEX(Visum_Liste,F2053+1)&\"\"","v":""},"","ZZ",0,0,0,0,0,0,3,"",{"$f":"MIN(IF(W2053=$W$9:$W$2128,$E$9:$E$2128))","v":0},{"$f":"MAX(IF(W2053=$W$9:$W$2128,$E$9:$E$2128))","v":0},2045,1,1,null,null,1,null,"ZZ00000","00ZZ000",null,{"$f":"ABS(OR(C2053=0,AND(MaxInput>1,M2053=INDEX(FFilter,AO$5))))","v":1},{"$f":"ABS(OR(C2053=0,AND(MaxInput>1,N2053=INDEX(FFilter,AP$5))))","v":1},{"$f":"ABS(OR(C2053=0,AND(MaxInput>1,O2053=INDEX(FFilter,AQ$5))))","v":1},null,null,null,null,null,null,null,null,null,null,{"$f":"ROW()","v":2053}]
[2046,"",null,null,null,null,null,null,null,null,null,null,"",{"$f":"IF(C2054=0,\"\",INDEX(Objekt_Text,D2054+1,2))","v":""},{"$f":"IF(C2054=0,\"\",INDEX(Objekt_Text,D2054+1,3))","v":""},"","",{"$f":"INDEX(Visum_Liste,F2054+1)&\"\"","v":""},"","ZZ",0,0,0,0,0,0,3,"",{"$f":"MIN(IF(W2054=$W$9:$W$2128,$E$9:$E$2128))","v":0},{"$f":"MAX(IF(W2054=$W$9:$W$2128,$E$9:$E$2128))","v":0},2046,1,1,null,null,1,null,"ZZ00000","00ZZ000",null,{"$f":"ABS(OR(C2054=0,AND(MaxInput>1,M2054=INDEX(FFilter,AO$5))))","v":1},{"$f":"ABS(OR(C2054=0,AND(MaxInput>1,N2054=INDEX(FFilter,AP$5))))","v":1},{"$f":"ABS(OR(C2054=0,AND(MaxInput>1,O2054=INDEX(FFilter,AQ$5))))","v":1},null,null,null,null,null,null,null,null,null,null,{"$f":"ROW()","v":2054}]
[2047,"",null,null,null,null,null,null,null,null,null,null,"",{"$f":"IF(C2055=0,\"\",INDEX(Objekt_Text,D2055+1,2))","v":""},{"$f":"IF(C2055=0,\"\",INDEX(Objekt_Text,D2055+1,3))","v":""},"","",{"$f":"INDEX(Visum_Liste,F2055+1)&\"\"","v":""},"","ZZ",0,0,0,0,0,0,3,"",{"$f":"MIN(IF(W2055=$W$9:$W$2128,$E$9:$E$2128))","v":0},{"$f":"MAX(IF(W2055=$W$9:$W$2128,$E$9:$E$2128))","v":0},2047,1,1,null,null,1,null,"ZZ00000","00ZZ000",null,{"$f":"ABS(OR(C2055=0,AND(MaxInput>1,M2055=INDEX(FFilter,AO$5))))","v":1},{"$f":"ABS(OR(C2055=0,AND(MaxInput>1,N2055=INDEX(FFilter,AP$5))))","v":1},{"$f":"ABS(OR(C2055=0,AND(MaxInput>1,O2055=INDEX(FFilter,AQ$5))))","v":1},null,null,null,null,null,null,null,null,null,null,{"$f":"ROW()","v":2055}]
[2048,"",null,null,null,null,null,null,null,null,null,null,"",{"$f":"IF(C2056=0,\"\",INDEX(Objekt_Text,D2056+1,2))","v":""},{"$f":"IF(C2056=0,\"\",INDEX(Objekt_Text,D2056+1,3))","v":""},"","",{"$f":"INDEX(Visum_Liste,F2056+1)&\"\"","v":""},"","ZZ",0,0,0,0,0,0,3,"",{"$f":"MIN(IF(W2056=$W$9:$W$2128,$E$9:$E$2128))","v":0},{"$f":"MAX(IF(W2056=$W$9:$W$2128,$E$9:$E$2128))","v":0},2048,1,1,null,null,1,null,"ZZ00000","00ZZ000",null,{"$f":"ABS(OR(C2056=0,AND(MaxInput>1,M2056=INDEX(FFilter,AO$5))))","v":1},{"$f":"ABS(OR(C2056=0,AND(MaxInput>1,N2056=INDEX(FFilter,AP$5))))","v":1},{"$f":"ABS(OR(C2056=0,AND(MaxInput>1,O2056=INDEX(FFilter,AQ$5))))","v":1},null,null,null,null,null,null,null,null,null,null,{"$f":"ROW()","v":2056}]
[2049,{"$f":"IF(C2057>0,ROW()-8,\"\")","v":""},null,null,null,null,null,null,null,null,null,null,{"$f":"IF(C2057=0,\"\",IFERROR(VLOOKUP($C2057,SLTabelle,cSLName,FALSE),\"\"))","v":""},{"$f":"IF(C2057=0,\"\",INDEX(Objekt_Text,D2057+1,2))","v":""},{"$f":"IF(C2057=0,\"\",INDEX(Objekt_Text,D2057+1,3))","v":""},{"$f":"IF($H2057=\"\",\"\",$H2057)","v":""},{"$f":"IF($I2057=\"\",\"\",$I2057)","v":""},{"$f":"INDEX(Visum_Liste,F2057+1)&\"\"","v":""},{"$f":"IF($J2057=\"\",\"\",$J2057)","v":""},{"$f":"IF(M2057=\"\",\"ZZ\",M2057)","v":"ZZ"},{"$f":"IF(C2057>0,COUNTIF($W$9:$W$2128,W2057),0)","v":0},{"$f":"SUMIFS($E$9:$E$2128,$W$9:$W$2128,W2057)","v":0},{"$f":"C2057*100+D2057","v":0},{"$f":"AND(C2057>0,E2057=AD2057)*1","v":0},{"$f":"(COUNT(P2057:Q2057)=2)*1","v":0},{"$f":"F2057*10+X2057","v":0},{"$f":"IF(X2057=0,3,X2057*F2057)","v":3},{"$f":"IF(OR((C2057>0),ROW()<LastRow+8),\"A\",\"\")","v":""},{"$f":"MIN(IF(W2057=$W$9:$W$2128,$E$9:$E$2128))","v":0},{"$f":"MAX(IF(W2057=$W$9:$W$2128,$E$9:$E$2128))","v":0},2049,1,1,null,null,1,null,{"$f":"T2057&TEXT(D2057,\"00\")&TEXT(E2057,\"000\")","v":"ZZ00000"},{"$f":"TEXT(D2057,\"00\")&T2057&TEXT(E2057,\"000\")","v":"00ZZ000"},null,{"$f":"ABS(OR(C2057=0,AND(MaxInput>1,M2057=INDEX(FFilter,AO$5))))","v":1},{"$f":"ABS(OR(C2057=0,AND(MaxInput>1,N2057=INDEX(FFilter,AP$5))))","v":1},{"$f":"ABS(OR(C2057=0,AND(MaxInput>1,O2057=INDEX(FFilter,AQ$5))))","v":1},null,null,null,null,null,null,null,null,null,null,{"$f":"ROW()","v":2057}]
[2050,"",null,null,null,null,null,null,null,null,null,null,"",{"$f":"IF(C2058=0,\"\",INDEX(Objekt_Text,D2058+1,2))","v":""},{"$f":"IF(C2058=0,\"\",INDEX(Objekt_Text,D2058+1,3))","v":""},"","",{"$f":"INDEX(Visum_Liste,F2058+1)&\"\"","v":""},"","ZZ",0,0,0,0,0,0,3,"",{"$f":"MIN(IF(W2058=$W$9:$W$2128,$E$9:$E$2128))","v":0},{"$f":"MAX(IF(W2058=$W$9:$W$2128,$E$9:$E$2128))","v":0},2050,1,1,null,null,{"$f":"OR(L2058<=L2057,B2058=\"\")*1","v":1},null,"ZZ00000","00ZZ000",null,{"$f":"ABS(OR(C2058=0,AND(MaxInput>1,M2058=INDEX(FFilter,AO$5))))","v":1},{"$f":"ABS(OR(C2058=0,AND(MaxInput>1,N2058=INDEX(FFilter,AP$5))))","v":1},{"$f":"ABS(OR(C2058=0,AND(MaxInput>1,O2058=INDEX(FFilter,AQ$5))))","v":1},null,null,null,null,null,null,null,null,null,null,{"$f":"ROW()","v":2058}]
[2051,"",null,null,null,null,null,null,null,null,null,null,"",{"$f":"IF(C2059=0,\"\",INDEX(Objekt_Text,D2059+1,2))","v":""},{"$f":"IF(C2059=0,\"\",INDEX(Objekt_Text,D2059+1,3))","v":""},"","",{"$f":"INDEX(Visum_Liste,F2059+1)&\"\"","v":""},"","ZZ",0,0,0,0,0,0,3,"",{"$f":"MIN(IF(W2059=$W$9:$W$2128,$E$9:$E$2128))","v":0},{"$f":"MAX(IF(W2059=$W$9:$W$2128,$E$9:$E$2128))","v":0},2051,1,1,null,null,1,null,"ZZ00000","00ZZ000",null,{"$f":"ABS(OR(C2059=0,AND(MaxInput>1,M2059=INDEX(FFilter,AO$5))))","v":1},{"$f":"ABS(OR(C2059=0,AND(MaxInput>1,N2059=INDEX(FFilter,AP$5))))","v":1},{"$f":"ABS(OR(C2059=0,AND(MaxInput>1,O2059=INDEX(FFilter,AQ$5))))","v":1},null,null,null,null,null,null,null,null,null,null,{"$f":"ROW()","v":2059}]
[2052,"",null,null,null,null,null,null,null,null,null,null,"",{"$f":"IF(C2060=0,\"\",INDEX(Objekt_Text,D2060+1,2))","v":""},{"$f":"IF(C2060=0,\"\",INDEX(Objekt_Text,D2060+1,3))","v":""},"","",{"$f":"INDEX(Visum_Liste,F2060+1)&\"\"","v":""},"","ZZ",0,0,0,0,0,0,3,"",{"$f":"MIN(IF(W2060=$W$9:$W$2128,$E$9:$E$2128))","v":0},{"$f":"MAX(IF(W2060=$W$9:$W$2128,$E$9:$E$2128))","v":0},2052,1,1,null,null,1,null,"ZZ00000","00ZZ000",null,{"$f":"ABS(OR(C2060=0,AND(MaxInput>1,M2060=INDEX(FFilter,AO$5))))","v":1},{"$f":"ABS(OR(C2060=0,AND(MaxInput>1,N2060=INDEX(FFilter,AP$5))))","v":1},{"$f":"ABS(OR(C2060=0,AND(MaxInput>1,O2060=INDEX(FFilter,AQ$5))))","v":1},null,null,null,null,null,null,null,null,null,null,{"$f":"ROW()","v":2060}]
[2053,"",null,null,null,null,null,null,null,null,null,null,"",{"$f":"IF(C2061=0,\"\",INDEX(Objekt_Text,D2061+1,2))","v":""},{"$f":"IF(C2061=0,\"\",INDEX(Objekt_Text,D2061+1,3))","v":""},"","",{"$f":"INDEX(Visum_Liste,F2061+1)&\"\"","v":""},"","ZZ",0,0,0,0,0,0,3,"",{"$f":"MIN(IF(W2061=$W$9:$W$2128,$E$9:$E$2128))","v":0},{"$f":"MAX(IF(W2061=$W$9:$W$2128,$E$9:$E$2128))","v":0},2053,{"$f":"OR(AL2061>=AL2060,B2061=\"\")*1","v":1},{"$f":"OR(AM2061>=AM2060,B2061=\"\")*1","v":1},null,null,1,null,"ZZ00000","00ZZ000",null,{"$f":"ABS(OR(C2061=0,AND(MaxInput>1,M2061=INDEX(FFilter,AO$5))))","v":1},{"$f":"ABS(OR(C2061=0,AND(MaxInput>1,N2061=INDEX(FFilter,AP$5))))","v":1},{"$f":"ABS(OR(C2061=0,AND(MaxInput>1,O2061=INDEX(FFilter,AQ$5))))","v":1},null,null,null,null,null,null,null,null,null,null,{"$f":"ROW()","v":2061}]
[2054,"",null,null,null,null,null,null,null,null,null,null,"",{"$f":"IF(C2062=0,\"\",INDEX(Objekt_Text,D2062+1,2))","v":""},{"$f":"IF(C2062=0,\"\",INDEX(Objekt_Text,D2062+1,3))","v":""},"","",{"$f":"INDEX(Visum_Liste,F2062+1)&\"\"","v":""},"","ZZ",0,0,0,0,0,0,3,"",{"$f":"MIN(IF(W2062=$W$9:$W$2128,$E$9:$E$2128))","v":0},{"$f":"MAX(IF(W2062=$W$9:$W$2128,$E$9:$E$2128))","v":0},2054,1,1,null,null,1,null,"ZZ00000","00ZZ000",null,{"$f":"ABS(OR(C2062=0,AND(MaxInput>1,M2062=INDEX(FFilter,AO$5))))","v":1},{"$f":"ABS(OR(C2062=0,AND(MaxInput>1,N2062=INDEX(FFilter,AP$5))))","v":1},{"$f":"ABS(OR(C2062=0,AND(MaxInput>1,O2062=INDEX(FFilter,AQ$5))))","v":1},null,null,null,null,null,null,null,null,null,null,{"$f":"ROW()","v":2062}]
[2055,"",null,null,null,null,null,null,null,null,null,null,"",{"$f":"IF(C2063=0,\"\",INDEX(Objekt_Text,D2063+1,2))","v":""},{"$f":"IF(C2063=0,\"\",INDEX(Objekt_Text,D2063+1,3))","v":""},"","",{"$f":"INDEX(Visum_Liste,F2063+1)&\"\"","v":""},"","ZZ",0,0,0,0,0,0,3,"",{"$f":"MIN(IF(W2063=$W$9:$W$2128,$E$9:$E$2128))","v":0},{"$f":"MAX(IF(W2063=$W$9:$W$2128,$E$9:$E$2128))","v":0},2055,1,1,null,null,1,null,"ZZ00000","00ZZ000",null,{"$f":"ABS(OR(C2063=0,AND(MaxInput>1,M2063=INDEX(FFilter,AO$5))))","v":1},{"$f":"ABS(OR(C2063=0,AND(MaxInput>1,N2063=INDEX(FFilter,AP$5))))","v":1},{"$f":"ABS(OR(C2063=0,AND(MaxInput>1,O2063=INDEX(FFilter,AQ$5))))","v":1},null,null,null,null,null,null,null,null,null,null,{"$f":"ROW()","v":2063}]
[2056,"",null,null,null,null,null,null,null,null,null,null,"",{"$f":"IF(C2064=0,\"\",INDEX(Objekt_Text,D2064+1,2))","v":""},{"$f":"IF(C2064=0,\"\",INDEX(Objekt_Text,D2064+1,3))","v":""},"","",{"$f":"INDEX(Visum_Liste,F2064+1)&\"\"","v":""},"","ZZ",0,0,0,0,0,0,3,"",{"$f":"MIN(IF(W2064=$W$9:$W$2128,$E$9:$E$2128))","v":0},{"$f":"MAX(IF(W2064=$W$9:$W$2128,$E$9:$E$2128))","v":0},2056,1,1,null,null,1,null,"ZZ00000","00ZZ000",null,{"$f":"ABS(OR(C2064=0,AND(MaxInput>1,M2064=INDEX(FFilter,AO$5))))","v":1},{"$f":"ABS(OR(C2064=0,AND(MaxInput>1,N2064=INDEX(FFilter,AP$5))))","v":1},{"$f":"ABS(OR(C2064=0,AND(MaxInput>1,O2064=INDEX(FFilter,AQ$5))))","v":1},null,null,null,null,null,null,null,null,null,null,{"$f":"ROW()","v":2064}]
[2057,"",null,null,null,null,null,null,null,null,null,null,"",{"$f":"IF(C2065=0,\"\",INDEX(Objekt_Text,D2065+1,2))","v":""},{"$f":"IF(C2065=0,\"\",INDEX(Objekt_Text,D2065+1,3))","v":""},"","",{"$f":"INDEX(Visum_Liste,F2065+1)&\"\"","v":""},"","ZZ",0,0,0,0,0,0,3,"",{"$f":"MIN(IF(W2065=$W$9:$W$2128,$E$9:$E$2128))","v":0},{"$f":"MAX(IF(W2065=$W$9:$W$2128,$E$9:$E$2128))","v":0},2057,1,1,null,null,1,null,"ZZ00000","00ZZ000",null,{"$f":"ABS(OR(C2065=0,AND(MaxInput>1,M2065=INDEX(FFilter,AO$5))))","v":1},{"$f":"ABS(OR(C2065=0,AND(MaxInput>1,N2065=INDEX(FFilter,AP$5))))","v":1},{"$f":"ABS(OR(C2065=0,AND(MaxInput>1,O2065=INDEX(FFilter,AQ$5))))","v":1},null,null,null,null,null,null,null,null,null,null,{"$f":"ROW()","v":2065}]
[2058,"",null,null,null,null,null,null,null,null,null,null,"",{"$f":"IF(C2066=0,\"\",INDEX(Objekt_Text,D2066+1,2))","v":""},{"$f":"IF(C2066=0,\"\",INDEX(Objekt_Text,D2066+1,3))","v":""},"","",{"$f":"INDEX(Visum_Liste,F2066+1)&\"\"","v":""},"","ZZ",0,0,0,0,0,0,3,"",{"$f":"MIN(IF(W2066=$W$9:$W$2128,$E$9:$E$2128))","v":0},{"$f":"MAX(IF(W2066=$W$9:$W$2128,$E$9:$E$2128))","v":0},2058,1,1,null,null,1,null,"ZZ00000","00ZZ000",null,{"$f":"ABS(OR(C2066=0,AND(MaxInput>1,M2066=INDEX(FFilter,AO$5))))","v":1},{"$f":"ABS(OR(C2066=0,AND(MaxInput>1,N2066=INDEX(FFilter,AP$5))))","v":1},{"$f":"ABS(OR(C2066=0,AND(MaxInput>1,O2066=INDEX(FFilter,AQ$5))))","v":1},null,null,null,null,null,null,null,null,null,null,{"$f":"ROW()","v":2066}]
[2059,"",null,null,null,null,null,null,null,null,null,null,"",{"$f":"IF(C2067=0,\"\",INDEX(Objekt_Text,D2067+1,2))","v":""},{"$f":"IF(C2067=0,\"\",INDEX(Objekt_Text,D2067+1,3))","v":""},"","",{"$f":"INDEX(Visum_Liste,F2067+1)&\"\"","v":""},"","ZZ",0,0,0,0,0,0,3,"",{"$f":"MIN(IF(W2067=$W$9:$W$2128,$E$9:$E$2128))","v":0},{"$f":"MAX(IF(W2067=$W$9:$W$2128,$E$9:$E$2128))","v":0},2059,1,1,null,null,1,null,"ZZ00000","00ZZ000",null,{"$f":"ABS(OR(C2067=0,AND(MaxInput>1,M2067=INDEX(FFilter,AO$5))))","v":1},{"$f":"ABS(OR(C2067=0,AND(MaxInput>1,N2067=INDEX(FFilter,AP$5))))","v":1},{"$f":"ABS(OR(C2067=0,AND(MaxInput>1,O2067=INDEX(FFilter,AQ$5))))","v":1},null,null,null,null,null,null,null,null,null,null,{"$f":"ROW()","v":2067}]
[2060,"",null,null,null,null,null,null,null,null,null,null,"",{"$f":"IF(C2068=0,\"\",INDEX(Objekt_Text,D2068+1,2))","v":""},{"$f":"IF(C2068=0,\"\",INDEX(Objekt_Text,D2068+1,3))","v":""},"","",{"$f":"INDEX(Visum_Liste,F2068+1)&\"\"","v":""},"","ZZ",0,0,0,0,0,0,3,"",{"$f":"MIN(IF(W2068=$W$9:$W$2128,$E$9:$E$2128))","v":0},{"$f":"MAX(IF(W2068=$W$9:$W$2128,$E$9:$E$2128))","v":0},2060,1,1,null,null,1,null,"ZZ00000","00ZZ000",null,{"$f":"ABS(OR(C2068=0,AND(MaxInput>1,M2068=INDEX(FFilter,AO$5))))","v":1},{"$f":"ABS(OR(C2068=0,AND(MaxInput>1,N2068=INDEX(FFilter,AP$5))))","v":1},{"$f":"ABS(OR(C2068=0,AND(MaxInput>1,O2068=INDEX(FFilter,AQ$5))))","v":1},null,null,null,null,null,null,null,null,null,null,{"$f":"ROW()","v":2068}]
[2061,"",null,null,null,null,null,null,null,null,null,null,"",{"$f":"IF(C2069=0,\"\",INDEX(Objekt_Text,D2069+1,2))","v":""},{"$f":"IF(C2069=0,\"\",INDEX(Objekt_Text,D2069+1,3))","v":""},"","",{"$f":"INDEX(Visum_Liste,F2069+1)&\"\"","v":""},"","ZZ",0,0,0,0,0,0,3,"",{"$f":"MIN(IF(W2069=$W$9:$W$2128,$E$9:$E$2128))","v":0},{"$f":"MAX(IF(W2069=$W$9:$W$2128,$E$9:$E$2128))","v":0},2061,1,1,null,null,1,null,"ZZ00000","00ZZ000",null,{"$f":"ABS(OR(C2069=0,AND(MaxInput>1,M2069=INDEX(FFilter,AO$5))))","v":1},{"$f":"ABS(OR(C2069=0,AND(MaxInput>1,N2069=INDEX(FFilter,AP$5))))","v":1},{"$f":"ABS(OR(C2069=0,AND(MaxInput>1,O2069=INDEX(FFilter,AQ$5))))","v":1},null,null,null,null,null,null,null,null,null,null,{"$f":"ROW()","v":2069}]
[2062,"",null,null,null,null,null,null,null,null,null,null,"",{"$f":"IF(C2070=0,\"\",INDEX(Objekt_Text,D2070+1,2))","v":""},{"$f":"IF(C2070=0,\"\",INDEX(Objekt_Text,D2070+1,3))","v":""},"","",{"$f":"INDEX(Visum_Liste,F2070+1)&\"\"","v":""},"","ZZ",0,0,0,0,0,0,3,"",{"$f":"MIN(IF(W2070=$W$9:$W$2128,$E$9:$E$2128))","v":0},{"$f":"MAX(IF(W2070=$W$9:$W$2128,$E$9:$E$2128))","v":0},2062,1,1,null,null,1,null,"ZZ00000","00ZZ000",null,{"$f":"ABS(OR(C2070=0,AND(MaxInput>1,M2070=INDEX(FFilter,AO$5))))","v":1},{"$f":"ABS(OR(C2070=0,AND(MaxInput>1,N2070=INDEX(FFilter,AP$5))))","v":1},{"$f":"ABS(OR(C2070=0,AND(MaxInput>1,O2070=INDEX(FFilter,AQ$5))))","v":1},null,null,null,null,null,null,null,null,null,null,{"$f":"ROW()","v":2070}]
[2063,"",null,null,null,null,null,null,null,null,null,null,"",{"$f":"IF(C2071=0,\"\",INDEX(Objekt_Text,D2071+1,2))","v":""},{"$f":"IF(C2071=0,\"\",INDEX(Objekt_Text,D2071+1,3))","v":""},"","",{"$f":"INDEX(Visum_Liste,F2071+1)&\"\"","v":""},"","ZZ",0,0,0,0,0,0,3,"",{"$f":"MIN(IF(W2071=$W$9:$W$2128,$E$9:$E$2128))","v":0},{"$f":"MAX(IF(W2071=$W$9:$W$2128,$E$9:$E$2128))","v":0},2063,1,1,null,null,1,null,"ZZ00000","00ZZ000",null,{"$f":"ABS(OR(C2071=0,AND(MaxInput>1,M2071=INDEX(FFilter,AO$5))))","v":1},{"$f":"ABS(OR(C2071=0,AND(MaxInput>1,N2071=INDEX(FFilter,AP$5))))","v":1},{"$f":"ABS(OR(C2071=0,AND(MaxInput>1,O2071=INDEX(FFilter,AQ$5))))","v":1},null,null,null,null,null,null,null,null,null,null,{"$f":"ROW()","v":2071}]
[2064,"",null,null,null,null,null,null,null,null,null,null,"",{"$f":"IF(C2072=0,\"\",INDEX(Objekt_Text,D2072+1,2))","v":""},{"$f":"IF(C2072=0,\"\",INDEX(Objekt_Text,D2072+1,3))","v":""},"","",{"$f":"INDEX(Visum_Liste,F2072+1)&\"\"","v":""},"","ZZ",0,0,0,0,0,0,3,"",{"$f":"MIN(IF(W2072=$W$9:$W$2128,$E$9:$E$2128))","v":0},{"$f":"MAX(IF(W2072=$W$9:$W$2128,$E$9:$E$2128))","v":0},2064,1,1,null,null,1,null,"ZZ00000","00ZZ000",null,{"$f":"ABS(OR(C2072=0,AND(MaxInput>1,M2072=INDEX(FFilter,AO$5))))","v":1},{"$f":"ABS(OR(C2072=0,AND(MaxInput>1,N2072=INDEX(FFilter,AP$5))))","v":1},{"$f":"ABS(OR(C2072=0,AND(MaxInput>1,O2072=INDEX(FFilter,AQ$5))))","v":1},null,null,null,null,null,null,null,null,null,null,{"$f":"ROW()","v":2072}]
[2065,"",null,null,null,null,null,null,null,null,null,null,"",{"$f":"IF(C2073=0,\"\",INDEX(Objekt_Text,D2073+1,2))","v":""},{"$f":"IF(C2073=0,\"\",INDEX(Objekt_Text,D2073+1,3))","v":""},"","",{"$f":"INDEX(Visum_Liste,F2073+1)&\"\"","v":""},"","ZZ",0,0,0,0,0,0,3,"",{"$f":"MIN(IF(W2073=$W$9:$W$2128,$E$9:$E$2128))","v":0},{"$f":"MAX(IF(W2073=$W$9:$W$2128,$E$9:$E$2128))","v":0},2065,1,1,null,null,1,null,"ZZ00000","00ZZ000",null,{"$f":"ABS(OR(C2073=0,AND(MaxInput>1,M2073=INDEX(FFilter,AO$5))))","v":1},{"$f":"ABS(OR(C2073=0,AND(MaxInput>1,N2073=INDEX(FFilter,AP$5))))","v":1},{"$f":"ABS(OR(C2073=0,AND(MaxInput>1,O2073=INDEX(FFilter,AQ$5))))","v":1},null,null,null,null,null,null,null,null,null,null,{"$f":"ROW()","v":2073}]
[2066,"",null,null,null,null,null,null,null,null,null,null,"",{"$f":"IF(C2074=0,\"\",INDEX(Objekt_Text,D2074+1,2))","v":""},{"$f":"IF(C2074=0,\"\",INDEX(Objekt_Text,D2074+1,3))","v":""},"","",{"$f":"INDEX(Visum_Liste,F2074+1)&\"\"","v":""},"","ZZ",0,0,0,0,0,0,3,"",{"$f":"MIN(IF(W2074=$W$9:$W$2128,$E$9:$E$2128))","v":0},{"$f":"MAX(IF(W2074=$W$9:$W$2128,$E$9:$E$2128))","v":0},2066,1,1,null,null,1,null,"ZZ00000","00ZZ000",null,{"$f":"ABS(OR(C2074=0,AND(MaxInput>1,M2074=INDEX(FFilter,AO$5))))","v":1},{"$f":"ABS(OR(C2074=0,AND(MaxInput>1,N2074=INDEX(FFilter,AP$5))))","v":1},{"$f":"ABS(OR(C2074=0,AND(MaxInput>1,O2074=INDEX(FFilter,AQ$5))))","v":1},null,null,null,null,null,null,null,null,null,null,{"$f":"ROW()","v":2074}]
[2067,"",null,null,null,null,null,null,null,null,null,null,"",{"$f":"IF(C2075=0,\"\",INDEX(Objekt_Text,D2075+1,2))","v":""},{"$f":"IF(C2075=0,\"\",INDEX(Objekt_Text,D2075+1,3))","v":""},"","",{"$f":"INDEX(Visum_Liste,F2075+1)&\"\"","v":""},"","ZZ",0,0,0,0,0,0,3,"",{"$f":"MIN(IF(W2075=$W$9:$W$2128,$E$9:$E$2128))","v":0},{"$f":"MAX(IF(W2075=$W$9:$W$2128,$E$9:$E$2128))","v":0},2067,1,1,null,null,1,null,"ZZ00000","00ZZ000",null,{"$f":"ABS(OR(C2075=0,AND(MaxInput>1,M2075=INDEX(FFilter,AO$5))))","v":1},{"$f":"ABS(OR(C2075=0,AND(MaxInput>1,N2075=INDEX(FFilter,AP$5))))","v":1},{"$f":"ABS(OR(C2075=0,AND(MaxInput>1,O2075=INDEX(FFilter,AQ$5))))","v":1},null,null,null,null,null,null,null,null,null,null,{"$f":"ROW()","v":2075}]
[2068,"",null,null,null,null,null,null,null,null,null,null,"",{"$f":"IF(C2076=0,\"\",INDEX(Objekt_Text,D2076+1,2))","v":""},{"$f":"IF(C2076=0,\"\",INDEX(Objekt_Text,D2076+1,3))","v":""},"","",{"$f":"INDEX(Visum_Liste,F2076+1)&\"\"","v":""},"","ZZ",0,0,0,0,0,0,3,"",{"$f":"MIN(IF(W2076=$W$9:$W$2128,$E$9:$E$2128))","v":0},{"$f":"MAX(IF(W2076=$W$9:$W$2128,$E$9:$E$2128))","v":0},2068,1,1,null,null,1,null,"ZZ00000","00ZZ000",null,{"$f":"ABS(OR(C2076=0,AND(MaxInput>1,M2076=INDEX(FFilter,AO$5))))","v":1},{"$f":"ABS(OR(C2076=0,AND(MaxInput>1,N2076=INDEX(FFilter,AP$5))))","v":1},{"$f":"ABS(OR(C2076=0,AND(MaxInput>1,O2076=INDEX(FFilter,AQ$5))))","v":1},null,null,null,null,null,null,null,null,null,null,{"$f":"ROW()","v":2076}]
[2069,"",null,null,null,null,null,null,null,null,null,null,"",{"$f":"IF(C2077=0,\"\",INDEX(Objekt_Text,D2077+1,2))","v":""},{"$f":"IF(C2077=0,\"\",INDEX(Objekt_Text,D2077+1,3))","v":""},"","",{"$f":"INDEX(Visum_Liste,F2077+1)&\"\"","v":""},"","ZZ",0,0,0,0,0,0,3,"",{"$f":"MIN(IF(W2077=$W$9:$W$2128,$E$9:$E$2128))","v":0},{"$f":"MAX(IF(W2077=$W$9:$W$2128,$E$9:$E$2128))","v":0},2069,1,1,null,null,1,null,"ZZ00000","00ZZ000",null,{"$f":"ABS(OR(C2077=0,AND(MaxInput>1,M2077=INDEX(FFilter,AO$5))))","v":1},{"$f":"ABS(OR(C2077=0,AND(MaxInput>1,N2077=INDEX(FFilter,AP$5))))","v":1},{"$f":"ABS(OR(C2077=0,AND(MaxInput>1,O2077=INDEX(FFilter,AQ$5))))","v":1},null,null,null,null,null,null,null,null,null,null,{"$f":"ROW()","v":2077}]
[2070,"",null,null,null,null,null,null,null,null,null,null,"",{"$f":"IF(C2078=0,\"\",INDEX(Objekt_Text,D2078+1,2))","v":""},{"$f":"IF(C2078=0,\"\",INDEX(Objekt_Text,D2078+1,3))","v":""},"","",{"$f":"INDEX(Visum_Liste,F2078+1)&\"\"","v":""},"","ZZ",0,0,0,0,0,0,3,"",{"$f":"MIN(IF(W2078=$W$9:$W$2128,$E$9:$E$2128))","v":0},{"$f":"MAX(IF(W2078=$W$9:$W$2128,$E$9:$E$2128))","v":0},2070,1,1,null,null,1,null,"ZZ00000","00ZZ000",null,{"$f":"ABS(OR(C2078=0,AND(MaxInput>1,M2078=INDEX(FFilter,AO$5))))","v":1},{"$f":"ABS(OR(C2078=0,AND(MaxInput>1,N2078=INDEX(FFilter,AP$5))))","v":1},{"$f":"ABS(OR(C2078=0,AND(MaxInput>1,O2078=INDEX(FFilter,AQ$5))))","v":1},null,null,null,null,null,null,null,null,null,null,{"$f":"ROW()","v":2078}]
[2071,"",null,null,null,null,null,null,null,null,null,null,"",{"$f":"IF(C2079=0,\"\",INDEX(Objekt_Text,D2079+1,2))","v":""},{"$f":"IF(C2079=0,\"\",INDEX(Objekt_Text,D2079+1,3))","v":""},"","",{"$f":"INDEX(Visum_Liste,F2079+1)&\"\"","v":""},"","ZZ",0,0,0,0,0,0,3,"",{"$f":"MIN(IF(W2079=$W$9:$W$2128,$E$9:$E$2128))","v":0},{"$f":"MAX(IF(W2079=$W$9:$W$2128,$E$9:$E$2128))","v":0},2071,1,1,null,null,1,null,"ZZ00000","00ZZ000",null,{"$f":"ABS(OR(C2079=0,AND(MaxInput>1,M2079=INDEX(FFilter,AO$5))))","v":1},{"$f":"ABS(OR(C2079=0,AND(MaxInput>1,N2079=INDEX(FFilter,AP$5))))","v":1},{"$f":"ABS(OR(C2079=0,AND(MaxInput>1,O2079=INDEX(FFilter,AQ$5))))","v":1},null,null,null,null,null,null,null,null,null,null,{"$f":"ROW()","v":2079}]
[2072,"",null,null,null,null,null,null,null,null,null,null,"",{"$f":"IF(C2080=0,\"\",INDEX(Objekt_Text,D2080+1,2))","v":""},{"$f":"IF(C2080=0,\"\",INDEX(Objekt_Text,D2080+1,3))","v":""},"","",{"$f":"INDEX(Visum_Liste,F2080+1)&\"\"","v":""},"","ZZ",0,0,0,0,0,0,3,"",{"$f":"MIN(IF(W2080=$W$9:$W$2128,$E$9:$E$2128))","v":0},{"$f":"MAX(IF(W2080=$W$9:$W$2128,$E$9:$E$2128))","v":0},2072,1,1,null,null,1,null,"ZZ00000","00ZZ000",null,{"$f":"ABS(OR(C2080=0,AND(MaxInput>1,M2080=INDEX(FFilter,AO$5))))","v":1},{"$f":"ABS(OR(C2080=0,AND(MaxInput>1,N2080=INDEX(FFilter,AP$5))))","v":1},{"$f":"ABS(OR(C2080=0,AND(MaxInput>1,O2080=INDEX(FFilter,AQ$5))))","v":1},null,null,null,null,null,null,null,null,null,null,{"$f":"ROW()","v":2080}]
[2073,"",null,null,null,null,null,null,null,null,null,null,"",{"$f":"IF(C2081=0,\"\",INDEX(Objekt_Text,D2081+1,2))","v":""},{"$f":"IF(C2081=0,\"\",INDEX(Objekt_Text,D2081+1,3))","v":""},"","",{"$f":"INDEX(Visum_Liste,F2081+1)&\"\"","v":""},"","ZZ",0,0,0,0,0,0,3,"",{"$f":"MIN(IF(W2081=$W$9:$W$2128,$E$9:$E$2128))","v":0},{"$f":"MAX(IF(W2081=$W$9:$W$2128,$E$9:$E$2128))","v":0},2073,1,1,null,null,1,null,"ZZ00000","00ZZ000",null,{"$f":"ABS(OR(C2081=0,AND(MaxInput>1,M2081=INDEX(FFilter,AO$5))))","v":1},{"$f":"ABS(OR(C2081=0,AND(MaxInput>1,N2081=INDEX(FFilter,AP$5))))","v":1},{"$f":"ABS(OR(C2081=0,AND(MaxInput>1,O2081=INDEX(FFilter,AQ$5))))","v":1},null,null,null,null,null,null,null,null,null,null,{"$f":"ROW()","v":2081}]
[2074,"",null,null,null,null,null,null,null,null,null,null,"",{"$f":"IF(C2082=0,\"\",INDEX(Objekt_Text,D2082+1,2))","v":""},{"$f":"IF(C2082=0,\"\",INDEX(Objekt_Text,D2082+1,3))","v":""},"","",{"$f":"INDEX(Visum_Liste,F2082+1)&\"\"","v":""},"","ZZ",0,0,0,0,0,0,3,"",{"$f":"MIN(IF(W2082=$W$9:$W$2128,$E$9:$E$2128))","v":0},{"$f":"MAX(IF(W2082=$W$9:$W$2128,$E$9:$E$2128))","v":0},2074,1,1,null,null,1,null,"ZZ00000","00ZZ000",null,{"$f":"ABS(OR(C2082=0,AND(MaxInput>1,M2082=INDEX(FFilter,AO$5))))","v":1},{"$f":"ABS(OR(C2082=0,AND(MaxInput>1,N2082=INDEX(FFilter,AP$5))))","v":1},{"$f":"ABS(OR(C2082=0,AND(MaxInput>1,O2082=INDEX(FFilter,AQ$5))))","v":1},null,null,null,null,null,null,null,null,null,null,{"$f":"ROW()","v":2082}]
[2075,"",null,null,null,null,null,null,null,null,null,null,"",{"$f":"IF(C2083=0,\"\",INDEX(Objekt_Text,D2083+1,2))","v":""},{"$f":"IF(C2083=0,\"\",INDEX(Objekt_Text,D2083+1,3))","v":""},"","",{"$f":"INDEX(Visum_Liste,F2083+1)&\"\"","v":""},"","ZZ",0,0,0,0,0,0,3,"",{"$f":"MIN(IF(W2083=$W$9:$W$2128,$E$9:$E$2128))","v":0},{"$f":"MAX(IF(W2083=$W$9:$W$2128,$E$9:$E$2128))","v":0},2075,1,1,null,null,1,null,"ZZ00000","00ZZ000",null,{"$f":"ABS(OR(C2083=0,AND(MaxInput>1,M2083=INDEX(FFilter,AO$5))))","v":1},{"$f":"ABS(OR(C2083=0,AND(MaxInput>1,N2083=INDEX(FFilter,AP$5))))","v":1},{"$f":"ABS(OR(C2083=0,AND(MaxInput>1,O2083=INDEX(FFilter,AQ$5))))","v":1},null,null,null,null,null,null,null,null,null,null,{"$f":"ROW()","v":2083}]
[2076,"",null,null,null,null,null,null,null,null,null,null,"",{"$f":"IF(C2084=0,\"\",INDEX(Objekt_Text,D2084+1,2))","v":""},{"$f":"IF(C2084=0,\"\",INDEX(Objekt_Text,D2084+1,3))","v":""},"","",{"$f":"INDEX(Visum_Liste,F2084+1)&\"\"","v":""},"","ZZ",0,0,0,0,0,0,3,"",{"$f":"MIN(IF(W2084=$W$9:$W$2128,$E$9:$E$2128))","v":0},{"$f":"MAX(IF(W2084=$W$9:$W$2128,$E$9:$E$2128))","v":0},2076,1,1,null,null,1,null,"ZZ00000","00ZZ000",null,{"$f":"ABS(OR(C2084=0,AND(MaxInput>1,M2084=INDEX(FFilter,AO$5))))","v":1},{"$f":"ABS(OR(C2084=0,AND(MaxInput>1,N2084=INDEX(FFilter,AP$5))))","v":1},{"$f":"ABS(OR(C2084=0,AND(MaxInput>1,O2084=INDEX(FFilter,AQ$5))))","v":1},null,null,null,null,null,null,null,null,null,null,{"$f":"ROW()","v":2084}]
[2077,"",null,null,null,null,null,null,null,null,null,null,"",{"$f":"IF(C2085=0,\"\",INDEX(Objekt_Text,D2085+1,2))","v":""},{"$f":"IF(C2085=0,\"\",INDEX(Objekt_Text,D2085+1,3))","v":""},"","",{"$f":"INDEX(Visum_Liste,F2085+1)&\"\"","v":""},"","ZZ",0,0,0,0,0,0,3,"",{"$f":"MIN(IF(W2085=$W$9:$W$2128,$E$9:$E$2128))","v":0},{"$f":"MAX(IF(W2085=$W$9:$W$2128,$E$9:$E$2128))","v":0},2077,1,1,null,null,1,null,"ZZ00000","00ZZ000",null,{"$f":"ABS(OR(C2085=0,AND(MaxInput>1,M2085=INDEX(FFilter,AO$5))))","v":1},{"$f":"ABS(OR(C2085=0,AND(MaxInput>1,N2085=INDEX(FFilter,AP$5))))","v":1},{"$f":"ABS(OR(C2085=0,AND(MaxInput>1,O2085=INDEX(FFilter,AQ$5))))","v":1},null,null,null,null,null,null,null,null,null,null,{"$f":"ROW()","v":2085}]
[2078,"",null,null,null,null,null,null,null,null,null,null,"",{"$f":"IF(C2086=0,\"\",INDEX(Objekt_Text,D2086+1,2))","v":""},{"$f":"IF(C2086=0,\"\",INDEX(Objekt_Text,D2086+1,3))","v":""},"","",{"$f":"INDEX(Visum_Liste,F2086+1)&\"\"","v":""},"","ZZ",0,0,0,0,0,0,3,"",{"$f":"MIN(IF(W2086=$W$9:$W$2128,$E$9:$E$2128))","v":0},{"$f":"MAX(IF(W2086=$W$9:$W$2128,$E$9:$E$2128))","v":0},2078,1,1,null,null,1,null,"ZZ00000","00ZZ000",null,{"$f":"ABS(OR(C2086=0,AND(MaxInput>1,M2086=INDEX(FFilter,AO$5))))","v":1},{"$f":"ABS(OR(C2086=0,AND(MaxInput>1,N2086=INDEX(FFilter,AP$5))))","v":1},{"$f":"ABS(OR(C2086=0,AND(MaxInput>1,O2086=INDEX(FFilter,AQ$5))))","v":1},null,null,null,null,null,null,null,null,null,null,{"$f":"ROW()","v":2086}]
[2079,"",null,null,null,null,null,null,null,null,null,null,"",{"$f":"IF(C2087=0,\"\",INDEX(Objekt_Text,D2087+1,2))","v":""},{"$f":"IF(C2087=0,\"\",INDEX(Objekt_Text,D2087+1,3))","v":""},"","",{"$f":"INDEX(Visum_Liste,F2087+1)&\"\"","v":""},"","ZZ",0,0,0,0,0,0,3,"",{"$f":"MIN(IF(W2087=$W$9:$W$2128,$E$9:$E$2128))","v":0},{"$f":"MAX(IF(W2087=$W$9:$W$2128,$E$9:$E$2128))","v":0},2079,1,1,null,null,1,null,"ZZ00000","00ZZ000",null,{"$f":"ABS(OR(C2087=0,AND(MaxInput>1,M2087=INDEX(FFilter,AO$5))))","v":1},{"$f":"ABS(OR(C2087=0,AND(MaxInput>1,N2087=INDEX(FFilter,AP$5))))","v":1},{"$f":"ABS(OR(C2087=0,AND(MaxInput>1,O2087=INDEX(FFilter,AQ$5))))","v":1},null,null,null,null,null,null,null,null,null,null,{"$f":"ROW()","v":2087}]
[2080,"",null,null,null,null,null,null,null,null,null,null,"",{"$f":"IF(C2088=0,\"\",INDEX(Objekt_Text,D2088+1,2))","v":""},{"$f":"IF(C2088=0,\"\",INDEX(Objekt_Text,D2088+1,3))","v":""},"","",{"$f":"INDEX(Visum_Liste,F2088+1)&\"\"","v":""},"","ZZ",0,0,0,0,0,0,3,"",{"$f":"MIN(IF(W2088=$W$9:$W$2128,$E$9:$E$2128))","v":0},{"$f":"MAX(IF(W2088=$W$9:$W$2128,$E$9:$E$2128))","v":0},2080,1,1,null,null,1,null,"ZZ00000","00ZZ000",null,{"$f":"ABS(OR(C2088=0,AND(MaxInput>1,M2088=INDEX(FFilter,AO$5))))","v":1},{"$f":"ABS(OR(C2088=0,AND(MaxInput>1,N2088=INDEX(FFilter,AP$5))))","v":1},{"$f":"ABS(OR(C2088=0,AND(MaxInput>1,O2088=INDEX(FFilter,AQ$5))))","v":1},null,null,null,null,null,null,null,null,null,null,{"$f":"ROW()","v":2088}]
[2081,"",null,null,null,null,null,null,null,null,null,null,"",{"$f":"IF(C2089=0,\"\",INDEX(Objekt_Text,D2089+1,2))","v":""},{"$f":"IF(C2089=0,\"\",INDEX(Objekt_Text,D2089+1,3))","v":""},"","",{"$f":"INDEX(Visum_Liste,F2089+1)&\"\"","v":""},"","ZZ",0,0,0,0,0,0,3,"",{"$f":"MIN(IF(W2089=$W$9:$W$2128,$E$9:$E$2128))","v":0},{"$f":"MAX(IF(W2089=$W$9:$W$2128,$E$9:$E$2128))","v":0},2081,1,1,null,null,1,null,"ZZ00000","00ZZ000",null,{"$f":"ABS(OR(C2089=0,AND(MaxInput>1,M2089=INDEX(FFilter,AO$5))))","v":1},{"$f":"ABS(OR(C2089=0,AND(MaxInput>1,N2089=INDEX(FFilter,AP$5))))","v":1},{"$f":"ABS(OR(C2089=0,AND(MaxInput>1,O2089=INDEX(FFilter,AQ$5))))","v":1},null,null,null,null,null,null,null,null,null,null,{"$f":"ROW()","v":2089}]
[2082,"",null,null,null,null,null,null,null,null,null,null,"",{"$f":"IF(C2090=0,\"\",INDEX(Objekt_Text,D2090+1,2))","v":""},{"$f":"IF(C2090=0,\"\",INDEX(Objekt_Text,D2090+1,3))","v":""},"","",{"$f":"INDEX(Visum_Liste,F2090+1)&\"\"","v":""},"","ZZ",0,0,0,0,0,0,3,"",{"$f":"MIN(IF(W2090=$W$9:$W$2128,$E$9:$E$2128))","v":0},{"$f":"MAX(IF(W2090=$W$9:$W$2128,$E$9:$E$2128))","v":0},2082,1,1,null,null,1,null,"ZZ00000","00ZZ000",null,{"$f":"ABS(OR(C2090=0,AND(MaxInput>1,M2090=INDEX(FFilter,AO$5))))","v":1},{"$f":"ABS(OR(C2090=0,AND(MaxInput>1,N2090=INDEX(FFilter,AP$5))))","v":1},{"$f":"ABS(OR(C2090=0,AND(MaxInput>1,O2090=INDEX(FFilter,AQ$5))))","v":1},null,null,null,null,null,null,null,null,null,null,{"$f":"ROW()","v":2090}]
[2083,"",null,null,null,null,null,null,null,null,null,null,"",{"$f":"IF(C2091=0,\"\",INDEX(Objekt_Text,D2091+1,2))","v":""},{"$f":"IF(C2091=0,\"\",INDEX(Objekt_Text,D2091+1,3))","v":""},"","",{"$f":"INDEX(Visum_Liste,F2091+1)&\"\"","v":""},"","ZZ",0,0,0,0,0,0,3,"",{"$f":"MIN(IF(W2091=$W$9:$W$2128,$E$9:$E$2128))","v":0},{"$f":"MAX(IF(W2091=$W$9:$W$2128,$E$9:$E$2128))","v":0},2083,1,1,null,null,1,null,"ZZ00000","00ZZ000",null,{"$f":"ABS(OR(C2091=0,AND(MaxInput>1,M2091=INDEX(FFilter,AO$5))))","v":1},{"$f":"ABS(OR(C2091=0,AND(MaxInput>1,N2091=INDEX(FFilter,AP$5))))","v":1},{"$f":"ABS(OR(C2091=0,AND(MaxInput>1,O2091=INDEX(FFilter,AQ$5))))","v":1},null,null,null,null,null,null,null,null,null,null,{"$f":"ROW()","v":2091}]
[2084,"",null,null,null,null,null,null,null,null,null,null,"",{"$f":"IF(C2092=0,\"\",INDEX(Objekt_Text,D2092+1,2))","v":""},{"$f":"IF(C2092=0,\"\",INDEX(Objekt_Text,D2092+1,3))","v":""},"","",{"$f":"INDEX(Visum_Liste,F2092+1)&\"\"","v":""},"","ZZ",0,0,0,0,0,0,3,"",{"$f":"MIN(IF(W2092=$W$9:$W$2128,$E$9:$E$2128))","v":0},{"$f":"MAX(IF(W2092=$W$9:$W$2128,$E$9:$E$2128))","v":0},2084,1,1,null,null,1,null,"ZZ00000","00ZZ000",null,{"$f":"ABS(OR(C2092=0,AND(MaxInput>1,M2092=INDEX(FFilter,AO$5))))","v":1},{"$f":"ABS(OR(C2092=0,AND(MaxInput>1,N2092=INDEX(FFilter,AP$5))))","v":1},{"$f":"ABS(OR(C2092=0,AND(MaxInput>1,O2092=INDEX(FFilter,AQ$5))))","v":1},null,null,null,null,null,null,null,null,null,null,{"$f":"ROW()","v":2092}]
[2085,"",null,null,null,null,null,null,null,null,null,null,"",{"$f":"IF(C2093=0,\"\",INDEX(Objekt_Text,D2093+1,2))","v":""},{"$f":"IF(C2093=0,\"\",INDEX(Objekt_Text,D2093+1,3))","v":""},"","",{"$f":"INDEX(Visum_Liste,F2093+1)&\"\"","v":""},"","ZZ",0,0,0,0,0,0,3,"",{"$f":"MIN(IF(W2093=$W$9:$W$2128,$E$9:$E$2128))","v":0},{"$f":"MAX(IF(W2093=$W$9:$W$2128,$E$9:$E$2128))","v":0},2085,1,1,null,null,1,null,"ZZ00000","00ZZ000",null,{"$f":"ABS(OR(C2093=0,AND(MaxInput>1,M2093=INDEX(FFilter,AO$5))))","v":1},{"$f":"ABS(OR(C2093=0,AND(MaxInput>1,N2093=INDEX(FFilter,AP$5))))","v":1},{"$f":"ABS(OR(C2093=0,AND(MaxInput>1,O2093=INDEX(FFilter,AQ$5))))","v":1},null,null,null,null,null,null,null,null,null,null,{"$f":"ROW()","v":2093}]
[2086,"",null,null,null,null,null,null,null,null,null,null,"",{"$f":"IF(C2094=0,\"\",INDEX(Objekt_Text,D2094+1,2))","v":""},{"$f":"IF(C2094=0,\"\",INDEX(Objekt_Text,D2094+1,3))","v":""},"","",{"$f":"INDEX(Visum_Liste,F2094+1)&\"\"","v":""},"","ZZ",0,0,0,0,0,0,3,"",{"$f":"MIN(IF(W2094=$W$9:$W$2128,$E$9:$E$2128))","v":0},{"$f":"MAX(IF(W2094=$W$9:$W$2128,$E$9:$E$2128))","v":0},2086,1,1,null,null,1,null,"ZZ00000","00ZZ000",null,{"$f":"ABS(OR(C2094=0,AND(MaxInput>1,M2094=INDEX(FFilter,AO$5))))","v":1},{"$f":"ABS(OR(C2094=0,AND(MaxInput>1,N2094=INDEX(FFilter,AP$5))))","v":1},{"$f":"ABS(OR(C2094=0,AND(MaxInput>1,O2094=INDEX(FFilter,AQ$5))))","v":1},null,null,null,null,null,null,null,null,null,null,{"$f":"ROW()","v":2094}]
[2087,"",null,null,null,null,null,null,null,null,null,null,"",{"$f":"IF(C2095=0,\"\",INDEX(Objekt_Text,D2095+1,2))","v":""},{"$f":"IF(C2095=0,\"\",INDEX(Objekt_Text,D2095+1,3))","v":""},"","",{"$f":"INDEX(Visum_Liste,F2095+1)&\"\"","v":""},"","ZZ",0,0,0,0,0,0,3,"",{"$f":"MIN(IF(W2095=$W$9:$W$2128,$E$9:$E$2128))","v":0},{"$f":"MAX(IF(W2095=$W$9:$W$2128,$E$9:$E$2128))","v":0},2087,1,1,null,null,1,null,"ZZ00000","00ZZ000",null,{"$f":"ABS(OR(C2095=0,AND(MaxInput>1,M2095=INDEX(FFilter,AO$5))))","v":1},{"$f":"ABS(OR(C2095=0,AND(MaxInput>1,N2095=INDEX(FFilter,AP$5))))","v":1},{"$f":"ABS(OR(C2095=0,AND(MaxInput>1,O2095=INDEX(FFilter,AQ$5))))","v":1},null,null,null,null,null,null,null,null,null,null,{"$f":"ROW()","v":2095}]
[2088,"",null,null,null,null,null,null,null,null,null,null,"",{"$f":"IF(C2096=0,\"\",INDEX(Objekt_Text,D2096+1,2))","v":""},{"$f":"IF(C2096=0,\"\",INDEX(Objekt_Text,D2096+1,3))","v":""},"","",{"$f":"INDEX(Visum_Liste,F2096+1)&\"\"","v":""},"","ZZ",0,0,0,0,0,0,3,"",{"$f":"MIN(IF(W2096=$W$9:$W$2128,$E$9:$E$2128))","v":0},{"$f":"MAX(IF(W2096=$W$9:$W$2128,$E$9:$E$2128))","v":0},2088,1,1,null,null,1,null,"ZZ00000","00ZZ000",null,{"$f":"ABS(OR(C2096=0,AND(MaxInput>1,M2096=INDEX(FFilter,AO$5))))","v":1},{"$f":"ABS(OR(C2096=0,AND(MaxInput>1,N2096=INDEX(FFilter,AP$5))))","v":1},{"$f":"ABS(OR(C2096=0,AND(MaxInput>1,O2096=INDEX(FFilter,AQ$5))))","v":1},null,null,null,null,null,null,null,null,null,null,{"$f":"ROW()","v":2096}]
[2089,"",null,null,null,null,null,null,null,null,null,null,"",{"$f":"IF(C2097=0,\"\",INDEX(Objekt_Text,D2097+1,2))","v":""},{"$f":"IF(C2097=0,\"\",INDEX(Objekt_Text,D2097+1,3))","v":""},"","",{"$f":"INDEX(Visum_Liste,F2097+1)&\"\"","v":""},"","ZZ",0,0,0,0,0,0,3,"",{"$f":"MIN(IF(W2097=$W$9:$W$2128,$E$9:$E$2128))","v":0},{"$f":"MAX(IF(W2097=$W$9:$W$2128,$E$9:$E$2128))","v":0},2089,1,1,null,null,1,null,"ZZ00000","00ZZ000",null,{"$f":"ABS(OR(C2097=0,AND(MaxInput>1,M2097=INDEX(FFilter,AO$5))))","v":1},{"$f":"ABS(OR(C2097=0,AND(MaxInput>1,N2097=INDEX(FFilter,AP$5))))","v":1},{"$f":"ABS(OR(C2097=0,AND(MaxInput>1,O2097=INDEX(FFilter,AQ$5))))","v":1},null,null,null,null,null,null,null,null,null,null,{"$f":"ROW()","v":2097}]
[2090,"",null,null,null,null,null,null,null,null,null,null,"",{"$f":"IF(C2098=0,\"\",INDEX(Objekt_Text,D2098+1,2))","v":""},{"$f":"IF(C2098=0,\"\",INDEX(Objekt_Text,D2098+1,3))","v":""},"","",{"$f":"INDEX(Visum_Liste,F2098+1)&\"\"","v":""},"","ZZ",0,0,0,0,0,0,3,"",{"$f":"MIN(IF(W2098=$W$9:$W$2128,$E$9:$E$2128))","v":0},{"$f":"MAX(IF(W2098=$W$9:$W$2128,$E$9:$E$2128))","v":0},2090,1,1,null,null,1,null,"ZZ00000","00ZZ000",null,{"$f":"ABS(OR(C2098=0,AND(MaxInput>1,M2098=INDEX(FFilter,AO$5))))","v":1},{"$f":"ABS(OR(C2098=0,AND(MaxInput>1,N2098=INDEX(FFilter,AP$5))))","v":1},{"$f":"ABS(OR(C2098=0,AND(MaxInput>1,O2098=INDEX(FFilter,AQ$5))))","v":1},null,null,null,null,null,null,null,null,null,null,{"$f":"ROW()","v":2098}]
[2091,"",null,null,null,null,null,null,null,null,null,null,"",{"$f":"IF(C2099=0,\"\",INDEX(Objekt_Text,D2099+1,2))","v":""},{"$f":"IF(C2099=0,\"\",INDEX(Objekt_Text,D2099+1,3))","v":""},"","",{"$f":"INDEX(Visum_Liste,F2099+1)&\"\"","v":""},"","ZZ",0,0,0,0,0,0,3,"",{"$f":"MIN(IF(W2099=$W$9:$W$2128,$E$9:$E$2128))","v":0},{"$f":"MAX(IF(W2099=$W$9:$W$2128,$E$9:$E$2128))","v":0},2091,1,1,null,null,1,null,"ZZ00000","00ZZ000",null,{"$f":"ABS(OR(C2099=0,AND(MaxInput>1,M2099=INDEX(FFilter,AO$5))))","v":1},{"$f":"ABS(OR(C2099=0,AND(MaxInput>1,N2099=INDEX(FFilter,AP$5))))","v":1},{"$f":"ABS(OR(C2099=0,AND(MaxInput>1,O2099=INDEX(FFilter,AQ$5))))","v":1},null,null,null,null,null,null,null,null,null,null,{"$f":"ROW()","v":2099}]
[2092,"",null,null,null,null,null,null,null,null,null,null,"",{"$f":"IF(C2100=0,\"\",INDEX(Objekt_Text,D2100+1,2))","v":""},{"$f":"IF(C2100=0,\"\",INDEX(Objekt_Text,D2100+1,3))","v":""},"","",{"$f":"INDEX(Visum_Liste,F2100+1)&\"\"","v":""},"","ZZ",0,0,0,0,0,0,3,"",{"$f":"MIN(IF(W2100=$W$9:$W$2128,$E$9:$E$2128))","v":0},{"$f":"MAX(IF(W2100=$W$9:$W$2128,$E$9:$E$2128))","v":0},2092,1,1,null,null,1,null,"ZZ00000","00ZZ000",null,{"$f":"ABS(OR(C2100=0,AND(MaxInput>1,M2100=INDEX(FFilter,AO$5))))","v":1},{"$f":"ABS(OR(C2100=0,AND(MaxInput>1,N2100=INDEX(FFilter,AP$5))))","v":1},{"$f":"ABS(OR(C2100=0,AND(MaxInput>1,O2100=INDEX(FFilter,AQ$5))))","v":1},null,null,null,null,null,null,null,null,null,null,{"$f":"ROW()","v":2100}]
[2093,"",null,null,null,null,null,null,null,null,null,null,"",{"$f":"IF(C2101=0,\"\",INDEX(Objekt_Text,D2101+1,2))","v":""},{"$f":"IF(C2101=0,\"\",INDEX(Objekt_Text,D2101+1,3))","v":""},"","",{"$f":"INDEX(Visum_Liste,F2101+1)&\"\"","v":""},"","ZZ",0,0,0,0,0,0,3,"",{"$f":"MIN(IF(W2101=$W$9:$W$2128,$E$9:$E$2128))","v":0},{"$f":"MAX(IF(W2101=$W$9:$W$2128,$E$9:$E$2128))","v":0},2093,1,1,null,null,1,null,"ZZ00000","00ZZ000",null,{"$f":"ABS(OR(C2101=0,AND(MaxInput>1,M2101=INDEX(FFilter,AO$5))))","v":1},{"$f":"ABS(OR(C2101=0,AND(MaxInput>1,N2101=INDEX(FFilter,AP$5))))","v":1},{"$f":"ABS(OR(C2101=0,AND(MaxInput>1,O2101=INDEX(FFilter,AQ$5))))","v":1},null,null,null,null,null,null,null,null,null,null,{"$f":"ROW()","v":2101}]
[2094,"",null,null,null,null,null,null,null,null,null,null,"",{"$f":"IF(C2102=0,\"\",INDEX(Objekt_Text,D2102+1,2))","v":""},{"$f":"IF(C2102=0,\"\",INDEX(Objekt_Text,D2102+1,3))","v":""},"","",{"$f":"INDEX(Visum_Liste,F2102+1)&\"\"","v":""},"","ZZ",0,0,0,0,0,0,3,"",{"$f":"MIN(IF(W2102=$W$9:$W$2128,$E$9:$E$2128))","v":0},{"$f":"MAX(IF(W2102=$W$9:$W$2128,$E$9:$E$2128))","v":0},2094,1,1,null,null,1,null,"ZZ00000","00ZZ000",null,{"$f":"ABS(OR(C2102=0,AND(MaxInput>1,M2102=INDEX(FFilter,AO$5))))","v":1},{"$f":"ABS(OR(C2102=0,AND(MaxInput>1,N2102=INDEX(FFilter,AP$5))))","v":1},{"$f":"ABS(OR(C2102=0,AND(MaxInput>1,O2102=INDEX(FFilter,AQ$5))))","v":1},null,null,null,null,null,null,null,null,null,null,{"$f":"ROW()","v":2102}]
[2095,"",null,null,null,null,null,null,null,null,null,null,"",{"$f":"IF(C2103=0,\"\",INDEX(Objekt_Text,D2103+1,2))","v":""},{"$f":"IF(C2103=0,\"\",INDEX(Objekt_Text,D2103+1,3))","v":""},"","",{"$f":"INDEX(Visum_Liste,F2103+1)&\"\"","v":""},"","ZZ",0,0,0,0,0,0,3,"",{"$f":"MIN(IF(W2103=$W$9:$W$2128,$E$9:$E$2128))","v":0},{"$f":"MAX(IF(W2103=$W$9:$W$2128,$E$9:$E$2128))","v":0},2095,1,1,null,null,1,null,"ZZ00000","00ZZ000",null,{"$f":"ABS(OR(C2103=0,AND(MaxInput>1,M2103=INDEX(FFilter,AO$5))))","v":1},{"$f":"ABS(OR(C2103=0,AND(MaxInput>1,N2103=INDEX(FFilter,AP$5))))","v":1},{"$f":"ABS(OR(C2103=0,AND(MaxInput>1,O2103=INDEX(FFilter,AQ$5))))","v":1},null,null,null,null,null,null,null,null,null,null,{"$f":"ROW()","v":2103}]
[2096,"",null,null,null,null,null,null,null,null,null,null,"",{"$f":"IF(C2104=0,\"\",INDEX(Objekt_Text,D2104+1,2))","v":""},{"$f":"IF(C2104=0,\"\",INDEX(Objekt_Text,D2104+1,3))","v":""},"","",{"$f":"INDEX(Visum_Liste,F2104+1)&\"\"","v":""},"","ZZ",0,0,0,0,0,0,3,"",{"$f":"MIN(IF(W2104=$W$9:$W$2128,$E$9:$E$2128))","v":0},{"$f":"MAX(IF(W2104=$W$9:$W$2128,$E$9:$E$2128))","v":0},2096,1,1,null,null,1,null,"ZZ00000","00ZZ000",null,{"$f":"ABS(OR(C2104=0,AND(MaxInput>1,M2104=INDEX(FFilter,AO$5))))","v":1},{"$f":"ABS(OR(C2104=0,AND(MaxInput>1,N2104=INDEX(FFilter,AP$5))))","v":1},{"$f":"ABS(OR(C2104=0,AND(MaxInput>1,O2104=INDEX(FFilter,AQ$5))))","v":1},null,null,null,null,null,null,null,null,null,null,{"$f":"ROW()","v":2104}]
[2097,"",null,null,null,null,null,null,null,null,null,null,"",{"$f":"IF(C2105=0,\"\",INDEX(Objekt_Text,D2105+1,2))","v":""},{"$f":"IF(C2105=0,\"\",INDEX(Objekt_Text,D2105+1,3))","v":""},"","",{"$f":"INDEX(Visum_Liste,F2105+1)&\"\"","v":""},"","ZZ",0,0,0,0,0,0,3,"",{"$f":"MIN(IF(W2105=$W$9:$W$2128,$E$9:$E$2128))","v":0},{"$f":"MAX(IF(W2105=$W$9:$W$2128,$E$9:$E$2128))","v":0},2097,1,1,null,null,1,null,"ZZ00000","00ZZ000",null,{"$f":"ABS(OR(C2105=0,AND(MaxInput>1,M2105=INDEX(FFilter,AO$5))))","v":1},{"$f":"ABS(OR(C2105=0,AND(MaxInput>1,N2105=INDEX(FFilter,AP$5))))","v":1},{"$f":"ABS(OR(C2105=0,AND(MaxInput>1,O2105=INDEX(FFilter,AQ$5))))","v":1},null,null,null,null,null,null,null,null,null,null,{"$f":"ROW()","v":2105}]
[2098,"",null,null,null,null,null,null,null,null,null,null,"",{"$f":"IF(C2106=0,\"\",INDEX(Objekt_Text,D2106+1,2))","v":""},{"$f":"IF(C2106=0,\"\",INDEX(Objekt_Text,D2106+1,3))","v":""},"","",{"$f":"INDEX(Visum_Liste,F2106+1)&\"\"","v":""},"","ZZ",0,0,0,0,0,0,3,"",{"$f":"MIN(IF(W2106=$W$9:$W$2128,$E$9:$E$2128))","v":0},{"$f":"MAX(IF(W2106=$W$9:$W$2128,$E$9:$E$2128))","v":0},2098,1,1,null,null,1,null,"ZZ00000","00ZZ000",null,{"$f":"ABS(OR(C2106=0,AND(MaxInput>1,M2106=INDEX(FFilter,AO$5))))","v":1},{"$f":"ABS(OR(C2106=0,AND(MaxInput>1,N2106=INDEX(FFilter,AP$5))))","v":1},{"$f":"ABS(OR(C2106=0,AND(MaxInput>1,O2106=INDEX(FFilter,AQ$5))))","v":1},null,null,null,null,null,null,null,null,null,null,{"$f":"ROW()","v":2106}]
[2099,"",null,null,null,null,null,null,null,null,null,null,"",{"$f":"IF(C2107=0,\"\",INDEX(Objekt_Text,D2107+1,2))","v":""},{"$f":"IF(C2107=0,\"\",INDEX(Objekt_Text,D2107+1,3))","v":""},"","",{"$f":"INDEX(Visum_Liste,F2107+1)&\"\"","v":""},"","ZZ",0,0,0,0,0,0,3,"",{"$f":"MIN(IF(W2107=$W$9:$W$2128,$E$9:$E$2128))","v":0},{"$f":"MAX(IF(W2107=$W$9:$W$2128,$E$9:$E$2128))","v":0},2099,1,1,null,null,1,null,"ZZ00000","00ZZ000",null,{"$f":"ABS(OR(C2107=0,AND(MaxInput>1,M2107=INDEX(FFilter,AO$5))))","v":1},{"$f":"ABS(OR(C2107=0,AND(MaxInput>1,N2107=INDEX(FFilter,AP$5))))","v":1},{"$f":"ABS(OR(C2107=0,AND(MaxInput>1,O2107=INDEX(FFilter,AQ$5))))","v":1},null,null,null,null,null,null,null,null,null,null,{"$f":"ROW()","v":2107}]
[2100,"",null,null,null,null,null,null,null,null,null,null,"",{"$f":"IF(C2108=0,\"\",INDEX(Objekt_Text,D2108+1,2))","v":""},{"$f":"IF(C2108=0,\"\",INDEX(Objekt_Text,D2108+1,3))","v":""},"","",{"$f":"INDEX(Visum_Liste,F2108+1)&\"\"","v":""},"","ZZ",0,0,0,0,0,0,3,"",{"$f":"MIN(IF(W2108=$W$9:$W$2128,$E$9:$E$2128))","v":0},{"$f":"MAX(IF(W2108=$W$9:$W$2128,$E$9:$E$2128))","v":0},2100,1,1,null,null,1,null,"ZZ00000","00ZZ000",null,{"$f":"ABS(OR(C2108=0,AND(MaxInput>1,M2108=INDEX(FFilter,AO$5))))","v":1},{"$f":"ABS(OR(C2108=0,AND(MaxInput>1,N2108=INDEX(FFilter,AP$5))))","v":1},{"$f":"ABS(OR(C2108=0,AND(MaxInput>1,O2108=INDEX(FFilter,AQ$5))))","v":1},null,null,null,null,null,null,null,null,null,null,{"$f":"ROW()","v":2108}]
[2101,"",null,null,null,null,null,null,null,null,null,null,"",{"$f":"IF(C2109=0,\"\",INDEX(Objekt_Text,D2109+1,2))","v":""},{"$f":"IF(C2109=0,\"\",INDEX(Objekt_Text,D2109+1,3))","v":""},"","",{"$f":"INDEX(Visum_Liste,F2109+1)&\"\"","v":""},"","ZZ",0,0,0,0,0,0,3,"",{"$f":"MIN(IF(W2109=$W$9:$W$2128,$E$9:$E$2128))","v":0},{"$f":"MAX(IF(W2109=$W$9:$W$2128,$E$9:$E$2128))","v":0},2101,1,1,null,null,1,null,"ZZ00000","00ZZ000",null,{"$f":"ABS(OR(C2109=0,AND(MaxInput>1,M2109=INDEX(FFilter,AO$5))))","v":1},{"$f":"ABS(OR(C2109=0,AND(MaxInput>1,N2109=INDEX(FFilter,AP$5))))","v":1},{"$f":"ABS(OR(C2109=0,AND(MaxInput>1,O2109=INDEX(FFilter,AQ$5))))","v":1},null,null,null,null,null,null,null,null,null,null,{"$f":"ROW()","v":2109}]
[2102,"",null,null,null,null,null,null,null,null,null,null,"",{"$f":"IF(C2110=0,\"\",INDEX(Objekt_Text,D2110+1,2))","v":""},{"$f":"IF(C2110=0,\"\",INDEX(Objekt_Text,D2110+1,3))","v":""},"","",{"$f":"INDEX(Visum_Liste,F2110+1)&\"\"","v":""},"","ZZ",0,0,0,0,0,0,3,"",{"$f":"MIN(IF(W2110=$W$9:$W$2128,$E$9:$E$2128))","v":0},{"$f":"MAX(IF(W2110=$W$9:$W$2128,$E$9:$E$2128))","v":0},2102,1,1,null,null,1,null,"ZZ00000","00ZZ000",null,{"$f":"ABS(OR(C2110=0,AND(MaxInput>1,M2110=INDEX(FFilter,AO$5))))","v":1},{"$f":"ABS(OR(C2110=0,AND(MaxInput>1,N2110=INDEX(FFilter,AP$5))))","v":1},{"$f":"ABS(OR(C2110=0,AND(MaxInput>1,O2110=INDEX(FFilter,AQ$5))))","v":1},null,null,null,null,null,null,null,null,null,null,{"$f":"ROW()","v":2110}]
[2103,"",null,null,null,null,null,null,null,null,null,null,"",{"$f":"IF(C2111=0,\"\",INDEX(Objekt_Text,D2111+1,2))","v":""},{"$f":"IF(C2111=0,\"\",INDEX(Objekt_Text,D2111+1,3))","v":""},"","",{"$f":"INDEX(Visum_Liste,F2111+1)&\"\"","v":""},"","ZZ",0,0,0,0,0,0,3,"",{"$f":"MIN(IF(W2111=$W$9:$W$2128,$E$9:$E$2128))","v":0},{"$f":"MAX(IF(W2111=$W$9:$W$2128,$E$9:$E$2128))","v":0},2103,1,1,null,null,1,null,"ZZ00000","00ZZ000",null,{"$f":"ABS(OR(C2111=0,AND(MaxInput>1,M2111=INDEX(FFilter,AO$5))))","v":1},{"$f":"ABS(OR(C2111=0,AND(MaxInput>1,N2111=INDEX(FFilter,AP$5))))","v":1},{"$f":"ABS(OR(C2111=0,AND(MaxInput>1,O2111=INDEX(FFilter,AQ$5))))","v":1},null,null,null,null,null,null,null,null,null,null,{"$f":"ROW()","v":2111}]
[2104,"",null,null,null,null,null,null,null,null,null,null,"",{"$f":"IF(C2112=0,\"\",INDEX(Objekt_Text,D2112+1,2))","v":""},{"$f":"IF(C2112=0,\"\",INDEX(Objekt_Text,D2112+1,3))","v":""},"","",{"$f":"INDEX(Visum_Liste,F2112+1)&\"\"","v":""},"","ZZ",0,0,0,0,0,0,3,"",{"$f":"MIN(IF(W2112=$W$9:$W$2128,$E$9:$E$2128))","v":0},{"$f":"MAX(IF(W2112=$W$9:$W$2128,$E$9:$E$2128))","v":0},2104,1,1,null,null,1,null,"ZZ00000","00ZZ000",null,{"$f":"ABS(OR(C2112=0,AND(MaxInput>1,M2112=INDEX(FFilter,AO$5))))","v":1},{"$f":"ABS(OR(C2112=0,AND(MaxInput>1,N2112=INDEX(FFilter,AP$5))))","v":1},{"$f":"ABS(OR(C2112=0,AND(MaxInput>1,O2112=INDEX(FFilter,AQ$5))))","v":1},null,null,null,null,null,null,null,null,null,null,{"$f":"ROW()","v":2112}]
[2105,"",null,null,null,null,null,null,null,null,null,null,"",{"$f":"IF(C2113=0,\"\",INDEX(Objekt_Text,D2113+1,2))","v":""},{"$f":"IF(C2113=0,\"\",INDEX(Objekt_Text,D2113+1,3))","v":""},"","",{"$f":"INDEX(Visum_Liste,F2113+1)&\"\"","v":""},"","ZZ",0,0,0,0,0,0,3,"",{"$f":"MIN(IF(W2113=$W$9:$W$2128,$E$9:$E$2128))","v":0},{"$f":"MAX(IF(W2113=$W$9:$W$2128,$E$9:$E$2128))","v":0},2105,1,1,null,null,1,null,"ZZ00000","00ZZ000",null,{"$f":"ABS(OR(C2113=0,AND(MaxInput>1,M2113=INDEX(FFilter,AO$5))))","v":1},{"$f":"ABS(OR(C2113=0,AND(MaxInput>1,N2113=INDEX(FFilter,AP$5))))","v":1},{"$f":"ABS(OR(C2113=0,AND(MaxInput>1,O2113=INDEX(FFilter,AQ$5))))","v":1},null,null,null,null,null,null,null,null,null,null,{"$f":"ROW()","v":2113}]
[2106,"",null,null,null,null,null,null,null,null,null,null,"",{"$f":"IF(C2114=0,\"\",INDEX(Objekt_Text,D2114+1,2))","v":""},{"$f":"IF(C2114=0,\"\",INDEX(Objekt_Text,D2114+1,3))","v":""},"","",{"$f":"INDEX(Visum_Liste,F2114+1)&\"\"","v":""},"","ZZ",0,0,0,0,0,0,3,"",{"$f":"MIN(IF(W2114=$W$9:$W$2128,$E$9:$E$2128))","v":0},{"$f":"MAX(IF(W2114=$W$9:$W$2128,$E$9:$E$2128))","v":0},2106,1,1,null,null,1,null,"ZZ00000","00ZZ000",null,{"$f":"ABS(OR(C2114=0,AND(MaxInput>1,M2114=INDEX(FFilter,AO$5))))","v":1},{"$f":"ABS(OR(C2114=0,AND(MaxInput>1,N2114=INDEX(FFilter,AP$5))))","v":1},{"$f":"ABS(OR(C2114=0,AND(MaxInput>1,O2114=INDEX(FFilter,AQ$5))))","v":1},null,null,null,null,null,null,null,null,null,null,{"$f":"ROW()","v":2114}]
[2107,"",null,null,null,null,null,null,null,null,null,null,"",{"$f":"IF(C2115=0,\"\",INDEX(Objekt_Text,D2115+1,2))","v":""},{"$f":"IF(C2115=0,\"\",INDEX(Objekt_Text,D2115+1,3))","v":""},"","",{"$f":"INDEX(Visum_Liste,F2115+1)&\"\"","v":""},"","ZZ",0,0,0,0,0,0,3,"",{"$f":"MIN(IF(W2115=$W$9:$W$2128,$E$9:$E$2128))","v":0},{"$f":"MAX(IF(W2115=$W$9:$W$2128,$E$9:$E$2128))","v":0},2107,1,1,null,null,1,null,"ZZ00000","00ZZ000",null,{"$f":"ABS(OR(C2115=0,AND(MaxInput>1,M2115=INDEX(FFilter,AO$5))))","v":1},{"$f":"ABS(OR(C2115=0,AND(MaxInput>1,N2115=INDEX(FFilter,AP$5))))","v":1},{"$f":"ABS(OR(C2115=0,AND(MaxInput>1,O2115=INDEX(FFilter,AQ$5))))","v":1},null,null,null,null,null,null,null,null,null,null,{"$f":"ROW()","v":2115}]
[2108,"",null,null,null,null,null,null,null,null,null,null,"",{"$f":"IF(C2116=0,\"\",INDEX(Objekt_Text,D2116+1,2))","v":""},{"$f":"IF(C2116=0,\"\",INDEX(Objekt_Text,D2116+1,3))","v":""},"","",{"$f":"INDEX(Visum_Liste,F2116+1)&\"\"","v":""},"","ZZ",0,0,0,0,0,0,3,"",{"$f":"MIN(IF(W2116=$W$9:$W$2128,$E$9:$E$2128))","v":0},{"$f":"MAX(IF(W2116=$W$9:$W$2128,$E$9:$E$2128))","v":0},2108,1,1,null,null,1,null,"ZZ00000","00ZZ000",null,{"$f":"ABS(OR(C2116=0,AND(MaxInput>1,M2116=INDEX(FFilter,AO$5))))","v":1},{"$f":"ABS(OR(C2116=0,AND(MaxInput>1,N2116=INDEX(FFilter,AP$5))))","v":1},{"$f":"ABS(OR(C2116=0,AND(MaxInput>1,O2116=INDEX(FFilter,AQ$5))))","v":1},null,null,null,null,null,null,null,null,null,null,{"$f":"ROW()","v":2116}]
[2109,"",null,null,null,null,null,null,null,null,null,null,"",{"$f":"IF(C2117=0,\"\",INDEX(Objekt_Text,D2117+1,2))","v":""},{"$f":"IF(C2117=0,\"\",INDEX(Objekt_Text,D2117+1,3))","v":""},"","",{"$f":"INDEX(Visum_Liste,F2117+1)&\"\"","v":""},"","ZZ",0,0,0,0,0,0,3,"",{"$f":"MIN(IF(W2117=$W$9:$W$2128,$E$9:$E$2128))","v":0},{"$f":"MAX(IF(W2117=$W$9:$W$2128,$E$9:$E$2128))","v":0},2109,1,1,null,null,1,null,"ZZ00000","00ZZ000",null,{"$f":"ABS(OR(C2117=0,AND(MaxInput>1,M2117=INDEX(FFilter,AO$5))))","v":1},{"$f":"ABS(OR(C2117=0,AND(MaxInput>1,N2117=INDEX(FFilter,AP$5))))","v":1},{"$f":"ABS(OR(C2117=0,AND(MaxInput>1,O2117=INDEX(FFilter,AQ$5))))","v":1},null,null,null,null,null,null,null,null,null,null,{"$f":"ROW()","v":2117}]
[2110,"",null,null,null,null,null,null,null,null,null,null,"",{"$f":"IF(C2118=0,\"\",INDEX(Objekt_Text,D2118+1,2))","v":""},{"$f":"IF(C2118=0,\"\",INDEX(Objekt_Text,D2118+1,3))","v":""},"","",{"$f":"INDEX(Visum_Liste,F2118+1)&\"\"","v":""},"","ZZ",0,0,0,0,0,0,3,"",{"$f":"MIN(IF(W2118=$W$9:$W$2128,$E$9:$E$2128))","v":0},{"$f":"MAX(IF(W2118=$W$9:$W$2128,$E$9:$E$2128))","v":0},2110,1,1,null,null,1,null,"ZZ00000","00ZZ000",null,{"$f":"ABS(OR(C2118=0,AND(MaxInput>1,M2118=INDEX(FFilter,AO$5))))","v":1},{"$f":"ABS(OR(C2118=0,AND(MaxInput>1,N2118=INDEX(FFilter,AP$5))))","v":1},{"$f":"ABS(OR(C2118=0,AND(MaxInput>1,O2118=INDEX(FFilter,AQ$5))))","v":1},null,null,null,null,null,null,null,null,null,null,{"$f":"ROW()","v":2118}]
[2111,"",null,null,null,null,null,null,null,null,null,null,"",{"$f":"IF(C2119=0,\"\",INDEX(Objekt_Text,D2119+1,2))","v":""},{"$f":"IF(C2119=0,\"\",INDEX(Objekt_Text,D2119+1,3))","v":""},"","",{"$f":"INDEX(Visum_Liste,F2119+1)&\"\"","v":""},"","ZZ",0,0,0,0,0,0,3,"",{"$f":"MIN(IF(W2119=$W$9:$W$2128,$E$9:$E$2128))","v":0},{"$f":"MAX(IF(W2119=$W$9:$W$2128,$E$9:$E$2128))","v":0},2111,1,1,null,null,1,null,"ZZ00000","00ZZ000",null,{"$f":"ABS(OR(C2119=0,AND(MaxInput>1,M2119=INDEX(FFilter,AO$5))))","v":1},{"$f":"ABS(OR(C2119=0,AND(MaxInput>1,N2119=INDEX(FFilter,AP$5))))","v":1},{"$f":"ABS(OR(C2119=0,AND(MaxInput>1,O2119=INDEX(FFilter,AQ$5))))","v":1},null,null,null,null,null,null,null,null,null,null,{"$f":"ROW()","v":2119}]
[2112,"",null,null,null,null,null,null,null,null,null,null,"",{"$f":"IF(C2120=0,\"\",INDEX(Objekt_Text,D2120+1,2))","v":""},{"$f":"IF(C2120=0,\"\",INDEX(Objekt_Text,D2120+1,3))","v":""},"","",{"$f":"INDEX(Visum_Liste,F2120+1)&\"\"","v":""},"","ZZ",0,0,0,0,0,0,3,"",{"$f":"MIN(IF(W2120=$W$9:$W$2128,$E$9:$E$2128))","v":0},{"$f":"MAX(IF(W2120=$W$9:$W$2128,$E$9:$E$2128))","v":0},2112,1,1,null,null,1,null,"ZZ00000","00ZZ000",null,{"$f":"ABS(OR(C2120=0,AND(MaxInput>1,M2120=INDEX(FFilter,AO$5))))","v":1},{"$f":"ABS(OR(C2120=0,AND(MaxInput>1,N2120=INDEX(FFilter,AP$5))))","v":1},{"$f":"ABS(OR(C2120=0,AND(MaxInput>1,O2120=INDEX(FFilter,AQ$5))))","v":1},null,null,null,null,null,null,null,null,null,null,{"$f":"ROW()","v":2120}]
[2113,{"$f":"IF(C2121>0,ROW()-8,\"\")","v":""},null,null,null,null,null,null,null,null,null,null,{"$f":"IF(C2121=0,\"\",IFERROR(VLOOKUP($C2121,SLTabelle,cSLName,FALSE),\"\"))","v":""},{"$f":"IF(C2121=0,\"\",INDEX(Objekt_Text,D2121+1,2))","v":""},{"$f":"IF(C2121=0,\"\",INDEX(Objekt_Text,D2121+1,3))","v":""},{"$f":"IF($H2121=\"\",\"\",$H2121)","v":""},{"$f":"IF($I2121=\"\",\"\",$I2121)","v":""},{"$f":"INDEX(Visum_Liste,F2121+1)&\"\"","v":""},{"$f":"IF($J2121=\"\",\"\",$J2121)","v":""},{"$f":"IF(M2121=\"\",\"ZZ\",M2121)","v":"ZZ"},{"$f":"IF(C2121>0,COUNTIF($W$9:$W$2128,W2121),0)","v":0},{"$f":"SUMIFS($E$9:$E$2128,$W$9:$W$2128,W2121)","v":0},{"$f":"C2121*100+D2121","v":0},{"$f":"AND(C2121>0,E2121=AD2121)*1","v":0},{"$f":"(COUNT(P2121:Q2121)=2)*1","v":0},{"$f":"F2121*10+X2121","v":0},{"$f":"IF(X2121=0,3,X2121*F2121)","v":3},{"$f":"IF(OR((C2121>0),ROW()<LastRow+8),\"A\",\"\")","v":""},{"$f":"MIN(IF(W2121=$W$9:$W$2128,$E$9:$E$2128))","v":0},{"$f":"MAX(IF(W2121=$W$9:$W$2128,$E$9:$E$2128))","v":0},2113,1,1,null,null,1,null,{"$f":"T2121&TEXT(D2121,\"00\")&TEXT(E2121,\"000\")","v":"ZZ00000"},{"$f":"TEXT(D2121,\"00\")&T2121&TEXT(E2121,\"000\")","v":"00ZZ000"},null,{"$f":"ABS(OR(C2121=0,AND(MaxInput>1,M2121=INDEX(FFilter,AO$5))))","v":1},{"$f":"ABS(OR(C2121=0,AND(MaxInput>1,N2121=INDEX(FFilter,AP$5))))","v":1},{"$f":"ABS(OR(C2121=0,AND(MaxInput>1,O2121=INDEX(FFilter,AQ$5))))","v":1},null,null,null,null,null,null,null,null,null,null,{"$f":"ROW()","v":2121}]
[2114,"",null,null,null,null,null,null,null,null,null,null,"",{"$f":"IF(C2122=0,\"\",INDEX(Objekt_Text,D2122+1,2))","v":""},{"$f":"IF(C2122=0,\"\",INDEX(Objekt_Text,D2122+1,3))","v":""},"","",{"$f":"INDEX(Visum_Liste,F2122+1)&\"\"","v":""},"","ZZ",0,0,0,0,0,0,3,"",{"$f":"MIN(IF(W2122=$W$9:$W$2128,$E$9:$E$2128))","v":0},{"$f":"MAX(IF(W2122=$W$9:$W$2128,$E$9:$E$2128))","v":0},2114,1,1,null,null,{"$f":"OR(L2122<=L2121,B2122=\"\")*1","v":1},null,"ZZ00000","00ZZ000",null,{"$f":"ABS(OR(C2122=0,AND(MaxInput>1,M2122=INDEX(FFilter,AO$5))))","v":1},{"$f":"ABS(OR(C2122=0,AND(MaxInput>1,N2122=INDEX(FFilter,AP$5))))","v":1},{"$f":"ABS(OR(C2122=0,AND(MaxInput>1,O2122=INDEX(FFilter,AQ$5))))","v":1},null,null,null,null,null,null,null,null,null,null,{"$f":"ROW()","v":2122}]
[2115,"",null,null,null,null,null,null,null,null,null,null,"",{"$f":"IF(C2123=0,\"\",INDEX(Objekt_Text,D2123+1,2))","v":""},{"$f":"IF(C2123=0,\"\",INDEX(Objekt_Text,D2123+1,3))","v":""},"","",{"$f":"INDEX(Visum_Liste,F2123+1)&\"\"","v":""},"","ZZ",0,0,0,0,0,0,3,"",{"$f":"MIN(IF(W2123=$W$9:$W$2128,$E$9:$E$2128))","v":0},{"$f":"MAX(IF(W2123=$W$9:$W$2128,$E$9:$E$2128))","v":0},2115,1,1,null,null,1,null,"ZZ00000","00ZZ000",null,{"$f":"ABS(OR(C2123=0,AND(MaxInput>1,M2123=INDEX(FFilter,AO$5))))","v":1},{"$f":"ABS(OR(C2123=0,AND(MaxInput>1,N2123=INDEX(FFilter,AP$5))))","v":1},{"$f":"ABS(OR(C2123=0,AND(MaxInput>1,O2123=INDEX(FFilter,AQ$5))))","v":1},null,null,null,null,null,null,null,null,null,null,{"$f":"ROW()","v":2123}]
[2116,"",null,null,null,null,null,null,null,null,null,null,"",{"$f":"IF(C2124=0,\"\",INDEX(Objekt_Text,D2124+1,2))","v":""},{"$f":"IF(C2124=0,\"\",INDEX(Objekt_Text,D2124+1,3))","v":""},"","",{"$f":"INDEX(Visum_Liste,F2124+1)&\"\"","v":""},"","ZZ",0,0,0,0,0,0,3,"",{"$f":"MIN(IF(W2124=$W$9:$W$2128,$E$9:$E$2128))","v":0},{"$f":"MAX(IF(W2124=$W$9:$W$2128,$E$9:$E$2128))","v":0},2116,1,1,null,null,1,null,"ZZ00000","00ZZ000",null,{"$f":"ABS(OR(C2124=0,AND(MaxInput>1,M2124=INDEX(FFilter,AO$5))))","v":1},{"$f":"ABS(OR(C2124=0,AND(MaxInput>1,N2124=INDEX(FFilter,AP$5))))","v":1},{"$f":"ABS(OR(C2124=0,AND(MaxInput>1,O2124=INDEX(FFilter,AQ$5))))","v":1},null,null,null,null,null,null,null,null,null,null,{"$f":"ROW()","v":2124}]
[2117,"",null,null,null,null,null,null,null,null,null,null,"",{"$f":"IF(C2125=0,\"\",INDEX(Objekt_Text,D2125+1,2))","v":""},{"$f":"IF(C2125=0,\"\",INDEX(Objekt_Text,D2125+1,3))","v":""},"","",{"$f":"INDEX(Visum_Liste,F2125+1)&\"\"","v":""},"","ZZ",0,0,0,0,0,0,3,"",{"$f":"MIN(IF(W2125=$W$9:$W$2128,$E$9:$E$2128))","v":0},{"$f":"MAX(IF(W2125=$W$9:$W$2128,$E$9:$E$2128))","v":0},2117,1,1,null,null,1,null,"ZZ00000","00ZZ000",null,{"$f":"ABS(OR(C2125=0,AND(MaxInput>1,M2125=INDEX(FFilter,AO$5))))","v":1},{"$f":"ABS(OR(C2125=0,AND(MaxInput>1,N2125=INDEX(FFilter,AP$5))))","v":1},{"$f":"ABS(OR(C2125=0,AND(MaxInput>1,O2125=INDEX(FFilter,AQ$5))))","v":1},null,null,null,null,null,null,null,null,null,null,{"$f":"ROW()","v":2125}]
[2118,"",null,null,null,null,null,null,null,null,null,null,"",{"$f":"IF(C2126=0,\"\",INDEX(Objekt_Text,D2126+1,2))","v":""},{"$f":"IF(C2126=0,\"\",INDEX(Objekt_Text,D2126+1,3))","v":""},"","",{"$f":"INDEX(Visum_Liste,F2126+1)&\"\"","v":""},"","ZZ",0,0,0,0,0,0,3,"",{"$f":"MIN(IF(W2126=$W$9:$W$2128,$E$9:$E$2128))","v":0},{"$f":"MAX(IF(W2126=$W$9:$W$2128,$E$9:$E$2128))","v":0},2118,1,1,null,null,1,null,"ZZ00000","00ZZ000",null,{"$f":"ABS(OR(C2126=0,AND(MaxInput>1,M2126=INDEX(FFilter,AO$5))))","v":1},{"$f":"ABS(OR(C2126=0,AND(MaxInput>1,N2126=INDEX(FFilter,AP$5))))","v":1},{"$f":"ABS(OR(C2126=0,AND(MaxInput>1,O2126=INDEX(FFilter,AQ$5))))","v":1},null,null,null,null,null,null,null,null,null,null,{"$f":"ROW()","v":2126}]
[2119,"",null,null,null,null,null,null,null,null,null,null,"",{"$f":"IF(C2127=0,\"\",INDEX(Objekt_Text,D2127+1,2))","v":""},{"$f":"IF(C2127=0,\"\",INDEX(Objekt_Text,D2127+1,3))","v":""},"","",{"$f":"INDEX(Visum_Liste,F2127+1)&\"\"","v":""},"","ZZ",0,0,0,0,0,0,3,"",{"$f":"MIN(IF(W2127=$W$9:$W$2128,$E$9:$E$2128))","v":0},{"$f":"MAX(IF(W2127=$W$9:$W$2128,$E$9:$E$2128))","v":0},2119,1,1,null,null,1,null,"ZZ00000","00ZZ000",null,{"$f":"ABS(OR(C2127=0,AND(MaxInput>1,M2127=INDEX(FFilter,AO$5))))","v":1},{"$f":"ABS(OR(C2127=0,AND(MaxInput>1,N2127=INDEX(FFilter,AP$5))))","v":1},{"$f":"ABS(OR(C2127=0,AND(MaxInput>1,O2127=INDEX(FFilter,AQ$5))))","v":1},null,null,null,null,null,null,null,null,null,null,{"$f":"ROW()","v":2127}]
[2120,"",null,null,null,null,null,null,null,null,null,null,"",{"$f":"IF(C2128=0,\"\",INDEX(Objekt_Text,D2128+1,2))","v":""},{"$f":"IF(C2128=0,\"\",INDEX(Objekt_Text,D2128+1,3))","v":""},"","",{"$f":"INDEX(Visum_Liste,F2128+1)&\"\"","v":""},"","ZZ",0,0,0,0,0,0,3,"",{"$f":"MIN(IF(W2128=$W$9:$W$2128,$E$9:$E$2128))","v":0},{"$f":"MAX(IF(W2128=$W$9:$W$2128,$E$9:$E$2128))","v":0},2120,1,1,null,null,1,null,"ZZ00000","00ZZ000",null,{"$f":"ABS(OR(C2128=0,AND(MaxInput>1,M2128=INDEX(FFilter,AO$5))))","v":1},{"$f":"ABS(OR(C2128=0,AND(MaxInput>1,N2128=INDEX(FFilter,AP$5))))","v":1},{"$f":"ABS(OR(C2128=0,AND(MaxInput>1,O2128=INDEX(FFilter,AQ$5))))","v":1},null,null,null,null,null,null,null,null,null,null,{"$f":"ROW()","v":2128}]
[]
[]
[]
[]
[]
[null,null,"colSL","colONr","colPos","colStat","colAkt","colErstellt","colVisiert","colPdf","colXlsm","colStamp","colName","colObjekt","colZeitraum",null,"colVisiert",null,null,"colDummySort","colAnz","colSum","colZus","colAkt2","colVis","colFC","colFC2","colDummy"]
[null,null,{"$f":"COLUMN()-1","v":2},{"$f":"COLUMN()-1","v":3},4,5,6,7,8,9,10,{"$f":"COLUMN()-1","v":11},{"$f":"COLUMN()-1","v":12},{"$f":"COLUMN()-1","v":13},{"$f":"COLUMN()-1","v":14},null,{"$f":"COLUMN()-1","v":16},null,null,{"$f":"COLUMN()-1","v":19},{"$f":"COLUMN()-1","v":20},21,22,23,24,25,26,27,28,29,30]

{"sheet":"Einstellungen","index":2,"n_rows":40,"n_cols":20,"rows_kept":40,"cut":false,"hidden":false,"merged":[[1,6,4,8],[1,1,2,2],[6,6,8,8],[29,2,29,8],[3,1,4,2],[13,4,15,8],[5,1,5,2],[32,10,36,14],[39,10,43,14],[29,10,29,14],[32,2,36,8],[39,2,43,8],[17,18,19,22],[20,18,22,22],[19,10,19,13],[18,2,18,4],[22,10,22,13]]}
[]
[null,{"$f":"ToolVer","v":"VG-Tool 1.06 "},null,null,null,null,"Dieses Tool beinhaltet viele Makros, die für verschiedene Konfigurationen von Betriebssystem und Office-Version erstellt wurden.",null,null,null,null,"Erstellt und geprüft für Pc und Mac (Office 32 bit und 64 bit)"]
[null,null,null,null,null,null,null,null,null,null,null,"- Microsoft Office 365"]
[null,"Verwaltung und Visierung von\nSL-Zeiterfassungen",null,null,null,null,null,null,null,null,null,"- Microsoft Office 2019/2021"]
[null,null,null,null,null,null,null,null,null,null,null,"- Microsoft Office 2016 (nur mit letzten Updates)"]
[null,{"$f":"IF(VSATestModus=TRUE(),\"VSA-Modus!\",\"\")","v":""},null,null,null,null,null,null,null,null,null,"- Microsoft Office 2013 (nur Windows)"]
[null,null,null,null,null,null,"Es ist unerlässlich, dass Sie zumindest bevor sie die ersten Funktionen benutzen, diesen Test durchführen: "]
[null,null,null,null,null,null,null,null,null,null,null,"Nicht unterstützt werden:"]
[null,null,null,null,null,null,null,null,null,null,null,"- Microsoft Office 2007"]
[null,null,null,null,null,null,null,null,null,null,null,"- Microsoft Office 2010"]
[null,null,null,null,null,null,null,null,null,null,null,"- Microsoft Office 2011 für Macintosh"]
[]
[null,"Einstellungen"]
[null,null,null,null,{"$f":"IF(S17=1,S18,S21)","v":"Geben Sie hier das Erfassungsjahr ein.Falls Sie dieses Tool als Update verwenden, muss das Erfassungsjahr Ihrem bestehenden Jahr entsprechen."}]
[null,"Erfassungsjahr:"]
[]
[null,null,null,null,null,null,null,null,null,null,null,null,null,null,null,null,null,null,{"$f":"ABS(_xlfn.ISFORMULA(VG_Jahr))","v":1},"(VG_Jahr ist eine Formel)"]
[null,null,null,null,null,null,null,null,null,null,null,null,null,null,null,null,null,null,"Geben Sie hier das Erfassungsjahr ein.Falls Sie dieses Tool als Update verwenden, muss das Erfassungsjahr Ihrem bestehenden Jahr entsprechen."]
[null,"E-Mail-Adresse:",null,null,null,"(für die Visierung der Zwischendateien)",null,null,null,null,"Button \"SL entfernen\" und \"Zeile entfernen\":"]
[null,null,null,null,null,null,null,null,null,null,"Ausblenden"]
[null,null,null,null,null,null,null,null,null,null,null,null,null,null,null,null,null,null,"Beim Wechsel auf das Folgejahr:\nDieses Tool wird als Kopie mit der Jahreszahl gespeichert. Danach  werden alle Daten in den Details zurückgesetzt!"]
[null,"Beim Öffnen einer Zwischendatei zusätzlich einblenden:",null,null,null,null,null,null,null,null,"Optional für alle Steuerungs-Zeilen"]
[null,"Jahresabrechnung","Nein",null," (Ja: Wird eingeblendet und im Pdf abgebildet)",null,null,null,null,null,"Alles normal einstellen"]
[null,"Logbuch","Nein",null," (Ja: Wird eingeblendet, aber im Pdf nicht abgebildet)"]
[null,null,null,null,null,null,null,null,null,null,"Zeilen-Positionslinien anzeigen",null,null,"Ja"]
[null,"Standard-Texte","Freiwillig für Antworten an Schulleiter/innen, beim Visieren."]
[null,null,"Wählen sie: 'Nicht verwenden', 'Mit Bestätigung' oder 'Automatisch'"]
[null,null,"Ausdrücke in [KLAMMERN] sind Variable, hier für Objekt und Zwischendateiname."]
[null,null,null,null,null,null,null,null,null,null,"Als Beispiel:"]
[null,"Betreff:","Visierung [DOKUMENT] ",null,null,null,null,null,null,null,"Visierung Monatsblatt Mai"]
[]
[null,null,"Bei Visierung  abgelehnt:"]
[null,"Mit Bestätigung","Guten Tag\nDie Zwischendatei \n[FILENAME]\nwurde abgelehnt.\nBitte korrigieren Sie folgendes:\n",null,null,null,null,null,null,null,"Guten Tag\nDie Zwischendatei \nPeter Muster_123456_Monatsblatt_2021 05_20210615.xlsx\nwurde abgelehnt.\nBitte korrigieren Sie folgendes:\n"]
[]
[]
[]
[]
[]
[null,null,"Bei Visierung  genehmigt:"]
[null,"Mit Bestätigung","Guten Tag\nDie Zwischendatei \n[FILENAME]\nwurde genehmigt.",null,null,null,null,null,null,null,"Guten Tag\nDie Zwischendatei \nPeter Muster_123456_Monatsblatt_2021 05_20210615.xlsx\nwurde genehmigt."]

{"sheet":"Intern","index":3,"n_rows":63,"n_cols":30,"rows_kept":63,"cut":false,"hidden":true,"merged":[]}
[null,"VG_Jahr",{"$f":"YEAR(TODAY())","v":2023},{"$f":"IF(_xlfn.ISFORMULA(VG_Jahr),VG_Jahr-1,VG_Jahr+1)","v":2022},"Testdatum:",null,null,null,null,null,null,null,null,null,null,null,null,null,"Farbcode"]
[null,"Toolname:","VG-Tool",null,"Heute:",{"$f":"IF(ISBLANK(F1),TODAY(),F1)","v":"2023-12-09"},null,null,null,"Versionen",null,null,"Sprachcodes",null,"Erfasst",null,null,null,10,"abgelehnt","überholter Eintrag"]
[null,"Toolversion:",1.06,{"$f":"Toolversion*100","v":106},null,null,null,null,"OS","Office","Ver","Installiert","Oberfläche","Hilfe","Timestamp",null,null,null,20,"genehmigt","überholter Eintrag"]
[null,"ToolTest:",null,null,null,null,null,null," "," "," "," "," "," "," ",1,null,null,11,"abgelehnt","aktueller Eintrag"]
[null,"ToolVer:",{"$f":"Toolname&\" \" &TEXT(Toolversion,\"0.00\")&\" \"&ToolTest","v":"VG-Tool 1.06 "},null,null,null,null,"1. Kontrolle",null,null,null,null,null,null,null,{"$f":"NOT(I5=\"\")*2","v":0},null,null,21,"genehmigt","aktueller Eintrag"]
[null,null,null,null,null,null,null,"2. Kontrolle",null,null,null,null,null,null,null,{"$f":"NOT(I6=\"\")*3","v":0}]
[null,null,null,null,null,null,null,"3. Kontrolle",null,null,null,null,null,null,null,{"$f":"NOT(I7=\"\")*4","v":0},null,null,"Objekt_Text"]
[null,null,null,null,null,null,null,null,null,null,null,null,null,null,null,null,null,null,"ONr","OName","OTx",null,"Visum_Liste"]
[null,"Für PC und Mac: alle Ordner werden automatisch angelegt",null,null,null,null,null,"Aktuell",{"$f":"INDEX(I4:I7,$P9)","v":" "},{"$f":"INDEX(J4:J7,$P9)","v":" "},{"$f":"INDEX(K4:K7,$P9)","v":" "},{"$f":"INDEX(L4:L7,$P9)","v":" "},{"$f":"INDEX(M4:M7,$P9)","v":" "},{"$f":"INDEX(N4:N7,$P9)","v":" "},{"$f":"INDEX(O4:O7,$P9)","v":" "},{"$f":"MAX(P4:P7)","v":1},null,null,0,"Basisblatt",{"$f":"VG_Jahr","v":2023}]
[null,null,null,null,null,null,null,null,null,null,null,null,null,null,null,null,null,null,1,"Monatsblatt","Januar",null,"abgelehnt"]
[null,"Stammordner:","Ordner dieses Tools",null,null,null,null,null,"Win",365,16,null,"Soll (optimal)",null,null,null,null,null,2,"Monatsblatt","Februar",null,"genehmigt"]
[null,"Name Sammelordner:","Sammelordner",null,null,null,null,null,"Mac",2019,15,2055,1031,1031,"Eintragzähler:",null,null,null,3,"Monatsblatt","März"]
[null,"Name Masterordner:","Masterordner","auto",null,null,null,null,null,2016,null,"DE-CH","DE_DE","DE_DE",null,null,null,null,4,"Monatsblatt","April",null,"Objekt_Liste"]
[null,"Master-Jahr-Ordner","Master\\Unterordner","auto",null,null,null,null,null,null,null,null,null,null,null,null,null,null,5,"Monatsblatt","Mai"]
[null,"Master-Jahr-SL-Ordner","Master\\Jahr\\Unterordner","auto",null,null,null,"Die OS Version wird bei jedem Visieren überprüft, Wenn OS abweicht: Neue Zeile (max. 3, dann Reset und Zeile 1)",null,null,null,null,null,null,null,null,null,null,6,"Monatsblatt","Juni",null,"Basisblatt"]
[null,"MailVerwenden",{"$f":"NOT(AND(VGMailAktion1=\"Nicht verwenden\",VGMailAktion2=\"Nicht verwenden\"))","v":true},null,null,null,null,null,null,null,null,null,null,null,null,null,null,null,7,"Monatsblatt","Juli",null,"Monatsblatt"]
[null,null,null,null,null,null,null,"Testresultat",null,"Minimale Nr. akzeptiert: 3",null,null,null,null,null,null,null,null,8,"Monatsblatt","August",null,"Jahresabrechnung"]
[null,null,null,null,null,null,null,"Test Ver",null,null,null,null,null,null,null,null,null,null,9,"Monatsblatt","September"]
[null,null,null,null,null,null,null,"DirSuffix",null,"Dir Directory endet mit...(oder leer)",null,null,null,null,null,null,null,null,10,"Monatsblatt","Oktober",null,null,"MonateP"]
[null,null,null,null,null,null,null,"DirFehler",null,"Dir (File) funktioniert nicht?",null,null,null,null,null,null,null,null,11,"Monatsblatt","November",null,null,{"$f":"DATE(VG_Jahr,Y20,1)","v":"2023-01-01"},1,0,null,{"$f":"VLOOKUP(X20,MonateP,3)","v":0},"Basisblatt"]
[null,null,null,null,null,null,null,null,null,null,null,null,null,null,null,null,null,null,12,"Monatsblatt","Dezember",null,null,"2023-02-01",2,1,null,1,"Januar"]
[null,null,null,null,null,null,null,"Leer:","Testbutton sichtbar",null,null,null,null,null,null,null,null,null,13,"Jahresabrechnung",{"$f":"VG_Jahr","v":2023},null,null,"2023-03-01",3,2,null,2,"Februar"]
[null,null,null,null,null,null,null,"Fehler 0:","Zu geringe Excelversion",null,null,null,null,null,null,null,null,null,null,null,null,null,null,"2023-04-01",4,3,null,3,"März"]
[null,null,null,null,null,null,null,"Fehler 1:","Masterordner kann nicht angelegt werden",null,null,null,null,null,null,null,null,null,"ObNrName",null,"Kontrollen",null,null,"2023-05-01",5,4,null,4,"April"]
[null,null,null,null,"Benutzer (Maske)",null,null,"Fehler 2:","Testdatei kann nicht erstellt werden",null,null,null,null,null,null,null,null,null,0,"Basisblatt",1,null,null,"2023-06-01",6,5,null,5,"Mai"]
[null,"Im VSA Test-Modus",false,"Zugelassen:","B252*",{"$f":"IF(VSATestModus=TRUE(),\"VSA-Modus!\",\"\")","v":""},null,"Fehler 3:","Umbenennen der Testdatei fehlgeschlagen",null,null,null,null,null,null,null,null,null,1,"Januar",2,null,null,"2023-07-01",7,6,null,6,"Juni"]
[null,null,null,null,null,null,null,"Fehler 4:","Umbenannte Datei löschen fehlgeschlagen",null,null,null,null,null,null,null,null,null,2,"Februar",3,null,null,"2023-08-01",8,7,null,7,"Juli"]
[null,null,null,null,null,null,null,"Fehler 8:","Datei kann mit \"Dir()\" nicht angesprochen werden",null,null,null,null,null,null,null,null,null,3,"März",4,null,null,"2023-09-01",9,8,null,8,"August"]
[null,"Keine Exportfragen:",true,null,null,null,null,"OK (9)",null,null,null,null,null,null,null,null,null,null,4,"April",5,null,null,"2023-10-01",10,9,null,9,"September"]
[null,null,null,null,null,null,null,null,null,null,null,null,null,null,null,null,null,null,5,"Mai",6,null,null,"2023-11-01",11,10,null,10,"Oktober"]
[null,null,null,null,null,null,null,null,null,null,null,null,null,null,null,null,null,null,6,"Juni",7,null,null,"2023-12-01",12,11,null,11,"November"]
[null,null,null,null,null,null,null,null,null,null,null,null,null,null,null,null,null,null,7,"Juli",8,null,"Januar Folgejahr",{"$f":"DATE(VG_Jahr+1,1,1)","v":"2024-01-01"},13,13,null,13,"Jahr + Dezember"]
["Versionen",null,null,null,null,null,null,null,null,null,null,null,null,null,null,null,null,null,8,"August",9]
[1.01,"Eintragszähler (dieses Blatt  \"013\") entsperrt. Hat einen Fehler im Timestamp verursacht.",null,null,null,null,null,null,null,null,null,null,null,null,null,null,null,null,9,"September",10,null,"Details","Negative Spalten sortieren absteigend",null,null,null,null,"19=Name (Dummy)"]
[null,"Systemtest ausführen: Vorgelegt: Pfadlängen-Test (Pdf können nur erzeugt werden wenn Pfadlänge nicht über 256 Zeichen beträgt)",null,null,null,null,null,null,null,null,null,null,null,null,null,null,null,null,10,"Oktober",11,null,"SortKeys","Key1","Key2","Key3","Spaltenname"]
[null,"\"Falsche\" xls*-Dateien (ohne Namescodierung) verursachten einen Fehler beim Formload. Behoben!",null,null,null,null,null,null,null,null,null,null,null,null,null,null,null,null,11,"November",12,null,1,-11,0,0,"Visierung absteigend",null,null,"Stamp!"]
[null,"Neu werden nur noch \"echte\" Zwischendateien, und nur solche der richtigen Jahres angezeigt.",null,null,null,null,null,null,null,null,null,null,null,null,null,null,null,null,12,"Dezember",13,null,16,-11,0,0,"Visierung absteigend",null,null,"Stamp!"]
[null,"Zwischendateien früherer Jahre verursachten einen Fehler beim Aufheben des Schreibschutzes,",null,null,null,null,null,null,null,null,null,null,null,null,null,null,null,null,13,"Jahresabrechnung",14,null,12,{"$f":"colDummySort","v":19},{"$f":"colONr","v":3},{"$f":"colPos","v":4},"Name, Obj.Nr., Pos.",null,null,"Name"]
[null,"da das Passwort jedes Jahr ändert. (Eventuell andere Dateien (txt, jpeg, doc etc.) wurden schon bisher nicht aufgelistet.)",null,null,null,null,null,null,null,null,null,null,null,null,null,null,null,null,null,null,null,null,13,{"$f":"colONr","v":3},{"$f":"colDummySort","v":19},{"$f":"colPos","v":4},"Obj.Nr., Name, Pos.",null,null,"Dokument"]
[null,"Nun können XLSM- oder XLSX-Dateien verarbeitet werden.",null,null,null,null,null,null,null,null,null,null,null,null,null,null,null,null,null,null,null,null,14,{"$f":"colONr","v":3},{"$f":"colDummySort","v":19},{"$f":"colPos","v":4}]
[1.02,"Jahreswechsel: Fehler behoben, durch geschütztes Blatt \"Details\" kam ein Fehler beim Ausblenden von Zeilen."]
[1.03,"Neu: Programm MUSS mit Button initialisiert werden",null,null,null,null,null,null,null,null,null,null,null,null,null,null,null,null,null,null,null,null,"Nr","SL","ONr","Pos","Stat"]
[null,"Die Zelle \"VG_Jahr\" wird vorerst mit einer Formel belegt, die das aktuelle Jahr bestimmt.",null,null,null,null,null,"=JAHR(HEUTE())",null,null,null,null,null,null,null,null,null,null,null,null,null,null,1,2,3,4,5]
[null,"Die Zelle \"VG_Jahr2\" zeigt das Vorjahr an, wenn \"VG_Jahr\" eine Formel ist, sonst das Folgejahr"]
[null,"(Beide Zellen zusammen bilden die Herkunft für das Auswahlfeld in den Einstellungen)",null,null,null,null,null,null,null,null,null,null,null,null,null,null,null,null,null,null,null,null,"SortKeysSteuerung"]
[null,"Das Auswahlfeld bleibt leer!",null,null,null,null,null,null,null,null,null,null,null,null,null,null,null,null,null,null,null,null,0,0,0,"---"]
[null,"Nur die Einstellungen selber sind eingeblendet, bis das Jahr gesetzt wurde",null,null,null,null,null,null,null,null,null,null,null,null,null,null,null,null,null,null,null,null,1,35,0,"Id-Nr."]
[null,"Die passwörter wurden etwas entschärft, Die Zahl ist neu immer 2000 statt die Jahreszahl",null,null,null,null,null,null,null,null,null,null,null,null,null,null,null,null,null,null,null,null,{"$f":"cSchule","v":2},{"$f":"cSchule","v":2},{"$f":"cSLName","v":3},"Schule"]
[null,"Um eine auslieferbare Datei zu erhalten: Ausführen:",null,"Optimieren_Alle FALSE , , TRUE",null,null,null,null,null,null,null,null,null,null,null,null,null,null,null,null,null,null,{"$f":"cSLName","v":3},{"$f":"cSLName","v":3},0,"SL-Name"]
[1.04,"Kleine Anpassungen",null,null,null,null,null,null,null,null,null,null,null,null,null,null,null,null,null,null,null,null,4,4,0,"Pers-Nr."]
[1.05,"VSA-Modus eingebaut. Rot sichtbar auf allen Benutzerblättern",null,null,null,null,null,null,null,null,null,null,null,null,null,null,null,null,null,null,null,null,{"$f":"cStand","v":6},{"$f":"cStandSort","v":42},{"$f":"cSLName","v":3},"Stand"]
[null,"Schutzmechanismen eingebaut: Mausverschieben, Ausschneiden, Blatt löschen (nicht: Kopierschutz)"]
[null,"Anzeige in nicht rein informativen Meldungen: Versionsangaben (Umgebung_Info())",null,null,null,null,null,null,null,null,null,null,null,null,null,null,null,null,null,null,null,null,"Sonderauswahl"]
[null,"Neuer Bereichname: Vers100: Zeigt die Version ohne Punkt an",null,null,null,null,null,null,null,null,null,null,null,null,null,null,null,null,null,null,null,null,"Alles normal einstellen",null,null,null,"Default"]
[null,null,null,null,null,null,null,null,null,null,null,null,null,null,null,null,null,null,null,null,null,null,"Alle Zeilen anzeigen, Pers-Nr. nicht gesperrt"]
[]
[null,null,null,null,null,null,null,null,null,null,null,null,null,null,null,null,null,null,null,null,null,null,"Zeilen-Positionslinien"]
[null,null,null,null,null,null,null,null,null,null,null,null,null,null,null,null,null,null,null,null,null,null,"Ja",null,null,null,"Default"]
[null,null,null,null,null,null,null,null,null,null,null,null,null,null,null,null,null,null,null,null,null,null,"Nein"]
[]
[null,null,null,null,null,null,null,null,null,null,null,null,null,null,null,null,null,null,null,null,null,null,"LoeschenSLButton"]
[null,null,null,null,null,null,null,null,null,null,null,null,null,null,null,null,null,null,null,null,null,null,"Ausblenden",null,null,null,"Default"]
[null,null,null,null,null,null,null,null,null,null,null,null,null,null,null,null,null,null,null,null,null,null,"Einblenden"]

{"sheet":"Files","index":4,"n_rows":506,"n_cols":21,"rows_kept":506,"cut":false,"hidden":true,"merged":[]}
[]
[null,null,"Blatt immer verborgen, dient nur als Zwischenschritt zur Files-Ermittlung"]
[]
[null,null,"In Fenster-Liste: Nur einlesen wenn genormt","Getinfo...BlattName","Getinfo...Erstellt2"]
[null,null,"Sort2",null,null,null,"Sort1",null,null,"Sort1: Leer:1, Abgelehnt:2,Genehmigt:3"]
[null,null,"Zwischendokumente","Zu visierende Arbeitsblätter","DatVal","bereits visiert",null,null,null,"Formel   =WENN(C7=\"\";\"\";WENNFEHLER(SVERWEIS(C7;XlsmTest;8;FALSCH);\"\"))"]
[null,null,null,null,null,{"$f":"IF(C7=\"\",\"\",IFERROR(VLOOKUP(C7,XlsmTest,8,FALSE),\"\"))","v":""},{"$f":"IF(E7=\"\",9,IF(C7=\"\",\"\",VLOOKUP(\"_\"&F7,$T$9:$U$11,2)))","v":9}]
[null,null,null,null,null,"",9,null,null,null,null,null,null,null,null,null,null,null,null,"Umwandlung Status zu Sort"]
[null,null,null,null,null,"",9,null,null,null,null,null,null,null,null,null,null,null,null,"_",1]
[null,null,null,null,null,"",9,null,null,null,null,null,null,null,null,null,null,null,null,"_abgelehnt",2]
[null,null,null,null,null,"",9,null,null,null,null,null,null,null,null,null,null,null,null,"_genehmigt",3]
[null,null,null,null,null,"",9]
[null,null,null,null,null,"",9]
[null,null,null,null,null,"",9]
[null,null,null,null,null,"",9]
[null,null,null,null,null,"",9]
[null,null,null,null,null,"",9]
[null,null,null,null,null,"",9]
[null,null,null,null,null,"",9]
[null,null,null,null,null,"",9]
[null,null,null,null,null,"",9]
[null,null,null,null,null,"",9]
[null,null,null,null,null,"",9]
[null,null,null,null,null,"",9]
[null,null,null,null,null,"",9]
[null,null,null,null,null,"",9]
[null,null,null,null,null,"",9]
[null,null,null,null,null,"",9]
[null,null,null,null,null,"",9]
[null,null,null,null,null,"",9]
[null,null,null,null,null,"",9]
[null,null,null,null,null,"",9]
[null,null,null,null,null,"",9]
[null,null,null,null,null,"",9]
[null,null,null,null,null,"",9]
[null,null,null,null,null,"",9]
[null,null,null,null,null,"",9]
[null,null,null,null,null,"",9]
[null,null,null,null,null,"",9]
[null,null,null,null,null,"",9]
[null,null,null,null,null,"",9]
[null,null,null,null,null,"",9]
[null,null,null,null,null,"",9]
[null,null,null,null,null,"",9]
[null,null,null,null,null,"",9]
[null,null,null,null,null,"",9]
[null,null,null,null,null,"",9]
[null,null,null,null,null,"",9]
[null,null,null,null,null,"",9]
[null,null,null,null,null,"",9]
[null,null,null,null,null,"",9]
[null,null,null,null,null,"",9]
[null,null,null,null,null,"",9]
[null,null,null,null,null,"",9]
[null,null,null,null,null,"",9]
[null,null,null,null,null,"",9]
[null,null,null,null,null,"",9]
[null,null,null,null,null,"",9]
[null,null,null,null,null,"",9]
[null,null,null,null,null,"",9]
[null,null,null,null,null,"",9]
[null,null,null,null,null,"",9]
[null,null,null,null,null,"",9]
[null,null,null,null,null,"",9]
[null,null,null,null,null,"",9]
[null,null,null,null,null,"",9]
[null,null,null,null,null,"",9]
[null,null,null,null,null,"",9]
[null,null,null,null,null,"",9]
[null,null,null,null,null,"",9]
[null,null,null,null,null,{"$f":"IF(C71=\"\",\"\",IFERROR(VLOOKUP(C71,XlsmTest,8,FALSE),\"\"))","v":""},{"$f":"IF(E71=\"\",9,IF(C71=\"\",\"\",VLOOKUP(\"_\"&F71,$T$9:$U$11,2)))","v":9}]
[null,null,null,null,null,"",9]
[null,null,null,null,null,"",9]
[null,null,null,null,null,"",9]
[null,null,null,null,null,"",9]
[null,null,null,null,null,"",9]
[null,null,null,null,null,"",9]
[null,null,null,null,null,"",9]
[null,null,null,null,null,"",9]
[null,null,null,null,null,"",9]
[null,null,null,null,null,"",9]
[null,null,null,null,null,"",9]
[null,null,null,null,null,"",9]
[null,null,null,null,null,"",9]
[null,null,null,null,null,"",9]
[null,null,null,null,null,"",9]
[null,null,null,null,null,"",9]
[null,null,null,null,null,"",9]
[null,null,null,null,null,"",9]
[null,null,null,null,null,"",9]
[null,null,null,null,null,"",9]
[null,null,null,null,null,"",9]
[null,null,null,null,null,"",9]
[null,null,null,null,null,"",9]
[null,null,null,null,null,"",9]
[null,null,null,null,null,"",9]
[null,null,null,null,null,"",9]
[null,null,null,null,null,"",9]
[null,null,null,null,null,"",9]
[null,null,null,null,null,"",9]
[null,null,null,null,null,"",9]
[null,null,null,null,null,"",9]
[null,null,null,null,null,"",9]
[null,null,null,null,null,"",9]
[null,null,null,null,null,"",9]
[null,null,null,null,null,"",9]
[null,null,null,null,null,"",9]
[null,null,null,null,null,"",9]
[null,null,null,null,null,"",9]
[null,null,null,null,null,"",9]
[null,null,null,null,null,"",9]
[null,null,null,null,null,"",9]
[null,null,null,null,null,"",9]
[null,null,null,null,null,"",9]
[null,null,null,null,null,"",9]
[null,null,null,null,null,"",9]
[null,null,null,null,null,"",9]
[null,null,null,null,null,"",9]
[null,null,null,null,null,"",9]
[null,null,null,null,null,"",9]
[null,null,null,null,null,"",9]
[null,null,null,null,null,"",9]
[null,null,null,null,null,"",9]
[null,null,null,null,null,"",9]
[null,null,null,null,null,"",9]
[null,null,null,null,null,"",9]
[null,null,null,null,null,"",9]
[null,null,null,null,null,"",9]
[null,null,null,null,null,"",9]
[null,null,null,null,null,"",9]
[null,null,null,null,null,"",9]
[null,null,null,null,null,"",9]
[null,null,null,null,null,"",9]
[null,null,null,null,null,"",9]
[null,null,null,null,null,{"$f":"IF(C135=\"\",\"\",IFERROR(VLOOKUP(C135,XlsmTest,8,FALSE),\"\"))","v":""},{"$f":"IF(E135=\"\",9,IF(C135=\"\",\"\",VLOOKUP(\"_\"&F135,$T$9:$U$11,2)))","v":9}]
[null,null,null,null,null,"",9]
[null,null,null,null,null,"",9]
[null,null,null,null,null,"",9]
[null,null,null,null,null,"",9]
[null,null,null,null,null,"",9]
[null,null,null,null,null,"",9]
[null,null,null,null,null,"",9]
[null,null,null,null,null,"",9]
[null,null,null,null,null,"",9]
[null,null,null,null,null,"",9]
[null,null,null,null,null,"",9]
[null,null,null,null,null,"",9]
[null,null,null,null,null,"",9]
[null,null,null,null,null,"",9]
[null,null,null,null,null,"",9]
[null,null,null,null,null,"",9]
[null,null,null,null,null,"",9]
[null,null,null,null,null,"",9]
[null,null,null,null,null,"",9]
[null,null,null,null,null,"",9]
[null,null,null,null,null,"",9]
[null,null,null,null,null,"",9]
[null,null,null,null,null,"",9]
[null,null,null,null,null,"",9]
[null,null,null,null,null,"",9]
[null,null,null,null,null,"",9]
[null,null,null,null,null,"",9]
[null,null,null,null,null,"",9]
[null,null,null,null,null,"",9]
[null,null,null,null,null,"",9]
[null,null,null,null,null,"",9]
[null,null,null,null,null,"",9]
[null,null,null,null,null,"",9]
[null,null,null,null,null,"",9]
[null,null,null,null,null,"",9]
[null,null,null,null,null,"",9]
[null,null,null,null,null,"",9]
[null,null,null,null,null,"",9]
[null,null,null,null,null,"",9]
[null,null,null,null,null,"",9]
[null,null,null,null,null,"",9]
[null,null,null,null,null,"",9]
[null,null,null,null,null,"",9]
[null,null,null,null,null,"",9]
[null,null,null,null,null,"",9]
[null,null,null,null,null,"",9]
[null,null,null,null,null,"",9]
[null,null,null,null,null,"",9]
[null,null,null,null,null,"",9]
[null,null,null,null,null,"",9]
[null,null,null,null,null,"",9]
[null,null,null,null,null,"",9]
[null,null,null,null,null,"",9]
[null,null,null,null,null,"",9]
[null,null,null,null,null,"",9]
[null,null,null,null,null,"",9]
[null,null,null,null,null,"",9]
[null,null,null,null,null,"",9]
[null,null,null,null,null,"",9]
[null,null,null,null,null,"",9]
[null,null,null,null,null,"",9]
[null,null,null,null,null,"",9]
[null,null,null,null,null,"",9]
[null,null,null,null,null,{"$f":"IF(C199=\"\",\"\",IFERROR(VLOOKUP(C199,XlsmTest,8,FALSE),\"\"))","v":""},{"$f":"IF(E199=\"\",9,IF(C199=\"\",\"\",VLOOKUP(\"_\"&F199,$T$9:$U$11,2)))","v":9}]
[null,null,null,null,null,"",9]
[null,null,null,null,null,"",9]
[null,null,null,null,null,"",9]
[null,null,null,null,null,"",9]
[null,null,null,null,null,"",9]
[null,null,null,null,null,"",9]
[null,null,null,null,null,"",9]
[null,null,null,null,null,"",9]
[null,null,null,null,null,"",9]
[null,null,null,null,null,"",9]
[null,null,null,null,null,"",9]
[null,null,null,null,null,"",9]
[null,null,null,null,null,"",9]
[null,null,null,null,null,"",9]
[null,null,null,null,null,"",9]
[null,null,null,null,null,"",9]
[null,null,null,null,null,"",9]
[null,null,null,null,null,"",9]
[null,null,null,null,null,"",9]
[null,null,null,null,null,"",9]
[null,null,null,null,null,"",9]
[null,null,null,null,null,"",9]
[null,null,null,null,null,"",9]
[null,null,null,null,null,"",9]
[null,null,null,null,null,"",9]
[null,null,null,null,null,"",9]
[null,null,null,null,null,"",9]
[null,null,null,null,null,"",9]
[null,null,null,null,null,"",9]
[null,null,null,null,null,"",9]
[null,null,null,null,null,"",9]
[null,null,null,null,null,"",9]
[null,null,null,null,null,"",9]
[null,null,null,null,null,"",9]
[null,null,null,null,null,"",9]
[null,null,null,null,null,"",9]
[null,null,null,null,null,"",9]
[null,null,null,null,null,"",9]
[null,null,null,null,null,"",9]
[null,null,null,null,null,"",9]
[null,null,null,null,null,"",9]
[null,null,null,null,null,"",9]
[null,null,null,null,null,"",9]
[null,null,null,null,null,"",9]
[null,null,null,null,null,"",9]
[null,null,null,null,null,"",9]
[null,null,null,null,null,"",9]
[null,null,null,null,null,"",9]
[null,null,null,null,null,"",9]
[null,null,null,null,null,"",9]
[null,null,null,null,null,"",9]
[null,null,null,null,null,"",9]
[null,null,null,null,null,"",9]
[null,null,null,null,null,"",9]
[null,null,null,null,null,"",9]
[null,null,null,null,null,"",9]
[null,null,null,null,null,"",9]
[null,null,null,null,null,"",9]
[null,null,null,null,null,"",9]
[null,null,null,null,null,"",9]
[null,null,null,null,null,"",9]
[null,null,null,null,null,"",9]
[null,null,null,null,null,"",9]
[null,null,null,null,null,{"$f":"IF(C263=\"\",\"\",IFERROR(VLOOKUP(C263,XlsmTest,8,FALSE),\"\"))","v":""},{"$f":"IF(E263=\"\",9,IF(C263=\"\",\"\",VLOOKUP(\"_\"&F263,$T$9:$U$11,2)))","v":9}]
[null,null,null,null,null,"",9]
[null,null,null,null,null,"",9]
[null,null,null,null,null,"",9]
[null,null,null,null,null,"",9]
[null,null,null,null,null,"",9]
[null,null,null,null,null,"",9]
[null,null,null,null,null,"",9]
[null,null,null,null,null,"",9]
[null,null,null,null,null,"",9]
[null,null,null,null,null,"",9]
[null,null,null,null,null,"",9]
[null,null,null,null,null,"",9]
[null,null,null,null,null,"",9]
[null,null,null,null,null,"",9]
[null,null,null,null,null,"",9]
[null,null,null,null,null,"",9]
[null,null,null,null,null,"",9]
[null,null,null,null,null,"",9]
[null,null,null,null,null,"",9]
[null,null,null,null,null,"",9]
[null,null,null,null,null,"",9]
[null,null,null,null,null,"",9]
[null,null,null,null,null,"",9]
[null,null,null,null,null,"",9]
[null,null,null,null,null,"",9]
[null,null,null,null,null,"",9]
[null,null,null,null,null,"",9]
[null,null,null,null,null,"",9]
[null,null,null,null,null,"",9]
[null,null,null,null,null,"",9]
[null,null,null,null,null,"",9]
[null,null,null,null,null,"",9]
[null,null,null,null,null,"",9]
[null,null,null,null,null,"",9]
[null,null,null,null,null,"",9]
[null,null,null,null,null,"",9]
[null,null,null,null,null,"",9]
[null,null,null,null,null,"",9]
[null,null,null,null,null,"",9]
[null,null,null,null,null,"",9]
[null,null,null,null,null,"",9]
[null,null,null,null,null,"",9]
[null,null,null,null,null,"",9]
[null,null,null,null,null,"",9]
[null,null,null,null,null,"",9]
[null,null,null,null,null,"",9]
[null,null,null,null,null,"",9]
[null,null,null,null,null,"",9]
[null,null,null,null,null,"",9]
[null,null,null,null,null,"",9]
[null,null,null,null,null,"",9]
[null,null,null,null,null,"",9]
[null,null,null,null,null,"",9]
[null,null,null,null,null,"",9]
[null,null,null,null,null,"",9]
[null,null,null,null,null,"",9]
[null,null,null,null,null,"",9]
[null,null,null,null,null,"",9]
[null,null,null,null,null,"",9]
[null,null,null,null,null,"",9]
[null,null,null,null,null,"",9]
[null,null,null,null,null,"",9]
[null,null,null,null,null,"",9]
[null,null,null,null,null,{"$f":"IF(C327=\"\",\"\",IFERROR(VLOOKUP(C327,XlsmTest,8,FALSE),\"\"))","v":""},{"$f":"IF(E327=\"\",9,IF(C327=\"\",\"\",VLOOKUP(\"_\"&F327,$T$9:$U$11,2)))","v":9}]
[null,null,null,null,null,"",9]
[null,null,null,null,null,"",9]
[null,null,null,null,null,"",9]
[null,null,null,null,null,"",9]
[null,null,null,null,null,"",9]
[null,null,null,null,null,"",9]
[null,null,null,null,null,"",9]
[null,null,null,null,null,"",9]
[null,null,null,null,null,"",9]
[null,null,null,null,null,"",9]
[null,null,null,null,null,"",9]
[null,null,null,null,null,"",9]
[null,null,null,null,null,"",9]
[null,null,null,null,null,"",9]
[null,null,null,null,null,"",9]
[null,null,null,null,null,"",9]
[null,null,null,null,null,"",9]
[null,null,null,null,null,"",9]
[null,null,null,null,null,"",9]
[null,null,null,null,null,"",9]
[null,null,null,null,null,"",9]
[null,null,null,null,null,"",9]
[null,null,null,null,null,"",9]
[null,null,null,null,null,"",9]
[null,null,null,null,null,"",9]
[null,null,null,null,null,"",9]
[null,null,null,null,null,"",9]
[null,null,null,null,null,"",9]
[null,null,null,null,null,"",9]
[null,null,null,null,null,"",9]
[null,null,null,null,null,"",9]
[null,null,null,null,null,"",9]
[null,null,null,null,null,"",9]
[null,null,null,null,null,"",9]
[null,null,null,null,null,"",9]
[null,null,null,null,null,"",9]
[null,null,null,null,null,"",9]
[null,null,null,null,null,"",9]
[null,null,null,null,null,"",9]
[null,null,null,null,null,"",9]
[null,null,null,null,null,"",9]
[null,null,null,null,null,"",9]
[null,null,null,null,null,"",9]
[null,null,null,null,null,"",9]
[null,null,null,null,null,"",9]
[null,null,null,null,null,"",9]
[null,null,null,null,null,"",9]
[null,null,null,null,null,"",9]
[null,null,null,null,null,"",9]
[null,null,null,null,null,"",9]
[null,null,null,null,null,"",9]
[null,null,null,null,null,"",9]
[null,null,null,null,null,"",9]
[null,null,null,null,null,"",9]
[null,null,null,null,null,"",9]
[null,null,null,null,null,"",9]
[null,null,null,null,null,"",9]
[null,null,null,null,null,"",9]
[null,null,null,null,null,"",9]
[null,null,null,null,null,"",9]
[null,null,null,null,null,"",9]
[null,null,null,null,null,"",9]
[null,null,null,null,null,"",9]
[null,null,null,null,null,{"$f":"IF(C391=\"\",\"\",IFERROR(VLOOKUP(C391,XlsmTest,8,FALSE),\"\"))","v":""},{"$f":"IF(E391=\"\",9,IF(C391=\"\",\"\",VLOOKUP(\"_\"&F391,$T$9:$U$11,2)))","v":9}]
[null,null,null,null,null,"",9]
[null,null,null,null,null,"",9]
[null,null,null,null,null,"",9]
[null,null,null,null,null,"",9]
[null,null,null,null,null,"",9]
[null,null,null,null,null,"",9]
[null,null,null,null,null,"",9]
[null,null,null,null,null,"",9]
[null,null,null,null,null,"",9]
[null,null,null,null,null,"",9]
[null,null,null,null,null,"",9]
[null,null,null,null,null,"",9]
[null,null,null,null,null,"",9]
[null,null,null,null,null,"",9]
[null,null,null,null,null,"",9]
[null,null,null,null,null,"",9]
[null,null,null,null,null,"",9]
[null,null,null,null,null,"",9]
[null,null,null,null,null,"",9]
[null,null,null,null,null,"",9]
[null,null,null,null,null,"",9]
[null,null,null,null,null,"",9]
[null,null,null,null,null,"",9]
[null,null,null,null,null,"",9]
[null,null,null,null,null,"",9]
[null,null,null,null,null,"",9]
[null,null,null,null,null,"",9]
[null,null,null,null,null,"",9]
[null,null,null,null,null,"",9]
[null,null,null,null,null,"",9]
[null,null,null,null,null,"",9]
[null,null,null,null,null,"",9]
[null,null,null,null,null,"",9]
[null,null,null,null,null,"",9]
[null,null,null,null,null,"",9]
[null,null,null,null,null,"",9]
[null,null,null,null,null,"",9]
[null,null,null,null,null,"",9]
[null,null,null,null,null,"",9]
[null,null,null,null,null,"",9]
[null,null,null,null,null,"",9]
[null,null,null,null,null,"",9]
[null,null,null,null,null,"",9]
[null,null,null,null,null,"",9]
[null,null,null,null,null,"",9]
[null,null,null,null,null,"",9]
[null,null,null,null,null,"",9]
[null,null,null,null,null,"",9]
[null,null,null,null,null,"",9]
[null,null,null,null,null,"",9]
[null,null,null,null,null,"",9]
[null,null,null,null,null,"",9]
[null,null,null,null,null,"",9]
[null,null,null,null,null,"",9]
[null,null,null,null,null,"",9]
[null,null,null,null,null,"",9]
[null,null,null,null,null,"",9]
[null,null,null,null,null,"",9]
[null,null,null,null,null,"",9]
[null,null,null,null,null,"",9]
[null,null,null,null,null,"",9]
[null,null,null,null,null,"",9]
[null,null,null,null,null,"",9]
[null,null,null,null,null,{"$f":"IF(C455=\"\",\"\",IFERROR(VLOOKUP(C455,XlsmTest,8,FALSE),\"\"))","v":""},{"$f":"IF(E455=\"\",9,IF(C455=\"\",\"\",VLOOKUP(\"_\"&F455,$T$9:$U$11,2)))","v":9}]
[null,null,null,null,null,"",9]
[null,null,null,null,null,"",9]
[null,null,null,null,null,"",9]
[null,null,null,null,null,"",9]
[null,null,null,null,null,"",9]
[null,null,null,null,null,"",9]
[null,null,null,null,null,"",9]
[null,null,null,null,null,"",9]
[null,null,null,null,null,"",9]
[null,null,null,null,null,"",9]
[null,null,null,null,null,"",9]
[null,null,null,null,null,"",9]
[null,null,null,null,null,"",9]
[null,null,null,null,null,"",9]
[null,null,null,null,null,"",9]
[null,null,null,null,null,"",9]
[null,null,null,null,null,"",9]
[null,null,null,null,null,"",9]
[null,null,null,null,null,"",9]
[null,null,null,null,null,"",9]
[null,null,null,null,null,"",9]
[null,null,null,null,null,"",9]
[null,null,null,null,null,"",9]
[null,null,null,null,null,"",9]
[null,null,null,null,null,"",9]
[null,null,null,null,null,"",9]
[null,null,null,null,null,"",9]
[null,null,null,null,null,"",9]
[null,null,null,null,null,"",9]
[null,null,null,null,null,"",9]
[null,null,null,null,null,"",9]
[null,null,null,null,null,"",9]
[null,null,null,null,null,"",9]
[null,null,null,null,null,"",9]
[null,null,null,null,null,"",9]
[null,null,null,null,null,"",9]
[null,null,null,null,null,"",9]
[null,null,null,null,null,"",9]
[null,null,null,null,null,"",9]
[null,null,null,null,null,"",9]
[null,null,null,null,null,"",9]
[null,null,null,null,null,"",9]
[null,null,null,null,null,"",9]
[null,null,null,null,null,"",9]
[null,null,null,null,null,"",9]
[null,null,null,null,null,"",9]
[null,null,null,null,null,"",9]
[null,null,null,null,null,"",9]
[null,null,null,null,null,"",9]
[null,null,null,null,null,"",9]
[null,null,null,null,null,"",9]